{"text_format":"1","workbook":"xlsx","n_sheets":5,"sheets":["Entries","Categories","Results","Processing","Graphs"],"not_rendered":{"charts":2,"images":0,"macros":1,"external_links":0,"defined_names":0,"comments":2,"pivot_tables":1},"unopened":[],"bounds":{"document_bytes":16777216,"sheet_cells":100000,"rows_first":2000,"rows_last":500,"rows_between":2000,"halvings":0,"cell_chars":16384,"cell_head_chars":4096},"cells_cut":0,"cells_raw":0,"read":"whole","date_system":"1900"}

{"sheet":"Entries","index":0,"n_rows":2000,"n_cols":12,"rows_kept":2000,"cut":false,"hidden":false,"merged":[]}
["Date","Time",{"$f":"IF(MAX(E2:E69144)=0,\"Shorthand\",MAX(E2:E69144))","v":"Shorthand"},"Row",0,"Rating","Level 1","Level 2","Level 3","Date","Date-Time","Duration"]
["2014-01-01",null,null,{"$f":"MATCH(C2,Categories!A:A,0)","v":{"$error":"#N/A"}},{"$f":"IF(AND(ISERROR(D2),C2<>\"\"),ROW(D2),0)","v":0},{"$f":"IF(OR($E2<>0,$C2=\"\"),\"\",INDEX(Categories!$A:$E,Entries!$D2,2))","v":""},{"$f":"IF(OR($E2<>0,$C2=\"\"),\"\",INDEX(Categories!$A:$E,Entries!$D2,3))","v":""},{"$f":"IF(OR($E2<>0,$C2=\"\"),\"\",INDEX(Categories!$A:$E,Entries!$D2,4))","v":""},{"$f":"IF(OR($E2<>0,$C2=\"\"),\"\",INDEX(Categories!$A:$E,Entries!$D2,5))","v":""},{"$f":"IF(A2=\"\",J1,A2)","v":"2014-01-01"},{"$f":"J2+B2","v":"2014-01-01"},{"$f":"(Entries!K3-Entries!K2)*24*60","v":0}]
[{"$f":"IF(OR(B3>=B2,C2=\"z\",B3=\"\"),\"\",J2+1)","v":""},null,null,{"$f":"MATCH(C3,Categories!A:A,0)","v":{"$error":"#N/A"}},0,{"$f":"IF(OR($E3<>0,$C3=\"\"),\"\",INDEX(Categories!$A:$E,Entries!$D3,2))","v":""},{"$f":"IF(OR($E3<>0,$C3=\"\"),\"\",INDEX(Categories!$A:$E,Entries!$D3,3))","v":""},{"$f":"IF(OR($E3<>0,$C3=\"\"),\"\",INDEX(Categories!$A:$E,Entries!$D3,4))","v":""},{"$f":"IF(OR($E3<>0,$C3=\"\"),\"\",INDEX(Categories!$A:$E,Entries!$D3,5))","v":""},"2014-01-01","2014-01-01",{"$f":"(Entries!K4-Entries!K3)*24*60","v":0}]
["",null,null,{"$f":"MATCH(C4,Categories!A:A,0)","v":{"$error":"#N/A"}},0,{"$f":"IF(OR($E4<>0,$C4=\"\"),\"\",INDEX(Categories!$A:$E,Entries!$D4,2))","v":""},{"$f":"IF(OR($E4<>0,$C4=\"\"),\"\",INDEX(Categories!$A:$E,Entries!$D4,3))","v":""},{"$f":"IF(OR($E4<>0,$C4=\"\"),\"\",INDEX(Categories!$A:$E,Entries!$D4,4))","v":""},{"$f":"IF(OR($E4<>0,$C4=\"\"),\"\",INDEX(Categories!$A:$E,Entries!$D4,5))","v":""},"2014-01-01","2014-01-01",{"$f":"(Entries!K5-Entries!K4)*24*60","v":0}]
["",null,null,{"$f":"MATCH(C5,Categories!A:A,0)","v":{"$error":"#N/A"}},0,{"$f":"IF(OR($E5<>0,$C5=\"\"),\"\",INDEX(Categories!$A:$E,Entries!$D5,2))","v":""},{"$f":"IF(OR($E5<>0,$C5=\"\"),\"\",INDEX(Categories!$A:$E,Entries!$D5,3))","v":""},{"$f":"IF(OR($E5<>0,$C5=\"\"),\"\",INDEX(Categories!$A:$E,Entries!$D5,4))","v":""},{"$f":"IF(OR($E5<>0,$C5=\"\"),\"\",INDEX(Categories!$A:$E,Entries!$D5,5))","v":""},"2014-01-01","2014-01-01",{"$f":"(Entries!K6-Entries!K5)*24*60","v":0}]
["",null,null,{"$f":"MATCH(C6,Categories!A:A,0)","v":{"$error":"#N/A"}},0,{"$f":"IF(OR($E6<>0,$C6=\"\"),\"\",INDEX(Categories!$A:$E,Entries!$D6,2))","v":""},{"$f":"IF(OR($E6<>0,$C6=\"\"),\"\",INDEX(Categories!$A:$E,Entries!$D6,3))","v":""},{"$f":"IF(OR($E6<>0,$C6=\"\"),\"\",INDEX(Categories!$A:$E,Entries!$D6,4))","v":""},{"$f":"IF(OR($E6<>0,$C6=\"\"),\"\",INDEX(Categories!$A:$E,Entries!$D6,5))","v":""},"2014-01-01","2014-01-01",{"$f":"(Entries!K7-Entries!K6)*24*60","v":0}]
["",null,null,{"$f":"MATCH(C7,Categories!A:A,0)","v":{"$error":"#N/A"}},0,{"$f":"IF(OR($E7<>0,$C7=\"\"),\"\",INDEX(Categories!$A:$E,Entries!$D7,2))","v":""},{"$f":"IF(OR($E7<>0,$C7=\"\"),\"\",INDEX(Categories!$A:$E,Entries!$D7,3))","v":""},{"$f":"IF(OR($E7<>0,$C7=\"\"),\"\",INDEX(Categories!$A:$E,Entries!$D7,4))","v":""},{"$f":"IF(OR($E7<>0,$C7=\"\"),\"\",INDEX(Categories!$A:$E,Entries!$D7,5))","v":""},"2014-01-01","2014-01-01",{"$f":"(Entries!K8-Entries!K7)*24*60","v":0}]
["",null,null,{"$f":"MATCH(C8,Categories!A:A,0)","v":{"$error":"#N/A"}},0,{"$f":"IF(OR($E8<>0,$C8=\"\"),\"\",INDEX(Categories!$A:$E,Entries!$D8,2))","v":""},{"$f":"IF(OR($E8<>0,$C8=\"\"),\"\",INDEX(Categories!$A:$E,Entries!$D8,3))","v":""},{"$f":"IF(OR($E8<>0,$C8=\"\"),\"\",INDEX(Categories!$A:$E,Entries!$D8,4))","v":""},{"$f":"IF(OR($E8<>0,$C8=\"\"),\"\",INDEX(Categories!$A:$E,Entries!$D8,5))","v":""},"2014-01-01","2014-01-01",{"$f":"(Entries!K9-Entries!K8)*24*60","v":0}]
["",null,null,{"$f":"MATCH(C9,Categories!A:A,0)","v":{"$error":"#N/A"}},0,{"$f":"IF(OR($E9<>0,$C9=\"\"),\"\",INDEX(Categories!$A:$E,Entries!$D9,2))","v":""},{"$f":"IF(OR($E9<>0,$C9=\"\"),\"\",INDEX(Categories!$A:$E,Entries!$D9,3))","v":""},{"$f":"IF(OR($E9<>0,$C9=\"\"),\"\",INDEX(Categories!$A:$E,Entries!$D9,4))","v":""},{"$f":"IF(OR($E9<>0,$C9=\"\"),\"\",INDEX(Categories!$A:$E,Entries!$D9,5))","v":""},"2014-01-01","2014-01-01",{"$f":"(Entries!K10-Entries!K9)*24*60","v":0}]
["",null,null,{"$f":"MATCH(C10,Categories!A:A,0)","v":{"$error":"#N/A"}},0,{"$f":"IF(OR($E10<>0,$C10=\"\"),\"\",INDEX(Categories!$A:$E,Entries!$D10,2))","v":""},{"$f":"IF(OR($E10<>0,$C10=\"\"),\"\",INDEX(Categories!$A:$E,Entries!$D10,3))","v":""},{"$f":"IF(OR($E10<>0,$C10=\"\"),\"\",INDEX(Categories!$A:$E,Entries!$D10,4))","v":""},{"$f":"IF(OR($E10<>0,$C10=\"\"),\"\",INDEX(Categories!$A:$E,Entries!$D10,5))","v":""},"2014-01-01","2014-01-01",{"$f":"(Entries!K11-Entries!K10)*24*60","v":0}]
["",null,null,{"$f":"MATCH(C11,Categories!A:A,0)","v":{"$error":"#N/A"}},0,{"$f":"IF(OR($E11<>0,$C11=\"\"),\"\",INDEX(Categories!$A:$E,Entries!$D11,2))","v":""},{"$f":"IF(OR($E11<>0,$C11=\"\"),\"\",INDEX(Categories!$A:$E,Entries!$D11,3))","v":""},{"$f":"IF(OR($E11<>0,$C11=\"\"),\"\",INDEX(Categories!$A:$E,Entries!$D11,4))","v":""},{"$f":"IF(OR($E11<>0,$C11=\"\"),\"\",INDEX(Categories!$A:$E,Entries!$D11,5))","v":""},"2014-01-01","2014-01-01",{"$f":"(Entries!K12-Entries!K11)*24*60","v":0}]
["",null,null,{"$f":"MATCH(C12,Categories!A:A,0)","v":{"$error":"#N/A"}},0,{"$f":"IF(OR($E12<>0,$C12=\"\"),\"\",INDEX(Categories!$A:$E,Entries!$D12,2))","v":""},{"$f":"IF(OR($E12<>0,$C12=\"\"),\"\",INDEX(Categories!$A:$E,Entries!$D12,3))","v":""},{"$f":"IF(OR($E12<>0,$C12=\"\"),\"\",INDEX(Categories!$A:$E,Entries!$D12,4))","v":""},{"$f":"IF(OR($E12<>0,$C12=\"\"),\"\",INDEX(Categories!$A:$E,Entries!$D12,5))","v":""},"2014-01-01","2014-01-01",{"$f":"(Entries!K13-Entries!K12)*24*60","v":0}]
["",null,null,{"$f":"MATCH(C13,Categories!A:A,0)","v":{"$error":"#N/A"}},0,{"$f":"IF(OR($E13<>0,$C13=\"\"),\"\",INDEX(Categories!$A:$E,Entries!$D13,2))","v":""},{"$f":"IF(OR($E13<>0,$C13=\"\"),\"\",INDEX(Categories!$A:$E,Entries!$D13,3))","v":""},{"$f":"IF(OR($E13<>0,$C13=\"\"),\"\",INDEX(Categories!$A:$E,Entries!$D13,4))","v":""},{"$f":"IF(OR($E13<>0,$C13=\"\"),\"\",INDEX(Categories!$A:$E,Entries!$D13,5))","v":""},"2014-01-01","2014-01-01",{"$f":"(Entries!K14-Entries!K13)*24*60","v":0}]
["",null,null,{"$f":"MATCH(C14,Categories!A:A,0)","v":{"$error":"#N/A"}},0,{"$f":"IF(OR($E14<>0,$C14=\"\"),\"\",INDEX(Categories!$A:$E,Entries!$D14,2))","v":""},{"$f":"IF(OR($E14<>0,$C14=\"\"),\"\",INDEX(Categories!$A:$E,Entries!$D14,3))","v":""},{"$f":"IF(OR($E14<>0,$C14=\"\"),\"\",INDEX(Categories!$A:$E,Entries!$D14,4))","v":""},{"$f":"IF(OR($E14<>0,$C14=\"\"),\"\",INDEX(Categories!$A:$E,Entries!$D14,5))","v":""},"2014-01-01","2014-01-01",{"$f":"(Entries!K15-Entries!K14)*24*60","v":0}]
["",null,null,{"$f":"MATCH(C15,Categories!A:A,0)","v":{"$error":"#N/A"}},0,{"$f":"IF(OR($E15<>0,$C15=\"\"),\"\",INDEX(Categories!$A:$E,Entries!$D15,2))","v":""},{"$f":"IF(OR($E15<>0,$C15=\"\"),\"\",INDEX(Categories!$A:$E,Entries!$D15,3))","v":""},{"$f":"IF(OR($E15<>0,$C15=\"\"),\"\",INDEX(Categories!$A:$E,Entries!$D15,4))","v":""},{"$f":"IF(OR($E15<>0,$C15=\"\"),\"\",INDEX(Categories!$A:$E,Entries!$D15,5))","v":""},"2014-01-01","2014-01-01",{"$f":"(Entries!K16-Entries!K15)*24*60","v":0}]
["",null,null,{"$f":"MATCH(C16,Categories!A:A,0)","v":{"$error":"#N/A"}},0,{"$f":"IF(OR($E16<>0,$C16=\"\"),\"\",INDEX(Categories!$A:$E,Entries!$D16,2))","v":""},{"$f":"IF(OR($E16<>0,$C16=\"\"),\"\",INDEX(Categories!$A:$E,Entries!$D16,3))","v":""},{"$f":"IF(OR($E16<>0,$C16=\"\"),\"\",INDEX(Categories!$A:$E,Entries!$D16,4))","v":""},{"$f":"IF(OR($E16<>0,$C16=\"\"),\"\",INDEX(Categories!$A:$E,Entries!$D16,5))","v":""},"2014-01-01","2014-01-01",{"$f":"(Entries!K17-Entries!K16)*24*60","v":0}]
["",null,null,{"$f":"MATCH(C17,Categories!A:A,0)","v":{"$error":"#N/A"}},0,{"$f":"IF(OR($E17<>0,$C17=\"\"),\"\",INDEX(Categories!$A:$E,Entries!$D17,2))","v":""},{"$f":"IF(OR($E17<>0,$C17=\"\"),\"\",INDEX(Categories!$A:$E,Entries!$D17,3))","v":""},{"$f":"IF(OR($E17<>0,$C17=\"\"),\"\",INDEX(Categories!$A:$E,Entries!$D17,4))","v":""},{"$f":"IF(OR($E17<>0,$C17=\"\"),\"\",INDEX(Categories!$A:$E,Entries!$D17,5))","v":""},"2014-01-01","2014-01-01",{"$f":"(Entries!K18-Entries!K17)*24*60","v":0}]
["",null,null,{"$f":"MATCH(C18,Categories!A:A,0)","v":{"$error":"#N/A"}},0,{"$f":"IF(OR($E18<>0,$C18=\"\"),\"\",INDEX(Categories!$A:$E,Entries!$D18,2))","v":""},{"$f":"IF(OR($E18<>0,$C18=\"\"),\"\",INDEX(Categories!$A:$E,Entries!$D18,3))","v":""},{"$f":"IF(OR($E18<>0,$C18=\"\"),\"\",INDEX(Categories!$A:$E,Entries!$D18,4))","v":""},{"$f":"IF(OR($E18<>0,$C18=\"\"),\"\",INDEX(Categories!$A:$E,Entries!$D18,5))","v":""},"2014-01-01","2014-01-01",{"$f":"(Entries!K19-Entries!K18)*24*60","v":0}]
["",null,null,{"$f":"MATCH(C19,Categories!A:A,0)","v":{"$error":"#N/A"}},0,{"$f":"IF(OR($E19<>0,$C19=\"\"),\"\",INDEX(Categories!$A:$E,Entries!$D19,2))","v":""},{"$f":"IF(OR($E19<>0,$C19=\"\"),\"\",INDEX(Categories!$A:$E,Entries!$D19,3))","v":""},{"$f":"IF(OR($E19<>0,$C19=\"\"),\"\",INDEX(Categories!$A:$E,Entries!$D19,4))","v":""},{"$f":"IF(OR($E19<>0,$C19=\"\"),\"\",INDEX(Categories!$A:$E,Entries!$D19,5))","v":""},"2014-01-01","2014-01-01",{"$f":"(Entries!K20-Entries!K19)*24*60","v":0}]
["",null,null,{"$f":"MATCH(C20,Categories!A:A,0)","v":{"$error":"#N/A"}},0,{"$f":"IF(OR($E20<>0,$C20=\"\"),\"\",INDEX(Categories!$A:$E,Entries!$D20,2))","v":""},{"$f":"IF(OR($E20<>0,$C20=\"\"),\"\",INDEX(Categories!$A:$E,Entries!$D20,3))","v":""},{"$f":"IF(OR($E20<>0,$C20=\"\"),\"\",INDEX(Categories!$A:$E,Entries!$D20,4))","v":""},{"$f":"IF(OR($E20<>0,$C20=\"\"),\"\",INDEX(Categories!$A:$E,Entries!$D20,5))","v":""},"2014-01-01","2014-01-01",{"$f":"(Entries!K21-Entries!K20)*24*60","v":0}]
["",null,null,{"$f":"MATCH(C21,Categories!A:A,0)","v":{"$error":"#N/A"}},0,{"$f":"IF(OR($E21<>0,$C21=\"\"),\"\",INDEX(Categories!$A:$E,Entries!$D21,2))","v":""},{"$f":"IF(OR($E21<>0,$C21=\"\"),\"\",INDEX(Categories!$A:$E,Entries!$D21,3))","v":""},{"$f":"IF(OR($E21<>0,$C21=\"\"),\"\",INDEX(Categories!$A:$E,Entries!$D21,4))","v":""},{"$f":"IF(OR($E21<>0,$C21=\"\"),\"\",INDEX(Categories!$A:$E,Entries!$D21,5))","v":""},"2014-01-01","2014-01-01",{"$f":"(Entries!K22-Entries!K21)*24*60","v":0}]
["",null,null,{"$f":"MATCH(C22,Categories!A:A,0)","v":{"$error":"#N/A"}},0,{"$f":"IF(OR($E22<>0,$C22=\"\"),\"\",INDEX(Categories!$A:$E,Entries!$D22,2))","v":""},{"$f":"IF(OR($E22<>0,$C22=\"\"),\"\",INDEX(Categories!$A:$E,Entries!$D22,3))","v":""},{"$f":"IF(OR($E22<>0,$C22=\"\"),\"\",INDEX(Categories!$A:$E,Entries!$D22,4))","v":""},{"$f":"IF(OR($E22<>0,$C22=\"\"),\"\",INDEX(Categories!$A:$E,Entries!$D22,5))","v":""},"2014-01-01","2014-01-01",{"$f":"(Entries!K23-Entries!K22)*24*60","v":0}]
["",null,null,{"$f":"MATCH(C23,Categories!A:A,0)","v":{"$error":"#N/A"}},0,{"$f":"IF(OR($E23<>0,$C23=\"\"),\"\",INDEX(Categories!$A:$E,Entries!$D23,2))","v":""},{"$f":"IF(OR($E23<>0,$C23=\"\"),\"\",INDEX(Categories!$A:$E,Entries!$D23,3))","v":""},{"$f":"IF(OR($E23<>0,$C23=\"\"),\"\",INDEX(Categories!$A:$E,Entries!$D23,4))","v":""},{"$f":"IF(OR($E23<>0,$C23=\"\"),\"\",INDEX(Categories!$A:$E,Entries!$D23,5))","v":""},"2014-01-01","2014-01-01",{"$f":"(Entries!K24-Entries!K23)*24*60","v":0}]
["",null,null,{"$f":"MATCH(C24,Categories!A:A,0)","v":{"$error":"#N/A"}},0,{"$f":"IF(OR($E24<>0,$C24=\"\"),\"\",INDEX(Categories!$A:$E,Entries!$D24,2))","v":""},{"$f":"IF(OR($E24<>0,$C24=\"\"),\"\",INDEX(Categories!$A:$E,Entries!$D24,3))","v":""},{"$f":"IF(OR($E24<>0,$C24=\"\"),\"\",INDEX(Categories!$A:$E,Entries!$D24,4))","v":""},{"$f":"IF(OR($E24<>0,$C24=\"\"),\"\",INDEX(Categories!$A:$E,Entries!$D24,5))","v":""},"2014-01-01","2014-01-01",{"$f":"(Entries!K25-Entries!K24)*24*60","v":0}]
["",null,null,{"$f":"MATCH(C25,Categories!A:A,0)","v":{"$error":"#N/A"}},0,{"$f":"IF(OR($E25<>0,$C25=\"\"),\"\",INDEX(Categories!$A:$E,Entries!$D25,2))","v":""},{"$f":"IF(OR($E25<>0,$C25=\"\"),\"\",INDEX(Categories!$A:$E,Entries!$D25,3))","v":""},{"$f":"IF(OR($E25<>0,$C25=\"\"),\"\",INDEX(Categories!$A:$E,Entries!$D25,4))","v":""},{"$f":"IF(OR($E25<>0,$C25=\"\"),\"\",INDEX(Categories!$A:$E,Entries!$D25,5))","v":""},"2014-01-01","2014-01-01",{"$f":"(Entries!K26-Entries!K25)*24*60","v":0}]
["",null,null,{"$f":"MATCH(C26,Categories!A:A,0)","v":{"$error":"#N/A"}},0,{"$f":"IF(OR($E26<>0,$C26=\"\"),\"\",INDEX(Categories!$A:$E,Entries!$D26,2))","v":""},{"$f":"IF(OR($E26<>0,$C26=\"\"),\"\",INDEX(Categories!$A:$E,Entries!$D26,3))","v":""},{"$f":"IF(OR($E26<>0,$C26=\"\"),\"\",INDEX(Categories!$A:$E,Entries!$D26,4))","v":""},{"$f":"IF(OR($E26<>0,$C26=\"\"),\"\",INDEX(Categories!$A:$E,Entries!$D26,5))","v":""},"2014-01-01","2014-01-01",{"$f":"(Entries!K27-Entries!K26)*24*60","v":0}]
["",null,null,{"$f":"MATCH(C27,Categories!A:A,0)","v":{"$error":"#N/A"}},0,{"$f":"IF(OR($E27<>0,$C27=\"\"),\"\",INDEX(Categories!$A:$E,Entries!$D27,2))","v":""},{"$f":"IF(OR($E27<>0,$C27=\"\"),\"\",INDEX(Categories!$A:$E,Entries!$D27,3))","v":""},{"$f":"IF(OR($E27<>0,$C27=\"\"),\"\",INDEX(Categories!$A:$E,Entries!$D27,4))","v":""},{"$f":"IF(OR($E27<>0,$C27=\"\"),\"\",INDEX(Categories!$A:$E,Entries!$D27,5))","v":""},"2014-01-01","2014-01-01",{"$f":"(Entries!K28-Entries!K27)*24*60","v":0}]
["",null,null,{"$f":"MATCH(C28,Categories!A:A,0)","v":{"$error":"#N/A"}},0,{"$f":"IF(OR($E28<>0,$C28=\"\"),\"\",INDEX(Categories!$A:$E,Entries!$D28,2))","v":""},{"$f":"IF(OR($E28<>0,$C28=\"\"),\"\",INDEX(Categories!$A:$E,Entries!$D28,3))","v":""},{"$f":"IF(OR($E28<>0,$C28=\"\"),\"\",INDEX(Categories!$A:$E,Entries!$D28,4))","v":""},{"$f":"IF(OR($E28<>0,$C28=\"\"),\"\",INDEX(Categories!$A:$E,Entries!$D28,5))","v":""},"2014-01-01","2014-01-01",{"$f":"(Entries!K29-Entries!K28)*24*60","v":0}]
["",null,null,{"$f":"MATCH(C29,Categories!A:A,0)","v":{"$error":"#N/A"}},0,{"$f":"IF(OR($E29<>0,$C29=\"\"),\"\",INDEX(Categories!$A:$E,Entries!$D29,2))","v":""},{"$f":"IF(OR($E29<>0,$C29=\"\"),\"\",INDEX(Categories!$A:$E,Entries!$D29,3))","v":""},{"$f":"IF(OR($E29<>0,$C29=\"\"),\"\",INDEX(Categories!$A:$E,Entries!$D29,4))","v":""},{"$f":"IF(OR($E29<>0,$C29=\"\"),\"\",INDEX(Categories!$A:$E,Entries!$D29,5))","v":""},"2014-01-01","2014-01-01",{"$f":"(Entries!K30-Entries!K29)*24*60","v":0}]
["",null,null,{"$f":"MATCH(C30,Categories!A:A,0)","v":{"$error":"#N/A"}},0,{"$f":"IF(OR($E30<>0,$C30=\"\"),\"\",INDEX(Categories!$A:$E,Entries!$D30,2))","v":""},{"$f":"IF(OR($E30<>0,$C30=\"\"),\"\",INDEX(Categories!$A:$E,Entries!$D30,3))","v":""},{"$f":"IF(OR($E30<>0,$C30=\"\"),\"\",INDEX(Categories!$A:$E,Entries!$D30,4))","v":""},{"$f":"IF(OR($E30<>0,$C30=\"\"),\"\",INDEX(Categories!$A:$E,Entries!$D30,5))","v":""},"2014-01-01","2014-01-01",{"$f":"(Entries!K31-Entries!K30)*24*60","v":0}]
["",null,null,{"$f":"MATCH(C31,Categories!A:A,0)","v":{"$error":"#N/A"}},0,{"$f":"IF(OR($E31<>0,$C31=\"\"),\"\",INDEX(Categories!$A:$E,Entries!$D31,2))","v":""},{"$f":"IF(OR($E31<>0,$C31=\"\"),\"\",INDEX(Categories!$A:$E,Entries!$D31,3))","v":""},{"$f":"IF(OR($E31<>0,$C31=\"\"),\"\",INDEX(Categories!$A:$E,Entries!$D31,4))","v":""},{"$f":"IF(OR($E31<>0,$C31=\"\"),\"\",INDEX(Categories!$A:$E,Entries!$D31,5))","v":""},"2014-01-01","2014-01-01",{"$f":"(Entries!K32-Entries!K31)*24*60","v":0}]
[null,null,null,{"$f":"MATCH(C32,Categories!A:A,0)","v":{"$error":"#N/A"}},0,{"$f":"IF(OR($E32<>0,$C32=\"\"),\"\",INDEX(Categories!$A:$E,Entries!$D32,2))","v":""},{"$f":"IF(OR($E32<>0,$C32=\"\"),\"\",INDEX(Categories!$A:$E,Entries!$D32,3))","v":""},{"$f":"IF(OR($E32<>0,$C32=\"\"),\"\",INDEX(Categories!$A:$E,Entries!$D32,4))","v":""},{"$f":"IF(OR($E32<>0,$C32=\"\"),\"\",INDEX(Categories!$A:$E,Entries!$D32,5))","v":""},"2014-01-01","2014-01-01",{"$f":"(Entries!K33-Entries!K32)*24*60","v":0}]
[null,null,null,{"$f":"MATCH(C33,Categories!A:A,0)","v":{"$error":"#N/A"}},0,{"$f":"IF(OR($E33<>0,$C33=\"\"),\"\",INDEX(Categories!$A:$E,Entries!$D33,2))","v":""},{"$f":"IF(OR($E33<>0,$C33=\"\"),\"\",INDEX(Categories!$A:$E,Entries!$D33,3))","v":""},{"$f":"IF(OR($E33<>0,$C33=\"\"),\"\",INDEX(Categories!$A:$E,Entries!$D33,4))","v":""},{"$f":"IF(OR($E33<>0,$C33=\"\"),\"\",INDEX(Categories!$A:$E,Entries!$D33,5))","v":""},"2014-01-01","2014-01-01",{"$f":"(Entries!K34-Entries!K33)*24*60","v":0}]
[null,null,null,{"$f":"MATCH(C34,Categories!A:A,0)","v":{"$error":"#N/A"}},0,{"$f":"IF(OR($E34<>0,$C34=\"\"),\"\",INDEX(Categories!$A:$E,Entries!$D34,2))","v":""},{"$f":"IF(OR($E34<>0,$C34=\"\"),\"\",INDEX(Categories!$A:$E,Entries!$D34,3))","v":""},{"$f":"IF(OR($E34<>0,$C34=\"\"),\"\",INDEX(Categories!$A:$E,Entries!$D34,4))","v":""},{"$f":"IF(OR($E34<>0,$C34=\"\"),\"\",INDEX(Categories!$A:$E,Entries!$D34,5))","v":""},"2014-01-01","2014-01-01",{"$f":"(Entries!K35-Entries!K34)*24*60","v":0}]
[null,null,null,{"$f":"MATCH(C35,Categories!A:A,0)","v":{"$error":"#N/A"}},0,{"$f":"IF(OR($E35<>0,$C35=\"\"),\"\",INDEX(Categories!$A:$E,Entries!$D35,2))","v":""},{"$f":"IF(OR($E35<>0,$C35=\"\"),\"\",INDEX(Categories!$A:$E,Entries!$D35,3))","v":""},{"$f":"IF(OR($E35<>0,$C35=\"\"),\"\",INDEX(Categories!$A:$E,Entries!$D35,4))","v":""},{"$f":"IF(OR($E35<>0,$C35=\"\"),\"\",INDEX(Categories!$A:$E,Entries!$D35,5))","v":""},"2014-01-01","2014-01-01",{"$f":"(Entries!K36-Entries!K35)*24*60","v":0}]
[{"$f":"IF(OR(B36>=B35,C35=\"z\",B36=\"\"),\"\",J35+1)","v":""},null,null,{"$f":"MATCH(C36,Categories!A:A,0)","v":{"$error":"#N/A"}},0,{"$f":"IF(OR($E36<>0,$C36=\"\"),\"\",INDEX(Categories!$A:$E,Entries!$D36,2))","v":""},{"$f":"IF(OR($E36<>0,$C36=\"\"),\"\",INDEX(Categories!$A:$E,Entries!$D36,3))","v":""},{"$f":"IF(OR($E36<>0,$C36=\"\"),\"\",INDEX(Categories!$A:$E,Entries!$D36,4))","v":""},{"$f":"IF(OR($E36<>0,$C36=\"\"),\"\",INDEX(Categories!$A:$E,Entries!$D36,5))","v":""},"2014-01-01","2014-01-01",{"$f":"(Entries!K37-Entries!K36)*24*60","v":0}]
["",null,null,{"$f":"MATCH(C37,Categories!A:A,0)","v":{"$error":"#N/A"}},0,{"$f":"IF(OR($E37<>0,$C37=\"\"),\"\",INDEX(Categories!$A:$E,Entries!$D37,2))","v":""},{"$f":"IF(OR($E37<>0,$C37=\"\"),\"\",INDEX(Categories!$A:$E,Entries!$D37,3))","v":""},{"$f":"IF(OR($E37<>0,$C37=\"\"),\"\",INDEX(Categories!$A:$E,Entries!$D37,4))","v":""},{"$f":"IF(OR($E37<>0,$C37=\"\"),\"\",INDEX(Categories!$A:$E,Entries!$D37,5))","v":""},"2014-01-01","2014-01-01",{"$f":"(Entries!K38-Entries!K37)*24*60","v":0}]
["",null,null,{"$f":"MATCH(C38,Categories!A:A,0)","v":{"$error":"#N/A"}},0,{"$f":"IF(OR($E38<>0,$C38=\"\"),\"\",INDEX(Categories!$A:$E,Entries!$D38,2))","v":""},{"$f":"IF(OR($E38<>0,$C38=\"\"),\"\",INDEX(Categories!$A:$E,Entries!$D38,3))","v":""},{"$f":"IF(OR($E38<>0,$C38=\"\"),\"\",INDEX(Categories!$A:$E,Entries!$D38,4))","v":""},{"$f":"IF(OR($E38<>0,$C38=\"\"),\"\",INDEX(Categories!$A:$E,Entries!$D38,5))","v":""},"2014-01-01","2014-01-01",{"$f":"(Entries!K39-Entries!K38)*24*60","v":0}]
["",null,null,{"$f":"MATCH(C39,Categories!A:A,0)","v":{"$error":"#N/A"}},0,{"$f":"IF(OR($E39<>0,$C39=\"\"),\"\",INDEX(Categories!$A:$E,Entries!$D39,2))","v":""},{"$f":"IF(OR($E39<>0,$C39=\"\"),\"\",INDEX(Categories!$A:$E,Entries!$D39,3))","v":""},{"$f":"IF(OR($E39<>0,$C39=\"\"),\"\",INDEX(Categories!$A:$E,Entries!$D39,4))","v":""},{"$f":"IF(OR($E39<>0,$C39=\"\"),\"\",INDEX(Categories!$A:$E,Entries!$D39,5))","v":""},"2014-01-01","2014-01-01",{"$f":"(Entries!K40-Entries!K39)*24*60","v":0}]
["",null,null,{"$f":"MATCH(C40,Categories!A:A,0)","v":{"$error":"#N/A"}},0,{"$f":"IF(OR($E40<>0,$C40=\"\"),\"\",INDEX(Categories!$A:$E,Entries!$D40,2))","v":""},{"$f":"IF(OR($E40<>0,$C40=\"\"),\"\",INDEX(Categories!$A:$E,Entries!$D40,3))","v":""},{"$f":"IF(OR($E40<>0,$C40=\"\"),\"\",INDEX(Categories!$A:$E,Entries!$D40,4))","v":""},{"$f":"IF(OR($E40<>0,$C40=\"\"),\"\",INDEX(Categories!$A:$E,Entries!$D40,5))","v":""},"2014-01-01","2014-01-01",{"$f":"(Entries!K41-Entries!K40)*24*60","v":0}]
["",null,null,{"$f":"MATCH(C41,Categories!A:A,0)","v":{"$error":"#N/A"}},0,{"$f":"IF(OR($E41<>0,$C41=\"\"),\"\",INDEX(Categories!$A:$E,Entries!$D41,2))","v":""},{"$f":"IF(OR($E41<>0,$C41=\"\"),\"\",INDEX(Categories!$A:$E,Entries!$D41,3))","v":""},{"$f":"IF(OR($E41<>0,$C41=\"\"),\"\",INDEX(Categories!$A:$E,Entries!$D41,4))","v":""},{"$f":"IF(OR($E41<>0,$C41=\"\"),\"\",INDEX(Categories!$A:$E,Entries!$D41,5))","v":""},"2014-01-01","2014-01-01",{"$f":"(Entries!K42-Entries!K41)*24*60","v":0}]
["",null,null,{"$f":"MATCH(C42,Categories!A:A,0)","v":{"$error":"#N/A"}},0,{"$f":"IF(OR($E42<>0,$C42=\"\"),\"\",INDEX(Categories!$A:$E,Entries!$D42,2))","v":""},{"$f":"IF(OR($E42<>0,$C42=\"\"),\"\",INDEX(Categories!$A:$E,Entries!$D42,3))","v":""},{"$f":"IF(OR($E42<>0,$C42=\"\"),\"\",INDEX(Categories!$A:$E,Entries!$D42,4))","v":""},{"$f":"IF(OR($E42<>0,$C42=\"\"),\"\",INDEX(Categories!$A:$E,Entries!$D42,5))","v":""},"2014-01-01","2014-01-01",{"$f":"(Entries!K43-Entries!K42)*24*60","v":0}]
["",null,null,{"$f":"MATCH(C43,Categories!A:A,0)","v":{"$error":"#N/A"}},0,{"$f":"IF(OR($E43<>0,$C43=\"\"),\"\",INDEX(Categories!$A:$E,Entries!$D43,2))","v":""},{"$f":"IF(OR($E43<>0,$C43=\"\"),\"\",INDEX(Categories!$A:$E,Entries!$D43,3))","v":""},{"$f":"IF(OR($E43<>0,$C43=\"\"),\"\",INDEX(Categories!$A:$E,Entries!$D43,4))","v":""},{"$f":"IF(OR($E43<>0,$C43=\"\"),\"\",INDEX(Categories!$A:$E,Entries!$D43,5))","v":""},"2014-01-01","2014-01-01",{"$f":"(Entries!K44-Entries!K43)*24*60","v":0}]
["",null,null,{"$f":"MATCH(C44,Categories!A:A,0)","v":{"$error":"#N/A"}},0,{"$f":"IF(OR($E44<>0,$C44=\"\"),\"\",INDEX(Categories!$A:$E,Entries!$D44,2))","v":""},{"$f":"IF(OR($E44<>0,$C44=\"\"),\"\",INDEX(Categories!$A:$E,Entries!$D44,3))","v":""},{"$f":"IF(OR($E44<>0,$C44=\"\"),\"\",INDEX(Categories!$A:$E,Entries!$D44,4))","v":""},{"$f":"IF(OR($E44<>0,$C44=\"\"),\"\",INDEX(Categories!$A:$E,Entries!$D44,5))","v":""},"2014-01-01","2014-01-01",{"$f":"(Entries!K45-Entries!K44)*24*60","v":0}]
["",null,null,{"$f":"MATCH(C45,Categories!A:A,0)","v":{"$error":"#N/A"}},0,{"$f":"IF(OR($E45<>0,$C45=\"\"),\"\",INDEX(Categories!$A:$E,Entries!$D45,2))","v":""},{"$f":"IF(OR($E45<>0,$C45=\"\"),\"\",INDEX(Categories!$A:$E,Entries!$D45,3))","v":""},{"$f":"IF(OR($E45<>0,$C45=\"\"),\"\",INDEX(Categories!$A:$E,Entries!$D45,4))","v":""},{"$f":"IF(OR($E45<>0,$C45=\"\"),\"\",INDEX(Categories!$A:$E,Entries!$D45,5))","v":""},"2014-01-01","2014-01-01",{"$f":"(Entries!K46-Entries!K45)*24*60","v":0}]
["",null,null,{"$f":"MATCH(C46,Categories!A:A,0)","v":{"$error":"#N/A"}},0,{"$f":"IF(OR($E46<>0,$C46=\"\"),\"\",INDEX(Categories!$A:$E,Entries!$D46,2))","v":""},{"$f":"IF(OR($E46<>0,$C46=\"\"),\"\",INDEX(Categories!$A:$E,Entries!$D46,3))","v":""},{"$f":"IF(OR($E46<>0,$C46=\"\"),\"\",INDEX(Categories!$A:$E,Entries!$D46,4))","v":""},{"$f":"IF(OR($E46<>0,$C46=\"\"),\"\",INDEX(Categories!$A:$E,Entries!$D46,5))","v":""},"2014-01-01","2014-01-01",{"$f":"(Entries!K47-Entries!K46)*24*60","v":0}]
["",null,null,{"$f":"MATCH(C47,Categories!A:A,0)","v":{"$error":"#N/A"}},0,{"$f":"IF(OR($E47<>0,$C47=\"\"),\"\",INDEX(Categories!$A:$E,Entries!$D47,2))","v":""},{"$f":"IF(OR($E47<>0,$C47=\"\"),\"\",INDEX(Categories!$A:$E,Entries!$D47,3))","v":""},{"$f":"IF(OR($E47<>0,$C47=\"\"),\"\",INDEX(Categories!$A:$E,Entries!$D47,4))","v":""},{"$f":"IF(OR($E47<>0,$C47=\"\"),\"\",INDEX(Categories!$A:$E,Entries!$D47,5))","v":""},"2014-01-01","2014-01-01",{"$f":"(Entries!K48-Entries!K47)*24*60","v":0}]
["",null,null,{"$f":"MATCH(C48,Categories!A:A,0)","v":{"$error":"#N/A"}},0,{"$f":"IF(OR($E48<>0,$C48=\"\"),\"\",INDEX(Categories!$A:$E,Entries!$D48,2))","v":""},{"$f":"IF(OR($E48<>0,$C48=\"\"),\"\",INDEX(Categories!$A:$E,Entries!$D48,3))","v":""},{"$f":"IF(OR($E48<>0,$C48=\"\"),\"\",INDEX(Categories!$A:$E,Entries!$D48,4))","v":""},{"$f":"IF(OR($E48<>0,$C48=\"\"),\"\",INDEX(Categories!$A:$E,Entries!$D48,5))","v":""},"2014-01-01","2014-01-01",{"$f":"(Entries!K49-Entries!K48)*24*60","v":0}]
["",null,null,{"$f":"MATCH(C49,Categories!A:A,0)","v":{"$error":"#N/A"}},0,{"$f":"IF(OR($E49<>0,$C49=\"\"),\"\",INDEX(Categories!$A:$E,Entries!$D49,2))","v":""},{"$f":"IF(OR($E49<>0,$C49=\"\"),\"\",INDEX(Categories!$A:$E,Entries!$D49,3))","v":""},{"$f":"IF(OR($E49<>0,$C49=\"\"),\"\",INDEX(Categories!$A:$E,Entries!$D49,4))","v":""},{"$f":"IF(OR($E49<>0,$C49=\"\"),\"\",INDEX(Categories!$A:$E,Entries!$D49,5))","v":""},"2014-01-01","2014-01-01",{"$f":"(Entries!K50-Entries!K49)*24*60","v":0}]
["",null,null,{"$f":"MATCH(C50,Categories!A:A,0)","v":{"$error":"#N/A"}},0,{"$f":"IF(OR($E50<>0,$C50=\"\"),\"\",INDEX(Categories!$A:$E,Entries!$D50,2))","v":""},{"$f":"IF(OR($E50<>0,$C50=\"\"),\"\",INDEX(Categories!$A:$E,Entries!$D50,3))","v":""},{"$f":"IF(OR($E50<>0,$C50=\"\"),\"\",INDEX(Categories!$A:$E,Entries!$D50,4))","v":""},{"$f":"IF(OR($E50<>0,$C50=\"\"),\"\",INDEX(Categories!$A:$E,Entries!$D50,5))","v":""},"2014-01-01","2014-01-01",{"$f":"(Entries!K51-Entries!K50)*24*60","v":0}]
["",null,null,{"$f":"MATCH(C51,Categories!A:A,0)","v":{"$error":"#N/A"}},0,{"$f":"IF(OR($E51<>0,$C51=\"\"),\"\",INDEX(Categories!$A:$E,Entries!$D51,2))","v":""},{"$f":"IF(OR($E51<>0,$C51=\"\"),\"\",INDEX(Categories!$A:$E,Entries!$D51,3))","v":""},{"$f":"IF(OR($E51<>0,$C51=\"\"),\"\",INDEX(Categories!$A:$E,Entries!$D51,4))","v":""},{"$f":"IF(OR($E51<>0,$C51=\"\"),\"\",INDEX(Categories!$A:$E,Entries!$D51,5))","v":""},"2014-01-01","2014-01-01",{"$f":"(Entries!K52-Entries!K51)*24*60","v":0}]
["",null,null,{"$f":"MATCH(C52,Categories!A:A,0)","v":{"$error":"#N/A"}},0,{"$f":"IF(OR($E52<>0,$C52=\"\"),\"\",INDEX(Categories!$A:$E,Entries!$D52,2))","v":""},{"$f":"IF(OR($E52<>0,$C52=\"\"),\"\",INDEX(Categories!$A:$E,Entries!$D52,3))","v":""},{"$f":"IF(OR($E52<>0,$C52=\"\"),\"\",INDEX(Categories!$A:$E,Entries!$D52,4))","v":""},{"$f":"IF(OR($E52<>0,$C52=\"\"),\"\",INDEX(Categories!$A:$E,Entries!$D52,5))","v":""},"2014-01-01","2014-01-01",{"$f":"(Entries!K53-Entries!K52)*24*60","v":0}]
["",null,null,{"$f":"MATCH(C53,Categories!A:A,0)","v":{"$error":"#N/A"}},0,{"$f":"IF(OR($E53<>0,$C53=\"\"),\"\",INDEX(Categories!$A:$E,Entries!$D53,2))","v":""},{"$f":"IF(OR($E53<>0,$C53=\"\"),\"\",INDEX(Categories!$A:$E,Entries!$D53,3))","v":""},{"$f":"IF(OR($E53<>0,$C53=\"\"),\"\",INDEX(Categories!$A:$E,Entries!$D53,4))","v":""},{"$f":"IF(OR($E53<>0,$C53=\"\"),\"\",INDEX(Categories!$A:$E,Entries!$D53,5))","v":""},"2014-01-01","2014-01-01",{"$f":"(Entries!K54-Entries!K53)*24*60","v":0}]
["",null,null,{"$f":"MATCH(C54,Categories!A:A,0)","v":{"$error":"#N/A"}},0,{"$f":"IF(OR($E54<>0,$C54=\"\"),\"\",INDEX(Categories!$A:$E,Entries!$D54,2))","v":""},{"$f":"IF(OR($E54<>0,$C54=\"\"),\"\",INDEX(Categories!$A:$E,Entries!$D54,3))","v":""},{"$f":"IF(OR($E54<>0,$C54=\"\"),\"\",INDEX(Categories!$A:$E,Entries!$D54,4))","v":""},{"$f":"IF(OR($E54<>0,$C54=\"\"),\"\",INDEX(Categories!$A:$E,Entries!$D54,5))","v":""},"2014-01-01","2014-01-01",{"$f":"(Entries!K55-Entries!K54)*24*60","v":0}]
["",null,null,{"$f":"MATCH(C55,Categories!A:A,0)","v":{"$error":"#N/A"}},0,{"$f":"IF(OR($E55<>0,$C55=\"\"),\"\",INDEX(Categories!$A:$E,Entries!$D55,2))","v":""},{"$f":"IF(OR($E55<>0,$C55=\"\"),\"\",INDEX(Categories!$A:$E,Entries!$D55,3))","v":""},{"$f":"IF(OR($E55<>0,$C55=\"\"),\"\",INDEX(Categories!$A:$E,Entries!$D55,4))","v":""},{"$f":"IF(OR($E55<>0,$C55=\"\"),\"\",INDEX(Categories!$A:$E,Entries!$D55,5))","v":""},"2014-01-01","2014-01-01",{"$f":"(Entries!K56-Entries!K55)*24*60","v":0}]
["",null,null,{"$f":"MATCH(C56,Categories!A:A,0)","v":{"$error":"#N/A"}},0,{"$f":"IF(OR($E56<>0,$C56=\"\"),\"\",INDEX(Categories!$A:$E,Entries!$D56,2))","v":""},{"$f":"IF(OR($E56<>0,$C56=\"\"),\"\",INDEX(Categories!$A:$E,Entries!$D56,3))","v":""},{"$f":"IF(OR($E56<>0,$C56=\"\"),\"\",INDEX(Categories!$A:$E,Entries!$D56,4))","v":""},{"$f":"IF(OR($E56<>0,$C56=\"\"),\"\",INDEX(Categories!$A:$E,Entries!$D56,5))","v":""},"2014-01-01","2014-01-01",{"$f":"(Entries!K57-Entries!K56)*24*60","v":0}]
["",null,null,{"$f":"MATCH(C57,Categories!A:A,0)","v":{"$error":"#N/A"}},0,{"$f":"IF(OR($E57<>0,$C57=\"\"),\"\",INDEX(Categories!$A:$E,Entries!$D57,2))","v":""},{"$f":"IF(OR($E57<>0,$C57=\"\"),\"\",INDEX(Categories!$A:$E,Entries!$D57,3))","v":""},{"$f":"IF(OR($E57<>0,$C57=\"\"),\"\",INDEX(Categories!$A:$E,Entries!$D57,4))","v":""},{"$f":"IF(OR($E57<>0,$C57=\"\"),\"\",INDEX(Categories!$A:$E,Entries!$D57,5))","v":""},"2014-01-01","2014-01-01",{"$f":"(Entries!K58-Entries!K57)*24*60","v":0}]
["",null,null,{"$f":"MATCH(C58,Categories!A:A,0)","v":{"$error":"#N/A"}},0,{"$f":"IF(OR($E58<>0,$C58=\"\"),\"\",INDEX(Categories!$A:$E,Entries!$D58,2))","v":""},{"$f":"IF(OR($E58<>0,$C58=\"\"),\"\",INDEX(Categories!$A:$E,Entries!$D58,3))","v":""},{"$f":"IF(OR($E58<>0,$C58=\"\"),\"\",INDEX(Categories!$A:$E,Entries!$D58,4))","v":""},{"$f":"IF(OR($E58<>0,$C58=\"\"),\"\",INDEX(Categories!$A:$E,Entries!$D58,5))","v":""},"2014-01-01","2014-01-01",{"$f":"(Entries!K59-Entries!K58)*24*60","v":0}]
["",null,null,{"$f":"MATCH(C59,Categories!A:A,0)","v":{"$error":"#N/A"}},0,{"$f":"IF(OR($E59<>0,$C59=\"\"),\"\",INDEX(Categories!$A:$E,Entries!$D59,2))","v":""},{"$f":"IF(OR($E59<>0,$C59=\"\"),\"\",INDEX(Categories!$A:$E,Entries!$D59,3))","v":""},{"$f":"IF(OR($E59<>0,$C59=\"\"),\"\",INDEX(Categories!$A:$E,Entries!$D59,4))","v":""},{"$f":"IF(OR($E59<>0,$C59=\"\"),\"\",INDEX(Categories!$A:$E,Entries!$D59,5))","v":""},"2014-01-01","2014-01-01",{"$f":"(Entries!K60-Entries!K59)*24*60","v":0}]
["",null,null,{"$f":"MATCH(C60,Categories!A:A,0)","v":{"$error":"#N/A"}},0,{"$f":"IF(OR($E60<>0,$C60=\"\"),\"\",INDEX(Categories!$A:$E,Entries!$D60,2))","v":""},{"$f":"IF(OR($E60<>0,$C60=\"\"),\"\",INDEX(Categories!$A:$E,Entries!$D60,3))","v":""},{"$f":"IF(OR($E60<>0,$C60=\"\"),\"\",INDEX(Categories!$A:$E,Entries!$D60,4))","v":""},{"$f":"IF(OR($E60<>0,$C60=\"\"),\"\",INDEX(Categories!$A:$E,Entries!$D60,5))","v":""},"2014-01-01","2014-01-01",{"$f":"(Entries!K61-Entries!K60)*24*60","v":0}]
["",null,null,{"$f":"MATCH(C61,Categories!A:A,0)","v":{"$error":"#N/A"}},0,{"$f":"IF(OR($E61<>0,$C61=\"\"),\"\",INDEX(Categories!$A:$E,Entries!$D61,2))","v":""},{"$f":"IF(OR($E61<>0,$C61=\"\"),\"\",INDEX(Categories!$A:$E,Entries!$D61,3))","v":""},{"$f":"IF(OR($E61<>0,$C61=\"\"),\"\",INDEX(Categories!$A:$E,Entries!$D61,4))","v":""},{"$f":"IF(OR($E61<>0,$C61=\"\"),\"\",INDEX(Categories!$A:$E,Entries!$D61,5))","v":""},"2014-01-01","2014-01-01",{"$f":"(Entries!K62-Entries!K61)*24*60","v":0}]
["",null,null,{"$f":"MATCH(C62,Categories!A:A,0)","v":{"$error":"#N/A"}},0,{"$f":"IF(OR($E62<>0,$C62=\"\"),\"\",INDEX(Categories!$A:$E,Entries!$D62,2))","v":""},{"$f":"IF(OR($E62<>0,$C62=\"\"),\"\",INDEX(Categories!$A:$E,Entries!$D62,3))","v":""},{"$f":"IF(OR($E62<>0,$C62=\"\"),\"\",INDEX(Categories!$A:$E,Entries!$D62,4))","v":""},{"$f":"IF(OR($E62<>0,$C62=\"\"),\"\",INDEX(Categories!$A:$E,Entries!$D62,5))","v":""},"2014-01-01","2014-01-01",{"$f":"(Entries!K63-Entries!K62)*24*60","v":0}]
["",null,null,{"$f":"MATCH(C63,Categories!A:A,0)","v":{"$error":"#N/A"}},0,{"$f":"IF(OR($E63<>0,$C63=\"\"),\"\",INDEX(Categories!$A:$E,Entries!$D63,2))","v":""},{"$f":"IF(OR($E63<>0,$C63=\"\"),\"\",INDEX(Categories!$A:$E,Entries!$D63,3))","v":""},{"$f":"IF(OR($E63<>0,$C63=\"\"),\"\",INDEX(Categories!$A:$E,Entries!$D63,4))","v":""},{"$f":"IF(OR($E63<>0,$C63=\"\"),\"\",INDEX(Categories!$A:$E,Entries!$D63,5))","v":""},"2014-01-01","2014-01-01",{"$f":"(Entries!K64-Entries!K63)*24*60","v":0}]
["",null,null,{"$f":"MATCH(C64,Categories!A:A,0)","v":{"$error":"#N/A"}},0,{"$f":"IF(OR($E64<>0,$C64=\"\"),\"\",INDEX(Categories!$A:$E,Entries!$D64,2))","v":""},{"$f":"IF(OR($E64<>0,$C64=\"\"),\"\",INDEX(Categories!$A:$E,Entries!$D64,3))","v":""},{"$f":"IF(OR($E64<>0,$C64=\"\"),\"\",INDEX(Categories!$A:$E,Entries!$D64,4))","v":""},{"$f":"IF(OR($E64<>0,$C64=\"\"),\"\",INDEX(Categories!$A:$E,Entries!$D64,5))","v":""},"2014-01-01","2014-01-01",{"$f":"(Entries!K65-Entries!K64)*24*60","v":0}]
["",null,null,{"$f":"MATCH(C65,Categories!A:A,0)","v":{"$error":"#N/A"}},0,{"$f":"IF(OR($E65<>0,$C65=\"\"),\"\",INDEX(Categories!$A:$E,Entries!$D65,2))","v":""},{"$f":"IF(OR($E65<>0,$C65=\"\"),\"\",INDEX(Categories!$A:$E,Entries!$D65,3))","v":""},{"$f":"IF(OR($E65<>0,$C65=\"\"),\"\",INDEX(Categories!$A:$E,Entries!$D65,4))","v":""},{"$f":"IF(OR($E65<>0,$C65=\"\"),\"\",INDEX(Categories!$A:$E,Entries!$D65,5))","v":""},"2014-01-01","2014-01-01",{"$f":"(Entries!K66-Entries!K65)*24*60","v":0}]
["",null,null,{"$f":"MATCH(C66,Categories!A:A,0)","v":{"$error":"#N/A"}},{"$f":"IF(AND(ISERROR(D66),C66<>\"\"),ROW(D66),0)","v":0},{"$f":"IF(OR($E66<>0,$C66=\"\"),\"\",INDEX(Categories!$A:$E,Entries!$D66,2))","v":""},{"$f":"IF(OR($E66<>0,$C66=\"\"),\"\",INDEX(Categories!$A:$E,Entries!$D66,3))","v":""},{"$f":"IF(OR($E66<>0,$C66=\"\"),\"\",INDEX(Categories!$A:$E,Entries!$D66,4))","v":""},{"$f":"IF(OR($E66<>0,$C66=\"\"),\"\",INDEX(Categories!$A:$E,Entries!$D66,5))","v":""},{"$f":"IF(A66=\"\",J65,A66)","v":"2014-01-01"},{"$f":"J66+B66","v":"2014-01-01"},{"$f":"(Entries!K67-Entries!K66)*24*60","v":0}]
["",null,null,{"$f":"MATCH(C67,Categories!A:A,0)","v":{"$error":"#N/A"}},0,{"$f":"IF(OR($E67<>0,$C67=\"\"),\"\",INDEX(Categories!$A:$E,Entries!$D67,2))","v":""},{"$f":"IF(OR($E67<>0,$C67=\"\"),\"\",INDEX(Categories!$A:$E,Entries!$D67,3))","v":""},{"$f":"IF(OR($E67<>0,$C67=\"\"),\"\",INDEX(Categories!$A:$E,Entries!$D67,4))","v":""},{"$f":"IF(OR($E67<>0,$C67=\"\"),\"\",INDEX(Categories!$A:$E,Entries!$D67,5))","v":""},"2014-01-01","2014-01-01",{"$f":"(Entries!K68-Entries!K67)*24*60","v":0}]
["",null,null,{"$f":"MATCH(C68,Categories!A:A,0)","v":{"$error":"#N/A"}},0,{"$f":"IF(OR($E68<>0,$C68=\"\"),\"\",INDEX(Categories!$A:$E,Entries!$D68,2))","v":""},{"$f":"IF(OR($E68<>0,$C68=\"\"),\"\",INDEX(Categories!$A:$E,Entries!$D68,3))","v":""},{"$f":"IF(OR($E68<>0,$C68=\"\"),\"\",INDEX(Categories!$A:$E,Entries!$D68,4))","v":""},{"$f":"IF(OR($E68<>0,$C68=\"\"),\"\",INDEX(Categories!$A:$E,Entries!$D68,5))","v":""},"2014-01-01","2014-01-01",{"$f":"(Entries!K69-Entries!K68)*24*60","v":0}]
["",null,null,{"$f":"MATCH(C69,Categories!A:A,0)","v":{"$error":"#N/A"}},0,{"$f":"IF(OR($E69<>0,$C69=\"\"),\"\",INDEX(Categories!$A:$E,Entries!$D69,2))","v":""},{"$f":"IF(OR($E69<>0,$C69=\"\"),\"\",INDEX(Categories!$A:$E,Entries!$D69,3))","v":""},{"$f":"IF(OR($E69<>0,$C69=\"\"),\"\",INDEX(Categories!$A:$E,Entries!$D69,4))","v":""},{"$f":"IF(OR($E69<>0,$C69=\"\"),\"\",INDEX(Categories!$A:$E,Entries!$D69,5))","v":""},"2014-01-01","2014-01-01",{"$f":"(Entries!K70-Entries!K69)*24*60","v":0}]
["",null,null,{"$f":"MATCH(C70,Categories!A:A,0)","v":{"$error":"#N/A"}},0,{"$f":"IF(OR($E70<>0,$C70=\"\"),\"\",INDEX(Categories!$A:$E,Entries!$D70,2))","v":""},{"$f":"IF(OR($E70<>0,$C70=\"\"),\"\",INDEX(Categories!$A:$E,Entries!$D70,3))","v":""},{"$f":"IF(OR($E70<>0,$C70=\"\"),\"\",INDEX(Categories!$A:$E,Entries!$D70,4))","v":""},{"$f":"IF(OR($E70<>0,$C70=\"\"),\"\",INDEX(Categories!$A:$E,Entries!$D70,5))","v":""},"2014-01-01","2014-01-01",{"$f":"(Entries!K71-Entries!K70)*24*60","v":0}]
["",null,null,{"$f":"MATCH(C71,Categories!A:A,0)","v":{"$error":"#N/A"}},0,{"$f":"IF(OR($E71<>0,$C71=\"\"),\"\",INDEX(Categories!$A:$E,Entries!$D71,2))","v":""},{"$f":"IF(OR($E71<>0,$C71=\"\"),\"\",INDEX(Categories!$A:$E,Entries!$D71,3))","v":""},{"$f":"IF(OR($E71<>0,$C71=\"\"),\"\",INDEX(Categories!$A:$E,Entries!$D71,4))","v":""},{"$f":"IF(OR($E71<>0,$C71=\"\"),\"\",INDEX(Categories!$A:$E,Entries!$D71,5))","v":""},"2014-01-01","2014-01-01",{"$f":"(Entries!K72-Entries!K71)*24*60","v":0}]
["",null,null,{"$f":"MATCH(C72,Categories!A:A,0)","v":{"$error":"#N/A"}},0,{"$f":"IF(OR($E72<>0,$C72=\"\"),\"\",INDEX(Categories!$A:$E,Entries!$D72,2))","v":""},{"$f":"IF(OR($E72<>0,$C72=\"\"),\"\",INDEX(Categories!$A:$E,Entries!$D72,3))","v":""},{"$f":"IF(OR($E72<>0,$C72=\"\"),\"\",INDEX(Categories!$A:$E,Entries!$D72,4))","v":""},{"$f":"IF(OR($E72<>0,$C72=\"\"),\"\",INDEX(Categories!$A:$E,Entries!$D72,5))","v":""},"2014-01-01","2014-01-01",{"$f":"(Entries!K73-Entries!K72)*24*60","v":0}]
["",null,null,{"$f":"MATCH(C73,Categories!A:A,0)","v":{"$error":"#N/A"}},0,{"$f":"IF(OR($E73<>0,$C73=\"\"),\"\",INDEX(Categories!$A:$E,Entries!$D73,2))","v":""},{"$f":"IF(OR($E73<>0,$C73=\"\"),\"\",INDEX(Categories!$A:$E,Entries!$D73,3))","v":""},{"$f":"IF(OR($E73<>0,$C73=\"\"),\"\",INDEX(Categories!$A:$E,Entries!$D73,4))","v":""},{"$f":"IF(OR($E73<>0,$C73=\"\"),\"\",INDEX(Categories!$A:$E,Entries!$D73,5))","v":""},"2014-01-01","2014-01-01",{"$f":"(Entries!K74-Entries!K73)*24*60","v":0}]
["",null,null,{"$f":"MATCH(C74,Categories!A:A,0)","v":{"$error":"#N/A"}},0,{"$f":"IF(OR($E74<>0,$C74=\"\"),\"\",INDEX(Categories!$A:$E,Entries!$D74,2))","v":""},{"$f":"IF(OR($E74<>0,$C74=\"\"),\"\",INDEX(Categories!$A:$E,Entries!$D74,3))","v":""},{"$f":"IF(OR($E74<>0,$C74=\"\"),\"\",INDEX(Categories!$A:$E,Entries!$D74,4))","v":""},{"$f":"IF(OR($E74<>0,$C74=\"\"),\"\",INDEX(Categories!$A:$E,Entries!$D74,5))","v":""},"2014-01-01","2014-01-01",{"$f":"(Entries!K75-Entries!K74)*24*60","v":0}]
["",null,null,{"$f":"MATCH(C75,Categories!A:A,0)","v":{"$error":"#N/A"}},0,{"$f":"IF(OR($E75<>0,$C75=\"\"),\"\",INDEX(Categories!$A:$E,Entries!$D75,2))","v":""},{"$f":"IF(OR($E75<>0,$C75=\"\"),\"\",INDEX(Categories!$A:$E,Entries!$D75,3))","v":""},{"$f":"IF(OR($E75<>0,$C75=\"\"),\"\",INDEX(Categories!$A:$E,Entries!$D75,4))","v":""},{"$f":"IF(OR($E75<>0,$C75=\"\"),\"\",INDEX(Categories!$A:$E,Entries!$D75,5))","v":""},"2014-01-01","2014-01-01",{"$f":"(Entries!K76-Entries!K75)*24*60","v":0}]
["",null,null,{"$f":"MATCH(C76,Categories!A:A,0)","v":{"$error":"#N/A"}},0,{"$f":"IF(OR($E76<>0,$C76=\"\"),\"\",INDEX(Categories!$A:$E,Entries!$D76,2))","v":""},{"$f":"IF(OR($E76<>0,$C76=\"\"),\"\",INDEX(Categories!$A:$E,Entries!$D76,3))","v":""},{"$f":"IF(OR($E76<>0,$C76=\"\"),\"\",INDEX(Categories!$A:$E,Entries!$D76,4))","v":""},{"$f":"IF(OR($E76<>0,$C76=\"\"),\"\",INDEX(Categories!$A:$E,Entries!$D76,5))","v":""},"2014-01-01","2014-01-01",{"$f":"(Entries!K77-Entries!K76)*24*60","v":0}]
["",null,null,{"$f":"MATCH(C77,Categories!A:A,0)","v":{"$error":"#N/A"}},0,{"$f":"IF(OR($E77<>0,$C77=\"\"),\"\",INDEX(Categories!$A:$E,Entries!$D77,2))","v":""},{"$f":"IF(OR($E77<>0,$C77=\"\"),\"\",INDEX(Categories!$A:$E,Entries!$D77,3))","v":""},{"$f":"IF(OR($E77<>0,$C77=\"\"),\"\",INDEX(Categories!$A:$E,Entries!$D77,4))","v":""},{"$f":"IF(OR($E77<>0,$C77=\"\"),\"\",INDEX(Categories!$A:$E,Entries!$D77,5))","v":""},"2014-01-01","2014-01-01",{"$f":"(Entries!K78-Entries!K77)*24*60","v":0}]
["",null,null,{"$f":"MATCH(C78,Categories!A:A,0)","v":{"$error":"#N/A"}},0,{"$f":"IF(OR($E78<>0,$C78=\"\"),\"\",INDEX(Categories!$A:$E,Entries!$D78,2))","v":""},{"$f":"IF(OR($E78<>0,$C78=\"\"),\"\",INDEX(Categories!$A:$E,Entries!$D78,3))","v":""},{"$f":"IF(OR($E78<>0,$C78=\"\"),\"\",INDEX(Categories!$A:$E,Entries!$D78,4))","v":""},{"$f":"IF(OR($E78<>0,$C78=\"\"),\"\",INDEX(Categories!$A:$E,Entries!$D78,5))","v":""},"2014-01-01","2014-01-01",{"$f":"(Entries!K79-Entries!K78)*24*60","v":0}]
["",null,null,{"$f":"MATCH(C79,Categories!A:A,0)","v":{"$error":"#N/A"}},0,{"$f":"IF(OR($E79<>0,$C79=\"\"),\"\",INDEX(Categories!$A:$E,Entries!$D79,2))","v":""},{"$f":"IF(OR($E79<>0,$C79=\"\"),\"\",INDEX(Categories!$A:$E,Entries!$D79,3))","v":""},{"$f":"IF(OR($E79<>0,$C79=\"\"),\"\",INDEX(Categories!$A:$E,Entries!$D79,4))","v":""},{"$f":"IF(OR($E79<>0,$C79=\"\"),\"\",INDEX(Categories!$A:$E,Entries!$D79,5))","v":""},"2014-01-01","2014-01-01",{"$f":"(Entries!K80-Entries!K79)*24*60","v":0}]
["",null,null,{"$f":"MATCH(C80,Categories!A:A,0)","v":{"$error":"#N/A"}},0,{"$f":"IF(OR($E80<>0,$C80=\"\"),\"\",INDEX(Categories!$A:$E,Entries!$D80,2))","v":""},{"$f":"IF(OR($E80<>0,$C80=\"\"),\"\",INDEX(Categories!$A:$E,Entries!$D80,3))","v":""},{"$f":"IF(OR($E80<>0,$C80=\"\"),\"\",INDEX(Categories!$A:$E,Entries!$D80,4))","v":""},{"$f":"IF(OR($E80<>0,$C80=\"\"),\"\",INDEX(Categories!$A:$E,Entries!$D80,5))","v":""},"2014-01-01","2014-01-01",{"$f":"(Entries!K81-Entries!K80)*24*60","v":0}]
["",null,null,{"$f":"MATCH(C81,Categories!A:A,0)","v":{"$error":"#N/A"}},0,{"$f":"IF(OR($E81<>0,$C81=\"\"),\"\",INDEX(Categories!$A:$E,Entries!$D81,2))","v":""},{"$f":"IF(OR($E81<>0,$C81=\"\"),\"\",INDEX(Categories!$A:$E,Entries!$D81,3))","v":""},{"$f":"IF(OR($E81<>0,$C81=\"\"),\"\",INDEX(Categories!$A:$E,Entries!$D81,4))","v":""},{"$f":"IF(OR($E81<>0,$C81=\"\"),\"\",INDEX(Categories!$A:$E,Entries!$D81,5))","v":""},"2014-01-01","2014-01-01",{"$f":"(Entries!K82-Entries!K81)*24*60","v":0}]
["",null,null,{"$f":"MATCH(C82,Categories!A:A,0)","v":{"$error":"#N/A"}},0,{"$f":"IF(OR($E82<>0,$C82=\"\"),\"\",INDEX(Categories!$A:$E,Entries!$D82,2))","v":""},{"$f":"IF(OR($E82<>0,$C82=\"\"),\"\",INDEX(Categories!$A:$E,Entries!$D82,3))","v":""},{"$f":"IF(OR($E82<>0,$C82=\"\"),\"\",INDEX(Categories!$A:$E,Entries!$D82,4))","v":""},{"$f":"IF(OR($E82<>0,$C82=\"\"),\"\",INDEX(Categories!$A:$E,Entries!$D82,5))","v":""},"2014-01-01","2014-01-01",{"$f":"(Entries!K83-Entries!K82)*24*60","v":0}]
["",null,null,{"$f":"MATCH(C83,Categories!A:A,0)","v":{"$error":"#N/A"}},0,{"$f":"IF(OR($E83<>0,$C83=\"\"),\"\",INDEX(Categories!$A:$E,Entries!$D83,2))","v":""},{"$f":"IF(OR($E83<>0,$C83=\"\"),\"\",INDEX(Categories!$A:$E,Entries!$D83,3))","v":""},{"$f":"IF(OR($E83<>0,$C83=\"\"),\"\",INDEX(Categories!$A:$E,Entries!$D83,4))","v":""},{"$f":"IF(OR($E83<>0,$C83=\"\"),\"\",INDEX(Categories!$A:$E,Entries!$D83,5))","v":""},"2014-01-01","2014-01-01",{"$f":"(Entries!K84-Entries!K83)*24*60","v":0}]
["",null,null,{"$f":"MATCH(C84,Categories!A:A,0)","v":{"$error":"#N/A"}},0,{"$f":"IF(OR($E84<>0,$C84=\"\"),\"\",INDEX(Categories!$A:$E,Entries!$D84,2))","v":""},{"$f":"IF(OR($E84<>0,$C84=\"\"),\"\",INDEX(Categories!$A:$E,Entries!$D84,3))","v":""},{"$f":"IF(OR($E84<>0,$C84=\"\"),\"\",INDEX(Categories!$A:$E,Entries!$D84,4))","v":""},{"$f":"IF(OR($E84<>0,$C84=\"\"),\"\",INDEX(Categories!$A:$E,Entries!$D84,5))","v":""},"2014-01-01","2014-01-01",{"$f":"(Entries!K85-Entries!K84)*24*60","v":0}]
["",null,null,{"$f":"MATCH(C85,Categories!A:A,0)","v":{"$error":"#N/A"}},0,{"$f":"IF(OR($E85<>0,$C85=\"\"),\"\",INDEX(Categories!$A:$E,Entries!$D85,2))","v":""},{"$f":"IF(OR($E85<>0,$C85=\"\"),\"\",INDEX(Categories!$A:$E,Entries!$D85,3))","v":""},{"$f":"IF(OR($E85<>0,$C85=\"\"),\"\",INDEX(Categories!$A:$E,Entries!$D85,4))","v":""},{"$f":"IF(OR($E85<>0,$C85=\"\"),\"\",INDEX(Categories!$A:$E,Entries!$D85,5))","v":""},"2014-01-01","2014-01-01",{"$f":"(Entries!K86-Entries!K85)*24*60","v":0}]
["",null,null,{"$f":"MATCH(C86,Categories!A:A,0)","v":{"$error":"#N/A"}},0,{"$f":"IF(OR($E86<>0,$C86=\"\"),\"\",INDEX(Categories!$A:$E,Entries!$D86,2))","v":""},{"$f":"IF(OR($E86<>0,$C86=\"\"),\"\",INDEX(Categories!$A:$E,Entries!$D86,3))","v":""},{"$f":"IF(OR($E86<>0,$C86=\"\"),\"\",INDEX(Categories!$A:$E,Entries!$D86,4))","v":""},{"$f":"IF(OR($E86<>0,$C86=\"\"),\"\",INDEX(Categories!$A:$E,Entries!$D86,5))","v":""},"2014-01-01","2014-01-01",{"$f":"(Entries!K87-Entries!K86)*24*60","v":0}]
["",null,null,{"$f":"MATCH(C87,Categories!A:A,0)","v":{"$error":"#N/A"}},0,{"$f":"IF(OR($E87<>0,$C87=\"\"),\"\",INDEX(Categories!$A:$E,Entries!$D87,2))","v":""},{"$f":"IF(OR($E87<>0,$C87=\"\"),\"\",INDEX(Categories!$A:$E,Entries!$D87,3))","v":""},{"$f":"IF(OR($E87<>0,$C87=\"\"),\"\",INDEX(Categories!$A:$E,Entries!$D87,4))","v":""},{"$f":"IF(OR($E87<>0,$C87=\"\"),\"\",INDEX(Categories!$A:$E,Entries!$D87,5))","v":""},"2014-01-01","2014-01-01",{"$f":"(Entries!K88-Entries!K87)*24*60","v":0}]
["",null,null,{"$f":"MATCH(C88,Categories!A:A,0)","v":{"$error":"#N/A"}},0,{"$f":"IF(OR($E88<>0,$C88=\"\"),\"\",INDEX(Categories!$A:$E,Entries!$D88,2))","v":""},{"$f":"IF(OR($E88<>0,$C88=\"\"),\"\",INDEX(Categories!$A:$E,Entries!$D88,3))","v":""},{"$f":"IF(OR($E88<>0,$C88=\"\"),\"\",INDEX(Categories!$A:$E,Entries!$D88,4))","v":""},{"$f":"IF(OR($E88<>0,$C88=\"\"),\"\",INDEX(Categories!$A:$E,Entries!$D88,5))","v":""},"2014-01-01","2014-01-01",{"$f":"(Entries!K89-Entries!K88)*24*60","v":0}]
["",null,null,{"$f":"MATCH(C89,Categories!A:A,0)","v":{"$error":"#N/A"}},0,{"$f":"IF(OR($E89<>0,$C89=\"\"),\"\",INDEX(Categories!$A:$E,Entries!$D89,2))","v":""},{"$f":"IF(OR($E89<>0,$C89=\"\"),\"\",INDEX(Categories!$A:$E,Entries!$D89,3))","v":""},{"$f":"IF(OR($E89<>0,$C89=\"\"),\"\",INDEX(Categories!$A:$E,Entries!$D89,4))","v":""},{"$f":"IF(OR($E89<>0,$C89=\"\"),\"\",INDEX(Categories!$A:$E,Entries!$D89,5))","v":""},"2014-01-01","2014-01-01",{"$f":"(Entries!K90-Entries!K89)*24*60","v":0}]
["",null,null,{"$f":"MATCH(C90,Categories!A:A,0)","v":{"$error":"#N/A"}},0,{"$f":"IF(OR($E90<>0,$C90=\"\"),\"\",INDEX(Categories!$A:$E,Entries!$D90,2))","v":""},{"$f":"IF(OR($E90<>0,$C90=\"\"),\"\",INDEX(Categories!$A:$E,Entries!$D90,3))","v":""},{"$f":"IF(OR($E90<>0,$C90=\"\"),\"\",INDEX(Categories!$A:$E,Entries!$D90,4))","v":""},{"$f":"IF(OR($E90<>0,$C90=\"\"),\"\",INDEX(Categories!$A:$E,Entries!$D90,5))","v":""},"2014-01-01","2014-01-01",{"$f":"(Entries!K91-Entries!K90)*24*60","v":0}]
["",null,null,{"$f":"MATCH(C91,Categories!A:A,0)","v":{"$error":"#N/A"}},0,{"$f":"IF(OR($E91<>0,$C91=\"\"),\"\",INDEX(Categories!$A:$E,Entries!$D91,2))","v":""},{"$f":"IF(OR($E91<>0,$C91=\"\"),\"\",INDEX(Categories!$A:$E,Entries!$D91,3))","v":""},{"$f":"IF(OR($E91<>0,$C91=\"\"),\"\",INDEX(Categories!$A:$E,Entries!$D91,4))","v":""},{"$f":"IF(OR($E91<>0,$C91=\"\"),\"\",INDEX(Categories!$A:$E,Entries!$D91,5))","v":""},"2014-01-01","2014-01-01",{"$f":"(Entries!K92-Entries!K91)*24*60","v":0}]
["",null,null,{"$f":"MATCH(C92,Categories!A:A,0)","v":{"$error":"#N/A"}},0,{"$f":"IF(OR($E92<>0,$C92=\"\"),\"\",INDEX(Categories!$A:$E,Entries!$D92,2))","v":""},{"$f":"IF(OR($E92<>0,$C92=\"\"),\"\",INDEX(Categories!$A:$E,Entries!$D92,3))","v":""},{"$f":"IF(OR($E92<>0,$C92=\"\"),\"\",INDEX(Categories!$A:$E,Entries!$D92,4))","v":""},{"$f":"IF(OR($E92<>0,$C92=\"\"),\"\",INDEX(Categories!$A:$E,Entries!$D92,5))","v":""},"2014-01-01","2014-01-01",{"$f":"(Entries!K93-Entries!K92)*24*60","v":0}]
["",null,null,{"$f":"MATCH(C93,Categories!A:A,0)","v":{"$error":"#N/A"}},0,{"$f":"IF(OR($E93<>0,$C93=\"\"),\"\",INDEX(Categories!$A:$E,Entries!$D93,2))","v":""},{"$f":"IF(OR($E93<>0,$C93=\"\"),\"\",INDEX(Categories!$A:$E,Entries!$D93,3))","v":""},{"$f":"IF(OR($E93<>0,$C93=\"\"),\"\",INDEX(Categories!$A:$E,Entries!$D93,4))","v":""},{"$f":"IF(OR($E93<>0,$C93=\"\"),\"\",INDEX(Categories!$A:$E,Entries!$D93,5))","v":""},"2014-01-01","2014-01-01",{"$f":"(Entries!K94-Entries!K93)*24*60","v":0}]
["",null,null,{"$f":"MATCH(C94,Categories!A:A,0)","v":{"$error":"#N/A"}},0,{"$f":"IF(OR($E94<>0,$C94=\"\"),\"\",INDEX(Categories!$A:$E,Entries!$D94,2))","v":""},{"$f":"IF(OR($E94<>0,$C94=\"\"),\"\",INDEX(Categories!$A:$E,Entries!$D94,3))","v":""},{"$f":"IF(OR($E94<>0,$C94=\"\"),\"\",INDEX(Categories!$A:$E,Entries!$D94,4))","v":""},{"$f":"IF(OR($E94<>0,$C94=\"\"),\"\",INDEX(Categories!$A:$E,Entries!$D94,5))","v":""},"2014-01-01","2014-01-01",{"$f":"(Entries!K95-Entries!K94)*24*60","v":0}]
["",null,null,{"$f":"MATCH(C95,Categories!A:A,0)","v":{"$error":"#N/A"}},0,{"$f":"IF(OR($E95<>0,$C95=\"\"),\"\",INDEX(Categories!$A:$E,Entries!$D95,2))","v":""},{"$f":"IF(OR($E95<>0,$C95=\"\"),\"\",INDEX(Categories!$A:$E,Entries!$D95,3))","v":""},{"$f":"IF(OR($E95<>0,$C95=\"\"),\"\",INDEX(Categories!$A:$E,Entries!$D95,4))","v":""},{"$f":"IF(OR($E95<>0,$C95=\"\"),\"\",INDEX(Categories!$A:$E,Entries!$D95,5))","v":""},"2014-01-01","2014-01-01",{"$f":"(Entries!K96-Entries!K95)*24*60","v":0}]
["",null,null,{"$f":"MATCH(C96,Categories!A:A,0)","v":{"$error":"#N/A"}},0,{"$f":"IF(OR($E96<>0,$C96=\"\"),\"\",INDEX(Categories!$A:$E,Entries!$D96,2))","v":""},{"$f":"IF(OR($E96<>0,$C96=\"\"),\"\",INDEX(Categories!$A:$E,Entries!$D96,3))","v":""},{"$f":"IF(OR($E96<>0,$C96=\"\"),\"\",INDEX(Categories!$A:$E,Entries!$D96,4))","v":""},{"$f":"IF(OR($E96<>0,$C96=\"\"),\"\",INDEX(Categories!$A:$E,Entries!$D96,5))","v":""},"2014-01-01","2014-01-01",{"$f":"(Entries!K97-Entries!K96)*24*60","v":0}]
["",null,null,{"$f":"MATCH(C97,Categories!A:A,0)","v":{"$error":"#N/A"}},0,{"$f":"IF(OR($E97<>0,$C97=\"\"),\"\",INDEX(Categories!$A:$E,Entries!$D97,2))","v":""},{"$f":"IF(OR($E97<>0,$C97=\"\"),\"\",INDEX(Categories!$A:$E,Entries!$D97,3))","v":""},{"$f":"IF(OR($E97<>0,$C97=\"\"),\"\",INDEX(Categories!$A:$E,Entries!$D97,4))","v":""},{"$f":"IF(OR($E97<>0,$C97=\"\"),\"\",INDEX(Categories!$A:$E,Entries!$D97,5))","v":""},"2014-01-01","2014-01-01",{"$f":"(Entries!K98-Entries!K97)*24*60","v":0}]
["",null,null,{"$f":"MATCH(C98,Categories!A:A,0)","v":{"$error":"#N/A"}},0,{"$f":"IF(OR($E98<>0,$C98=\"\"),\"\",INDEX(Categories!$A:$E,Entries!$D98,2))","v":""},{"$f":"IF(OR($E98<>0,$C98=\"\"),\"\",INDEX(Categories!$A:$E,Entries!$D98,3))","v":""},{"$f":"IF(OR($E98<>0,$C98=\"\"),\"\",INDEX(Categories!$A:$E,Entries!$D98,4))","v":""},{"$f":"IF(OR($E98<>0,$C98=\"\"),\"\",INDEX(Categories!$A:$E,Entries!$D98,5))","v":""},"2014-01-01","2014-01-01",{"$f":"(Entries!K99-Entries!K98)*24*60","v":0}]
["",null,null,{"$f":"MATCH(C99,Categories!A:A,0)","v":{"$error":"#N/A"}},0,{"$f":"IF(OR($E99<>0,$C99=\"\"),\"\",INDEX(Categories!$A:$E,Entries!$D99,2))","v":""},{"$f":"IF(OR($E99<>0,$C99=\"\"),\"\",INDEX(Categories!$A:$E,Entries!$D99,3))","v":""},{"$f":"IF(OR($E99<>0,$C99=\"\"),\"\",INDEX(Categories!$A:$E,Entries!$D99,4))","v":""},{"$f":"IF(OR($E99<>0,$C99=\"\"),\"\",INDEX(Categories!$A:$E,Entries!$D99,5))","v":""},"2014-01-01","2014-01-01",{"$f":"(Entries!K100-Entries!K99)*24*60","v":0}]
[{"$f":"IF(OR(B100>=B99,C99=\"z\",B100=\"\"),\"\",J99+1)","v":""},null,null,{"$f":"MATCH(C100,Categories!A:A,0)","v":{"$error":"#N/A"}},0,{"$f":"IF(OR($E100<>0,$C100=\"\"),\"\",INDEX(Categories!$A:$E,Entries!$D100,2))","v":""},{"$f":"IF(OR($E100<>0,$C100=\"\"),\"\",INDEX(Categories!$A:$E,Entries!$D100,3))","v":""},{"$f":"IF(OR($E100<>0,$C100=\"\"),\"\",INDEX(Categories!$A:$E,Entries!$D100,4))","v":""},{"$f":"IF(OR($E100<>0,$C100=\"\"),\"\",INDEX(Categories!$A:$E,Entries!$D100,5))","v":""},"2014-01-01","2014-01-01",{"$f":"(Entries!K101-Entries!K100)*24*60","v":0}]
["",null,null,{"$f":"MATCH(C101,Categories!A:A,0)","v":{"$error":"#N/A"}},0,{"$f":"IF(OR($E101<>0,$C101=\"\"),\"\",INDEX(Categories!$A:$E,Entries!$D101,2))","v":""},{"$f":"IF(OR($E101<>0,$C101=\"\"),\"\",INDEX(Categories!$A:$E,Entries!$D101,3))","v":""},{"$f":"IF(OR($E101<>0,$C101=\"\"),\"\",INDEX(Categories!$A:$E,Entries!$D101,4))","v":""},{"$f":"IF(OR($E101<>0,$C101=\"\"),\"\",INDEX(Categories!$A:$E,Entries!$D101,5))","v":""},"2014-01-01","2014-01-01",{"$f":"(Entries!K102-Entries!K101)*24*60","v":0}]
["",null,null,{"$f":"MATCH(C102,Categories!A:A,0)","v":{"$error":"#N/A"}},0,{"$f":"IF(OR($E102<>0,$C102=\"\"),\"\",INDEX(Categories!$A:$E,Entries!$D102,2))","v":""},{"$f":"IF(OR($E102<>0,$C102=\"\"),\"\",INDEX(Categories!$A:$E,Entries!$D102,3))","v":""},{"$f":"IF(OR($E102<>0,$C102=\"\"),\"\",INDEX(Categories!$A:$E,Entries!$D102,4))","v":""},{"$f":"IF(OR($E102<>0,$C102=\"\"),\"\",INDEX(Categories!$A:$E,Entries!$D102,5))","v":""},"2014-01-01","2014-01-01",{"$f":"(Entries!K103-Entries!K102)*24*60","v":0}]
["",null,null,{"$f":"MATCH(C103,Categories!A:A,0)","v":{"$error":"#N/A"}},0,{"$f":"IF(OR($E103<>0,$C103=\"\"),\"\",INDEX(Categories!$A:$E,Entries!$D103,2))","v":""},{"$f":"IF(OR($E103<>0,$C103=\"\"),\"\",INDEX(Categories!$A:$E,Entries!$D103,3))","v":""},{"$f":"IF(OR($E103<>0,$C103=\"\"),\"\",INDEX(Categories!$A:$E,Entries!$D103,4))","v":""},{"$f":"IF(OR($E103<>0,$C103=\"\"),\"\",INDEX(Categories!$A:$E,Entries!$D103,5))","v":""},"2014-01-01","2014-01-01",{"$f":"(Entries!K104-Entries!K103)*24*60","v":0}]
["",null,null,{"$f":"MATCH(C104,Categories!A:A,0)","v":{"$error":"#N/A"}},0,{"$f":"IF(OR($E104<>0,$C104=\"\"),\"\",INDEX(Categories!$A:$E,Entries!$D104,2))","v":""},{"$f":"IF(OR($E104<>0,$C104=\"\"),\"\",INDEX(Categories!$A:$E,Entries!$D104,3))","v":""},{"$f":"IF(OR($E104<>0,$C104=\"\"),\"\",INDEX(Categories!$A:$E,Entries!$D104,4))","v":""},{"$f":"IF(OR($E104<>0,$C104=\"\"),\"\",INDEX(Categories!$A:$E,Entries!$D104,5))","v":""},"2014-01-01","2014-01-01",{"$f":"(Entries!K105-Entries!K104)*24*60","v":0}]
["",null,null,{"$f":"MATCH(C105,Categories!A:A,0)","v":{"$error":"#N/A"}},0,{"$f":"IF(OR($E105<>0,$C105=\"\"),\"\",INDEX(Categories!$A:$E,Entries!$D105,2))","v":""},{"$f":"IF(OR($E105<>0,$C105=\"\"),\"\",INDEX(Categories!$A:$E,Entries!$D105,3))","v":""},{"$f":"IF(OR($E105<>0,$C105=\"\"),\"\",INDEX(Categories!$A:$E,Entries!$D105,4))","v":""},{"$f":"IF(OR($E105<>0,$C105=\"\"),\"\",INDEX(Categories!$A:$E,Entries!$D105,5))","v":""},"2014-01-01","2014-01-01",{"$f":"(Entries!K106-Entries!K105)*24*60","v":0}]
["",null,null,{"$f":"MATCH(C106,Categories!A:A,0)","v":{"$error":"#N/A"}},0,{"$f":"IF(OR($E106<>0,$C106=\"\"),\"\",INDEX(Categories!$A:$E,Entries!$D106,2))","v":""},{"$f":"IF(OR($E106<>0,$C106=\"\"),\"\",INDEX(Categories!$A:$E,Entries!$D106,3))","v":""},{"$f":"IF(OR($E106<>0,$C106=\"\"),\"\",INDEX(Categories!$A:$E,Entries!$D106,4))","v":""},{"$f":"IF(OR($E106<>0,$C106=\"\"),\"\",INDEX(Categories!$A:$E,Entries!$D106,5))","v":""},"2014-01-01","2014-01-01",{"$f":"(Entries!K107-Entries!K106)*24*60","v":0}]
["",null,null,{"$f":"MATCH(C107,Categories!A:A,0)","v":{"$error":"#N/A"}},0,{"$f":"IF(OR($E107<>0,$C107=\"\"),\"\",INDEX(Categories!$A:$E,Entries!$D107,2))","v":""},{"$f":"IF(OR($E107<>0,$C107=\"\"),\"\",INDEX(Categories!$A:$E,Entries!$D107,3))","v":""},{"$f":"IF(OR($E107<>0,$C107=\"\"),\"\",INDEX(Categories!$A:$E,Entries!$D107,4))","v":""},{"$f":"IF(OR($E107<>0,$C107=\"\"),\"\",INDEX(Categories!$A:$E,Entries!$D107,5))","v":""},"2014-01-01","2014-01-01",{"$f":"(Entries!K108-Entries!K107)*24*60","v":0}]
["",null,null,{"$f":"MATCH(C108,Categories!A:A,0)","v":{"$error":"#N/A"}},0,{"$f":"IF(OR($E108<>0,$C108=\"\"),\"\",INDEX(Categories!$A:$E,Entries!$D108,2))","v":""},{"$f":"IF(OR($E108<>0,$C108=\"\"),\"\",INDEX(Categories!$A:$E,Entries!$D108,3))","v":""},{"$f":"IF(OR($E108<>0,$C108=\"\"),\"\",INDEX(Categories!$A:$E,Entries!$D108,4))","v":""},{"$f":"IF(OR($E108<>0,$C108=\"\"),\"\",INDEX(Categories!$A:$E,Entries!$D108,5))","v":""},"2014-01-01","2014-01-01",{"$f":"(Entries!K109-Entries!K108)*24*60","v":0}]
["",null,null,{"$f":"MATCH(C109,Categories!A:A,0)","v":{"$error":"#N/A"}},0,{"$f":"IF(OR($E109<>0,$C109=\"\"),\"\",INDEX(Categories!$A:$E,Entries!$D109,2))","v":""},{"$f":"IF(OR($E109<>0,$C109=\"\"),\"\",INDEX(Categories!$A:$E,Entries!$D109,3))","v":""},{"$f":"IF(OR($E109<>0,$C109=\"\"),\"\",INDEX(Categories!$A:$E,Entries!$D109,4))","v":""},{"$f":"IF(OR($E109<>0,$C109=\"\"),\"\",INDEX(Categories!$A:$E,Entries!$D109,5))","v":""},"2014-01-01","2014-01-01",{"$f":"(Entries!K110-Entries!K109)*24*60","v":0}]
["",null,null,{"$f":"MATCH(C110,Categories!A:A,0)","v":{"$error":"#N/A"}},0,{"$f":"IF(OR($E110<>0,$C110=\"\"),\"\",INDEX(Categories!$A:$E,Entries!$D110,2))","v":""},{"$f":"IF(OR($E110<>0,$C110=\"\"),\"\",INDEX(Categories!$A:$E,Entries!$D110,3))","v":""},{"$f":"IF(OR($E110<>0,$C110=\"\"),\"\",INDEX(Categories!$A:$E,Entries!$D110,4))","v":""},{"$f":"IF(OR($E110<>0,$C110=\"\"),\"\",INDEX(Categories!$A:$E,Entries!$D110,5))","v":""},"2014-01-01","2014-01-01",{"$f":"(Entries!K111-Entries!K110)*24*60","v":0}]
["",null,null,{"$f":"MATCH(C111,Categories!A:A,0)","v":{"$error":"#N/A"}},0,{"$f":"IF(OR($E111<>0,$C111=\"\"),\"\",INDEX(Categories!$A:$E,Entries!$D111,2))","v":""},{"$f":"IF(OR($E111<>0,$C111=\"\"),\"\",INDEX(Categories!$A:$E,Entries!$D111,3))","v":""},{"$f":"IF(OR($E111<>0,$C111=\"\"),\"\",INDEX(Categories!$A:$E,Entries!$D111,4))","v":""},{"$f":"IF(OR($E111<>0,$C111=\"\"),\"\",INDEX(Categories!$A:$E,Entries!$D111,5))","v":""},"2014-01-01","2014-01-01",{"$f":"(Entries!K112-Entries!K111)*24*60","v":0}]
["",null,null,{"$f":"MATCH(C112,Categories!A:A,0)","v":{"$error":"#N/A"}},0,{"$f":"IF(OR($E112<>0,$C112=\"\"),\"\",INDEX(Categories!$A:$E,Entries!$D112,2))","v":""},{"$f":"IF(OR($E112<>0,$C112=\"\"),\"\",INDEX(Categories!$A:$E,Entries!$D112,3))","v":""},{"$f":"IF(OR($E112<>0,$C112=\"\"),\"\",INDEX(Categories!$A:$E,Entries!$D112,4))","v":""},{"$f":"IF(OR($E112<>0,$C112=\"\"),\"\",INDEX(Categories!$A:$E,Entries!$D112,5))","v":""},"2014-01-01","2014-01-01",{"$f":"(Entries!K113-Entries!K112)*24*60","v":0}]
["",null,null,{"$f":"MATCH(C113,Categories!A:A,0)","v":{"$error":"#N/A"}},0,{"$f":"IF(OR($E113<>0,$C113=\"\"),\"\",INDEX(Categories!$A:$E,Entries!$D113,2))","v":""},{"$f":"IF(OR($E113<>0,$C113=\"\"),\"\",INDEX(Categories!$A:$E,Entries!$D113,3))","v":""},{"$f":"IF(OR($E113<>0,$C113=\"\"),\"\",INDEX(Categories!$A:$E,Entries!$D113,4))","v":""},{"$f":"IF(OR($E113<>0,$C113=\"\"),\"\",INDEX(Categories!$A:$E,Entries!$D113,5))","v":""},"2014-01-01","2014-01-01",{"$f":"(Entries!K114-Entries!K113)*24*60","v":0}]
["",null,null,{"$f":"MATCH(C114,Categories!A:A,0)","v":{"$error":"#N/A"}},0,{"$f":"IF(OR($E114<>0,$C114=\"\"),\"\",INDEX(Categories!$A:$E,Entries!$D114,2))","v":""},{"$f":"IF(OR($E114<>0,$C114=\"\"),\"\",INDEX(Categories!$A:$E,Entries!$D114,3))","v":""},{"$f":"IF(OR($E114<>0,$C114=\"\"),\"\",INDEX(Categories!$A:$E,Entries!$D114,4))","v":""},{"$f":"IF(OR($E114<>0,$C114=\"\"),\"\",INDEX(Categories!$A:$E,Entries!$D114,5))","v":""},"2014-01-01","2014-01-01",{"$f":"(Entries!K115-Entries!K114)*24*60","v":0}]
["",null,null,{"$f":"MATCH(C115,Categories!A:A,0)","v":{"$error":"#N/A"}},0,{"$f":"IF(OR($E115<>0,$C115=\"\"),\"\",INDEX(Categories!$A:$E,Entries!$D115,2))","v":""},{"$f":"IF(OR($E115<>0,$C115=\"\"),\"\",INDEX(Categories!$A:$E,Entries!$D115,3))","v":""},{"$f":"IF(OR($E115<>0,$C115=\"\"),\"\",INDEX(Categories!$A:$E,Entries!$D115,4))","v":""},{"$f":"IF(OR($E115<>0,$C115=\"\"),\"\",INDEX(Categories!$A:$E,Entries!$D115,5))","v":""},"2014-01-01","2014-01-01",{"$f":"(Entries!K116-Entries!K115)*24*60","v":0}]
["",null,null,{"$f":"MATCH(C116,Categories!A:A,0)","v":{"$error":"#N/A"}},0,{"$f":"IF(OR($E116<>0,$C116=\"\"),\"\",INDEX(Categories!$A:$E,Entries!$D116,2))","v":""},{"$f":"IF(OR($E116<>0,$C116=\"\"),\"\",INDEX(Categories!$A:$E,Entries!$D116,3))","v":""},{"$f":"IF(OR($E116<>0,$C116=\"\"),\"\",INDEX(Categories!$A:$E,Entries!$D116,4))","v":""},{"$f":"IF(OR($E116<>0,$C116=\"\"),\"\",INDEX(Categories!$A:$E,Entries!$D116,5))","v":""},"2014-01-01","2014-01-01",{"$f":"(Entries!K117-Entries!K116)*24*60","v":0}]
["",null,null,{"$f":"MATCH(C117,Categories!A:A,0)","v":{"$error":"#N/A"}},0,{"$f":"IF(OR($E117<>0,$C117=\"\"),\"\",INDEX(Categories!$A:$E,Entries!$D117,2))","v":""},{"$f":"IF(OR($E117<>0,$C117=\"\"),\"\",INDEX(Categories!$A:$E,Entries!$D117,3))","v":""},{"$f":"IF(OR($E117<>0,$C117=\"\"),\"\",INDEX(Categories!$A:$E,Entries!$D117,4))","v":""},{"$f":"IF(OR($E117<>0,$C117=\"\"),\"\",INDEX(Categories!$A:$E,Entries!$D117,5))","v":""},"2014-01-01","2014-01-01",{"$f":"(Entries!K118-Entries!K117)*24*60","v":0}]
["",null,null,{"$f":"MATCH(C118,Categories!A:A,0)","v":{"$error":"#N/A"}},0,{"$f":"IF(OR($E118<>0,$C118=\"\"),\"\",INDEX(Categories!$A:$E,Entries!$D118,2))","v":""},{"$f":"IF(OR($E118<>0,$C118=\"\"),\"\",INDEX(Categories!$A:$E,Entries!$D118,3))","v":""},{"$f":"IF(OR($E118<>0,$C118=\"\"),\"\",INDEX(Categories!$A:$E,Entries!$D118,4))","v":""},{"$f":"IF(OR($E118<>0,$C118=\"\"),\"\",INDEX(Categories!$A:$E,Entries!$D118,5))","v":""},"2014-01-01","2014-01-01",{"$f":"(Entries!K119-Entries!K118)*24*60","v":0}]
["",null,null,{"$f":"MATCH(C119,Categories!A:A,0)","v":{"$error":"#N/A"}},0,{"$f":"IF(OR($E119<>0,$C119=\"\"),\"\",INDEX(Categories!$A:$E,Entries!$D119,2))","v":""},{"$f":"IF(OR($E119<>0,$C119=\"\"),\"\",INDEX(Categories!$A:$E,Entries!$D119,3))","v":""},{"$f":"IF(OR($E119<>0,$C119=\"\"),\"\",INDEX(Categories!$A:$E,Entries!$D119,4))","v":""},{"$f":"IF(OR($E119<>0,$C119=\"\"),\"\",INDEX(Categories!$A:$E,Entries!$D119,5))","v":""},"2014-01-01","2014-01-01",{"$f":"(Entries!K120-Entries!K119)*24*60","v":0}]
["",null,null,{"$f":"MATCH(C120,Categories!A:A,0)","v":{"$error":"#N/A"}},0,{"$f":"IF(OR($E120<>0,$C120=\"\"),\"\",INDEX(Categories!$A:$E,Entries!$D120,2))","v":""},{"$f":"IF(OR($E120<>0,$C120=\"\"),\"\",INDEX(Categories!$A:$E,Entries!$D120,3))","v":""},{"$f":"IF(OR($E120<>0,$C120=\"\"),\"\",INDEX(Categories!$A:$E,Entries!$D120,4))","v":""},{"$f":"IF(OR($E120<>0,$C120=\"\"),\"\",INDEX(Categories!$A:$E,Entries!$D120,5))","v":""},"2014-01-01","2014-01-01",{"$f":"(Entries!K121-Entries!K120)*24*60","v":0}]
["",null,null,{"$f":"MATCH(C121,Categories!A:A,0)","v":{"$error":"#N/A"}},0,{"$f":"IF(OR($E121<>0,$C121=\"\"),\"\",INDEX(Categories!$A:$E,Entries!$D121,2))","v":""},{"$f":"IF(OR($E121<>0,$C121=\"\"),\"\",INDEX(Categories!$A:$E,Entries!$D121,3))","v":""},{"$f":"IF(OR($E121<>0,$C121=\"\"),\"\",INDEX(Categories!$A:$E,Entries!$D121,4))","v":""},{"$f":"IF(OR($E121<>0,$C121=\"\"),\"\",INDEX(Categories!$A:$E,Entries!$D121,5))","v":""},"2014-01-01","2014-01-01",{"$f":"(Entries!K122-Entries!K121)*24*60","v":0}]
["",null,null,{"$f":"MATCH(C122,Categories!A:A,0)","v":{"$error":"#N/A"}},0,{"$f":"IF(OR($E122<>0,$C122=\"\"),\"\",INDEX(Categories!$A:$E,Entries!$D122,2))","v":""},{"$f":"IF(OR($E122<>0,$C122=\"\"),\"\",INDEX(Categories!$A:$E,Entries!$D122,3))","v":""},{"$f":"IF(OR($E122<>0,$C122=\"\"),\"\",INDEX(Categories!$A:$E,Entries!$D122,4))","v":""},{"$f":"IF(OR($E122<>0,$C122=\"\"),\"\",INDEX(Categories!$A:$E,Entries!$D122,5))","v":""},"2014-01-01","2014-01-01",{"$f":"(Entries!K123-Entries!K122)*24*60","v":0}]
["",null,null,{"$f":"MATCH(C123,Categories!A:A,0)","v":{"$error":"#N/A"}},0,{"$f":"IF(OR($E123<>0,$C123=\"\"),\"\",INDEX(Categories!$A:$E,Entries!$D123,2))","v":""},{"$f":"IF(OR($E123<>0,$C123=\"\"),\"\",INDEX(Categories!$A:$E,Entries!$D123,3))","v":""},{"$f":"IF(OR($E123<>0,$C123=\"\"),\"\",INDEX(Categories!$A:$E,Entries!$D123,4))","v":""},{"$f":"IF(OR($E123<>0,$C123=\"\"),\"\",INDEX(Categories!$A:$E,Entries!$D123,5))","v":""},"2014-01-01","2014-01-01",{"$f":"(Entries!K124-Entries!K123)*24*60","v":0}]
["",null,null,{"$f":"MATCH(C124,Categories!A:A,0)","v":{"$error":"#N/A"}},0,{"$f":"IF(OR($E124<>0,$C124=\"\"),\"\",INDEX(Categories!$A:$E,Entries!$D124,2))","v":""},{"$f":"IF(OR($E124<>0,$C124=\"\"),\"\",INDEX(Categories!$A:$E,Entries!$D124,3))","v":""},{"$f":"IF(OR($E124<>0,$C124=\"\"),\"\",INDEX(Categories!$A:$E,Entries!$D124,4))","v":""},{"$f":"IF(OR($E124<>0,$C124=\"\"),\"\",INDEX(Categories!$A:$E,Entries!$D124,5))","v":""},"2014-01-01","2014-01-01",{"$f":"(Entries!K125-Entries!K124)*24*60","v":0}]
["",null,null,{"$f":"MATCH(C125,Categories!A:A,0)","v":{"$error":"#N/A"}},0,{"$f":"IF(OR($E125<>0,$C125=\"\"),\"\",INDEX(Categories!$A:$E,Entries!$D125,2))","v":""},{"$f":"IF(OR($E125<>0,$C125=\"\"),\"\",INDEX(Categories!$A:$E,Entries!$D125,3))","v":""},{"$f":"IF(OR($E125<>0,$C125=\"\"),\"\",INDEX(Categories!$A:$E,Entries!$D125,4))","v":""},{"$f":"IF(OR($E125<>0,$C125=\"\"),\"\",INDEX(Categories!$A:$E,Entries!$D125,5))","v":""},"2014-01-01","2014-01-01",{"$f":"(Entries!K126-Entries!K125)*24*60","v":0}]
["",null,null,{"$f":"MATCH(C126,Categories!A:A,0)","v":{"$error":"#N/A"}},0,{"$f":"IF(OR($E126<>0,$C126=\"\"),\"\",INDEX(Categories!$A:$E,Entries!$D126,2))","v":""},{"$f":"IF(OR($E126<>0,$C126=\"\"),\"\",INDEX(Categories!$A:$E,Entries!$D126,3))","v":""},{"$f":"IF(OR($E126<>0,$C126=\"\"),\"\",INDEX(Categories!$A:$E,Entries!$D126,4))","v":""},{"$f":"IF(OR($E126<>0,$C126=\"\"),\"\",INDEX(Categories!$A:$E,Entries!$D126,5))","v":""},"2014-01-01","2014-01-01",{"$f":"(Entries!K127-Entries!K126)*24*60","v":0}]
["",null,null,{"$f":"MATCH(C127,Categories!A:A,0)","v":{"$error":"#N/A"}},0,{"$f":"IF(OR($E127<>0,$C127=\"\"),\"\",INDEX(Categories!$A:$E,Entries!$D127,2))","v":""},{"$f":"IF(OR($E127<>0,$C127=\"\"),\"\",INDEX(Categories!$A:$E,Entries!$D127,3))","v":""},{"$f":"IF(OR($E127<>0,$C127=\"\"),\"\",INDEX(Categories!$A:$E,Entries!$D127,4))","v":""},{"$f":"IF(OR($E127<>0,$C127=\"\"),\"\",INDEX(Categories!$A:$E,Entries!$D127,5))","v":""},"2014-01-01","2014-01-01",{"$f":"(Entries!K128-Entries!K127)*24*60","v":0}]
["",null,null,{"$f":"MATCH(C128,Categories!A:A,0)","v":{"$error":"#N/A"}},0,{"$f":"IF(OR($E128<>0,$C128=\"\"),\"\",INDEX(Categories!$A:$E,Entries!$D128,2))","v":""},{"$f":"IF(OR($E128<>0,$C128=\"\"),\"\",INDEX(Categories!$A:$E,Entries!$D128,3))","v":""},{"$f":"IF(OR($E128<>0,$C128=\"\"),\"\",INDEX(Categories!$A:$E,Entries!$D128,4))","v":""},{"$f":"IF(OR($E128<>0,$C128=\"\"),\"\",INDEX(Categories!$A:$E,Entries!$D128,5))","v":""},"2014-01-01","2014-01-01",{"$f":"(Entries!K129-Entries!K128)*24*60","v":0}]
["",null,null,{"$f":"MATCH(C129,Categories!A:A,0)","v":{"$error":"#N/A"}},0,{"$f":"IF(OR($E129<>0,$C129=\"\"),\"\",INDEX(Categories!$A:$E,Entries!$D129,2))","v":""},{"$f":"IF(OR($E129<>0,$C129=\"\"),\"\",INDEX(Categories!$A:$E,Entries!$D129,3))","v":""},{"$f":"IF(OR($E129<>0,$C129=\"\"),\"\",INDEX(Categories!$A:$E,Entries!$D129,4))","v":""},{"$f":"IF(OR($E129<>0,$C129=\"\"),\"\",INDEX(Categories!$A:$E,Entries!$D129,5))","v":""},"2014-01-01","2014-01-01",{"$f":"(Entries!K130-Entries!K129)*24*60","v":0}]
["",null,null,{"$f":"MATCH(C130,Categories!A:A,0)","v":{"$error":"#N/A"}},{"$f":"IF(AND(ISERROR(D130),C130<>\"\"),ROW(D130),0)","v":0},{"$f":"IF(OR($E130<>0,$C130=\"\"),\"\",INDEX(Categories!$A:$E,Entries!$D130,2))","v":""},{"$f":"IF(OR($E130<>0,$C130=\"\"),\"\",INDEX(Categories!$A:$E,Entries!$D130,3))","v":""},{"$f":"IF(OR($E130<>0,$C130=\"\"),\"\",INDEX(Categories!$A:$E,Entries!$D130,4))","v":""},{"$f":"IF(OR($E130<>0,$C130=\"\"),\"\",INDEX(Categories!$A:$E,Entries!$D130,5))","v":""},{"$f":"IF(A130=\"\",J129,A130)","v":"2014-01-01"},{"$f":"J130+B130","v":"2014-01-01"},{"$f":"(Entries!K131-Entries!K130)*24*60","v":0}]
["",null,null,{"$f":"MATCH(C131,Categories!A:A,0)","v":{"$error":"#N/A"}},0,{"$f":"IF(OR($E131<>0,$C131=\"\"),\"\",INDEX(Categories!$A:$E,Entries!$D131,2))","v":""},{"$f":"IF(OR($E131<>0,$C131=\"\"),\"\",INDEX(Categories!$A:$E,Entries!$D131,3))","v":""},{"$f":"IF(OR($E131<>0,$C131=\"\"),\"\",INDEX(Categories!$A:$E,Entries!$D131,4))","v":""},{"$f":"IF(OR($E131<>0,$C131=\"\"),\"\",INDEX(Categories!$A:$E,Entries!$D131,5))","v":""},"2014-01-01","2014-01-01",{"$f":"(Entries!K132-Entries!K131)*24*60","v":0}]
["",null,null,{"$f":"MATCH(C132,Categories!A:A,0)","v":{"$error":"#N/A"}},0,{"$f":"IF(OR($E132<>0,$C132=\"\"),\"\",INDEX(Categories!$A:$E,Entries!$D132,2))","v":""},{"$f":"IF(OR($E132<>0,$C132=\"\"),\"\",INDEX(Categories!$A:$E,Entries!$D132,3))","v":""},{"$f":"IF(OR($E132<>0,$C132=\"\"),\"\",INDEX(Categories!$A:$E,Entries!$D132,4))","v":""},{"$f":"IF(OR($E132<>0,$C132=\"\"),\"\",INDEX(Categories!$A:$E,Entries!$D132,5))","v":""},"2014-01-01","2014-01-01",{"$f":"(Entries!K133-Entries!K132)*24*60","v":0}]
["",null,null,{"$f":"MATCH(C133,Categories!A:A,0)","v":{"$error":"#N/A"}},0,{"$f":"IF(OR($E133<>0,$C133=\"\"),\"\",INDEX(Categories!$A:$E,Entries!$D133,2))","v":""},{"$f":"IF(OR($E133<>0,$C133=\"\"),\"\",INDEX(Categories!$A:$E,Entries!$D133,3))","v":""},{"$f":"IF(OR($E133<>0,$C133=\"\"),\"\",INDEX(Categories!$A:$E,Entries!$D133,4))","v":""},{"$f":"IF(OR($E133<>0,$C133=\"\"),\"\",INDEX(Categories!$A:$E,Entries!$D133,5))","v":""},"2014-01-01","2014-01-01",{"$f":"(Entries!K134-Entries!K133)*24*60","v":0}]
["",null,null,{"$f":"MATCH(C134,Categories!A:A,0)","v":{"$error":"#N/A"}},0,{"$f":"IF(OR($E134<>0,$C134=\"\"),\"\",INDEX(Categories!$A:$E,Entries!$D134,2))","v":""},{"$f":"IF(OR($E134<>0,$C134=\"\"),\"\",INDEX(Categories!$A:$E,Entries!$D134,3))","v":""},{"$f":"IF(OR($E134<>0,$C134=\"\"),\"\",INDEX(Categories!$A:$E,Entries!$D134,4))","v":""},{"$f":"IF(OR($E134<>0,$C134=\"\"),\"\",INDEX(Categories!$A:$E,Entries!$D134,5))","v":""},"2014-01-01","2014-01-01",{"$f":"(Entries!K135-Entries!K134)*24*60","v":0}]
["",null,null,{"$f":"MATCH(C135,Categories!A:A,0)","v":{"$error":"#N/A"}},0,{"$f":"IF(OR($E135<>0,$C135=\"\"),\"\",INDEX(Categories!$A:$E,Entries!$D135,2))","v":""},{"$f":"IF(OR($E135<>0,$C135=\"\"),\"\",INDEX(Categories!$A:$E,Entries!$D135,3))","v":""},{"$f":"IF(OR($E135<>0,$C135=\"\"),\"\",INDEX(Categories!$A:$E,Entries!$D135,4))","v":""},{"$f":"IF(OR($E135<>0,$C135=\"\"),\"\",INDEX(Categories!$A:$E,Entries!$D135,5))","v":""},"2014-01-01","2014-01-01",{"$f":"(Entries!K136-Entries!K135)*24*60","v":0}]
["",null,null,{"$f":"MATCH(C136,Categories!A:A,0)","v":{"$error":"#N/A"}},0,{"$f":"IF(OR($E136<>0,$C136=\"\"),\"\",INDEX(Categories!$A:$E,Entries!$D136,2))","v":""},{"$f":"IF(OR($E136<>0,$C136=\"\"),\"\",INDEX(Categories!$A:$E,Entries!$D136,3))","v":""},{"$f":"IF(OR($E136<>0,$C136=\"\"),\"\",INDEX(Categories!$A:$E,Entries!$D136,4))","v":""},{"$f":"IF(OR($E136<>0,$C136=\"\"),\"\",INDEX(Categories!$A:$E,Entries!$D136,5))","v":""},"2014-01-01","2014-01-01",{"$f":"(Entries!K137-Entries!K136)*24*60","v":0}]
["",null,null,{"$f":"MATCH(C137,Categories!A:A,0)","v":{"$error":"#N/A"}},0,{"$f":"IF(OR($E137<>0,$C137=\"\"),\"\",INDEX(Categories!$A:$E,Entries!$D137,2))","v":""},{"$f":"IF(OR($E137<>0,$C137=\"\"),\"\",INDEX(Categories!$A:$E,Entries!$D137,3))","v":""},{"$f":"IF(OR($E137<>0,$C137=\"\"),\"\",INDEX(Categories!$A:$E,Entries!$D137,4))","v":""},{"$f":"IF(OR($E137<>0,$C137=\"\"),\"\",INDEX(Categories!$A:$E,Entries!$D137,5))","v":""},"2014-01-01","2014-01-01",{"$f":"(Entries!K138-Entries!K137)*24*60","v":0}]
["",null,null,{"$f":"MATCH(C138,Categories!A:A,0)","v":{"$error":"#N/A"}},0,{"$f":"IF(OR($E138<>0,$C138=\"\"),\"\",INDEX(Categories!$A:$E,Entries!$D138,2))","v":""},{"$f":"IF(OR($E138<>0,$C138=\"\"),\"\",INDEX(Categories!$A:$E,Entries!$D138,3))","v":""},{"$f":"IF(OR($E138<>0,$C138=\"\"),\"\",INDEX(Categories!$A:$E,Entries!$D138,4))","v":""},{"$f":"IF(OR($E138<>0,$C138=\"\"),\"\",INDEX(Categories!$A:$E,Entries!$D138,5))","v":""},"2014-01-01","2014-01-01",{"$f":"(Entries!K139-Entries!K138)*24*60","v":0}]
["",null,null,{"$f":"MATCH(C139,Categories!A:A,0)","v":{"$error":"#N/A"}},0,{"$f":"IF(OR($E139<>0,$C139=\"\"),\"\",INDEX(Categories!$A:$E,Entries!$D139,2))","v":""},{"$f":"IF(OR($E139<>0,$C139=\"\"),\"\",INDEX(Categories!$A:$E,Entries!$D139,3))","v":""},{"$f":"IF(OR($E139<>0,$C139=\"\"),\"\",INDEX(Categories!$A:$E,Entries!$D139,4))","v":""},{"$f":"IF(OR($E139<>0,$C139=\"\"),\"\",INDEX(Categories!$A:$E,Entries!$D139,5))","v":""},"2014-01-01","2014-01-01",{"$f":"(Entries!K140-Entries!K139)*24*60","v":0}]
["",null,null,{"$f":"MATCH(C140,Categories!A:A,0)","v":{"$error":"#N/A"}},0,{"$f":"IF(OR($E140<>0,$C140=\"\"),\"\",INDEX(Categories!$A:$E,Entries!$D140,2))","v":""},{"$f":"IF(OR($E140<>0,$C140=\"\"),\"\",INDEX(Categories!$A:$E,Entries!$D140,3))","v":""},{"$f":"IF(OR($E140<>0,$C140=\"\"),\"\",INDEX(Categories!$A:$E,Entries!$D140,4))","v":""},{"$f":"IF(OR($E140<>0,$C140=\"\"),\"\",INDEX(Categories!$A:$E,Entries!$D140,5))","v":""},"2014-01-01","2014-01-01",{"$f":"(Entries!K141-Entries!K140)*24*60","v":0}]
["",null,null,{"$f":"MATCH(C141,Categories!A:A,0)","v":{"$error":"#N/A"}},0,{"$f":"IF(OR($E141<>0,$C141=\"\"),\"\",INDEX(Categories!$A:$E,Entries!$D141,2))","v":""},{"$f":"IF(OR($E141<>0,$C141=\"\"),\"\",INDEX(Categories!$A:$E,Entries!$D141,3))","v":""},{"$f":"IF(OR($E141<>0,$C141=\"\"),\"\",INDEX(Categories!$A:$E,Entries!$D141,4))","v":""},{"$f":"IF(OR($E141<>0,$C141=\"\"),\"\",INDEX(Categories!$A:$E,Entries!$D141,5))","v":""},"2014-01-01","2014-01-01",{"$f":"(Entries!K142-Entries!K141)*24*60","v":0}]
["",null,null,{"$f":"MATCH(C142,Categories!A:A,0)","v":{"$error":"#N/A"}},0,{"$f":"IF(OR($E142<>0,$C142=\"\"),\"\",INDEX(Categories!$A:$E,Entries!$D142,2))","v":""},{"$f":"IF(OR($E142<>0,$C142=\"\"),\"\",INDEX(Categories!$A:$E,Entries!$D142,3))","v":""},{"$f":"IF(OR($E142<>0,$C142=\"\"),\"\",INDEX(Categories!$A:$E,Entries!$D142,4))","v":""},{"$f":"IF(OR($E142<>0,$C142=\"\"),\"\",INDEX(Categories!$A:$E,Entries!$D142,5))","v":""},"2014-01-01","2014-01-01",{"$f":"(Entries!K143-Entries!K142)*24*60","v":0}]
["",null,null,{"$f":"MATCH(C143,Categories!A:A,0)","v":{"$error":"#N/A"}},0,{"$f":"IF(OR($E143<>0,$C143=\"\"),\"\",INDEX(Categories!$A:$E,Entries!$D143,2))","v":""},{"$f":"IF(OR($E143<>0,$C143=\"\"),\"\",INDEX(Categories!$A:$E,Entries!$D143,3))","v":""},{"$f":"IF(OR($E143<>0,$C143=\"\"),\"\",INDEX(Categories!$A:$E,Entries!$D143,4))","v":""},{"$f":"IF(OR($E143<>0,$C143=\"\"),\"\",INDEX(Categories!$A:$E,Entries!$D143,5))","v":""},"2014-01-01","2014-01-01",{"$f":"(Entries!K144-Entries!K143)*24*60","v":0}]
["",null,null,{"$f":"MATCH(C144,Categories!A:A,0)","v":{"$error":"#N/A"}},0,{"$f":"IF(OR($E144<>0,$C144=\"\"),\"\",INDEX(Categories!$A:$E,Entries!$D144,2))","v":""},{"$f":"IF(OR($E144<>0,$C144=\"\"),\"\",INDEX(Categories!$A:$E,Entries!$D144,3))","v":""},{"$f":"IF(OR($E144<>0,$C144=\"\"),\"\",INDEX(Categories!$A:$E,Entries!$D144,4))","v":""},{"$f":"IF(OR($E144<>0,$C144=\"\"),\"\",INDEX(Categories!$A:$E,Entries!$D144,5))","v":""},"2014-01-01","2014-01-01",{"$f":"(Entries!K145-Entries!K144)*24*60","v":0}]
["",null,null,{"$f":"MATCH(C145,Categories!A:A,0)","v":{"$error":"#N/A"}},0,{"$f":"IF(OR($E145<>0,$C145=\"\"),\"\",INDEX(Categories!$A:$E,Entries!$D145,2))","v":""},{"$f":"IF(OR($E145<>0,$C145=\"\"),\"\",INDEX(Categories!$A:$E,Entries!$D145,3))","v":""},{"$f":"IF(OR($E145<>0,$C145=\"\"),\"\",INDEX(Categories!$A:$E,Entries!$D145,4))","v":""},{"$f":"IF(OR($E145<>0,$C145=\"\"),\"\",INDEX(Categories!$A:$E,Entries!$D145,5))","v":""},"2014-01-01","2014-01-01",{"$f":"(Entries!K146-Entries!K145)*24*60","v":0}]
["",null,null,{"$f":"MATCH(C146,Categories!A:A,0)","v":{"$error":"#N/A"}},0,{"$f":"IF(OR($E146<>0,$C146=\"\"),\"\",INDEX(Categories!$A:$E,Entries!$D146,2))","v":""},{"$f":"IF(OR($E146<>0,$C146=\"\"),\"\",INDEX(Categories!$A:$E,Entries!$D146,3))","v":""},{"$f":"IF(OR($E146<>0,$C146=\"\"),\"\",INDEX(Categories!$A:$E,Entries!$D146,4))","v":""},{"$f":"IF(OR($E146<>0,$C146=\"\"),\"\",INDEX(Categories!$A:$E,Entries!$D146,5))","v":""},"2014-01-01","2014-01-01",{"$f":"(Entries!K147-Entries!K146)*24*60","v":0}]
["",null,null,{"$f":"MATCH(C147,Categories!A:A,0)","v":{"$error":"#N/A"}},0,{"$f":"IF(OR($E147<>0,$C147=\"\"),\"\",INDEX(Categories!$A:$E,Entries!$D147,2))","v":""},{"$f":"IF(OR($E147<>0,$C147=\"\"),\"\",INDEX(Categories!$A:$E,Entries!$D147,3))","v":""},{"$f":"IF(OR($E147<>0,$C147=\"\"),\"\",INDEX(Categories!$A:$E,Entries!$D147,4))","v":""},{"$f":"IF(OR($E147<>0,$C147=\"\"),\"\",INDEX(Categories!$A:$E,Entries!$D147,5))","v":""},"2014-01-01","2014-01-01",{"$f":"(Entries!K148-Entries!K147)*24*60","v":0}]
["",null,null,{"$f":"MATCH(C148,Categories!A:A,0)","v":{"$error":"#N/A"}},0,{"$f":"IF(OR($E148<>0,$C148=\"\"),\"\",INDEX(Categories!$A:$E,Entries!$D148,2))","v":""},{"$f":"IF(OR($E148<>0,$C148=\"\"),\"\",INDEX(Categories!$A:$E,Entries!$D148,3))","v":""},{"$f":"IF(OR($E148<>0,$C148=\"\"),\"\",INDEX(Categories!$A:$E,Entries!$D148,4))","v":""},{"$f":"IF(OR($E148<>0,$C148=\"\"),\"\",INDEX(Categories!$A:$E,Entries!$D148,5))","v":""},"2014-01-01","2014-01-01",{"$f":"(Entries!K149-Entries!K148)*24*60","v":0}]
["",null,null,{"$f":"MATCH(C149,Categories!A:A,0)","v":{"$error":"#N/A"}},0,{"$f":"IF(OR($E149<>0,$C149=\"\"),\"\",INDEX(Categories!$A:$E,Entries!$D149,2))","v":""},{"$f":"IF(OR($E149<>0,$C149=\"\"),\"\",INDEX(Categories!$A:$E,Entries!$D149,3))","v":""},{"$f":"IF(OR($E149<>0,$C149=\"\"),\"\",INDEX(Categories!$A:$E,Entries!$D149,4))","v":""},{"$f":"IF(OR($E149<>0,$C149=\"\"),\"\",INDEX(Categories!$A:$E,Entries!$D149,5))","v":""},"2014-01-01","2014-01-01",{"$f":"(Entries!K150-Entries!K149)*24*60","v":0}]
["",null,null,{"$f":"MATCH(C150,Categories!A:A,0)","v":{"$error":"#N/A"}},0,{"$f":"IF(OR($E150<>0,$C150=\"\"),\"\",INDEX(Categories!$A:$E,Entries!$D150,2))","v":""},{"$f":"IF(OR($E150<>0,$C150=\"\"),\"\",INDEX(Categories!$A:$E,Entries!$D150,3))","v":""},{"$f":"IF(OR($E150<>0,$C150=\"\"),\"\",INDEX(Categories!$A:$E,Entries!$D150,4))","v":""},{"$f":"IF(OR($E150<>0,$C150=\"\"),\"\",INDEX(Categories!$A:$E,Entries!$D150,5))","v":""},"2014-01-01","2014-01-01",{"$f":"(Entries!K151-Entries!K150)*24*60","v":0}]
["",null,null,{"$f":"MATCH(C151,Categories!A:A,0)","v":{"$error":"#N/A"}},0,{"$f":"IF(OR($E151<>0,$C151=\"\"),\"\",INDEX(Categories!$A:$E,Entries!$D151,2))","v":""},{"$f":"IF(OR($E151<>0,$C151=\"\"),\"\",INDEX(Categories!$A:$E,Entries!$D151,3))","v":""},{"$f":"IF(OR($E151<>0,$C151=\"\"),\"\",INDEX(Categories!$A:$E,Entries!$D151,4))","v":""},{"$f":"IF(OR($E151<>0,$C151=\"\"),\"\",INDEX(Categories!$A:$E,Entries!$D151,5))","v":""},"2014-01-01","2014-01-01",{"$f":"(Entries!K152-Entries!K151)*24*60","v":0}]
["",null,null,{"$f":"MATCH(C152,Categories!A:A,0)","v":{"$error":"#N/A"}},0,{"$f":"IF(OR($E152<>0,$C152=\"\"),\"\",INDEX(Categories!$A:$E,Entries!$D152,2))","v":""},{"$f":"IF(OR($E152<>0,$C152=\"\"),\"\",INDEX(Categories!$A:$E,Entries!$D152,3))","v":""},{"$f":"IF(OR($E152<>0,$C152=\"\"),\"\",INDEX(Categories!$A:$E,Entries!$D152,4))","v":""},{"$f":"IF(OR($E152<>0,$C152=\"\"),\"\",INDEX(Categories!$A:$E,Entries!$D152,5))","v":""},"2014-01-01","2014-01-01",{"$f":"(Entries!K153-Entries!K152)*24*60","v":0}]
["",null,null,{"$f":"MATCH(C153,Categories!A:A,0)","v":{"$error":"#N/A"}},0,{"$f":"IF(OR($E153<>0,$C153=\"\"),\"\",INDEX(Categories!$A:$E,Entries!$D153,2))","v":""},{"$f":"IF(OR($E153<>0,$C153=\"\"),\"\",INDEX(Categories!$A:$E,Entries!$D153,3))","v":""},{"$f":"IF(OR($E153<>0,$C153=\"\"),\"\",INDEX(Categories!$A:$E,Entries!$D153,4))","v":""},{"$f":"IF(OR($E153<>0,$C153=\"\"),\"\",INDEX(Categories!$A:$E,Entries!$D153,5))","v":""},"2014-01-01","2014-01-01",{"$f":"(Entries!K154-Entries!K153)*24*60","v":0}]
["",null,null,{"$f":"MATCH(C154,Categories!A:A,0)","v":{"$error":"#N/A"}},0,{"$f":"IF(OR($E154<>0,$C154=\"\"),\"\",INDEX(Categories!$A:$E,Entries!$D154,2))","v":""},{"$f":"IF(OR($E154<>0,$C154=\"\"),\"\",INDEX(Categories!$A:$E,Entries!$D154,3))","v":""},{"$f":"IF(OR($E154<>0,$C154=\"\"),\"\",INDEX(Categories!$A:$E,Entries!$D154,4))","v":""},{"$f":"IF(OR($E154<>0,$C154=\"\"),\"\",INDEX(Categories!$A:$E,Entries!$D154,5))","v":""},"2014-01-01","2014-01-01",{"$f":"(Entries!K155-Entries!K154)*24*60","v":0}]
["",null,null,{"$f":"MATCH(C155,Categories!A:A,0)","v":{"$error":"#N/A"}},0,{"$f":"IF(OR($E155<>0,$C155=\"\"),\"\",INDEX(Categories!$A:$E,Entries!$D155,2))","v":""},{"$f":"IF(OR($E155<>0,$C155=\"\"),\"\",INDEX(Categories!$A:$E,Entries!$D155,3))","v":""},{"$f":"IF(OR($E155<>0,$C155=\"\"),\"\",INDEX(Categories!$A:$E,Entries!$D155,4))","v":""},{"$f":"IF(OR($E155<>0,$C155=\"\"),\"\",INDEX(Categories!$A:$E,Entries!$D155,5))","v":""},"2014-01-01","2014-01-01",{"$f":"(Entries!K156-Entries!K155)*24*60","v":0}]
["",null,null,{"$f":"MATCH(C156,Categories!A:A,0)","v":{"$error":"#N/A"}},0,{"$f":"IF(OR($E156<>0,$C156=\"\"),\"\",INDEX(Categories!$A:$E,Entries!$D156,2))","v":""},{"$f":"IF(OR($E156<>0,$C156=\"\"),\"\",INDEX(Categories!$A:$E,Entries!$D156,3))","v":""},{"$f":"IF(OR($E156<>0,$C156=\"\"),\"\",INDEX(Categories!$A:$E,Entries!$D156,4))","v":""},{"$f":"IF(OR($E156<>0,$C156=\"\"),\"\",INDEX(Categories!$A:$E,Entries!$D156,5))","v":""},"2014-01-01","2014-01-01",{"$f":"(Entries!K157-Entries!K156)*24*60","v":0}]
["",null,null,{"$f":"MATCH(C157,Categories!A:A,0)","v":{"$error":"#N/A"}},0,{"$f":"IF(OR($E157<>0,$C157=\"\"),\"\",INDEX(Categories!$A:$E,Entries!$D157,2))","v":""},{"$f":"IF(OR($E157<>0,$C157=\"\"),\"\",INDEX(Categories!$A:$E,Entries!$D157,3))","v":""},{"$f":"IF(OR($E157<>0,$C157=\"\"),\"\",INDEX(Categories!$A:$E,Entries!$D157,4))","v":""},{"$f":"IF(OR($E157<>0,$C157=\"\"),\"\",INDEX(Categories!$A:$E,Entries!$D157,5))","v":""},"2014-01-01","2014-01-01",{"$f":"(Entries!K158-Entries!K157)*24*60","v":0}]
["",null,null,{"$f":"MATCH(C158,Categories!A:A,0)","v":{"$error":"#N/A"}},0,{"$f":"IF(OR($E158<>0,$C158=\"\"),\"\",INDEX(Categories!$A:$E,Entries!$D158,2))","v":""},{"$f":"IF(OR($E158<>0,$C158=\"\"),\"\",INDEX(Categories!$A:$E,Entries!$D158,3))","v":""},{"$f":"IF(OR($E158<>0,$C158=\"\"),\"\",INDEX(Categories!$A:$E,Entries!$D158,4))","v":""},{"$f":"IF(OR($E158<>0,$C158=\"\"),\"\",INDEX(Categories!$A:$E,Entries!$D158,5))","v":""},"2014-01-01","2014-01-01",{"$f":"(Entries!K159-Entries!K158)*24*60","v":0}]
["",null,null,{"$f":"MATCH(C159,Categories!A:A,0)","v":{"$error":"#N/A"}},0,{"$f":"IF(OR($E159<>0,$C159=\"\"),\"\",INDEX(Categories!$A:$E,Entries!$D159,2))","v":""},{"$f":"IF(OR($E159<>0,$C159=\"\"),\"\",INDEX(Categories!$A:$E,Entries!$D159,3))","v":""},{"$f":"IF(OR($E159<>0,$C159=\"\"),\"\",INDEX(Categories!$A:$E,Entries!$D159,4))","v":""},{"$f":"IF(OR($E159<>0,$C159=\"\"),\"\",INDEX(Categories!$A:$E,Entries!$D159,5))","v":""},"2014-01-01","2014-01-01",{"$f":"(Entries!K160-Entries!K159)*24*60","v":0}]
["",null,null,{"$f":"MATCH(C160,Categories!A:A,0)","v":{"$error":"#N/A"}},0,{"$f":"IF(OR($E160<>0,$C160=\"\"),\"\",INDEX(Categories!$A:$E,Entries!$D160,2))","v":""},{"$f":"IF(OR($E160<>0,$C160=\"\"),\"\",INDEX(Categories!$A:$E,Entries!$D160,3))","v":""},{"$f":"IF(OR($E160<>0,$C160=\"\"),\"\",INDEX(Categories!$A:$E,Entries!$D160,4))","v":""},{"$f":"IF(OR($E160<>0,$C160=\"\"),\"\",INDEX(Categories!$A:$E,Entries!$D160,5))","v":""},"2014-01-01","2014-01-01",{"$f":"(Entries!K161-Entries!K160)*24*60","v":0}]
["",null,null,{"$f":"MATCH(C161,Categories!A:A,0)","v":{"$error":"#N/A"}},0,{"$f":"IF(OR($E161<>0,$C161=\"\"),\"\",INDEX(Categories!$A:$E,Entries!$D161,2))","v":""},{"$f":"IF(OR($E161<>0,$C161=\"\"),\"\",INDEX(Categories!$A:$E,Entries!$D161,3))","v":""},{"$f":"IF(OR($E161<>0,$C161=\"\"),\"\",INDEX(Categories!$A:$E,Entries!$D161,4))","v":""},{"$f":"IF(OR($E161<>0,$C161=\"\"),\"\",INDEX(Categories!$A:$E,Entries!$D161,5))","v":""},"2014-01-01","2014-01-01",{"$f":"(Entries!K162-Entries!K161)*24*60","v":0}]
["",null,null,{"$f":"MATCH(C162,Categories!A:A,0)","v":{"$error":"#N/A"}},0,{"$f":"IF(OR($E162<>0,$C162=\"\"),\"\",INDEX(Categories!$A:$E,Entries!$D162,2))","v":""},{"$f":"IF(OR($E162<>0,$C162=\"\"),\"\",INDEX(Categories!$A:$E,Entries!$D162,3))","v":""},{"$f":"IF(OR($E162<>0,$C162=\"\"),\"\",INDEX(Categories!$A:$E,Entries!$D162,4))","v":""},{"$f":"IF(OR($E162<>0,$C162=\"\"),\"\",INDEX(Categories!$A:$E,Entries!$D162,5))","v":""},"2014-01-01","2014-01-01",{"$f":"(Entries!K163-Entries!K162)*24*60","v":0}]
["",null,null,{"$f":"MATCH(C163,Categories!A:A,0)","v":{"$error":"#N/A"}},0,{"$f":"IF(OR($E163<>0,$C163=\"\"),\"\",INDEX(Categories!$A:$E,Entries!$D163,2))","v":""},{"$f":"IF(OR($E163<>0,$C163=\"\"),\"\",INDEX(Categories!$A:$E,Entries!$D163,3))","v":""},{"$f":"IF(OR($E163<>0,$C163=\"\"),\"\",INDEX(Categories!$A:$E,Entries!$D163,4))","v":""},{"$f":"IF(OR($E163<>0,$C163=\"\"),\"\",INDEX(Categories!$A:$E,Entries!$D163,5))","v":""},"2014-01-01","2014-01-01",{"$f":"(Entries!K164-Entries!K163)*24*60","v":0}]
[{"$f":"IF(OR(B164>=B163,C163=\"z\",B164=\"\"),\"\",J163+1)","v":""},null,null,{"$f":"MATCH(C164,Categories!A:A,0)","v":{"$error":"#N/A"}},0,{"$f":"IF(OR($E164<>0,$C164=\"\"),\"\",INDEX(Categories!$A:$E,Entries!$D164,2))","v":""},{"$f":"IF(OR($E164<>0,$C164=\"\"),\"\",INDEX(Categories!$A:$E,Entries!$D164,3))","v":""},{"$f":"IF(OR($E164<>0,$C164=\"\"),\"\",INDEX(Categories!$A:$E,Entries!$D164,4))","v":""},{"$f":"IF(OR($E164<>0,$C164=\"\"),\"\",INDEX(Categories!$A:$E,Entries!$D164,5))","v":""},"2014-01-01","2014-01-01",{"$f":"(Entries!K165-Entries!K164)*24*60","v":0}]
["",null,null,{"$f":"MATCH(C165,Categories!A:A,0)","v":{"$error":"#N/A"}},0,{"$f":"IF(OR($E165<>0,$C165=\"\"),\"\",INDEX(Categories!$A:$E,Entries!$D165,2))","v":""},{"$f":"IF(OR($E165<>0,$C165=\"\"),\"\",INDEX(Categories!$A:$E,Entries!$D165,3))","v":""},{"$f":"IF(OR($E165<>0,$C165=\"\"),\"\",INDEX(Categories!$A:$E,Entries!$D165,4))","v":""},{"$f":"IF(OR($E165<>0,$C165=\"\"),\"\",INDEX(Categories!$A:$E,Entries!$D165,5))","v":""},"2014-01-01","2014-01-01",{"$f":"(Entries!K166-Entries!K165)*24*60","v":0}]
["",null,null,{"$f":"MATCH(C166,Categories!A:A,0)","v":{"$error":"#N/A"}},0,{"$f":"IF(OR($E166<>0,$C166=\"\"),\"\",INDEX(Categories!$A:$E,Entries!$D166,2))","v":""},{"$f":"IF(OR($E166<>0,$C166=\"\"),\"\",INDEX(Categories!$A:$E,Entries!$D166,3))","v":""},{"$f":"IF(OR($E166<>0,$C166=\"\"),\"\",INDEX(Categories!$A:$E,Entries!$D166,4))","v":""},{"$f":"IF(OR($E166<>0,$C166=\"\"),\"\",INDEX(Categories!$A:$E,Entries!$D166,5))","v":""},"2014-01-01","2014-01-01",{"$f":"(Entries!K167-Entries!K166)*24*60","v":0}]
["",null,null,{"$f":"MATCH(C167,Categories!A:A,0)","v":{"$error":"#N/A"}},0,{"$f":"IF(OR($E167<>0,$C167=\"\"),\"\",INDEX(Categories!$A:$E,Entries!$D167,2))","v":""},{"$f":"IF(OR($E167<>0,$C167=\"\"),\"\",INDEX(Categories!$A:$E,Entries!$D167,3))","v":""},{"$f":"IF(OR($E167<>0,$C167=\"\"),\"\",INDEX(Categories!$A:$E,Entries!$D167,4))","v":""},{"$f":"IF(OR($E167<>0,$C167=\"\"),\"\",INDEX(Categories!$A:$E,Entries!$D167,5))","v":""},"2014-01-01","2014-01-01",{"$f":"(Entries!K168-Entries!K167)*24*60","v":0}]
["",null,null,{"$f":"MATCH(C168,Categories!A:A,0)","v":{"$error":"#N/A"}},0,{"$f":"IF(OR($E168<>0,$C168=\"\"),\"\",INDEX(Categories!$A:$E,Entries!$D168,2))","v":""},{"$f":"IF(OR($E168<>0,$C168=\"\"),\"\",INDEX(Categories!$A:$E,Entries!$D168,3))","v":""},{"$f":"IF(OR($E168<>0,$C168=\"\"),\"\",INDEX(Categories!$A:$E,Entries!$D168,4))","v":""},{"$f":"IF(OR($E168<>0,$C168=\"\"),\"\",INDEX(Categories!$A:$E,Entries!$D168,5))","v":""},"2014-01-01","2014-01-01",{"$f":"(Entries!K169-Entries!K168)*24*60","v":0}]
["",null,null,{"$f":"MATCH(C169,Categories!A:A,0)","v":{"$error":"#N/A"}},0,{"$f":"IF(OR($E169<>0,$C169=\"\"),\"\",INDEX(Categories!$A:$E,Entries!$D169,2))","v":""},{"$f":"IF(OR($E169<>0,$C169=\"\"),\"\",INDEX(Categories!$A:$E,Entries!$D169,3))","v":""},{"$f":"IF(OR($E169<>0,$C169=\"\"),\"\",INDEX(Categories!$A:$E,Entries!$D169,4))","v":""},{"$f":"IF(OR($E169<>0,$C169=\"\"),\"\",INDEX(Categories!$A:$E,Entries!$D169,5))","v":""},"2014-01-01","2014-01-01",{"$f":"(Entries!K170-Entries!K169)*24*60","v":0}]
["",null,null,{"$f":"MATCH(C170,Categories!A:A,0)","v":{"$error":"#N/A"}},0,{"$f":"IF(OR($E170<>0,$C170=\"\"),\"\",INDEX(Categories!$A:$E,Entries!$D170,2))","v":""},{"$f":"IF(OR($E170<>0,$C170=\"\"),\"\",INDEX(Categories!$A:$E,Entries!$D170,3))","v":""},{"$f":"IF(OR($E170<>0,$C170=\"\"),\"\",INDEX(Categories!$A:$E,Entries!$D170,4))","v":""},{"$f":"IF(OR($E170<>0,$C170=\"\"),\"\",INDEX(Categories!$A:$E,Entries!$D170,5))","v":""},"2014-01-01","2014-01-01",{"$f":"(Entries!K171-Entries!K170)*24*60","v":0}]
["",null,null,{"$f":"MATCH(C171,Categories!A:A,0)","v":{"$error":"#N/A"}},0,{"$f":"IF(OR($E171<>0,$C171=\"\"),\"\",INDEX(Categories!$A:$E,Entries!$D171,2))","v":""},{"$f":"IF(OR($E171<>0,$C171=\"\"),\"\",INDEX(Categories!$A:$E,Entries!$D171,3))","v":""},{"$f":"IF(OR($E171<>0,$C171=\"\"),\"\",INDEX(Categories!$A:$E,Entries!$D171,4))","v":""},{"$f":"IF(OR($E171<>0,$C171=\"\"),\"\",INDEX(Categories!$A:$E,Entries!$D171,5))","v":""},"2014-01-01","2014-01-01",{"$f":"(Entries!K172-Entries!K171)*24*60","v":0}]
["",null,null,{"$f":"MATCH(C172,Categories!A:A,0)","v":{"$error":"#N/A"}},0,{"$f":"IF(OR($E172<>0,$C172=\"\"),\"\",INDEX(Categories!$A:$E,Entries!$D172,2))","v":""},{"$f":"IF(OR($E172<>0,$C172=\"\"),\"\",INDEX(Categories!$A:$E,Entries!$D172,3))","v":""},{"$f":"IF(OR($E172<>0,$C172=\"\"),\"\",INDEX(Categories!$A:$E,Entries!$D172,4))","v":""},{"$f":"IF(OR($E172<>0,$C172=\"\"),\"\",INDEX(Categories!$A:$E,Entries!$D172,5))","v":""},"2014-01-01","2014-01-01",{"$f":"(Entries!K173-Entries!K172)*24*60","v":0}]
["",null,null,{"$f":"MATCH(C173,Categories!A:A,0)","v":{"$error":"#N/A"}},0,{"$f":"IF(OR($E173<>0,$C173=\"\"),\"\",INDEX(Categories!$A:$E,Entries!$D173,2))","v":""},{"$f":"IF(OR($E173<>0,$C173=\"\"),\"\",INDEX(Categories!$A:$E,Entries!$D173,3))","v":""},{"$f":"IF(OR($E173<>0,$C173=\"\"),\"\",INDEX(Categories!$A:$E,Entries!$D173,4))","v":""},{"$f":"IF(OR($E173<>0,$C173=\"\"),\"\",INDEX(Categories!$A:$E,Entries!$D173,5))","v":""},"2014-01-01","2014-01-01",{"$f":"(Entries!K174-Entries!K173)*24*60","v":0}]
["",null,null,{"$f":"MATCH(C174,Categories!A:A,0)","v":{"$error":"#N/A"}},0,{"$f":"IF(OR($E174<>0,$C174=\"\"),\"\",INDEX(Categories!$A:$E,Entries!$D174,2))","v":""},{"$f":"IF(OR($E174<>0,$C174=\"\"),\"\",INDEX(Categories!$A:$E,Entries!$D174,3))","v":""},{"$f":"IF(OR($E174<>0,$C174=\"\"),\"\",INDEX(Categories!$A:$E,Entries!$D174,4))","v":""},{"$f":"IF(OR($E174<>0,$C174=\"\"),\"\",INDEX(Categories!$A:$E,Entries!$D174,5))","v":""},"2014-01-01","2014-01-01",{"$f":"(Entries!K175-Entries!K174)*24*60","v":0}]
["",null,null,{"$f":"MATCH(C175,Categories!A:A,0)","v":{"$error":"#N/A"}},0,{"$f":"IF(OR($E175<>0,$C175=\"\"),\"\",INDEX(Categories!$A:$E,Entries!$D175,2))","v":""},{"$f":"IF(OR($E175<>0,$C175=\"\"),\"\",INDEX(Categories!$A:$E,Entries!$D175,3))","v":""},{"$f":"IF(OR($E175<>0,$C175=\"\"),\"\",INDEX(Categories!$A:$E,Entries!$D175,4))","v":""},{"$f":"IF(OR($E175<>0,$C175=\"\"),\"\",INDEX(Categories!$A:$E,Entries!$D175,5))","v":""},"2014-01-01","2014-01-01",{"$f":"(Entries!K176-Entries!K175)*24*60","v":0}]
["",null,null,{"$f":"MATCH(C176,Categories!A:A,0)","v":{"$error":"#N/A"}},0,{"$f":"IF(OR($E176<>0,$C176=\"\"),\"\",INDEX(Categories!$A:$E,Entries!$D176,2))","v":""},{"$f":"IF(OR($E176<>0,$C176=\"\"),\"\",INDEX(Categories!$A:$E,Entries!$D176,3))","v":""},{"$f":"IF(OR($E176<>0,$C176=\"\"),\"\",INDEX(Categories!$A:$E,Entries!$D176,4))","v":""},{"$f":"IF(OR($E176<>0,$C176=\"\"),\"\",INDEX(Categories!$A:$E,Entries!$D176,5))","v":""},"2014-01-01","2014-01-01",{"$f":"(Entries!K177-Entries!K176)*24*60","v":0}]
["",null,null,{"$f":"MATCH(C177,Categories!A:A,0)","v":{"$error":"#N/A"}},0,{"$f":"IF(OR($E177<>0,$C177=\"\"),\"\",INDEX(Categories!$A:$E,Entries!$D177,2))","v":""},{"$f":"IF(OR($E177<>0,$C177=\"\"),\"\",INDEX(Categories!$A:$E,Entries!$D177,3))","v":""},{"$f":"IF(OR($E177<>0,$C177=\"\"),\"\",INDEX(Categories!$A:$E,Entries!$D177,4))","v":""},{"$f":"IF(OR($E177<>0,$C177=\"\"),\"\",INDEX(Categories!$A:$E,Entries!$D177,5))","v":""},"2014-01-01","2014-01-01",{"$f":"(Entries!K178-Entries!K177)*24*60","v":0}]
["",null,null,{"$f":"MATCH(C178,Categories!A:A,0)","v":{"$error":"#N/A"}},0,{"$f":"IF(OR($E178<>0,$C178=\"\"),\"\",INDEX(Categories!$A:$E,Entries!$D178,2))","v":""},{"$f":"IF(OR($E178<>0,$C178=\"\"),\"\",INDEX(Categories!$A:$E,Entries!$D178,3))","v":""},{"$f":"IF(OR($E178<>0,$C178=\"\"),\"\",INDEX(Categories!$A:$E,Entries!$D178,4))","v":""},{"$f":"IF(OR($E178<>0,$C178=\"\"),\"\",INDEX(Categories!$A:$E,Entries!$D178,5))","v":""},"2014-01-01","2014-01-01",{"$f":"(Entries!K179-Entries!K178)*24*60","v":0}]
["",null,null,{"$f":"MATCH(C179,Categories!A:A,0)","v":{"$error":"#N/A"}},0,{"$f":"IF(OR($E179<>0,$C179=\"\"),\"\",INDEX(Categories!$A:$E,Entries!$D179,2))","v":""},{"$f":"IF(OR($E179<>0,$C179=\"\"),\"\",INDEX(Categories!$A:$E,Entries!$D179,3))","v":""},{"$f":"IF(OR($E179<>0,$C179=\"\"),\"\",INDEX(Categories!$A:$E,Entries!$D179,4))","v":""},{"$f":"IF(OR($E179<>0,$C179=\"\"),\"\",INDEX(Categories!$A:$E,Entries!$D179,5))","v":""},"2014-01-01","2014-01-01",{"$f":"(Entries!K180-Entries!K179)*24*60","v":0}]
["",null,null,{"$f":"MATCH(C180,Categories!A:A,0)","v":{"$error":"#N/A"}},0,{"$f":"IF(OR($E180<>0,$C180=\"\"),\"\",INDEX(Categories!$A:$E,Entries!$D180,2))","v":""},{"$f":"IF(OR($E180<>0,$C180=\"\"),\"\",INDEX(Categories!$A:$E,Entries!$D180,3))","v":""},{"$f":"IF(OR($E180<>0,$C180=\"\"),\"\",INDEX(Categories!$A:$E,Entries!$D180,4))","v":""},{"$f":"IF(OR($E180<>0,$C180=\"\"),\"\",INDEX(Categories!$A:$E,Entries!$D180,5))","v":""},"2014-01-01","2014-01-01",{"$f":"(Entries!K181-Entries!K180)*24*60","v":0}]
["",null,null,{"$f":"MATCH(C181,Categories!A:A,0)","v":{"$error":"#N/A"}},0,{"$f":"IF(OR($E181<>0,$C181=\"\"),\"\",INDEX(Categories!$A:$E,Entries!$D181,2))","v":""},{"$f":"IF(OR($E181<>0,$C181=\"\"),\"\",INDEX(Categories!$A:$E,Entries!$D181,3))","v":""},{"$f":"IF(OR($E181<>0,$C181=\"\"),\"\",INDEX(Categories!$A:$E,Entries!$D181,4))","v":""},{"$f":"IF(OR($E181<>0,$C181=\"\"),\"\",INDEX(Categories!$A:$E,Entries!$D181,5))","v":""},"2014-01-01","2014-01-01",{"$f":"(Entries!K182-Entries!K181)*24*60","v":0}]
["",null,null,{"$f":"MATCH(C182,Categories!A:A,0)","v":{"$error":"#N/A"}},0,{"$f":"IF(OR($E182<>0,$C182=\"\"),\"\",INDEX(Categories!$A:$E,Entries!$D182,2))","v":""},{"$f":"IF(OR($E182<>0,$C182=\"\"),\"\",INDEX(Categories!$A:$E,Entries!$D182,3))","v":""},{"$f":"IF(OR($E182<>0,$C182=\"\"),\"\",INDEX(Categories!$A:$E,Entries!$D182,4))","v":""},{"$f":"IF(OR($E182<>0,$C182=\"\"),\"\",INDEX(Categories!$A:$E,Entries!$D182,5))","v":""},"2014-01-01","2014-01-01",{"$f":"(Entries!K183-Entries!K182)*24*60","v":0}]
["",null,null,{"$f":"MATCH(C183,Categories!A:A,0)","v":{"$error":"#N/A"}},0,{"$f":"IF(OR($E183<>0,$C183=\"\"),\"\",INDEX(Categories!$A:$E,Entries!$D183,2))","v":""},{"$f":"IF(OR($E183<>0,$C183=\"\"),\"\",INDEX(Categories!$A:$E,Entries!$D183,3))","v":""},{"$f":"IF(OR($E183<>0,$C183=\"\"),\"\",INDEX(Categories!$A:$E,Entries!$D183,4))","v":""},{"$f":"IF(OR($E183<>0,$C183=\"\"),\"\",INDEX(Categories!$A:$E,Entries!$D183,5))","v":""},"2014-01-01","2014-01-01",{"$f":"(Entries!K184-Entries!K183)*24*60","v":0}]
["",null,null,{"$f":"MATCH(C184,Categories!A:A,0)","v":{"$error":"#N/A"}},0,{"$f":"IF(OR($E184<>0,$C184=\"\"),\"\",INDEX(Categories!$A:$E,Entries!$D184,2))","v":""},{"$f":"IF(OR($E184<>0,$C184=\"\"),\"\",INDEX(Categories!$A:$E,Entries!$D184,3))","v":""},{"$f":"IF(OR($E184<>0,$C184=\"\"),\"\",INDEX(Categories!$A:$E,Entries!$D184,4))","v":""},{"$f":"IF(OR($E184<>0,$C184=\"\"),\"\",INDEX(Categories!$A:$E,Entries!$D184,5))","v":""},"2014-01-01","2014-01-01",{"$f":"(Entries!K185-Entries!K184)*24*60","v":0}]
["",null,null,{"$f":"MATCH(C185,Categories!A:A,0)","v":{"$error":"#N/A"}},0,{"$f":"IF(OR($E185<>0,$C185=\"\"),\"\",INDEX(Categories!$A:$E,Entries!$D185,2))","v":""},{"$f":"IF(OR($E185<>0,$C185=\"\"),\"\",INDEX(Categories!$A:$E,Entries!$D185,3))","v":""},{"$f":"IF(OR($E185<>0,$C185=\"\"),\"\",INDEX(Categories!$A:$E,Entries!$D185,4))","v":""},{"$f":"IF(OR($E185<>0,$C185=\"\"),\"\",INDEX(Categories!$A:$E,Entries!$D185,5))","v":""},"2014-01-01","2014-01-01",{"$f":"(Entries!K186-Entries!K185)*24*60","v":0}]
["",null,null,{"$f":"MATCH(C186,Categories!A:A,0)","v":{"$error":"#N/A"}},0,{"$f":"IF(OR($E186<>0,$C186=\"\"),\"\",INDEX(Categories!$A:$E,Entries!$D186,2))","v":""},{"$f":"IF(OR($E186<>0,$C186=\"\"),\"\",INDEX(Categories!$A:$E,Entries!$D186,3))","v":""},{"$f":"IF(OR($E186<>0,$C186=\"\"),\"\",INDEX(Categories!$A:$E,Entries!$D186,4))","v":""},{"$f":"IF(OR($E186<>0,$C186=\"\"),\"\",INDEX(Categories!$A:$E,Entries!$D186,5))","v":""},"2014-01-01","2014-01-01",{"$f":"(Entries!K187-Entries!K186)*24*60","v":0}]
["",null,null,{"$f":"MATCH(C187,Categories!A:A,0)","v":{"$error":"#N/A"}},0,{"$f":"IF(OR($E187<>0,$C187=\"\"),\"\",INDEX(Categories!$A:$E,Entries!$D187,2))","v":""},{"$f":"IF(OR($E187<>0,$C187=\"\"),\"\",INDEX(Categories!$A:$E,Entries!$D187,3))","v":""},{"$f":"IF(OR($E187<>0,$C187=\"\"),\"\",INDEX(Categories!$A:$E,Entries!$D187,4))","v":""},{"$f":"IF(OR($E187<>0,$C187=\"\"),\"\",INDEX(Categories!$A:$E,Entries!$D187,5))","v":""},"2014-01-01","2014-01-01",{"$f":"(Entries!K188-Entries!K187)*24*60","v":0}]
["",null,null,{"$f":"MATCH(C188,Categories!A:A,0)","v":{"$error":"#N/A"}},0,{"$f":"IF(OR($E188<>0,$C188=\"\"),\"\",INDEX(Categories!$A:$E,Entries!$D188,2))","v":""},{"$f":"IF(OR($E188<>0,$C188=\"\"),\"\",INDEX(Categories!$A:$E,Entries!$D188,3))","v":""},{"$f":"IF(OR($E188<>0,$C188=\"\"),\"\",INDEX(Categories!$A:$E,Entries!$D188,4))","v":""},{"$f":"IF(OR($E188<>0,$C188=\"\"),\"\",INDEX(Categories!$A:$E,Entries!$D188,5))","v":""},"2014-01-01","2014-01-01",{"$f":"(Entries!K189-Entries!K188)*24*60","v":0}]
["",null,null,{"$f":"MATCH(C189,Categories!A:A,0)","v":{"$error":"#N/A"}},0,{"$f":"IF(OR($E189<>0,$C189=\"\"),\"\",INDEX(Categories!$A:$E,Entries!$D189,2))","v":""},{"$f":"IF(OR($E189<>0,$C189=\"\"),\"\",INDEX(Categories!$A:$E,Entries!$D189,3))","v":""},{"$f":"IF(OR($E189<>0,$C189=\"\"),\"\",INDEX(Categories!$A:$E,Entries!$D189,4))","v":""},{"$f":"IF(OR($E189<>0,$C189=\"\"),\"\",INDEX(Categories!$A:$E,Entries!$D189,5))","v":""},"2014-01-01","2014-01-01",{"$f":"(Entries!K190-Entries!K189)*24*60","v":0}]
["",null,null,{"$f":"MATCH(C190,Categories!A:A,0)","v":{"$error":"#N/A"}},0,{"$f":"IF(OR($E190<>0,$C190=\"\"),\"\",INDEX(Categories!$A:$E,Entries!$D190,2))","v":""},{"$f":"IF(OR($E190<>0,$C190=\"\"),\"\",INDEX(Categories!$A:$E,Entries!$D190,3))","v":""},{"$f":"IF(OR($E190<>0,$C190=\"\"),\"\",INDEX(Categories!$A:$E,Entries!$D190,4))","v":""},{"$f":"IF(OR($E190<>0,$C190=\"\"),\"\",INDEX(Categories!$A:$E,Entries!$D190,5))","v":""},"2014-01-01","2014-01-01",{"$f":"(Entries!K191-Entries!K190)*24*60","v":0}]
["",null,null,{"$f":"MATCH(C191,Categories!A:A,0)","v":{"$error":"#N/A"}},0,{"$f":"IF(OR($E191<>0,$C191=\"\"),\"\",INDEX(Categories!$A:$E,Entries!$D191,2))","v":""},{"$f":"IF(OR($E191<>0,$C191=\"\"),\"\",INDEX(Categories!$A:$E,Entries!$D191,3))","v":""},{"$f":"IF(OR($E191<>0,$C191=\"\"),\"\",INDEX(Categories!$A:$E,Entries!$D191,4))","v":""},{"$f":"IF(OR($E191<>0,$C191=\"\"),\"\",INDEX(Categories!$A:$E,Entries!$D191,5))","v":""},"2014-01-01","2014-01-01",{"$f":"(Entries!K192-Entries!K191)*24*60","v":0}]
["",null,null,{"$f":"MATCH(C192,Categories!A:A,0)","v":{"$error":"#N/A"}},0,{"$f":"IF(OR($E192<>0,$C192=\"\"),\"\",INDEX(Categories!$A:$E,Entries!$D192,2))","v":""},{"$f":"IF(OR($E192<>0,$C192=\"\"),\"\",INDEX(Categories!$A:$E,Entries!$D192,3))","v":""},{"$f":"IF(OR($E192<>0,$C192=\"\"),\"\",INDEX(Categories!$A:$E,Entries!$D192,4))","v":""},{"$f":"IF(OR($E192<>0,$C192=\"\"),\"\",INDEX(Categories!$A:$E,Entries!$D192,5))","v":""},"2014-01-01","2014-01-01",{"$f":"(Entries!K193-Entries!K192)*24*60","v":0}]
["",null,null,{"$f":"MATCH(C193,Categories!A:A,0)","v":{"$error":"#N/A"}},0,{"$f":"IF(OR($E193<>0,$C193=\"\"),\"\",INDEX(Categories!$A:$E,Entries!$D193,2))","v":""},{"$f":"IF(OR($E193<>0,$C193=\"\"),\"\",INDEX(Categories!$A:$E,Entries!$D193,3))","v":""},{"$f":"IF(OR($E193<>0,$C193=\"\"),\"\",INDEX(Categories!$A:$E,Entries!$D193,4))","v":""},{"$f":"IF(OR($E193<>0,$C193=\"\"),\"\",INDEX(Categories!$A:$E,Entries!$D193,5))","v":""},"2014-01-01","2014-01-01",{"$f":"(Entries!K194-Entries!K193)*24*60","v":0}]
["",null,null,{"$f":"MATCH(C194,Categories!A:A,0)","v":{"$error":"#N/A"}},{"$f":"IF(AND(ISERROR(D194),C194<>\"\"),ROW(D194),0)","v":0},{"$f":"IF(OR($E194<>0,$C194=\"\"),\"\",INDEX(Categories!$A:$E,Entries!$D194,2))","v":""},{"$f":"IF(OR($E194<>0,$C194=\"\"),\"\",INDEX(Categories!$A:$E,Entries!$D194,3))","v":""},{"$f":"IF(OR($E194<>0,$C194=\"\"),\"\",INDEX(Categories!$A:$E,Entries!$D194,4))","v":""},{"$f":"IF(OR($E194<>0,$C194=\"\"),\"\",INDEX(Categories!$A:$E,Entries!$D194,5))","v":""},{"$f":"IF(A194=\"\",J193,A194)","v":"2014-01-01"},{"$f":"J194+B194","v":"2014-01-01"},{"$f":"(Entries!K195-Entries!K194)*24*60","v":0}]
["",null,null,{"$f":"MATCH(C195,Categories!A:A,0)","v":{"$error":"#N/A"}},0,{"$f":"IF(OR($E195<>0,$C195=\"\"),\"\",INDEX(Categories!$A:$E,Entries!$D195,2))","v":""},{"$f":"IF(OR($E195<>0,$C195=\"\"),\"\",INDEX(Categories!$A:$E,Entries!$D195,3))","v":""},{"$f":"IF(OR($E195<>0,$C195=\"\"),\"\",INDEX(Categories!$A:$E,Entries!$D195,4))","v":""},{"$f":"IF(OR($E195<>0,$C195=\"\"),\"\",INDEX(Categories!$A:$E,Entries!$D195,5))","v":""},"2014-01-01","2014-01-01",{"$f":"(Entries!K196-Entries!K195)*24*60","v":0}]
["",null,null,{"$f":"MATCH(C196,Categories!A:A,0)","v":{"$error":"#N/A"}},0,{"$f":"IF(OR($E196<>0,$C196=\"\"),\"\",INDEX(Categories!$A:$E,Entries!$D196,2))","v":""},{"$f":"IF(OR($E196<>0,$C196=\"\"),\"\",INDEX(Categories!$A:$E,Entries!$D196,3))","v":""},{"$f":"IF(OR($E196<>0,$C196=\"\"),\"\",INDEX(Categories!$A:$E,Entries!$D196,4))","v":""},{"$f":"IF(OR($E196<>0,$C196=\"\"),\"\",INDEX(Categories!$A:$E,Entries!$D196,5))","v":""},"2014-01-01","2014-01-01",{"$f":"(Entries!K197-Entries!K196)*24*60","v":0}]
["",null,null,{"$f":"MATCH(C197,Categories!A:A,0)","v":{"$error":"#N/A"}},0,{"$f":"IF(OR($E197<>0,$C197=\"\"),\"\",INDEX(Categories!$A:$E,Entries!$D197,2))","v":""},{"$f":"IF(OR($E197<>0,$C197=\"\"),\"\",INDEX(Categories!$A:$E,Entries!$D197,3))","v":""},{"$f":"IF(OR($E197<>0,$C197=\"\"),\"\",INDEX(Categories!$A:$E,Entries!$D197,4))","v":""},{"$f":"IF(OR($E197<>0,$C197=\"\"),\"\",INDEX(Categories!$A:$E,Entries!$D197,5))","v":""},"2014-01-01","2014-01-01",{"$f":"(Entries!K198-Entries!K197)*24*60","v":0}]
["",null,null,{"$f":"MATCH(C198,Categories!A:A,0)","v":{"$error":"#N/A"}},0,{"$f":"IF(OR($E198<>0,$C198=\"\"),\"\",INDEX(Categories!$A:$E,Entries!$D198,2))","v":""},{"$f":"IF(OR($E198<>0,$C198=\"\"),\"\",INDEX(Categories!$A:$E,Entries!$D198,3))","v":""},{"$f":"IF(OR($E198<>0,$C198=\"\"),\"\",INDEX(Categories!$A:$E,Entries!$D198,4))","v":""},{"$f":"IF(OR($E198<>0,$C198=\"\"),\"\",INDEX(Categories!$A:$E,Entries!$D198,5))","v":""},"2014-01-01","2014-01-01",{"$f":"(Entries!K199-Entries!K198)*24*60","v":0}]
["",null,null,{"$f":"MATCH(C199,Categories!A:A,0)","v":{"$error":"#N/A"}},0,{"$f":"IF(OR($E199<>0,$C199=\"\"),\"\",INDEX(Categories!$A:$E,Entries!$D199,2))","v":""},{"$f":"IF(OR($E199<>0,$C199=\"\"),\"\",INDEX(Categories!$A:$E,Entries!$D199,3))","v":""},{"$f":"IF(OR($E199<>0,$C199=\"\"),\"\",INDEX(Categories!$A:$E,Entries!$D199,4))","v":""},{"$f":"IF(OR($E199<>0,$C199=\"\"),\"\",INDEX(Categories!$A:$E,Entries!$D199,5))","v":""},"2014-01-01","2014-01-01",{"$f":"(Entries!K200-Entries!K199)*24*60","v":0}]
["",null,null,{"$f":"MATCH(C200,Categories!A:A,0)","v":{"$error":"#N/A"}},0,{"$f":"IF(OR($E200<>0,$C200=\"\"),\"\",INDEX(Categories!$A:$E,Entries!$D200,2))","v":""},{"$f":"IF(OR($E200<>0,$C200=\"\"),\"\",INDEX(Categories!$A:$E,Entries!$D200,3))","v":""},{"$f":"IF(OR($E200<>0,$C200=\"\"),\"\",INDEX(Categories!$A:$E,Entries!$D200,4))","v":""},{"$f":"IF(OR($E200<>0,$C200=\"\"),\"\",INDEX(Categories!$A:$E,Entries!$D200,5))","v":""},"2014-01-01","2014-01-01",{"$f":"(Entries!K201-Entries!K200)*24*60","v":0}]
["",null,null,{"$f":"MATCH(C201,Categories!A:A,0)","v":{"$error":"#N/A"}},0,{"$f":"IF(OR($E201<>0,$C201=\"\"),\"\",INDEX(Categories!$A:$E,Entries!$D201,2))","v":""},{"$f":"IF(OR($E201<>0,$C201=\"\"),\"\",INDEX(Categories!$A:$E,Entries!$D201,3))","v":""},{"$f":"IF(OR($E201<>0,$C201=\"\"),\"\",INDEX(Categories!$A:$E,Entries!$D201,4))","v":""},{"$f":"IF(OR($E201<>0,$C201=\"\"),\"\",INDEX(Categories!$A:$E,Entries!$D201,5))","v":""},"2014-01-01","2014-01-01",{"$f":"(Entries!K202-Entries!K201)*24*60","v":0}]
["",null,null,{"$f":"MATCH(C202,Categories!A:A,0)","v":{"$error":"#N/A"}},0,{"$f":"IF(OR($E202<>0,$C202=\"\"),\"\",INDEX(Categories!$A:$E,Entries!$D202,2))","v":""},{"$f":"IF(OR($E202<>0,$C202=\"\"),\"\",INDEX(Categories!$A:$E,Entries!$D202,3))","v":""},{"$f":"IF(OR($E202<>0,$C202=\"\"),\"\",INDEX(Categories!$A:$E,Entries!$D202,4))","v":""},{"$f":"IF(OR($E202<>0,$C202=\"\"),\"\",INDEX(Categories!$A:$E,Entries!$D202,5))","v":""},"2014-01-01","2014-01-01",{"$f":"(Entries!K203-Entries!K202)*24*60","v":0}]
["",null,null,{"$f":"MATCH(C203,Categories!A:A,0)","v":{"$error":"#N/A"}},0,{"$f":"IF(OR($E203<>0,$C203=\"\"),\"\",INDEX(Categories!$A:$E,Entries!$D203,2))","v":""},{"$f":"IF(OR($E203<>0,$C203=\"\"),\"\",INDEX(Categories!$A:$E,Entries!$D203,3))","v":""},{"$f":"IF(OR($E203<>0,$C203=\"\"),\"\",INDEX(Categories!$A:$E,Entries!$D203,4))","v":""},{"$f":"IF(OR($E203<>0,$C203=\"\"),\"\",INDEX(Categories!$A:$E,Entries!$D203,5))","v":""},"2014-01-01","2014-01-01",{"$f":"(Entries!K204-Entries!K203)*24*60","v":0}]
["",null,null,{"$f":"MATCH(C204,Categories!A:A,0)","v":{"$error":"#N/A"}},0,{"$f":"IF(OR($E204<>0,$C204=\"\"),\"\",INDEX(Categories!$A:$E,Entries!$D204,2))","v":""},{"$f":"IF(OR($E204<>0,$C204=\"\"),\"\",INDEX(Categories!$A:$E,Entries!$D204,3))","v":""},{"$f":"IF(OR($E204<>0,$C204=\"\"),\"\",INDEX(Categories!$A:$E,Entries!$D204,4))","v":""},{"$f":"IF(OR($E204<>0,$C204=\"\"),\"\",INDEX(Categories!$A:$E,Entries!$D204,5))","v":""},"2014-01-01","2014-01-01",{"$f":"(Entries!K205-Entries!K204)*24*60","v":0}]
["",null,null,{"$f":"MATCH(C205,Categories!A:A,0)","v":{"$error":"#N/A"}},0,{"$f":"IF(OR($E205<>0,$C205=\"\"),\"\",INDEX(Categories!$A:$E,Entries!$D205,2))","v":""},{"$f":"IF(OR($E205<>0,$C205=\"\"),\"\",INDEX(Categories!$A:$E,Entries!$D205,3))","v":""},{"$f":"IF(OR($E205<>0,$C205=\"\"),\"\",INDEX(Categories!$A:$E,Entries!$D205,4))","v":""},{"$f":"IF(OR($E205<>0,$C205=\"\"),\"\",INDEX(Categories!$A:$E,Entries!$D205,5))","v":""},"2014-01-01","2014-01-01",{"$f":"(Entries!K206-Entries!K205)*24*60","v":0}]
["",null,null,{"$f":"MATCH(C206,Categories!A:A,0)","v":{"$error":"#N/A"}},0,{"$f":"IF(OR($E206<>0,$C206=\"\"),\"\",INDEX(Categories!$A:$E,Entries!$D206,2))","v":""},{"$f":"IF(OR($E206<>0,$C206=\"\"),\"\",INDEX(Categories!$A:$E,Entries!$D206,3))","v":""},{"$f":"IF(OR($E206<>0,$C206=\"\"),\"\",INDEX(Categories!$A:$E,Entries!$D206,4))","v":""},{"$f":"IF(OR($E206<>0,$C206=\"\"),\"\",INDEX(Categories!$A:$E,Entries!$D206,5))","v":""},"2014-01-01","2014-01-01",{"$f":"(Entries!K207-Entries!K206)*24*60","v":0}]
["",null,null,{"$f":"MATCH(C207,Categories!A:A,0)","v":{"$error":"#N/A"}},0,{"$f":"IF(OR($E207<>0,$C207=\"\"),\"\",INDEX(Categories!$A:$E,Entries!$D207,2))","v":""},{"$f":"IF(OR($E207<>0,$C207=\"\"),\"\",INDEX(Categories!$A:$E,Entries!$D207,3))","v":""},{"$f":"IF(OR($E207<>0,$C207=\"\"),\"\",INDEX(Categories!$A:$E,Entries!$D207,4))","v":""},{"$f":"IF(OR($E207<>0,$C207=\"\"),\"\",INDEX(Categories!$A:$E,Entries!$D207,5))","v":""},"2014-01-01","2014-01-01",{"$f":"(Entries!K208-Entries!K207)*24*60","v":0}]
["",null,null,{"$f":"MATCH(C208,Categories!A:A,0)","v":{"$error":"#N/A"}},0,{"$f":"IF(OR($E208<>0,$C208=\"\"),\"\",INDEX(Categories!$A:$E,Entries!$D208,2))","v":""},{"$f":"IF(OR($E208<>0,$C208=\"\"),\"\",INDEX(Categories!$A:$E,Entries!$D208,3))","v":""},{"$f":"IF(OR($E208<>0,$C208=\"\"),\"\",INDEX(Categories!$A:$E,Entries!$D208,4))","v":""},{"$f":"IF(OR($E208<>0,$C208=\"\"),\"\",INDEX(Categories!$A:$E,Entries!$D208,5))","v":""},"2014-01-01","2014-01-01",{"$f":"(Entries!K209-Entries!K208)*24*60","v":0}]
["",null,null,{"$f":"MATCH(C209,Categories!A:A,0)","v":{"$error":"#N/A"}},0,{"$f":"IF(OR($E209<>0,$C209=\"\"),\"\",INDEX(Categories!$A:$E,Entries!$D209,2))","v":""},{"$f":"IF(OR($E209<>0,$C209=\"\"),\"\",INDEX(Categories!$A:$E,Entries!$D209,3))","v":""},{"$f":"IF(OR($E209<>0,$C209=\"\"),\"\",INDEX(Categories!$A:$E,Entries!$D209,4))","v":""},{"$f":"IF(OR($E209<>0,$C209=\"\"),\"\",INDEX(Categories!$A:$E,Entries!$D209,5))","v":""},"2014-01-01","2014-01-01",{"$f":"(Entries!K210-Entries!K209)*24*60","v":0}]
["",null,null,{"$f":"MATCH(C210,Categories!A:A,0)","v":{"$error":"#N/A"}},0,{"$f":"IF(OR($E210<>0,$C210=\"\"),\"\",INDEX(Categories!$A:$E,Entries!$D210,2))","v":""},{"$f":"IF(OR($E210<>0,$C210=\"\"),\"\",INDEX(Categories!$A:$E,Entries!$D210,3))","v":""},{"$f":"IF(OR($E210<>0,$C210=\"\"),\"\",INDEX(Categories!$A:$E,Entries!$D210,4))","v":""},{"$f":"IF(OR($E210<>0,$C210=\"\"),\"\",INDEX(Categories!$A:$E,Entries!$D210,5))","v":""},"2014-01-01","2014-01-01",{"$f":"(Entries!K211-Entries!K210)*24*60","v":0}]
["",null,null,{"$f":"MATCH(C211,Categories!A:A,0)","v":{"$error":"#N/A"}},0,{"$f":"IF(OR($E211<>0,$C211=\"\"),\"\",INDEX(Categories!$A:$E,Entries!$D211,2))","v":""},{"$f":"IF(OR($E211<>0,$C211=\"\"),\"\",INDEX(Categories!$A:$E,Entries!$D211,3))","v":""},{"$f":"IF(OR($E211<>0,$C211=\"\"),\"\",INDEX(Categories!$A:$E,Entries!$D211,4))","v":""},{"$f":"IF(OR($E211<>0,$C211=\"\"),\"\",INDEX(Categories!$A:$E,Entries!$D211,5))","v":""},"2014-01-01","2014-01-01",{"$f":"(Entries!K212-Entries!K211)*24*60","v":0}]
["",null,null,{"$f":"MATCH(C212,Categories!A:A,0)","v":{"$error":"#N/A"}},0,{"$f":"IF(OR($E212<>0,$C212=\"\"),\"\",INDEX(Categories!$A:$E,Entries!$D212,2))","v":""},{"$f":"IF(OR($E212<>0,$C212=\"\"),\"\",INDEX(Categories!$A:$E,Entries!$D212,3))","v":""},{"$f":"IF(OR($E212<>0,$C212=\"\"),\"\",INDEX(Categories!$A:$E,Entries!$D212,4))","v":""},{"$f":"IF(OR($E212<>0,$C212=\"\"),\"\",INDEX(Categories!$A:$E,Entries!$D212,5))","v":""},"2014-01-01","2014-01-01",{"$f":"(Entries!K213-Entries!K212)*24*60","v":0}]
["",null,null,{"$f":"MATCH(C213,Categories!A:A,0)","v":{"$error":"#N/A"}},0,{"$f":"IF(OR($E213<>0,$C213=\"\"),\"\",INDEX(Categories!$A:$E,Entries!$D213,2))","v":""},{"$f":"IF(OR($E213<>0,$C213=\"\"),\"\",INDEX(Categories!$A:$E,Entries!$D213,3))","v":""},{"$f":"IF(OR($E213<>0,$C213=\"\"),\"\",INDEX(Categories!$A:$E,Entries!$D213,4))","v":""},{"$f":"IF(OR($E213<>0,$C213=\"\"),\"\",INDEX(Categories!$A:$E,Entries!$D213,5))","v":""},"2014-01-01","2014-01-01",{"$f":"(Entries!K214-Entries!K213)*24*60","v":0}]
["",null,null,{"$f":"MATCH(C214,Categories!A:A,0)","v":{"$error":"#N/A"}},0,{"$f":"IF(OR($E214<>0,$C214=\"\"),\"\",INDEX(Categories!$A:$E,Entries!$D214,2))","v":""},{"$f":"IF(OR($E214<>0,$C214=\"\"),\"\",INDEX(Categories!$A:$E,Entries!$D214,3))","v":""},{"$f":"IF(OR($E214<>0,$C214=\"\"),\"\",INDEX(Categories!$A:$E,Entries!$D214,4))","v":""},{"$f":"IF(OR($E214<>0,$C214=\"\"),\"\",INDEX(Categories!$A:$E,Entries!$D214,5))","v":""},"2014-01-01","2014-01-01",{"$f":"(Entries!K215-Entries!K214)*24*60","v":0}]
["",null,null,{"$f":"MATCH(C215,Categories!A:A,0)","v":{"$error":"#N/A"}},0,{"$f":"IF(OR($E215<>0,$C215=\"\"),\"\",INDEX(Categories!$A:$E,Entries!$D215,2))","v":""},{"$f":"IF(OR($E215<>0,$C215=\"\"),\"\",INDEX(Categories!$A:$E,Entries!$D215,3))","v":""},{"$f":"IF(OR($E215<>0,$C215=\"\"),\"\",INDEX(Categories!$A:$E,Entries!$D215,4))","v":""},{"$f":"IF(OR($E215<>0,$C215=\"\"),\"\",INDEX(Categories!$A:$E,Entries!$D215,5))","v":""},"2014-01-01","2014-01-01",{"$f":"(Entries!K216-Entries!K215)*24*60","v":0}]
["",null,null,{"$f":"MATCH(C216,Categories!A:A,0)","v":{"$error":"#N/A"}},0,{"$f":"IF(OR($E216<>0,$C216=\"\"),\"\",INDEX(Categories!$A:$E,Entries!$D216,2))","v":""},{"$f":"IF(OR($E216<>0,$C216=\"\"),\"\",INDEX(Categories!$A:$E,Entries!$D216,3))","v":""},{"$f":"IF(OR($E216<>0,$C216=\"\"),\"\",INDEX(Categories!$A:$E,Entries!$D216,4))","v":""},{"$f":"IF(OR($E216<>0,$C216=\"\"),\"\",INDEX(Categories!$A:$E,Entries!$D216,5))","v":""},"2014-01-01","2014-01-01",{"$f":"(Entries!K217-Entries!K216)*24*60","v":0}]
["",null,null,{"$f":"MATCH(C217,Categories!A:A,0)","v":{"$error":"#N/A"}},0,{"$f":"IF(OR($E217<>0,$C217=\"\"),\"\",INDEX(Categories!$A:$E,Entries!$D217,2))","v":""},{"$f":"IF(OR($E217<>0,$C217=\"\"),\"\",INDEX(Categories!$A:$E,Entries!$D217,3))","v":""},{"$f":"IF(OR($E217<>0,$C217=\"\"),\"\",INDEX(Categories!$A:$E,Entries!$D217,4))","v":""},{"$f":"IF(OR($E217<>0,$C217=\"\"),\"\",INDEX(Categories!$A:$E,Entries!$D217,5))","v":""},"2014-01-01","2014-01-01",{"$f":"(Entries!K218-Entries!K217)*24*60","v":0}]
["",null,null,{"$f":"MATCH(C218,Categories!A:A,0)","v":{"$error":"#N/A"}},0,{"$f":"IF(OR($E218<>0,$C218=\"\"),\"\",INDEX(Categories!$A:$E,Entries!$D218,2))","v":""},{"$f":"IF(OR($E218<>0,$C218=\"\"),\"\",INDEX(Categories!$A:$E,Entries!$D218,3))","v":""},{"$f":"IF(OR($E218<>0,$C218=\"\"),\"\",INDEX(Categories!$A:$E,Entries!$D218,4))","v":""},{"$f":"IF(OR($E218<>0,$C218=\"\"),\"\",INDEX(Categories!$A:$E,Entries!$D218,5))","v":""},"2014-01-01","2014-01-01",{"$f":"(Entries!K219-Entries!K218)*24*60","v":0}]
["",null,null,{"$f":"MATCH(C219,Categories!A:A,0)","v":{"$error":"#N/A"}},0,{"$f":"IF(OR($E219<>0,$C219=\"\"),\"\",INDEX(Categories!$A:$E,Entries!$D219,2))","v":""},{"$f":"IF(OR($E219<>0,$C219=\"\"),\"\",INDEX(Categories!$A:$E,Entries!$D219,3))","v":""},{"$f":"IF(OR($E219<>0,$C219=\"\"),\"\",INDEX(Categories!$A:$E,Entries!$D219,4))","v":""},{"$f":"IF(OR($E219<>0,$C219=\"\"),\"\",INDEX(Categories!$A:$E,Entries!$D219,5))","v":""},"2014-01-01","2014-01-01",{"$f":"(Entries!K220-Entries!K219)*24*60","v":0}]
["",null,null,{"$f":"MATCH(C220,Categories!A:A,0)","v":{"$error":"#N/A"}},0,{"$f":"IF(OR($E220<>0,$C220=\"\"),\"\",INDEX(Categories!$A:$E,Entries!$D220,2))","v":""},{"$f":"IF(OR($E220<>0,$C220=\"\"),\"\",INDEX(Categories!$A:$E,Entries!$D220,3))","v":""},{"$f":"IF(OR($E220<>0,$C220=\"\"),\"\",INDEX(Categories!$A:$E,Entries!$D220,4))","v":""},{"$f":"IF(OR($E220<>0,$C220=\"\"),\"\",INDEX(Categories!$A:$E,Entries!$D220,5))","v":""},"2014-01-01","2014-01-01",{"$f":"(Entries!K221-Entries!K220)*24*60","v":0}]
["",null,null,{"$f":"MATCH(C221,Categories!A:A,0)","v":{"$error":"#N/A"}},0,{"$f":"IF(OR($E221<>0,$C221=\"\"),\"\",INDEX(Categories!$A:$E,Entries!$D221,2))","v":""},{"$f":"IF(OR($E221<>0,$C221=\"\"),\"\",INDEX(Categories!$A:$E,Entries!$D221,3))","v":""},{"$f":"IF(OR($E221<>0,$C221=\"\"),\"\",INDEX(Categories!$A:$E,Entries!$D221,4))","v":""},{"$f":"IF(OR($E221<>0,$C221=\"\"),\"\",INDEX(Categories!$A:$E,Entries!$D221,5))","v":""},"2014-01-01","2014-01-01",{"$f":"(Entries!K222-Entries!K221)*24*60","v":0}]
["",null,null,{"$f":"MATCH(C222,Categories!A:A,0)","v":{"$error":"#N/A"}},0,{"$f":"IF(OR($E222<>0,$C222=\"\"),\"\",INDEX(Categories!$A:$E,Entries!$D222,2))","v":""},{"$f":"IF(OR($E222<>0,$C222=\"\"),\"\",INDEX(Categories!$A:$E,Entries!$D222,3))","v":""},{"$f":"IF(OR($E222<>0,$C222=\"\"),\"\",INDEX(Categories!$A:$E,Entries!$D222,4))","v":""},{"$f":"IF(OR($E222<>0,$C222=\"\"),\"\",INDEX(Categories!$A:$E,Entries!$D222,5))","v":""},"2014-01-01","2014-01-01",{"$f":"(Entries!K223-Entries!K222)*24*60","v":0}]
["",null,null,{"$f":"MATCH(C223,Categories!A:A,0)","v":{"$error":"#N/A"}},0,{"$f":"IF(OR($E223<>0,$C223=\"\"),\"\",INDEX(Categories!$A:$E,Entries!$D223,2))","v":""},{"$f":"IF(OR($E223<>0,$C223=\"\"),\"\",INDEX(Categories!$A:$E,Entries!$D223,3))","v":""},{"$f":"IF(OR($E223<>0,$C223=\"\"),\"\",INDEX(Categories!$A:$E,Entries!$D223,4))","v":""},{"$f":"IF(OR($E223<>0,$C223=\"\"),\"\",INDEX(Categories!$A:$E,Entries!$D223,5))","v":""},"2014-01-01","2014-01-01",{"$f":"(Entries!K224-Entries!K223)*24*60","v":0}]
["",null,null,{"$f":"MATCH(C224,Categories!A:A,0)","v":{"$error":"#N/A"}},0,{"$f":"IF(OR($E224<>0,$C224=\"\"),\"\",INDEX(Categories!$A:$E,Entries!$D224,2))","v":""},{"$f":"IF(OR($E224<>0,$C224=\"\"),\"\",INDEX(Categories!$A:$E,Entries!$D224,3))","v":""},{"$f":"IF(OR($E224<>0,$C224=\"\"),\"\",INDEX(Categories!$A:$E,Entries!$D224,4))","v":""},{"$f":"IF(OR($E224<>0,$C224=\"\"),\"\",INDEX(Categories!$A:$E,Entries!$D224,5))","v":""},"2014-01-01","2014-01-01",{"$f":"(Entries!K225-Entries!K224)*24*60","v":0}]
["",null,null,{"$f":"MATCH(C225,Categories!A:A,0)","v":{"$error":"#N/A"}},0,{"$f":"IF(OR($E225<>0,$C225=\"\"),\"\",INDEX(Categories!$A:$E,Entries!$D225,2))","v":""},{"$f":"IF(OR($E225<>0,$C225=\"\"),\"\",INDEX(Categories!$A:$E,Entries!$D225,3))","v":""},{"$f":"IF(OR($E225<>0,$C225=\"\"),\"\",INDEX(Categories!$A:$E,Entries!$D225,4))","v":""},{"$f":"IF(OR($E225<>0,$C225=\"\"),\"\",INDEX(Categories!$A:$E,Entries!$D225,5))","v":""},"2014-01-01","2014-01-01",{"$f":"(Entries!K226-Entries!K225)*24*60","v":0}]
["",null,null,{"$f":"MATCH(C226,Categories!A:A,0)","v":{"$error":"#N/A"}},0,{"$f":"IF(OR($E226<>0,$C226=\"\"),\"\",INDEX(Categories!$A:$E,Entries!$D226,2))","v":""},{"$f":"IF(OR($E226<>0,$C226=\"\"),\"\",INDEX(Categories!$A:$E,Entries!$D226,3))","v":""},{"$f":"IF(OR($E226<>0,$C226=\"\"),\"\",INDEX(Categories!$A:$E,Entries!$D226,4))","v":""},{"$f":"IF(OR($E226<>0,$C226=\"\"),\"\",INDEX(Categories!$A:$E,Entries!$D226,5))","v":""},"2014-01-01","2014-01-01",{"$f":"(Entries!K227-Entries!K226)*24*60","v":0}]
["",null,null,{"$f":"MATCH(C227,Categories!A:A,0)","v":{"$error":"#N/A"}},0,{"$f":"IF(OR($E227<>0,$C227=\"\"),\"\",INDEX(Categories!$A:$E,Entries!$D227,2))","v":""},{"$f":"IF(OR($E227<>0,$C227=\"\"),\"\",INDEX(Categories!$A:$E,Entries!$D227,3))","v":""},{"$f":"IF(OR($E227<>0,$C227=\"\"),\"\",INDEX(Categories!$A:$E,Entries!$D227,4))","v":""},{"$f":"IF(OR($E227<>0,$C227=\"\"),\"\",INDEX(Categories!$A:$E,Entries!$D227,5))","v":""},"2014-01-01","2014-01-01",{"$f":"(Entries!K228-Entries!K227)*24*60","v":0}]
[{"$f":"IF(OR(B228>=B227,C227=\"z\",B228=\"\"),\"\",J227+1)","v":""},null,null,{"$f":"MATCH(C228,Categories!A:A,0)","v":{"$error":"#N/A"}},0,{"$f":"IF(OR($E228<>0,$C228=\"\"),\"\",INDEX(Categories!$A:$E,Entries!$D228,2))","v":""},{"$f":"IF(OR($E228<>0,$C228=\"\"),\"\",INDEX(Categories!$A:$E,Entries!$D228,3))","v":""},{"$f":"IF(OR($E228<>0,$C228=\"\"),\"\",INDEX(Categories!$A:$E,Entries!$D228,4))","v":""},{"$f":"IF(OR($E228<>0,$C228=\"\"),\"\",INDEX(Categories!$A:$E,Entries!$D228,5))","v":""},"2014-01-01","2014-01-01",{"$f":"(Entries!K229-Entries!K228)*24*60","v":0}]
["",null,null,{"$f":"MATCH(C229,Categories!A:A,0)","v":{"$error":"#N/A"}},0,{"$f":"IF(OR($E229<>0,$C229=\"\"),\"\",INDEX(Categories!$A:$E,Entries!$D229,2))","v":""},{"$f":"IF(OR($E229<>0,$C229=\"\"),\"\",INDEX(Categories!$A:$E,Entries!$D229,3))","v":""},{"$f":"IF(OR($E229<>0,$C229=\"\"),\"\",INDEX(Categories!$A:$E,Entries!$D229,4))","v":""},{"$f":"IF(OR($E229<>0,$C229=\"\"),\"\",INDEX(Categories!$A:$E,Entries!$D229,5))","v":""},"2014-01-01","2014-01-01",{"$f":"(Entries!K230-Entries!K229)*24*60","v":0}]
["",null,null,{"$f":"MATCH(C230,Categories!A:A,0)","v":{"$error":"#N/A"}},0,{"$f":"IF(OR($E230<>0,$C230=\"\"),\"\",INDEX(Categories!$A:$E,Entries!$D230,2))","v":""},{"$f":"IF(OR($E230<>0,$C230=\"\"),\"\",INDEX(Categories!$A:$E,Entries!$D230,3))","v":""},{"$f":"IF(OR($E230<>0,$C230=\"\"),\"\",INDEX(Categories!$A:$E,Entries!$D230,4))","v":""},{"$f":"IF(OR($E230<>0,$C230=\"\"),\"\",INDEX(Categories!$A:$E,Entries!$D230,5))","v":""},"2014-01-01","2014-01-01",{"$f":"(Entries!K231-Entries!K230)*24*60","v":0}]
["",null,null,{"$f":"MATCH(C231,Categories!A:A,0)","v":{"$error":"#N/A"}},0,{"$f":"IF(OR($E231<>0,$C231=\"\"),\"\",INDEX(Categories!$A:$E,Entries!$D231,2))","v":""},{"$f":"IF(OR($E231<>0,$C231=\"\"),\"\",INDEX(Categories!$A:$E,Entries!$D231,3))","v":""},{"$f":"IF(OR($E231<>0,$C231=\"\"),\"\",INDEX(Categories!$A:$E,Entries!$D231,4))","v":""},{"$f":"IF(OR($E231<>0,$C231=\"\"),\"\",INDEX(Categories!$A:$E,Entries!$D231,5))","v":""},"2014-01-01","2014-01-01",{"$f":"(Entries!K232-Entries!K231)*24*60","v":0}]
["",null,null,{"$f":"MATCH(C232,Categories!A:A,0)","v":{"$error":"#N/A"}},0,{"$f":"IF(OR($E232<>0,$C232=\"\"),\"\",INDEX(Categories!$A:$E,Entries!$D232,2))","v":""},{"$f":"IF(OR($E232<>0,$C232=\"\"),\"\",INDEX(Categories!$A:$E,Entries!$D232,3))","v":""},{"$f":"IF(OR($E232<>0,$C232=\"\"),\"\",INDEX(Categories!$A:$E,Entries!$D232,4))","v":""},{"$f":"IF(OR($E232<>0,$C232=\"\"),\"\",INDEX(Categories!$A:$E,Entries!$D232,5))","v":""},"2014-01-01","2014-01-01",{"$f":"(Entries!K233-Entries!K232)*24*60","v":0}]
["",null,null,{"$f":"MATCH(C233,Categories!A:A,0)","v":{"$error":"#N/A"}},0,{"$f":"IF(OR($E233<>0,$C233=\"\"),\"\",INDEX(Categories!$A:$E,Entries!$D233,2))","v":""},{"$f":"IF(OR($E233<>0,$C233=\"\"),\"\",INDEX(Categories!$A:$E,Entries!$D233,3))","v":""},{"$f":"IF(OR($E233<>0,$C233=\"\"),\"\",INDEX(Categories!$A:$E,Entries!$D233,4))","v":""},{"$f":"IF(OR($E233<>0,$C233=\"\"),\"\",INDEX(Categories!$A:$E,Entries!$D233,5))","v":""},"2014-01-01","2014-01-01",{"$f":"(Entries!K234-Entries!K233)*24*60","v":0}]
["",null,null,{"$f":"MATCH(C234,Categories!A:A,0)","v":{"$error":"#N/A"}},0,{"$f":"IF(OR($E234<>0,$C234=\"\"),\"\",INDEX(Categories!$A:$E,Entries!$D234,2))","v":""},{"$f":"IF(OR($E234<>0,$C234=\"\"),\"\",INDEX(Categories!$A:$E,Entries!$D234,3))","v":""},{"$f":"IF(OR($E234<>0,$C234=\"\"),\"\",INDEX(Categories!$A:$E,Entries!$D234,4))","v":""},{"$f":"IF(OR($E234<>0,$C234=\"\"),\"\",INDEX(Categories!$A:$E,Entries!$D234,5))","v":""},"2014-01-01","2014-01-01",{"$f":"(Entries!K235-Entries!K234)*24*60","v":0}]
["",null,null,{"$f":"MATCH(C235,Categories!A:A,0)","v":{"$error":"#N/A"}},0,{"$f":"IF(OR($E235<>0,$C235=\"\"),\"\",INDEX(Categories!$A:$E,Entries!$D235,2))","v":""},{"$f":"IF(OR($E235<>0,$C235=\"\"),\"\",INDEX(Categories!$A:$E,Entries!$D235,3))","v":""},{"$f":"IF(OR($E235<>0,$C235=\"\"),\"\",INDEX(Categories!$A:$E,Entries!$D235,4))","v":""},{"$f":"IF(OR($E235<>0,$C235=\"\"),\"\",INDEX(Categories!$A:$E,Entries!$D235,5))","v":""},"2014-01-01","2014-01-01",{"$f":"(Entries!K236-Entries!K235)*24*60","v":0}]
["",null,null,{"$f":"MATCH(C236,Categories!A:A,0)","v":{"$error":"#N/A"}},0,{"$f":"IF(OR($E236<>0,$C236=\"\"),\"\",INDEX(Categories!$A:$E,Entries!$D236,2))","v":""},{"$f":"IF(OR($E236<>0,$C236=\"\"),\"\",INDEX(Categories!$A:$E,Entries!$D236,3))","v":""},{"$f":"IF(OR($E236<>0,$C236=\"\"),\"\",INDEX(Categories!$A:$E,Entries!$D236,4))","v":""},{"$f":"IF(OR($E236<>0,$C236=\"\"),\"\",INDEX(Categories!$A:$E,Entries!$D236,5))","v":""},"2014-01-01","2014-01-01",{"$f":"(Entries!K237-Entries!K236)*24*60","v":0}]
["",null,null,{"$f":"MATCH(C237,Categories!A:A,0)","v":{"$error":"#N/A"}},0,{"$f":"IF(OR($E237<>0,$C237=\"\"),\"\",INDEX(Categories!$A:$E,Entries!$D237,2))","v":""},{"$f":"IF(OR($E237<>0,$C237=\"\"),\"\",INDEX(Categories!$A:$E,Entries!$D237,3))","v":""},{"$f":"IF(OR($E237<>0,$C237=\"\"),\"\",INDEX(Categories!$A:$E,Entries!$D237,4))","v":""},{"$f":"IF(OR($E237<>0,$C237=\"\"),\"\",INDEX(Categories!$A:$E,Entries!$D237,5))","v":""},"2014-01-01","2014-01-01",{"$f":"(Entries!K238-Entries!K237)*24*60","v":0}]
["",null,null,{"$f":"MATCH(C238,Categories!A:A,0)","v":{"$error":"#N/A"}},0,{"$f":"IF(OR($E238<>0,$C238=\"\"),\"\",INDEX(Categories!$A:$E,Entries!$D238,2))","v":""},{"$f":"IF(OR($E238<>0,$C238=\"\"),\"\",INDEX(Categories!$A:$E,Entries!$D238,3))","v":""},{"$f":"IF(OR($E238<>0,$C238=\"\"),\"\",INDEX(Categories!$A:$E,Entries!$D238,4))","v":""},{"$f":"IF(OR($E238<>0,$C238=\"\"),\"\",INDEX(Categories!$A:$E,Entries!$D238,5))","v":""},"2014-01-01","2014-01-01",{"$f":"(Entries!K239-Entries!K238)*24*60","v":0}]
["",null,null,{"$f":"MATCH(C239,Categories!A:A,0)","v":{"$error":"#N/A"}},0,{"$f":"IF(OR($E239<>0,$C239=\"\"),\"\",INDEX(Categories!$A:$E,Entries!$D239,2))","v":""},{"$f":"IF(OR($E239<>0,$C239=\"\"),\"\",INDEX(Categories!$A:$E,Entries!$D239,3))","v":""},{"$f":"IF(OR($E239<>0,$C239=\"\"),\"\",INDEX(Categories!$A:$E,Entries!$D239,4))","v":""},{"$f":"IF(OR($E239<>0,$C239=\"\"),\"\",INDEX(Categories!$A:$E,Entries!$D239,5))","v":""},"2014-01-01","2014-01-01",{"$f":"(Entries!K240-Entries!K239)*24*60","v":0}]
["",null,null,{"$f":"MATCH(C240,Categories!A:A,0)","v":{"$error":"#N/A"}},0,{"$f":"IF(OR($E240<>0,$C240=\"\"),\"\",INDEX(Categories!$A:$E,Entries!$D240,2))","v":""},{"$f":"IF(OR($E240<>0,$C240=\"\"),\"\",INDEX(Categories!$A:$E,Entries!$D240,3))","v":""},{"$f":"IF(OR($E240<>0,$C240=\"\"),\"\",INDEX(Categories!$A:$E,Entries!$D240,4))","v":""},{"$f":"IF(OR($E240<>0,$C240=\"\"),\"\",INDEX(Categories!$A:$E,Entries!$D240,5))","v":""},"2014-01-01","2014-01-01",{"$f":"(Entries!K241-Entries!K240)*24*60","v":0}]
["",null,null,{"$f":"MATCH(C241,Categories!A:A,0)","v":{"$error":"#N/A"}},0,{"$f":"IF(OR($E241<>0,$C241=\"\"),\"\",INDEX(Categories!$A:$E,Entries!$D241,2))","v":""},{"$f":"IF(OR($E241<>0,$C241=\"\"),\"\",INDEX(Categories!$A:$E,Entries!$D241,3))","v":""},{"$f":"IF(OR($E241<>0,$C241=\"\"),\"\",INDEX(Categories!$A:$E,Entries!$D241,4))","v":""},{"$f":"IF(OR($E241<>0,$C241=\"\"),\"\",INDEX(Categories!$A:$E,Entries!$D241,5))","v":""},"2014-01-01","2014-01-01",{"$f":"(Entries!K242-Entries!K241)*24*60","v":0}]
["",null,null,{"$f":"MATCH(C242,Categories!A:A,0)","v":{"$error":"#N/A"}},0,{"$f":"IF(OR($E242<>0,$C242=\"\"),\"\",INDEX(Categories!$A:$E,Entries!$D242,2))","v":""},{"$f":"IF(OR($E242<>0,$C242=\"\"),\"\",INDEX(Categories!$A:$E,Entries!$D242,3))","v":""},{"$f":"IF(OR($E242<>0,$C242=\"\"),\"\",INDEX(Categories!$A:$E,Entries!$D242,4))","v":""},{"$f":"IF(OR($E242<>0,$C242=\"\"),\"\",INDEX(Categories!$A:$E,Entries!$D242,5))","v":""},"2014-01-01","2014-01-01",{"$f":"(Entries!K243-Entries!K242)*24*60","v":0}]
["",null,null,{"$f":"MATCH(C243,Categories!A:A,0)","v":{"$error":"#N/A"}},0,{"$f":"IF(OR($E243<>0,$C243=\"\"),\"\",INDEX(Categories!$A:$E,Entries!$D243,2))","v":""},{"$f":"IF(OR($E243<>0,$C243=\"\"),\"\",INDEX(Categories!$A:$E,Entries!$D243,3))","v":""},{"$f":"IF(OR($E243<>0,$C243=\"\"),\"\",INDEX(Categories!$A:$E,Entries!$D243,4))","v":""},{"$f":"IF(OR($E243<>0,$C243=\"\"),\"\",INDEX(Categories!$A:$E,Entries!$D243,5))","v":""},"2014-01-01","2014-01-01",{"$f":"(Entries!K244-Entries!K243)*24*60","v":0}]
["",null,null,{"$f":"MATCH(C244,Categories!A:A,0)","v":{"$error":"#N/A"}},0,{"$f":"IF(OR($E244<>0,$C244=\"\"),\"\",INDEX(Categories!$A:$E,Entries!$D244,2))","v":""},{"$f":"IF(OR($E244<>0,$C244=\"\"),\"\",INDEX(Categories!$A:$E,Entries!$D244,3))","v":""},{"$f":"IF(OR($E244<>0,$C244=\"\"),\"\",INDEX(Categories!$A:$E,Entries!$D244,4))","v":""},{"$f":"IF(OR($E244<>0,$C244=\"\"),\"\",INDEX(Categories!$A:$E,Entries!$D244,5))","v":""},"2014-01-01","2014-01-01",{"$f":"(Entries!K245-Entries!K244)*24*60","v":0}]
["",null,null,{"$f":"MATCH(C245,Categories!A:A,0)","v":{"$error":"#N/A"}},0,{"$f":"IF(OR($E245<>0,$C245=\"\"),\"\",INDEX(Categories!$A:$E,Entries!$D245,2))","v":""},{"$f":"IF(OR($E245<>0,$C245=\"\"),\"\",INDEX(Categories!$A:$E,Entries!$D245,3))","v":""},{"$f":"IF(OR($E245<>0,$C245=\"\"),\"\",INDEX(Categories!$A:$E,Entries!$D245,4))","v":""},{"$f":"IF(OR($E245<>0,$C245=\"\"),\"\",INDEX(Categories!$A:$E,Entries!$D245,5))","v":""},"2014-01-01","2014-01-01",{"$f":"(Entries!K246-Entries!K245)*24*60","v":0}]
["",null,null,{"$f":"MATCH(C246,Categories!A:A,0)","v":{"$error":"#N/A"}},0,{"$f":"IF(OR($E246<>0,$C246=\"\"),\"\",INDEX(Categories!$A:$E,Entries!$D246,2))","v":""},{"$f":"IF(OR($E246<>0,$C246=\"\"),\"\",INDEX(Categories!$A:$E,Entries!$D246,3))","v":""},{"$f":"IF(OR($E246<>0,$C246=\"\"),\"\",INDEX(Categories!$A:$E,Entries!$D246,4))","v":""},{"$f":"IF(OR($E246<>0,$C246=\"\"),\"\",INDEX(Categories!$A:$E,Entries!$D246,5))","v":""},"2014-01-01","2014-01-01",{"$f":"(Entries!K247-Entries!K246)*24*60","v":0}]
["",null,null,{"$f":"MATCH(C247,Categories!A:A,0)","v":{"$error":"#N/A"}},0,{"$f":"IF(OR($E247<>0,$C247=\"\"),\"\",INDEX(Categories!$A:$E,Entries!$D247,2))","v":""},{"$f":"IF(OR($E247<>0,$C247=\"\"),\"\",INDEX(Categories!$A:$E,Entries!$D247,3))","v":""},{"$f":"IF(OR($E247<>0,$C247=\"\"),\"\",INDEX(Categories!$A:$E,Entries!$D247,4))","v":""},{"$f":"IF(OR($E247<>0,$C247=\"\"),\"\",INDEX(Categories!$A:$E,Entries!$D247,5))","v":""},"2014-01-01","2014-01-01",{"$f":"(Entries!K248-Entries!K247)*24*60","v":0}]
["",null,null,{"$f":"MATCH(C248,Categories!A:A,0)","v":{"$error":"#N/A"}},0,{"$f":"IF(OR($E248<>0,$C248=\"\"),\"\",INDEX(Categories!$A:$E,Entries!$D248,2))","v":""},{"$f":"IF(OR($E248<>0,$C248=\"\"),\"\",INDEX(Categories!$A:$E,Entries!$D248,3))","v":""},{"$f":"IF(OR($E248<>0,$C248=\"\"),\"\",INDEX(Categories!$A:$E,Entries!$D248,4))","v":""},{"$f":"IF(OR($E248<>0,$C248=\"\"),\"\",INDEX(Categories!$A:$E,Entries!$D248,5))","v":""},"2014-01-01","2014-01-01",{"$f":"(Entries!K249-Entries!K248)*24*60","v":0}]
["",null,null,{"$f":"MATCH(C249,Categories!A:A,0)","v":{"$error":"#N/A"}},0,{"$f":"IF(OR($E249<>0,$C249=\"\"),\"\",INDEX(Categories!$A:$E,Entries!$D249,2))","v":""},{"$f":"IF(OR($E249<>0,$C249=\"\"),\"\",INDEX(Categories!$A:$E,Entries!$D249,3))","v":""},{"$f":"IF(OR($E249<>0,$C249=\"\"),\"\",INDEX(Categories!$A:$E,Entries!$D249,4))","v":""},{"$f":"IF(OR($E249<>0,$C249=\"\"),\"\",INDEX(Categories!$A:$E,Entries!$D249,5))","v":""},"2014-01-01","2014-01-01",{"$f":"(Entries!K250-Entries!K249)*24*60","v":0}]
["",null,null,{"$f":"MATCH(C250,Categories!A:A,0)","v":{"$error":"#N/A"}},0,{"$f":"IF(OR($E250<>0,$C250=\"\"),\"\",INDEX(Categories!$A:$E,Entries!$D250,2))","v":""},{"$f":"IF(OR($E250<>0,$C250=\"\"),\"\",INDEX(Categories!$A:$E,Entries!$D250,3))","v":""},{"$f":"IF(OR($E250<>0,$C250=\"\"),\"\",INDEX(Categories!$A:$E,Entries!$D250,4))","v":""},{"$f":"IF(OR($E250<>0,$C250=\"\"),\"\",INDEX(Categories!$A:$E,Entries!$D250,5))","v":""},"2014-01-01","2014-01-01",{"$f":"(Entries!K251-Entries!K250)*24*60","v":0}]
["",null,null,{"$f":"MATCH(C251,Categories!A:A,0)","v":{"$error":"#N/A"}},0,{"$f":"IF(OR($E251<>0,$C251=\"\"),\"\",INDEX(Categories!$A:$E,Entries!$D251,2))","v":""},{"$f":"IF(OR($E251<>0,$C251=\"\"),\"\",INDEX(Categories!$A:$E,Entries!$D251,3))","v":""},{"$f":"IF(OR($E251<>0,$C251=\"\"),\"\",INDEX(Categories!$A:$E,Entries!$D251,4))","v":""},{"$f":"IF(OR($E251<>0,$C251=\"\"),\"\",INDEX(Categories!$A:$E,Entries!$D251,5))","v":""},"2014-01-01","2014-01-01",{"$f":"(Entries!K252-Entries!K251)*24*60","v":0}]
["",null,null,{"$f":"MATCH(C252,Categories!A:A,0)","v":{"$error":"#N/A"}},0,{"$f":"IF(OR($E252<>0,$C252=\"\"),\"\",INDEX(Categories!$A:$E,Entries!$D252,2))","v":""},{"$f":"IF(OR($E252<>0,$C252=\"\"),\"\",INDEX(Categories!$A:$E,Entries!$D252,3))","v":""},{"$f":"IF(OR($E252<>0,$C252=\"\"),\"\",INDEX(Categories!$A:$E,Entries!$D252,4))","v":""},{"$f":"IF(OR($E252<>0,$C252=\"\"),\"\",INDEX(Categories!$A:$E,Entries!$D252,5))","v":""},"2014-01-01","2014-01-01",{"$f":"(Entries!K253-Entries!K252)*24*60","v":0}]
["",null,null,{"$f":"MATCH(C253,Categories!A:A,0)","v":{"$error":"#N/A"}},0,{"$f":"IF(OR($E253<>0,$C253=\"\"),\"\",INDEX(Categories!$A:$E,Entries!$D253,2))","v":""},{"$f":"IF(OR($E253<>0,$C253=\"\"),\"\",INDEX(Categories!$A:$E,Entries!$D253,3))","v":""},{"$f":"IF(OR($E253<>0,$C253=\"\"),\"\",INDEX(Categories!$A:$E,Entries!$D253,4))","v":""},{"$f":"IF(OR($E253<>0,$C253=\"\"),\"\",INDEX(Categories!$A:$E,Entries!$D253,5))","v":""},"2014-01-01","2014-01-01",{"$f":"(Entries!K254-Entries!K253)*24*60","v":0}]
["",null,null,{"$f":"MATCH(C254,Categories!A:A,0)","v":{"$error":"#N/A"}},0,{"$f":"IF(OR($E254<>0,$C254=\"\"),\"\",INDEX(Categories!$A:$E,Entries!$D254,2))","v":""},{"$f":"IF(OR($E254<>0,$C254=\"\"),\"\",INDEX(Categories!$A:$E,Entries!$D254,3))","v":""},{"$f":"IF(OR($E254<>0,$C254=\"\"),\"\",INDEX(Categories!$A:$E,Entries!$D254,4))","v":""},{"$f":"IF(OR($E254<>0,$C254=\"\"),\"\",INDEX(Categories!$A:$E,Entries!$D254,5))","v":""},"2014-01-01","2014-01-01",{"$f":"(Entries!K255-Entries!K254)*24*60","v":0}]
["",null,null,{"$f":"MATCH(C255,Categories!A:A,0)","v":{"$error":"#N/A"}},0,{"$f":"IF(OR($E255<>0,$C255=\"\"),\"\",INDEX(Categories!$A:$E,Entries!$D255,2))","v":""},{"$f":"IF(OR($E255<>0,$C255=\"\"),\"\",INDEX(Categories!$A:$E,Entries!$D255,3))","v":""},{"$f":"IF(OR($E255<>0,$C255=\"\"),\"\",INDEX(Categories!$A:$E,Entries!$D255,4))","v":""},{"$f":"IF(OR($E255<>0,$C255=\"\"),\"\",INDEX(Categories!$A:$E,Entries!$D255,5))","v":""},"2014-01-01","2014-01-01",{"$f":"(Entries!K256-Entries!K255)*24*60","v":0}]
["",null,null,{"$f":"MATCH(C256,Categories!A:A,0)","v":{"$error":"#N/A"}},0,{"$f":"IF(OR($E256<>0,$C256=\"\"),\"\",INDEX(Categories!$A:$E,Entries!$D256,2))","v":""},{"$f":"IF(OR($E256<>0,$C256=\"\"),\"\",INDEX(Categories!$A:$E,Entries!$D256,3))","v":""},{"$f":"IF(OR($E256<>0,$C256=\"\"),\"\",INDEX(Categories!$A:$E,Entries!$D256,4))","v":""},{"$f":"IF(OR($E256<>0,$C256=\"\"),\"\",INDEX(Categories!$A:$E,Entries!$D256,5))","v":""},"2014-01-01","2014-01-01",{"$f":"(Entries!K257-Entries!K256)*24*60","v":0}]
["",null,null,{"$f":"MATCH(C257,Categories!A:A,0)","v":{"$error":"#N/A"}},0,{"$f":"IF(OR($E257<>0,$C257=\"\"),\"\",INDEX(Categories!$A:$E,Entries!$D257,2))","v":""},{"$f":"IF(OR($E257<>0,$C257=\"\"),\"\",INDEX(Categories!$A:$E,Entries!$D257,3))","v":""},{"$f":"IF(OR($E257<>0,$C257=\"\"),\"\",INDEX(Categories!$A:$E,Entries!$D257,4))","v":""},{"$f":"IF(OR($E257<>0,$C257=\"\"),\"\",INDEX(Categories!$A:$E,Entries!$D257,5))","v":""},"2014-01-01","2014-01-01",{"$f":"(Entries!K258-Entries!K257)*24*60","v":0}]
["",null,null,{"$f":"MATCH(C258,Categories!A:A,0)","v":{"$error":"#N/A"}},{"$f":"IF(AND(ISERROR(D258),C258<>\"\"),ROW(D258),0)","v":0},{"$f":"IF(OR($E258<>0,$C258=\"\"),\"\",INDEX(Categories!$A:$E,Entries!$D258,2))","v":""},{"$f":"IF(OR($E258<>0,$C258=\"\"),\"\",INDEX(Categories!$A:$E,Entries!$D258,3))","v":""},{"$f":"IF(OR($E258<>0,$C258=\"\"),\"\",INDEX(Categories!$A:$E,Entries!$D258,4))","v":""},{"$f":"IF(OR($E258<>0,$C258=\"\"),\"\",INDEX(Categories!$A:$E,Entries!$D258,5))","v":""},{"$f":"IF(A258=\"\",J257,A258)","v":"2014-01-01"},{"$f":"J258+B258","v":"2014-01-01"},{"$f":"(Entries!K259-Entries!K258)*24*60","v":0}]
["",null,null,{"$f":"MATCH(C259,Categories!A:A,0)","v":{"$error":"#N/A"}},0,{"$f":"IF(OR($E259<>0,$C259=\"\"),\"\",INDEX(Categories!$A:$E,Entries!$D259,2))","v":""},{"$f":"IF(OR($E259<>0,$C259=\"\"),\"\",INDEX(Categories!$A:$E,Entries!$D259,3))","v":""},{"$f":"IF(OR($E259<>0,$C259=\"\"),\"\",INDEX(Categories!$A:$E,Entries!$D259,4))","v":""},{"$f":"IF(OR($E259<>0,$C259=\"\"),\"\",INDEX(Categories!$A:$E,Entries!$D259,5))","v":""},"2014-01-01","2014-01-01",{"$f":"(Entries!K260-Entries!K259)*24*60","v":0}]
["",null,null,{"$f":"MATCH(C260,Categories!A:A,0)","v":{"$error":"#N/A"}},0,{"$f":"IF(OR($E260<>0,$C260=\"\"),\"\",INDEX(Categories!$A:$E,Entries!$D260,2))","v":""},{"$f":"IF(OR($E260<>0,$C260=\"\"),\"\",INDEX(Categories!$A:$E,Entries!$D260,3))","v":""},{"$f":"IF(OR($E260<>0,$C260=\"\"),\"\",INDEX(Categories!$A:$E,Entries!$D260,4))","v":""},{"$f":"IF(OR($E260<>0,$C260=\"\"),\"\",INDEX(Categories!$A:$E,Entries!$D260,5))","v":""},"2014-01-01","2014-01-01",{"$f":"(Entries!K261-Entries!K260)*24*60","v":0}]
["",null,null,{"$f":"MATCH(C261,Categories!A:A,0)","v":{"$error":"#N/A"}},0,{"$f":"IF(OR($E261<>0,$C261=\"\"),\"\",INDEX(Categories!$A:$E,Entries!$D261,2))","v":""},{"$f":"IF(OR($E261<>0,$C261=\"\"),\"\",INDEX(Categories!$A:$E,Entries!$D261,3))","v":""},{"$f":"IF(OR($E261<>0,$C261=\"\"),\"\",INDEX(Categories!$A:$E,Entries!$D261,4))","v":""},{"$f":"IF(OR($E261<>0,$C261=\"\"),\"\",INDEX(Categories!$A:$E,Entries!$D261,5))","v":""},"2014-01-01","2014-01-01",{"$f":"(Entries!K262-Entries!K261)*24*60","v":0}]
["",null,null,{"$f":"MATCH(C262,Categories!A:A,0)","v":{"$error":"#N/A"}},0,{"$f":"IF(OR($E262<>0,$C262=\"\"),\"\",INDEX(Categories!$A:$E,Entries!$D262,2))","v":""},{"$f":"IF(OR($E262<>0,$C262=\"\"),\"\",INDEX(Categories!$A:$E,Entries!$D262,3))","v":""},{"$f":"IF(OR($E262<>0,$C262=\"\"),\"\",INDEX(Categories!$A:$E,Entries!$D262,4))","v":""},{"$f":"IF(OR($E262<>0,$C262=\"\"),\"\",INDEX(Categories!$A:$E,Entries!$D262,5))","v":""},"2014-01-01","2014-01-01",{"$f":"(Entries!K263-Entries!K262)*24*60","v":0}]
["",null,null,{"$f":"MATCH(C263,Categories!A:A,0)","v":{"$error":"#N/A"}},0,{"$f":"IF(OR($E263<>0,$C263=\"\"),\"\",INDEX(Categories!$A:$E,Entries!$D263,2))","v":""},{"$f":"IF(OR($E263<>0,$C263=\"\"),\"\",INDEX(Categories!$A:$E,Entries!$D263,3))","v":""},{"$f":"IF(OR($E263<>0,$C263=\"\"),\"\",INDEX(Categories!$A:$E,Entries!$D263,4))","v":""},{"$f":"IF(OR($E263<>0,$C263=\"\"),\"\",INDEX(Categories!$A:$E,Entries!$D263,5))","v":""},"2014-01-01","2014-01-01",{"$f":"(Entries!K264-Entries!K263)*24*60","v":0}]
["",null,null,{"$f":"MATCH(C264,Categories!A:A,0)","v":{"$error":"#N/A"}},0,{"$f":"IF(OR($E264<>0,$C264=\"\"),\"\",INDEX(Categories!$A:$E,Entries!$D264,2))","v":""},{"$f":"IF(OR($E264<>0,$C264=\"\"),\"\",INDEX(Categories!$A:$E,Entries!$D264,3))","v":""},{"$f":"IF(OR($E264<>0,$C264=\"\"),\"\",INDEX(Categories!$A:$E,Entries!$D264,4))","v":""},{"$f":"IF(OR($E264<>0,$C264=\"\"),\"\",INDEX(Categories!$A:$E,Entries!$D264,5))","v":""},"2014-01-01","2014-01-01",{"$f":"(Entries!K265-Entries!K264)*24*60","v":0}]
["",null,null,{"$f":"MATCH(C265,Categories!A:A,0)","v":{"$error":"#N/A"}},0,{"$f":"IF(OR($E265<>0,$C265=\"\"),\"\",INDEX(Categories!$A:$E,Entries!$D265,2))","v":""},{"$f":"IF(OR($E265<>0,$C265=\"\"),\"\",INDEX(Categories!$A:$E,Entries!$D265,3))","v":""},{"$f":"IF(OR($E265<>0,$C265=\"\"),\"\",INDEX(Categories!$A:$E,Entries!$D265,4))","v":""},{"$f":"IF(OR($E265<>0,$C265=\"\"),\"\",INDEX(Categories!$A:$E,Entries!$D265,5))","v":""},"2014-01-01","2014-01-01",{"$f":"(Entries!K266-Entries!K265)*24*60","v":0}]
["",null,null,{"$f":"MATCH(C266,Categories!A:A,0)","v":{"$error":"#N/A"}},0,{"$f":"IF(OR($E266<>0,$C266=\"\"),\"\",INDEX(Categories!$A:$E,Entries!$D266,2))","v":""},{"$f":"IF(OR($E266<>0,$C266=\"\"),\"\",INDEX(Categories!$A:$E,Entries!$D266,3))","v":""},{"$f":"IF(OR($E266<>0,$C266=\"\"),\"\",INDEX(Categories!$A:$E,Entries!$D266,4))","v":""},{"$f":"IF(OR($E266<>0,$C266=\"\"),\"\",INDEX(Categories!$A:$E,Entries!$D266,5))","v":""},"2014-01-01","2014-01-01",{"$f":"(Entries!K267-Entries!K266)*24*60","v":0}]
["",null,null,{"$f":"MATCH(C267,Categories!A:A,0)","v":{"$error":"#N/A"}},0,{"$f":"IF(OR($E267<>0,$C267=\"\"),\"\",INDEX(Categories!$A:$E,Entries!$D267,2))","v":""},{"$f":"IF(OR($E267<>0,$C267=\"\"),\"\",INDEX(Categories!$A:$E,Entries!$D267,3))","v":""},{"$f":"IF(OR($E267<>0,$C267=\"\"),\"\",INDEX(Categories!$A:$E,Entries!$D267,4))","v":""},{"$f":"IF(OR($E267<>0,$C267=\"\"),\"\",INDEX(Categories!$A:$E,Entries!$D267,5))","v":""},"2014-01-01","2014-01-01",{"$f":"(Entries!K268-Entries!K267)*24*60","v":0}]
["",null,null,{"$f":"MATCH(C268,Categories!A:A,0)","v":{"$error":"#N/A"}},0,{"$f":"IF(OR($E268<>0,$C268=\"\"),\"\",INDEX(Categories!$A:$E,Entries!$D268,2))","v":""},{"$f":"IF(OR($E268<>0,$C268=\"\"),\"\",INDEX(Categories!$A:$E,Entries!$D268,3))","v":""},{"$f":"IF(OR($E268<>0,$C268=\"\"),\"\",INDEX(Categories!$A:$E,Entries!$D268,4))","v":""},{"$f":"IF(OR($E268<>0,$C268=\"\"),\"\",INDEX(Categories!$A:$E,Entries!$D268,5))","v":""},"2014-01-01","2014-01-01",{"$f":"(Entries!K269-Entries!K268)*24*60","v":0}]
["",null,null,{"$f":"MATCH(C269,Categories!A:A,0)","v":{"$error":"#N/A"}},0,{"$f":"IF(OR($E269<>0,$C269=\"\"),\"\",INDEX(Categories!$A:$E,Entries!$D269,2))","v":""},{"$f":"IF(OR($E269<>0,$C269=\"\"),\"\",INDEX(Categories!$A:$E,Entries!$D269,3))","v":""},{"$f":"IF(OR($E269<>0,$C269=\"\"),\"\",INDEX(Categories!$A:$E,Entries!$D269,4))","v":""},{"$f":"IF(OR($E269<>0,$C269=\"\"),\"\",INDEX(Categories!$A:$E,Entries!$D269,5))","v":""},"2014-01-01","2014-01-01",{"$f":"(Entries!K270-Entries!K269)*24*60","v":0}]
["",null,null,{"$f":"MATCH(C270,Categories!A:A,0)","v":{"$error":"#N/A"}},0,{"$f":"IF(OR($E270<>0,$C270=\"\"),\"\",INDEX(Categories!$A:$E,Entries!$D270,2))","v":""},{"$f":"IF(OR($E270<>0,$C270=\"\"),\"\",INDEX(Categories!$A:$E,Entries!$D270,3))","v":""},{"$f":"IF(OR($E270<>0,$C270=\"\"),\"\",INDEX(Categories!$A:$E,Entries!$D270,4))","v":""},{"$f":"IF(OR($E270<>0,$C270=\"\"),\"\",INDEX(Categories!$A:$E,Entries!$D270,5))","v":""},"2014-01-01","2014-01-01",{"$f":"(Entries!K271-Entries!K270)*24*60","v":0}]
["",null,null,{"$f":"MATCH(C271,Categories!A:A,0)","v":{"$error":"#N/A"}},0,{"$f":"IF(OR($E271<>0,$C271=\"\"),\"\",INDEX(Categories!$A:$E,Entries!$D271,2))","v":""},{"$f":"IF(OR($E271<>0,$C271=\"\"),\"\",INDEX(Categories!$A:$E,Entries!$D271,3))","v":""},{"$f":"IF(OR($E271<>0,$C271=\"\"),\"\",INDEX(Categories!$A:$E,Entries!$D271,4))","v":""},{"$f":"IF(OR($E271<>0,$C271=\"\"),\"\",INDEX(Categories!$A:$E,Entries!$D271,5))","v":""},"2014-01-01","2014-01-01",{"$f":"(Entries!K272-Entries!K271)*24*60","v":0}]
["",null,null,{"$f":"MATCH(C272,Categories!A:A,0)","v":{"$error":"#N/A"}},0,{"$f":"IF(OR($E272<>0,$C272=\"\"),\"\",INDEX(Categories!$A:$E,Entries!$D272,2))","v":""},{"$f":"IF(OR($E272<>0,$C272=\"\"),\"\",INDEX(Categories!$A:$E,Entries!$D272,3))","v":""},{"$f":"IF(OR($E272<>0,$C272=\"\"),\"\",INDEX(Categories!$A:$E,Entries!$D272,4))","v":""},{"$f":"IF(OR($E272<>0,$C272=\"\"),\"\",INDEX(Categories!$A:$E,Entries!$D272,5))","v":""},"2014-01-01","2014-01-01",{"$f":"(Entries!K273-Entries!K272)*24*60","v":0}]
["",null,null,{"$f":"MATCH(C273,Categories!A:A,0)","v":{"$error":"#N/A"}},0,{"$f":"IF(OR($E273<>0,$C273=\"\"),\"\",INDEX(Categories!$A:$E,Entries!$D273,2))","v":""},{"$f":"IF(OR($E273<>0,$C273=\"\"),\"\",INDEX(Categories!$A:$E,Entries!$D273,3))","v":""},{"$f":"IF(OR($E273<>0,$C273=\"\"),\"\",INDEX(Categories!$A:$E,Entries!$D273,4))","v":""},{"$f":"IF(OR($E273<>0,$C273=\"\"),\"\",INDEX(Categories!$A:$E,Entries!$D273,5))","v":""},"2014-01-01","2014-01-01",{"$f":"(Entries!K274-Entries!K273)*24*60","v":0}]
["",null,null,{"$f":"MATCH(C274,Categories!A:A,0)","v":{"$error":"#N/A"}},0,{"$f":"IF(OR($E274<>0,$C274=\"\"),\"\",INDEX(Categories!$A:$E,Entries!$D274,2))","v":""},{"$f":"IF(OR($E274<>0,$C274=\"\"),\"\",INDEX(Categories!$A:$E,Entries!$D274,3))","v":""},{"$f":"IF(OR($E274<>0,$C274=\"\"),\"\",INDEX(Categories!$A:$E,Entries!$D274,4))","v":""},{"$f":"IF(OR($E274<>0,$C274=\"\"),\"\",INDEX(Categories!$A:$E,Entries!$D274,5))","v":""},"2014-01-01","2014-01-01",{"$f":"(Entries!K275-Entries!K274)*24*60","v":0}]
["",null,null,{"$f":"MATCH(C275,Categories!A:A,0)","v":{"$error":"#N/A"}},0,{"$f":"IF(OR($E275<>0,$C275=\"\"),\"\",INDEX(Categories!$A:$E,Entries!$D275,2))","v":""},{"$f":"IF(OR($E275<>0,$C275=\"\"),\"\",INDEX(Categories!$A:$E,Entries!$D275,3))","v":""},{"$f":"IF(OR($E275<>0,$C275=\"\"),\"\",INDEX(Categories!$A:$E,Entries!$D275,4))","v":""},{"$f":"IF(OR($E275<>0,$C275=\"\"),\"\",INDEX(Categories!$A:$E,Entries!$D275,5))","v":""},"2014-01-01","2014-01-01",{"$f":"(Entries!K276-Entries!K275)*24*60","v":0}]
["",null,null,{"$f":"MATCH(C276,Categories!A:A,0)","v":{"$error":"#N/A"}},0,{"$f":"IF(OR($E276<>0,$C276=\"\"),\"\",INDEX(Categories!$A:$E,Entries!$D276,2))","v":""},{"$f":"IF(OR($E276<>0,$C276=\"\"),\"\",INDEX(Categories!$A:$E,Entries!$D276,3))","v":""},{"$f":"IF(OR($E276<>0,$C276=\"\"),\"\",INDEX(Categories!$A:$E,Entries!$D276,4))","v":""},{"$f":"IF(OR($E276<>0,$C276=\"\"),\"\",INDEX(Categories!$A:$E,Entries!$D276,5))","v":""},"2014-01-01","2014-01-01",{"$f":"(Entries!K277-Entries!K276)*24*60","v":0}]
["",null,null,{"$f":"MATCH(C277,Categories!A:A,0)","v":{"$error":"#N/A"}},0,{"$f":"IF(OR($E277<>0,$C277=\"\"),\"\",INDEX(Categories!$A:$E,Entries!$D277,2))","v":""},{"$f":"IF(OR($E277<>0,$C277=\"\"),\"\",INDEX(Categories!$A:$E,Entries!$D277,3))","v":""},{"$f":"IF(OR($E277<>0,$C277=\"\"),\"\",INDEX(Categories!$A:$E,Entries!$D277,4))","v":""},{"$f":"IF(OR($E277<>0,$C277=\"\"),\"\",INDEX(Categories!$A:$E,Entries!$D277,5))","v":""},"2014-01-01","2014-01-01",{"$f":"(Entries!K278-Entries!K277)*24*60","v":0}]
["",null,null,{"$f":"MATCH(C278,Categories!A:A,0)","v":{"$error":"#N/A"}},0,{"$f":"IF(OR($E278<>0,$C278=\"\"),\"\",INDEX(Categories!$A:$E,Entries!$D278,2))","v":""},{"$f":"IF(OR($E278<>0,$C278=\"\"),\"\",INDEX(Categories!$A:$E,Entries!$D278,3))","v":""},{"$f":"IF(OR($E278<>0,$C278=\"\"),\"\",INDEX(Categories!$A:$E,Entries!$D278,4))","v":""},{"$f":"IF(OR($E278<>0,$C278=\"\"),\"\",INDEX(Categories!$A:$E,Entries!$D278,5))","v":""},"2014-01-01","2014-01-01",{"$f":"(Entries!K279-Entries!K278)*24*60","v":0}]
["",null,null,{"$f":"MATCH(C279,Categories!A:A,0)","v":{"$error":"#N/A"}},0,{"$f":"IF(OR($E279<>0,$C279=\"\"),\"\",INDEX(Categories!$A:$E,Entries!$D279,2))","v":""},{"$f":"IF(OR($E279<>0,$C279=\"\"),\"\",INDEX(Categories!$A:$E,Entries!$D279,3))","v":""},{"$f":"IF(OR($E279<>0,$C279=\"\"),\"\",INDEX(Categories!$A:$E,Entries!$D279,4))","v":""},{"$f":"IF(OR($E279<>0,$C279=\"\"),\"\",INDEX(Categories!$A:$E,Entries!$D279,5))","v":""},"2014-01-01","2014-01-01",{"$f":"(Entries!K280-Entries!K279)*24*60","v":0}]
["",null,null,{"$f":"MATCH(C280,Categories!A:A,0)","v":{"$error":"#N/A"}},0,{"$f":"IF(OR($E280<>0,$C280=\"\"),\"\",INDEX(Categories!$A:$E,Entries!$D280,2))","v":""},{"$f":"IF(OR($E280<>0,$C280=\"\"),\"\",INDEX(Categories!$A:$E,Entries!$D280,3))","v":""},{"$f":"IF(OR($E280<>0,$C280=\"\"),\"\",INDEX(Categories!$A:$E,Entries!$D280,4))","v":""},{"$f":"IF(OR($E280<>0,$C280=\"\"),\"\",INDEX(Categories!$A:$E,Entries!$D280,5))","v":""},"2014-01-01","2014-01-01",{"$f":"(Entries!K281-Entries!K280)*24*60","v":0}]
["",null,null,{"$f":"MATCH(C281,Categories!A:A,0)","v":{"$error":"#N/A"}},0,{"$f":"IF(OR($E281<>0,$C281=\"\"),\"\",INDEX(Categories!$A:$E,Entries!$D281,2))","v":""},{"$f":"IF(OR($E281<>0,$C281=\"\"),\"\",INDEX(Categories!$A:$E,Entries!$D281,3))","v":""},{"$f":"IF(OR($E281<>0,$C281=\"\"),\"\",INDEX(Categories!$A:$E,Entries!$D281,4))","v":""},{"$f":"IF(OR($E281<>0,$C281=\"\"),\"\",INDEX(Categories!$A:$E,Entries!$D281,5))","v":""},"2014-01-01","2014-01-01",{"$f":"(Entries!K282-Entries!K281)*24*60","v":0}]
["",null,null,{"$f":"MATCH(C282,Categories!A:A,0)","v":{"$error":"#N/A"}},0,{"$f":"IF(OR($E282<>0,$C282=\"\"),\"\",INDEX(Categories!$A:$E,Entries!$D282,2))","v":""},{"$f":"IF(OR($E282<>0,$C282=\"\"),\"\",INDEX(Categories!$A:$E,Entries!$D282,3))","v":""},{"$f":"IF(OR($E282<>0,$C282=\"\"),\"\",INDEX(Categories!$A:$E,Entries!$D282,4))","v":""},{"$f":"IF(OR($E282<>0,$C282=\"\"),\"\",INDEX(Categories!$A:$E,Entries!$D282,5))","v":""},"2014-01-01","2014-01-01",{"$f":"(Entries!K283-Entries!K282)*24*60","v":0}]
["",null,null,{"$f":"MATCH(C283,Categories!A:A,0)","v":{"$error":"#N/A"}},0,{"$f":"IF(OR($E283<>0,$C283=\"\"),\"\",INDEX(Categories!$A:$E,Entries!$D283,2))","v":""},{"$f":"IF(OR($E283<>0,$C283=\"\"),\"\",INDEX(Categories!$A:$E,Entries!$D283,3))","v":""},{"$f":"IF(OR($E283<>0,$C283=\"\"),\"\",INDEX(Categories!$A:$E,Entries!$D283,4))","v":""},{"$f":"IF(OR($E283<>0,$C283=\"\"),\"\",INDEX(Categories!$A:$E,Entries!$D283,5))","v":""},"2014-01-01","2014-01-01",{"$f":"(Entries!K284-Entries!K283)*24*60","v":0}]
["",null,null,{"$f":"MATCH(C284,Categories!A:A,0)","v":{"$error":"#N/A"}},0,{"$f":"IF(OR($E284<>0,$C284=\"\"),\"\",INDEX(Categories!$A:$E,Entries!$D284,2))","v":""},{"$f":"IF(OR($E284<>0,$C284=\"\"),\"\",INDEX(Categories!$A:$E,Entries!$D284,3))","v":""},{"$f":"IF(OR($E284<>0,$C284=\"\"),\"\",INDEX(Categories!$A:$E,Entries!$D284,4))","v":""},{"$f":"IF(OR($E284<>0,$C284=\"\"),\"\",INDEX(Categories!$A:$E,Entries!$D284,5))","v":""},"2014-01-01","2014-01-01",{"$f":"(Entries!K285-Entries!K284)*24*60","v":0}]
["",null,null,{"$f":"MATCH(C285,Categories!A:A,0)","v":{"$error":"#N/A"}},0,{"$f":"IF(OR($E285<>0,$C285=\"\"),\"\",INDEX(Categories!$A:$E,Entries!$D285,2))","v":""},{"$f":"IF(OR($E285<>0,$C285=\"\"),\"\",INDEX(Categories!$A:$E,Entries!$D285,3))","v":""},{"$f":"IF(OR($E285<>0,$C285=\"\"),\"\",INDEX(Categories!$A:$E,Entries!$D285,4))","v":""},{"$f":"IF(OR($E285<>0,$C285=\"\"),\"\",INDEX(Categories!$A:$E,Entries!$D285,5))","v":""},"2014-01-01","2014-01-01",{"$f":"(Entries!K286-Entries!K285)*24*60","v":0}]
["",null,null,{"$f":"MATCH(C286,Categories!A:A,0)","v":{"$error":"#N/A"}},0,{"$f":"IF(OR($E286<>0,$C286=\"\"),\"\",INDEX(Categories!$A:$E,Entries!$D286,2))","v":""},{"$f":"IF(OR($E286<>0,$C286=\"\"),\"\",INDEX(Categories!$A:$E,Entries!$D286,3))","v":""},{"$f":"IF(OR($E286<>0,$C286=\"\"),\"\",INDEX(Categories!$A:$E,Entries!$D286,4))","v":""},{"$f":"IF(OR($E286<>0,$C286=\"\"),\"\",INDEX(Categories!$A:$E,Entries!$D286,5))","v":""},"2014-01-01","2014-01-01",{"$f":"(Entries!K287-Entries!K286)*24*60","v":0}]
["",null,null,{"$f":"MATCH(C287,Categories!A:A,0)","v":{"$error":"#N/A"}},0,{"$f":"IF(OR($E287<>0,$C287=\"\"),\"\",INDEX(Categories!$A:$E,Entries!$D287,2))","v":""},{"$f":"IF(OR($E287<>0,$C287=\"\"),\"\",INDEX(Categories!$A:$E,Entries!$D287,3))","v":""},{"$f":"IF(OR($E287<>0,$C287=\"\"),\"\",INDEX(Categories!$A:$E,Entries!$D287,4))","v":""},{"$f":"IF(OR($E287<>0,$C287=\"\"),\"\",INDEX(Categories!$A:$E,Entries!$D287,5))","v":""},"2014-01-01","2014-01-01",{"$f":"(Entries!K288-Entries!K287)*24*60","v":0}]
["",null,null,{"$f":"MATCH(C288,Categories!A:A,0)","v":{"$error":"#N/A"}},0,{"$f":"IF(OR($E288<>0,$C288=\"\"),\"\",INDEX(Categories!$A:$E,Entries!$D288,2))","v":""},{"$f":"IF(OR($E288<>0,$C288=\"\"),\"\",INDEX(Categories!$A:$E,Entries!$D288,3))","v":""},{"$f":"IF(OR($E288<>0,$C288=\"\"),\"\",INDEX(Categories!$A:$E,Entries!$D288,4))","v":""},{"$f":"IF(OR($E288<>0,$C288=\"\"),\"\",INDEX(Categories!$A:$E,Entries!$D288,5))","v":""},"2014-01-01","2014-01-01",{"$f":"(Entries!K289-Entries!K288)*24*60","v":0}]
["",null,null,{"$f":"MATCH(C289,Categories!A:A,0)","v":{"$error":"#N/A"}},0,{"$f":"IF(OR($E289<>0,$C289=\"\"),\"\",INDEX(Categories!$A:$E,Entries!$D289,2))","v":""},{"$f":"IF(OR($E289<>0,$C289=\"\"),\"\",INDEX(Categories!$A:$E,Entries!$D289,3))","v":""},{"$f":"IF(OR($E289<>0,$C289=\"\"),\"\",INDEX(Categories!$A:$E,Entries!$D289,4))","v":""},{"$f":"IF(OR($E289<>0,$C289=\"\"),\"\",INDEX(Categories!$A:$E,Entries!$D289,5))","v":""},"2014-01-01","2014-01-01",{"$f":"(Entries!K290-Entries!K289)*24*60","v":0}]
["",null,null,{"$f":"MATCH(C290,Categories!A:A,0)","v":{"$error":"#N/A"}},0,{"$f":"IF(OR($E290<>0,$C290=\"\"),\"\",INDEX(Categories!$A:$E,Entries!$D290,2))","v":""},{"$f":"IF(OR($E290<>0,$C290=\"\"),\"\",INDEX(Categories!$A:$E,Entries!$D290,3))","v":""},{"$f":"IF(OR($E290<>0,$C290=\"\"),\"\",INDEX(Categories!$A:$E,Entries!$D290,4))","v":""},{"$f":"IF(OR($E290<>0,$C290=\"\"),\"\",INDEX(Categories!$A:$E,Entries!$D290,5))","v":""},"2014-01-01","2014-01-01",{"$f":"(Entries!K291-Entries!K290)*24*60","v":0}]
["",null,null,{"$f":"MATCH(C291,Categories!A:A,0)","v":{"$error":"#N/A"}},0,{"$f":"IF(OR($E291<>0,$C291=\"\"),\"\",INDEX(Categories!$A:$E,Entries!$D291,2))","v":""},{"$f":"IF(OR($E291<>0,$C291=\"\"),\"\",INDEX(Categories!$A:$E,Entries!$D291,3))","v":""},{"$f":"IF(OR($E291<>0,$C291=\"\"),\"\",INDEX(Categories!$A:$E,Entries!$D291,4))","v":""},{"$f":"IF(OR($E291<>0,$C291=\"\"),\"\",INDEX(Categories!$A:$E,Entries!$D291,5))","v":""},"2014-01-01","2014-01-01",{"$f":"(Entries!K292-Entries!K291)*24*60","v":0}]
[{"$f":"IF(OR(B292>=B291,C291=\"z\",B292=\"\"),\"\",J291+1)","v":""},null,null,{"$f":"MATCH(C292,Categories!A:A,0)","v":{"$error":"#N/A"}},0,{"$f":"IF(OR($E292<>0,$C292=\"\"),\"\",INDEX(Categories!$A:$E,Entries!$D292,2))","v":""},{"$f":"IF(OR($E292<>0,$C292=\"\"),\"\",INDEX(Categories!$A:$E,Entries!$D292,3))","v":""},{"$f":"IF(OR($E292<>0,$C292=\"\"),\"\",INDEX(Categories!$A:$E,Entries!$D292,4))","v":""},{"$f":"IF(OR($E292<>0,$C292=\"\"),\"\",INDEX(Categories!$A:$E,Entries!$D292,5))","v":""},"2014-01-01","2014-01-01",{"$f":"(Entries!K293-Entries!K292)*24*60","v":0}]
["",null,null,{"$f":"MATCH(C293,Categories!A:A,0)","v":{"$error":"#N/A"}},0,{"$f":"IF(OR($E293<>0,$C293=\"\"),\"\",INDEX(Categories!$A:$E,Entries!$D293,2))","v":""},{"$f":"IF(OR($E293<>0,$C293=\"\"),\"\",INDEX(Categories!$A:$E,Entries!$D293,3))","v":""},{"$f":"IF(OR($E293<>0,$C293=\"\"),\"\",INDEX(Categories!$A:$E,Entries!$D293,4))","v":""},{"$f":"IF(OR($E293<>0,$C293=\"\"),\"\",INDEX(Categories!$A:$E,Entries!$D293,5))","v":""},"2014-01-01","2014-01-01",{"$f":"(Entries!K294-Entries!K293)*24*60","v":0}]
["",null,null,{"$f":"MATCH(C294,Categories!A:A,0)","v":{"$error":"#N/A"}},0,{"$f":"IF(OR($E294<>0,$C294=\"\"),\"\",INDEX(Categories!$A:$E,Entries!$D294,2))","v":""},{"$f":"IF(OR($E294<>0,$C294=\"\"),\"\",INDEX(Categories!$A:$E,Entries!$D294,3))","v":""},{"$f":"IF(OR($E294<>0,$C294=\"\"),\"\",INDEX(Categories!$A:$E,Entries!$D294,4))","v":""},{"$f":"IF(OR($E294<>0,$C294=\"\"),\"\",INDEX(Categories!$A:$E,Entries!$D294,5))","v":""},"2014-01-01","2014-01-01",{"$f":"(Entries!K295-Entries!K294)*24*60","v":0}]
["",null,null,{"$f":"MATCH(C295,Categories!A:A,0)","v":{"$error":"#N/A"}},0,{"$f":"IF(OR($E295<>0,$C295=\"\"),\"\",INDEX(Categories!$A:$E,Entries!$D295,2))","v":""},{"$f":"IF(OR($E295<>0,$C295=\"\"),\"\",INDEX(Categories!$A:$E,Entries!$D295,3))","v":""},{"$f":"IF(OR($E295<>0,$C295=\"\"),\"\",INDEX(Categories!$A:$E,Entries!$D295,4))","v":""},{"$f":"IF(OR($E295<>0,$C295=\"\"),\"\",INDEX(Categories!$A:$E,Entries!$D295,5))","v":""},"2014-01-01","2014-01-01",{"$f":"(Entries!K296-Entries!K295)*24*60","v":0}]
["",null,null,{"$f":"MATCH(C296,Categories!A:A,0)","v":{"$error":"#N/A"}},0,{"$f":"IF(OR($E296<>0,$C296=\"\"),\"\",INDEX(Categories!$A:$E,Entries!$D296,2))","v":""},{"$f":"IF(OR($E296<>0,$C296=\"\"),\"\",INDEX(Categories!$A:$E,Entries!$D296,3))","v":""},{"$f":"IF(OR($E296<>0,$C296=\"\"),\"\",INDEX(Categories!$A:$E,Entries!$D296,4))","v":""},{"$f":"IF(OR($E296<>0,$C296=\"\"),\"\",INDEX(Categories!$A:$E,Entries!$D296,5))","v":""},"2014-01-01","2014-01-01",{"$f":"(Entries!K297-Entries!K296)*24*60","v":0}]
["",null,null,{"$f":"MATCH(C297,Categories!A:A,0)","v":{"$error":"#N/A"}},0,{"$f":"IF(OR($E297<>0,$C297=\"\"),\"\",INDEX(Categories!$A:$E,Entries!$D297,2))","v":""},{"$f":"IF(OR($E297<>0,$C297=\"\"),\"\",INDEX(Categories!$A:$E,Entries!$D297,3))","v":""},{"$f":"IF(OR($E297<>0,$C297=\"\"),\"\",INDEX(Categories!$A:$E,Entries!$D297,4))","v":""},{"$f":"IF(OR($E297<>0,$C297=\"\"),\"\",INDEX(Categories!$A:$E,Entries!$D297,5))","v":""},"2014-01-01","2014-01-01",{"$f":"(Entries!K298-Entries!K297)*24*60","v":0}]
["",null,null,{"$f":"MATCH(C298,Categories!A:A,0)","v":{"$error":"#N/A"}},0,{"$f":"IF(OR($E298<>0,$C298=\"\"),\"\",INDEX(Categories!$A:$E,Entries!$D298,2))","v":""},{"$f":"IF(OR($E298<>0,$C298=\"\"),\"\",INDEX(Categories!$A:$E,Entries!$D298,3))","v":""},{"$f":"IF(OR($E298<>0,$C298=\"\"),\"\",INDEX(Categories!$A:$E,Entries!$D298,4))","v":""},{"$f":"IF(OR($E298<>0,$C298=\"\"),\"\",INDEX(Categories!$A:$E,Entries!$D298,5))","v":""},"2014-01-01","2014-01-01",{"$f":"(Entries!K299-Entries!K298)*24*60","v":0}]
["",null,null,{"$f":"MATCH(C299,Categories!A:A,0)","v":{"$error":"#N/A"}},0,{"$f":"IF(OR($E299<>0,$C299=\"\"),\"\",INDEX(Categories!$A:$E,Entries!$D299,2))","v":""},{"$f":"IF(OR($E299<>0,$C299=\"\"),\"\",INDEX(Categories!$A:$E,Entries!$D299,3))","v":""},{"$f":"IF(OR($E299<>0,$C299=\"\"),\"\",INDEX(Categories!$A:$E,Entries!$D299,4))","v":""},{"$f":"IF(OR($E299<>0,$C299=\"\"),\"\",INDEX(Categories!$A:$E,Entries!$D299,5))","v":""},"2014-01-01","2014-01-01",{"$f":"(Entries!K300-Entries!K299)*24*60","v":0}]
["",null,null,{"$f":"MATCH(C300,Categories!A:A,0)","v":{"$error":"#N/A"}},0,{"$f":"IF(OR($E300<>0,$C300=\"\"),\"\",INDEX(Categories!$A:$E,Entries!$D300,2))","v":""},{"$f":"IF(OR($E300<>0,$C300=\"\"),\"\",INDEX(Categories!$A:$E,Entries!$D300,3))","v":""},{"$f":"IF(OR($E300<>0,$C300=\"\"),\"\",INDEX(Categories!$A:$E,Entries!$D300,4))","v":""},{"$f":"IF(OR($E300<>0,$C300=\"\"),\"\",INDEX(Categories!$A:$E,Entries!$D300,5))","v":""},"2014-01-01","2014-01-01",{"$f":"(Entries!K301-Entries!K300)*24*60","v":0}]
["",null,null,{"$f":"MATCH(C301,Categories!A:A,0)","v":{"$error":"#N/A"}},0,{"$f":"IF(OR($E301<>0,$C301=\"\"),\"\",INDEX(Categories!$A:$E,Entries!$D301,2))","v":""},{"$f":"IF(OR($E301<>0,$C301=\"\"),\"\",INDEX(Categories!$A:$E,Entries!$D301,3))","v":""},{"$f":"IF(OR($E301<>0,$C301=\"\"),\"\",INDEX(Categories!$A:$E,Entries!$D301,4))","v":""},{"$f":"IF(OR($E301<>0,$C301=\"\"),\"\",INDEX(Categories!$A:$E,Entries!$D301,5))","v":""},"2014-01-01","2014-01-01",{"$f":"(Entries!K302-Entries!K301)*24*60","v":0}]
["",null,null,{"$f":"MATCH(C302,Categories!A:A,0)","v":{"$error":"#N/A"}},0,{"$f":"IF(OR($E302<>0,$C302=\"\"),\"\",INDEX(Categories!$A:$E,Entries!$D302,2))","v":""},{"$f":"IF(OR($E302<>0,$C302=\"\"),\"\",INDEX(Categories!$A:$E,Entries!$D302,3))","v":""},{"$f":"IF(OR($E302<>0,$C302=\"\"),\"\",INDEX(Categories!$A:$E,Entries!$D302,4))","v":""},{"$f":"IF(OR($E302<>0,$C302=\"\"),\"\",INDEX(Categories!$A:$E,Entries!$D302,5))","v":""},"2014-01-01","2014-01-01",{"$f":"(Entries!K303-Entries!K302)*24*60","v":0}]
["",null,null,{"$f":"MATCH(C303,Categories!A:A,0)","v":{"$error":"#N/A"}},0,{"$f":"IF(OR($E303<>0,$C303=\"\"),\"\",INDEX(Categories!$A:$E,Entries!$D303,2))","v":""},{"$f":"IF(OR($E303<>0,$C303=\"\"),\"\",INDEX(Categories!$A:$E,Entries!$D303,3))","v":""},{"$f":"IF(OR($E303<>0,$C303=\"\"),\"\",INDEX(Categories!$A:$E,Entries!$D303,4))","v":""},{"$f":"IF(OR($E303<>0,$C303=\"\"),\"\",INDEX(Categories!$A:$E,Entries!$D303,5))","v":""},"2014-01-01","2014-01-01",{"$f":"(Entries!K304-Entries!K303)*24*60","v":0}]
["",null,null,{"$f":"MATCH(C304,Categories!A:A,0)","v":{"$error":"#N/A"}},0,{"$f":"IF(OR($E304<>0,$C304=\"\"),\"\",INDEX(Categories!$A:$E,Entries!$D304,2))","v":""},{"$f":"IF(OR($E304<>0,$C304=\"\"),\"\",INDEX(Categories!$A:$E,Entries!$D304,3))","v":""},{"$f":"IF(OR($E304<>0,$C304=\"\"),\"\",INDEX(Categories!$A:$E,Entries!$D304,4))","v":""},{"$f":"IF(OR($E304<>0,$C304=\"\"),\"\",INDEX(Categories!$A:$E,Entries!$D304,5))","v":""},"2014-01-01","2014-01-01",{"$f":"(Entries!K305-Entries!K304)*24*60","v":0}]
["",null,null,{"$f":"MATCH(C305,Categories!A:A,0)","v":{"$error":"#N/A"}},0,{"$f":"IF(OR($E305<>0,$C305=\"\"),\"\",INDEX(Categories!$A:$E,Entries!$D305,2))","v":""},{"$f":"IF(OR($E305<>0,$C305=\"\"),\"\",INDEX(Categories!$A:$E,Entries!$D305,3))","v":""},{"$f":"IF(OR($E305<>0,$C305=\"\"),\"\",INDEX(Categories!$A:$E,Entries!$D305,4))","v":""},{"$f":"IF(OR($E305<>0,$C305=\"\"),\"\",INDEX(Categories!$A:$E,Entries!$D305,5))","v":""},"2014-01-01","2014-01-01",{"$f":"(Entries!K306-Entries!K305)*24*60","v":0}]
["",null,null,{"$f":"MATCH(C306,Categories!A:A,0)","v":{"$error":"#N/A"}},0,{"$f":"IF(OR($E306<>0,$C306=\"\"),\"\",INDEX(Categories!$A:$E,Entries!$D306,2))","v":""},{"$f":"IF(OR($E306<>0,$C306=\"\"),\"\",INDEX(Categories!$A:$E,Entries!$D306,3))","v":""},{"$f":"IF(OR($E306<>0,$C306=\"\"),\"\",INDEX(Categories!$A:$E,Entries!$D306,4))","v":""},{"$f":"IF(OR($E306<>0,$C306=\"\"),\"\",INDEX(Categories!$A:$E,Entries!$D306,5))","v":""},"2014-01-01","2014-01-01",{"$f":"(Entries!K307-Entries!K306)*24*60","v":0}]
["",null,null,{"$f":"MATCH(C307,Categories!A:A,0)","v":{"$error":"#N/A"}},0,{"$f":"IF(OR($E307<>0,$C307=\"\"),\"\",INDEX(Categories!$A:$E,Entries!$D307,2))","v":""},{"$f":"IF(OR($E307<>0,$C307=\"\"),\"\",INDEX(Categories!$A:$E,Entries!$D307,3))","v":""},{"$f":"IF(OR($E307<>0,$C307=\"\"),\"\",INDEX(Categories!$A:$E,Entries!$D307,4))","v":""},{"$f":"IF(OR($E307<>0,$C307=\"\"),\"\",INDEX(Categories!$A:$E,Entries!$D307,5))","v":""},"2014-01-01","2014-01-01",{"$f":"(Entries!K308-Entries!K307)*24*60","v":0}]
["",null,null,{"$f":"MATCH(C308,Categories!A:A,0)","v":{"$error":"#N/A"}},0,{"$f":"IF(OR($E308<>0,$C308=\"\"),\"\",INDEX(Categories!$A:$E,Entries!$D308,2))","v":""},{"$f":"IF(OR($E308<>0,$C308=\"\"),\"\",INDEX(Categories!$A:$E,Entries!$D308,3))","v":""},{"$f":"IF(OR($E308<>0,$C308=\"\"),\"\",INDEX(Categories!$A:$E,Entries!$D308,4))","v":""},{"$f":"IF(OR($E308<>0,$C308=\"\"),\"\",INDEX(Categories!$A:$E,Entries!$D308,5))","v":""},"2014-01-01","2014-01-01",{"$f":"(Entries!K309-Entries!K308)*24*60","v":0}]
["",null,null,{"$f":"MATCH(C309,Categories!A:A,0)","v":{"$error":"#N/A"}},0,{"$f":"IF(OR($E309<>0,$C309=\"\"),\"\",INDEX(Categories!$A:$E,Entries!$D309,2))","v":""},{"$f":"IF(OR($E309<>0,$C309=\"\"),\"\",INDEX(Categories!$A:$E,Entries!$D309,3))","v":""},{"$f":"IF(OR($E309<>0,$C309=\"\"),\"\",INDEX(Categories!$A:$E,Entries!$D309,4))","v":""},{"$f":"IF(OR($E309<>0,$C309=\"\"),\"\",INDEX(Categories!$A:$E,Entries!$D309,5))","v":""},"2014-01-01","2014-01-01",{"$f":"(Entries!K310-Entries!K309)*24*60","v":0}]
["",null,null,{"$f":"MATCH(C310,Categories!A:A,0)","v":{"$error":"#N/A"}},0,{"$f":"IF(OR($E310<>0,$C310=\"\"),\"\",INDEX(Categories!$A:$E,Entries!$D310,2))","v":""},{"$f":"IF(OR($E310<>0,$C310=\"\"),\"\",INDEX(Categories!$A:$E,Entries!$D310,3))","v":""},{"$f":"IF(OR($E310<>0,$C310=\"\"),\"\",INDEX(Categories!$A:$E,Entries!$D310,4))","v":""},{"$f":"IF(OR($E310<>0,$C310=\"\"),\"\",INDEX(Categories!$A:$E,Entries!$D310,5))","v":""},"2014-01-01","2014-01-01",{"$f":"(Entries!K311-Entries!K310)*24*60","v":0}]
["",null,null,{"$f":"MATCH(C311,Categories!A:A,0)","v":{"$error":"#N/A"}},0,{"$f":"IF(OR($E311<>0,$C311=\"\"),\"\",INDEX(Categories!$A:$E,Entries!$D311,2))","v":""},{"$f":"IF(OR($E311<>0,$C311=\"\"),\"\",INDEX(Categories!$A:$E,Entries!$D311,3))","v":""},{"$f":"IF(OR($E311<>0,$C311=\"\"),\"\",INDEX(Categories!$A:$E,Entries!$D311,4))","v":""},{"$f":"IF(OR($E311<>0,$C311=\"\"),\"\",INDEX(Categories!$A:$E,Entries!$D311,5))","v":""},"2014-01-01","2014-01-01",{"$f":"(Entries!K312-Entries!K311)*24*60","v":0}]
["",null,null,{"$f":"MATCH(C312,Categories!A:A,0)","v":{"$error":"#N/A"}},0,{"$f":"IF(OR($E312<>0,$C312=\"\"),\"\",INDEX(Categories!$A:$E,Entries!$D312,2))","v":""},{"$f":"IF(OR($E312<>0,$C312=\"\"),\"\",INDEX(Categories!$A:$E,Entries!$D312,3))","v":""},{"$f":"IF(OR($E312<>0,$C312=\"\"),\"\",INDEX(Categories!$A:$E,Entries!$D312,4))","v":""},{"$f":"IF(OR($E312<>0,$C312=\"\"),\"\",INDEX(Categories!$A:$E,Entries!$D312,5))","v":""},"2014-01-01","2014-01-01",{"$f":"(Entries!K313-Entries!K312)*24*60","v":0}]
["",null,null,{"$f":"MATCH(C313,Categories!A:A,0)","v":{"$error":"#N/A"}},0,{"$f":"IF(OR($E313<>0,$C313=\"\"),\"\",INDEX(Categories!$A:$E,Entries!$D313,2))","v":""},{"$f":"IF(OR($E313<>0,$C313=\"\"),\"\",INDEX(Categories!$A:$E,Entries!$D313,3))","v":""},{"$f":"IF(OR($E313<>0,$C313=\"\"),\"\",INDEX(Categories!$A:$E,Entries!$D313,4))","v":""},{"$f":"IF(OR($E313<>0,$C313=\"\"),\"\",INDEX(Categories!$A:$E,Entries!$D313,5))","v":""},"2014-01-01","2014-01-01",{"$f":"(Entries!K314-Entries!K313)*24*60","v":0}]
["",null,null,{"$f":"MATCH(C314,Categories!A:A,0)","v":{"$error":"#N/A"}},0,{"$f":"IF(OR($E314<>0,$C314=\"\"),\"\",INDEX(Categories!$A:$E,Entries!$D314,2))","v":""},{"$f":"IF(OR($E314<>0,$C314=\"\"),\"\",INDEX(Categories!$A:$E,Entries!$D314,3))","v":""},{"$f":"IF(OR($E314<>0,$C314=\"\"),\"\",INDEX(Categories!$A:$E,Entries!$D314,4))","v":""},{"$f":"IF(OR($E314<>0,$C314=\"\"),\"\",INDEX(Categories!$A:$E,Entries!$D314,5))","v":""},"2014-01-01","2014-01-01",{"$f":"(Entries!K315-Entries!K314)*24*60","v":0}]
["",null,null,{"$f":"MATCH(C315,Categories!A:A,0)","v":{"$error":"#N/A"}},0,{"$f":"IF(OR($E315<>0,$C315=\"\"),\"\",INDEX(Categories!$A:$E,Entries!$D315,2))","v":""},{"$f":"IF(OR($E315<>0,$C315=\"\"),\"\",INDEX(Categories!$A:$E,Entries!$D315,3))","v":""},{"$f":"IF(OR($E315<>0,$C315=\"\"),\"\",INDEX(Categories!$A:$E,Entries!$D315,4))","v":""},{"$f":"IF(OR($E315<>0,$C315=\"\"),\"\",INDEX(Categories!$A:$E,Entries!$D315,5))","v":""},"2014-01-01","2014-01-01",{"$f":"(Entries!K316-Entries!K315)*24*60","v":0}]
["",null,null,{"$f":"MATCH(C316,Categories!A:A,0)","v":{"$error":"#N/A"}},0,{"$f":"IF(OR($E316<>0,$C316=\"\"),\"\",INDEX(Categories!$A:$E,Entries!$D316,2))","v":""},{"$f":"IF(OR($E316<>0,$C316=\"\"),\"\",INDEX(Categories!$A:$E,Entries!$D316,3))","v":""},{"$f":"IF(OR($E316<>0,$C316=\"\"),\"\",INDEX(Categories!$A:$E,Entries!$D316,4))","v":""},{"$f":"IF(OR($E316<>0,$C316=\"\"),\"\",INDEX(Categories!$A:$E,Entries!$D316,5))","v":""},"2014-01-01","2014-01-01",{"$f":"(Entries!K317-Entries!K316)*24*60","v":0}]
["",null,null,{"$f":"MATCH(C317,Categories!A:A,0)","v":{"$error":"#N/A"}},0,{"$f":"IF(OR($E317<>0,$C317=\"\"),\"\",INDEX(Categories!$A:$E,Entries!$D317,2))","v":""},{"$f":"IF(OR($E317<>0,$C317=\"\"),\"\",INDEX(Categories!$A:$E,Entries!$D317,3))","v":""},{"$f":"IF(OR($E317<>0,$C317=\"\"),\"\",INDEX(Categories!$A:$E,Entries!$D317,4))","v":""},{"$f":"IF(OR($E317<>0,$C317=\"\"),\"\",INDEX(Categories!$A:$E,Entries!$D317,5))","v":""},"2014-01-01","2014-01-01",{"$f":"(Entries!K318-Entries!K317)*24*60","v":0}]
["",null,null,{"$f":"MATCH(C318,Categories!A:A,0)","v":{"$error":"#N/A"}},0,{"$f":"IF(OR($E318<>0,$C318=\"\"),\"\",INDEX(Categories!$A:$E,Entries!$D318,2))","v":""},{"$f":"IF(OR($E318<>0,$C318=\"\"),\"\",INDEX(Categories!$A:$E,Entries!$D318,3))","v":""},{"$f":"IF(OR($E318<>0,$C318=\"\"),\"\",INDEX(Categories!$A:$E,Entries!$D318,4))","v":""},{"$f":"IF(OR($E318<>0,$C318=\"\"),\"\",INDEX(Categories!$A:$E,Entries!$D318,5))","v":""},"2014-01-01","2014-01-01",{"$f":"(Entries!K319-Entries!K318)*24*60","v":0}]
["",null,null,{"$f":"MATCH(C319,Categories!A:A,0)","v":{"$error":"#N/A"}},0,{"$f":"IF(OR($E319<>0,$C319=\"\"),\"\",INDEX(Categories!$A:$E,Entries!$D319,2))","v":""},{"$f":"IF(OR($E319<>0,$C319=\"\"),\"\",INDEX(Categories!$A:$E,Entries!$D319,3))","v":""},{"$f":"IF(OR($E319<>0,$C319=\"\"),\"\",INDEX(Categories!$A:$E,Entries!$D319,4))","v":""},{"$f":"IF(OR($E319<>0,$C319=\"\"),\"\",INDEX(Categories!$A:$E,Entries!$D319,5))","v":""},"2014-01-01","2014-01-01",{"$f":"(Entries!K320-Entries!K319)*24*60","v":0}]
["",null,null,{"$f":"MATCH(C320,Categories!A:A,0)","v":{"$error":"#N/A"}},0,{"$f":"IF(OR($E320<>0,$C320=\"\"),\"\",INDEX(Categories!$A:$E,Entries!$D320,2))","v":""},{"$f":"IF(OR($E320<>0,$C320=\"\"),\"\",INDEX(Categories!$A:$E,Entries!$D320,3))","v":""},{"$f":"IF(OR($E320<>0,$C320=\"\"),\"\",INDEX(Categories!$A:$E,Entries!$D320,4))","v":""},{"$f":"IF(OR($E320<>0,$C320=\"\"),\"\",INDEX(Categories!$A:$E,Entries!$D320,5))","v":""},"2014-01-01","2014-01-01",{"$f":"(Entries!K321-Entries!K320)*24*60","v":0}]
["",null,null,{"$f":"MATCH(C321,Categories!A:A,0)","v":{"$error":"#N/A"}},0,{"$f":"IF(OR($E321<>0,$C321=\"\"),\"\",INDEX(Categories!$A:$E,Entries!$D321,2))","v":""},{"$f":"IF(OR($E321<>0,$C321=\"\"),\"\",INDEX(Categories!$A:$E,Entries!$D321,3))","v":""},{"$f":"IF(OR($E321<>0,$C321=\"\"),\"\",INDEX(Categories!$A:$E,Entries!$D321,4))","v":""},{"$f":"IF(OR($E321<>0,$C321=\"\"),\"\",INDEX(Categories!$A:$E,Entries!$D321,5))","v":""},"2014-01-01","2014-01-01",{"$f":"(Entries!K322-Entries!K321)*24*60","v":0}]
["",null,null,{"$f":"MATCH(C322,Categories!A:A,0)","v":{"$error":"#N/A"}},{"$f":"IF(AND(ISERROR(D322),C322<>\"\"),ROW(D322),0)","v":0},{"$f":"IF(OR($E322<>0,$C322=\"\"),\"\",INDEX(Categories!$A:$E,Entries!$D322,2))","v":""},{"$f":"IF(OR($E322<>0,$C322=\"\"),\"\",INDEX(Categories!$A:$E,Entries!$D322,3))","v":""},{"$f":"IF(OR($E322<>0,$C322=\"\"),\"\",INDEX(Categories!$A:$E,Entries!$D322,4))","v":""},{"$f":"IF(OR($E322<>0,$C322=\"\"),\"\",INDEX(Categories!$A:$E,Entries!$D322,5))","v":""},{"$f":"IF(A322=\"\",J321,A322)","v":"2014-01-01"},{"$f":"J322+B322","v":"2014-01-01"},{"$f":"(Entries!K323-Entries!K322)*24*60","v":0}]
["",null,null,{"$f":"MATCH(C323,Categories!A:A,0)","v":{"$error":"#N/A"}},0,{"$f":"IF(OR($E323<>0,$C323=\"\"),\"\",INDEX(Categories!$A:$E,Entries!$D323,2))","v":""},{"$f":"IF(OR($E323<>0,$C323=\"\"),\"\",INDEX(Categories!$A:$E,Entries!$D323,3))","v":""},{"$f":"IF(OR($E323<>0,$C323=\"\"),\"\",INDEX(Categories!$A:$E,Entries!$D323,4))","v":""},{"$f":"IF(OR($E323<>0,$C323=\"\"),\"\",INDEX(Categories!$A:$E,Entries!$D323,5))","v":""},"2014-01-01","2014-01-01",{"$f":"(Entries!K324-Entries!K323)*24*60","v":0}]
["",null,null,{"$f":"MATCH(C324,Categories!A:A,0)","v":{"$error":"#N/A"}},0,{"$f":"IF(OR($E324<>0,$C324=\"\"),\"\",INDEX(Categories!$A:$E,Entries!$D324,2))","v":""},{"$f":"IF(OR($E324<>0,$C324=\"\"),\"\",INDEX(Categories!$A:$E,Entries!$D324,3))","v":""},{"$f":"IF(OR($E324<>0,$C324=\"\"),\"\",INDEX(Categories!$A:$E,Entries!$D324,4))","v":""},{"$f":"IF(OR($E324<>0,$C324=\"\"),\"\",INDEX(Categories!$A:$E,Entries!$D324,5))","v":""},"2014-01-01","2014-01-01",{"$f":"(Entries!K325-Entries!K324)*24*60","v":0}]
["",null,null,{"$f":"MATCH(C325,Categories!A:A,0)","v":{"$error":"#N/A"}},0,{"$f":"IF(OR($E325<>0,$C325=\"\"),\"\",INDEX(Categories!$A:$E,Entries!$D325,2))","v":""},{"$f":"IF(OR($E325<>0,$C325=\"\"),\"\",INDEX(Categories!$A:$E,Entries!$D325,3))","v":""},{"$f":"IF(OR($E325<>0,$C325=\"\"),\"\",INDEX(Categories!$A:$E,Entries!$D325,4))","v":""},{"$f":"IF(OR($E325<>0,$C325=\"\"),\"\",INDEX(Categories!$A:$E,Entries!$D325,5))","v":""},"2014-01-01","2014-01-01",{"$f":"(Entries!K326-Entries!K325)*24*60","v":0}]
["",null,null,{"$f":"MATCH(C326,Categories!A:A,0)","v":{"$error":"#N/A"}},0,{"$f":"IF(OR($E326<>0,$C326=\"\"),\"\",INDEX(Categories!$A:$E,Entries!$D326,2))","v":""},{"$f":"IF(OR($E326<>0,$C326=\"\"),\"\",INDEX(Categories!$A:$E,Entries!$D326,3))","v":""},{"$f":"IF(OR($E326<>0,$C326=\"\"),\"\",INDEX(Categories!$A:$E,Entries!$D326,4))","v":""},{"$f":"IF(OR($E326<>0,$C326=\"\"),\"\",INDEX(Categories!$A:$E,Entries!$D326,5))","v":""},"2014-01-01","2014-01-01",{"$f":"(Entries!K327-Entries!K326)*24*60","v":0}]
["",null,null,{"$f":"MATCH(C327,Categories!A:A,0)","v":{"$error":"#N/A"}},0,{"$f":"IF(OR($E327<>0,$C327=\"\"),\"\",INDEX(Categories!$A:$E,Entries!$D327,2))","v":""},{"$f":"IF(OR($E327<>0,$C327=\"\"),\"\",INDEX(Categories!$A:$E,Entries!$D327,3))","v":""},{"$f":"IF(OR($E327<>0,$C327=\"\"),\"\",INDEX(Categories!$A:$E,Entries!$D327,4))","v":""},{"$f":"IF(OR($E327<>0,$C327=\"\"),\"\",INDEX(Categories!$A:$E,Entries!$D327,5))","v":""},"2014-01-01","2014-01-01",{"$f":"(Entries!K328-Entries!K327)*24*60","v":0}]
["",null,null,{"$f":"MATCH(C328,Categories!A:A,0)","v":{"$error":"#N/A"}},0,{"$f":"IF(OR($E328<>0,$C328=\"\"),\"\",INDEX(Categories!$A:$E,Entries!$D328,2))","v":""},{"$f":"IF(OR($E328<>0,$C328=\"\"),\"\",INDEX(Categories!$A:$E,Entries!$D328,3))","v":""},{"$f":"IF(OR($E328<>0,$C328=\"\"),\"\",INDEX(Categories!$A:$E,Entries!$D328,4))","v":""},{"$f":"IF(OR($E328<>0,$C328=\"\"),\"\",INDEX(Categories!$A:$E,Entries!$D328,5))","v":""},"2014-01-01","2014-01-01",{"$f":"(Entries!K329-Entries!K328)*24*60","v":0}]
["",null,null,{"$f":"MATCH(C329,Categories!A:A,0)","v":{"$error":"#N/A"}},0,{"$f":"IF(OR($E329<>0,$C329=\"\"),\"\",INDEX(Categories!$A:$E,Entries!$D329,2))","v":""},{"$f":"IF(OR($E329<>0,$C329=\"\"),\"\",INDEX(Categories!$A:$E,Entries!$D329,3))","v":""},{"$f":"IF(OR($E329<>0,$C329=\"\"),\"\",INDEX(Categories!$A:$E,Entries!$D329,4))","v":""},{"$f":"IF(OR($E329<>0,$C329=\"\"),\"\",INDEX(Categories!$A:$E,Entries!$D329,5))","v":""},"2014-01-01","2014-01-01",{"$f":"(Entries!K330-Entries!K329)*24*60","v":0}]
["",null,null,{"$f":"MATCH(C330,Categories!A:A,0)","v":{"$error":"#N/A"}},0,{"$f":"IF(OR($E330<>0,$C330=\"\"),\"\",INDEX(Categories!$A:$E,Entries!$D330,2))","v":""},{"$f":"IF(OR($E330<>0,$C330=\"\"),\"\",INDEX(Categories!$A:$E,Entries!$D330,3))","v":""},{"$f":"IF(OR($E330<>0,$C330=\"\"),\"\",INDEX(Categories!$A:$E,Entries!$D330,4))","v":""},{"$f":"IF(OR($E330<>0,$C330=\"\"),\"\",INDEX(Categories!$A:$E,Entries!$D330,5))","v":""},"2014-01-01","2014-01-01",{"$f":"(Entries!K331-Entries!K330)*24*60","v":0}]
["",null,null,{"$f":"MATCH(C331,Categories!A:A,0)","v":{"$error":"#N/A"}},0,{"$f":"IF(OR($E331<>0,$C331=\"\"),\"\",INDEX(Categories!$A:$E,Entries!$D331,2))","v":""},{"$f":"IF(OR($E331<>0,$C331=\"\"),\"\",INDEX(Categories!$A:$E,Entries!$D331,3))","v":""},{"$f":"IF(OR($E331<>0,$C331=\"\"),\"\",INDEX(Categories!$A:$E,Entries!$D331,4))","v":""},{"$f":"IF(OR($E331<>0,$C331=\"\"),\"\",INDEX(Categories!$A:$E,Entries!$D331,5))","v":""},"2014-01-01","2014-01-01",{"$f":"(Entries!K332-Entries!K331)*24*60","v":0}]
["",null,null,{"$f":"MATCH(C332,Categories!A:A,0)","v":{"$error":"#N/A"}},0,{"$f":"IF(OR($E332<>0,$C332=\"\"),\"\",INDEX(Categories!$A:$E,Entries!$D332,2))","v":""},{"$f":"IF(OR($E332<>0,$C332=\"\"),\"\",INDEX(Categories!$A:$E,Entries!$D332,3))","v":""},{"$f":"IF(OR($E332<>0,$C332=\"\"),\"\",INDEX(Categories!$A:$E,Entries!$D332,4))","v":""},{"$f":"IF(OR($E332<>0,$C332=\"\"),\"\",INDEX(Categories!$A:$E,Entries!$D332,5))","v":""},"2014-01-01","2014-01-01",{"$f":"(Entries!K333-Entries!K332)*24*60","v":0}]
["",null,null,{"$f":"MATCH(C333,Categories!A:A,0)","v":{"$error":"#N/A"}},0,{"$f":"IF(OR($E333<>0,$C333=\"\"),\"\",INDEX(Categories!$A:$E,Entries!$D333,2))","v":""},{"$f":"IF(OR($E333<>0,$C333=\"\"),\"\",INDEX(Categories!$A:$E,Entries!$D333,3))","v":""},{"$f":"IF(OR($E333<>0,$C333=\"\"),\"\",INDEX(Categories!$A:$E,Entries!$D333,4))","v":""},{"$f":"IF(OR($E333<>0,$C333=\"\"),\"\",INDEX(Categories!$A:$E,Entries!$D333,5))","v":""},"2014-01-01","2014-01-01",{"$f":"(Entries!K334-Entries!K333)*24*60","v":0}]
["",null,null,{"$f":"MATCH(C334,Categories!A:A,0)","v":{"$error":"#N/A"}},0,{"$f":"IF(OR($E334<>0,$C334=\"\"),\"\",INDEX(Categories!$A:$E,Entries!$D334,2))","v":""},{"$f":"IF(OR($E334<>0,$C334=\"\"),\"\",INDEX(Categories!$A:$E,Entries!$D334,3))","v":""},{"$f":"IF(OR($E334<>0,$C334=\"\"),\"\",INDEX(Categories!$A:$E,Entries!$D334,4))","v":""},{"$f":"IF(OR($E334<>0,$C334=\"\"),\"\",INDEX(Categories!$A:$E,Entries!$D334,5))","v":""},"2014-01-01","2014-01-01",{"$f":"(Entries!K335-Entries!K334)*24*60","v":0}]
["",null,null,{"$f":"MATCH(C335,Categories!A:A,0)","v":{"$error":"#N/A"}},0,{"$f":"IF(OR($E335<>0,$C335=\"\"),\"\",INDEX(Categories!$A:$E,Entries!$D335,2))","v":""},{"$f":"IF(OR($E335<>0,$C335=\"\"),\"\",INDEX(Categories!$A:$E,Entries!$D335,3))","v":""},{"$f":"IF(OR($E335<>0,$C335=\"\"),\"\",INDEX(Categories!$A:$E,Entries!$D335,4))","v":""},{"$f":"IF(OR($E335<>0,$C335=\"\"),\"\",INDEX(Categories!$A:$E,Entries!$D335,5))","v":""},"2014-01-01","2014-01-01",{"$f":"(Entries!K336-Entries!K335)*24*60","v":0}]
["",null,null,{"$f":"MATCH(C336,Categories!A:A,0)","v":{"$error":"#N/A"}},0,{"$f":"IF(OR($E336<>0,$C336=\"\"),\"\",INDEX(Categories!$A:$E,Entries!$D336,2))","v":""},{"$f":"IF(OR($E336<>0,$C336=\"\"),\"\",INDEX(Categories!$A:$E,Entries!$D336,3))","v":""},{"$f":"IF(OR($E336<>0,$C336=\"\"),\"\",INDEX(Categories!$A:$E,Entries!$D336,4))","v":""},{"$f":"IF(OR($E336<>0,$C336=\"\"),\"\",INDEX(Categories!$A:$E,Entries!$D336,5))","v":""},"2014-01-01","2014-01-01",{"$f":"(Entries!K337-Entries!K336)*24*60","v":0}]
["",null,null,{"$f":"MATCH(C337,Categories!A:A,0)","v":{"$error":"#N/A"}},0,{"$f":"IF(OR($E337<>0,$C337=\"\"),\"\",INDEX(Categories!$A:$E,Entries!$D337,2))","v":""},{"$f":"IF(OR($E337<>0,$C337=\"\"),\"\",INDEX(Categories!$A:$E,Entries!$D337,3))","v":""},{"$f":"IF(OR($E337<>0,$C337=\"\"),\"\",INDEX(Categories!$A:$E,Entries!$D337,4))","v":""},{"$f":"IF(OR($E337<>0,$C337=\"\"),\"\",INDEX(Categories!$A:$E,Entries!$D337,5))","v":""},"2014-01-01","2014-01-01",{"$f":"(Entries!K338-Entries!K337)*24*60","v":0}]
["",null,null,{"$f":"MATCH(C338,Categories!A:A,0)","v":{"$error":"#N/A"}},0,{"$f":"IF(OR($E338<>0,$C338=\"\"),\"\",INDEX(Categories!$A:$E,Entries!$D338,2))","v":""},{"$f":"IF(OR($E338<>0,$C338=\"\"),\"\",INDEX(Categories!$A:$E,Entries!$D338,3))","v":""},{"$f":"IF(OR($E338<>0,$C338=\"\"),\"\",INDEX(Categories!$A:$E,Entries!$D338,4))","v":""},{"$f":"IF(OR($E338<>0,$C338=\"\"),\"\",INDEX(Categories!$A:$E,Entries!$D338,5))","v":""},"2014-01-01","2014-01-01",{"$f":"(Entries!K339-Entries!K338)*24*60","v":0}]
["",null,null,{"$f":"MATCH(C339,Categories!A:A,0)","v":{"$error":"#N/A"}},0,{"$f":"IF(OR($E339<>0,$C339=\"\"),\"\",INDEX(Categories!$A:$E,Entries!$D339,2))","v":""},{"$f":"IF(OR($E339<>0,$C339=\"\"),\"\",INDEX(Categories!$A:$E,Entries!$D339,3))","v":""},{"$f":"IF(OR($E339<>0,$C339=\"\"),\"\",INDEX(Categories!$A:$E,Entries!$D339,4))","v":""},{"$f":"IF(OR($E339<>0,$C339=\"\"),\"\",INDEX(Categories!$A:$E,Entries!$D339,5))","v":""},"2014-01-01","2014-01-01",{"$f":"(Entries!K340-Entries!K339)*24*60","v":0}]
["",null,null,{"$f":"MATCH(C340,Categories!A:A,0)","v":{"$error":"#N/A"}},0,{"$f":"IF(OR($E340<>0,$C340=\"\"),\"\",INDEX(Categories!$A:$E,Entries!$D340,2))","v":""},{"$f":"IF(OR($E340<>0,$C340=\"\"),\"\",INDEX(Categories!$A:$E,Entries!$D340,3))","v":""},{"$f":"IF(OR($E340<>0,$C340=\"\"),\"\",INDEX(Categories!$A:$E,Entries!$D340,4))","v":""},{"$f":"IF(OR($E340<>0,$C340=\"\"),\"\",INDEX(Categories!$A:$E,Entries!$D340,5))","v":""},"2014-01-01","2014-01-01",{"$f":"(Entries!K341-Entries!K340)*24*60","v":0}]
["",null,null,{"$f":"MATCH(C341,Categories!A:A,0)","v":{"$error":"#N/A"}},0,{"$f":"IF(OR($E341<>0,$C341=\"\"),\"\",INDEX(Categories!$A:$E,Entries!$D341,2))","v":""},{"$f":"IF(OR($E341<>0,$C341=\"\"),\"\",INDEX(Categories!$A:$E,Entries!$D341,3))","v":""},{"$f":"IF(OR($E341<>0,$C341=\"\"),\"\",INDEX(Categories!$A:$E,Entries!$D341,4))","v":""},{"$f":"IF(OR($E341<>0,$C341=\"\"),\"\",INDEX(Categories!$A:$E,Entries!$D341,5))","v":""},"2014-01-01","2014-01-01",{"$f":"(Entries!K342-Entries!K341)*24*60","v":0}]
["",null,null,{"$f":"MATCH(C342,Categories!A:A,0)","v":{"$error":"#N/A"}},0,{"$f":"IF(OR($E342<>0,$C342=\"\"),\"\",INDEX(Categories!$A:$E,Entries!$D342,2))","v":""},{"$f":"IF(OR($E342<>0,$C342=\"\"),\"\",INDEX(Categories!$A:$E,Entries!$D342,3))","v":""},{"$f":"IF(OR($E342<>0,$C342=\"\"),\"\",INDEX(Categories!$A:$E,Entries!$D342,4))","v":""},{"$f":"IF(OR($E342<>0,$C342=\"\"),\"\",INDEX(Categories!$A:$E,Entries!$D342,5))","v":""},"2014-01-01","2014-01-01",{"$f":"(Entries!K343-Entries!K342)*24*60","v":0}]
["",null,null,{"$f":"MATCH(C343,Categories!A:A,0)","v":{"$error":"#N/A"}},0,{"$f":"IF(OR($E343<>0,$C343=\"\"),\"\",INDEX(Categories!$A:$E,Entries!$D343,2))","v":""},{"$f":"IF(OR($E343<>0,$C343=\"\"),\"\",INDEX(Categories!$A:$E,Entries!$D343,3))","v":""},{"$f":"IF(OR($E343<>0,$C343=\"\"),\"\",INDEX(Categories!$A:$E,Entries!$D343,4))","v":""},{"$f":"IF(OR($E343<>0,$C343=\"\"),\"\",INDEX(Categories!$A:$E,Entries!$D343,5))","v":""},"2014-01-01","2014-01-01",{"$f":"(Entries!K344-Entries!K343)*24*60","v":0}]
["",null,null,{"$f":"MATCH(C344,Categories!A:A,0)","v":{"$error":"#N/A"}},0,{"$f":"IF(OR($E344<>0,$C344=\"\"),\"\",INDEX(Categories!$A:$E,Entries!$D344,2))","v":""},{"$f":"IF(OR($E344<>0,$C344=\"\"),\"\",INDEX(Categories!$A:$E,Entries!$D344,3))","v":""},{"$f":"IF(OR($E344<>0,$C344=\"\"),\"\",INDEX(Categories!$A:$E,Entries!$D344,4))","v":""},{"$f":"IF(OR($E344<>0,$C344=\"\"),\"\",INDEX(Categories!$A:$E,Entries!$D344,5))","v":""},"2014-01-01","2014-01-01",{"$f":"(Entries!K345-Entries!K344)*24*60","v":0}]
["",null,null,{"$f":"MATCH(C345,Categories!A:A,0)","v":{"$error":"#N/A"}},0,{"$f":"IF(OR($E345<>0,$C345=\"\"),\"\",INDEX(Categories!$A:$E,Entries!$D345,2))","v":""},{"$f":"IF(OR($E345<>0,$C345=\"\"),\"\",INDEX(Categories!$A:$E,Entries!$D345,3))","v":""},{"$f":"IF(OR($E345<>0,$C345=\"\"),\"\",INDEX(Categories!$A:$E,Entries!$D345,4))","v":""},{"$f":"IF(OR($E345<>0,$C345=\"\"),\"\",INDEX(Categories!$A:$E,Entries!$D345,5))","v":""},"2014-01-01","2014-01-01",{"$f":"(Entries!K346-Entries!K345)*24*60","v":0}]
["",null,null,{"$f":"MATCH(C346,Categories!A:A,0)","v":{"$error":"#N/A"}},0,{"$f":"IF(OR($E346<>0,$C346=\"\"),\"\",INDEX(Categories!$A:$E,Entries!$D346,2))","v":""},{"$f":"IF(OR($E346<>0,$C346=\"\"),\"\",INDEX(Categories!$A:$E,Entries!$D346,3))","v":""},{"$f":"IF(OR($E346<>0,$C346=\"\"),\"\",INDEX(Categories!$A:$E,Entries!$D346,4))","v":""},{"$f":"IF(OR($E346<>0,$C346=\"\"),\"\",INDEX(Categories!$A:$E,Entries!$D346,5))","v":""},"2014-01-01","2014-01-01",{"$f":"(Entries!K347-Entries!K346)*24*60","v":0}]
["",null,null,{"$f":"MATCH(C347,Categories!A:A,0)","v":{"$error":"#N/A"}},0,{"$f":"IF(OR($E347<>0,$C347=\"\"),\"\",INDEX(Categories!$A:$E,Entries!$D347,2))","v":""},{"$f":"IF(OR($E347<>0,$C347=\"\"),\"\",INDEX(Categories!$A:$E,Entries!$D347,3))","v":""},{"$f":"IF(OR($E347<>0,$C347=\"\"),\"\",INDEX(Categories!$A:$E,Entries!$D347,4))","v":""},{"$f":"IF(OR($E347<>0,$C347=\"\"),\"\",INDEX(Categories!$A:$E,Entries!$D347,5))","v":""},"2014-01-01","2014-01-01",{"$f":"(Entries!K348-Entries!K347)*24*60","v":0}]
["",null,null,{"$f":"MATCH(C348,Categories!A:A,0)","v":{"$error":"#N/A"}},0,{"$f":"IF(OR($E348<>0,$C348=\"\"),\"\",INDEX(Categories!$A:$E,Entries!$D348,2))","v":""},{"$f":"IF(OR($E348<>0,$C348=\"\"),\"\",INDEX(Categories!$A:$E,Entries!$D348,3))","v":""},{"$f":"IF(OR($E348<>0,$C348=\"\"),\"\",INDEX(Categories!$A:$E,Entries!$D348,4))","v":""},{"$f":"IF(OR($E348<>0,$C348=\"\"),\"\",INDEX(Categories!$A:$E,Entries!$D348,5))","v":""},"2014-01-01","2014-01-01",{"$f":"(Entries!K349-Entries!K348)*24*60","v":0}]
["",null,null,{"$f":"MATCH(C349,Categories!A:A,0)","v":{"$error":"#N/A"}},0,{"$f":"IF(OR($E349<>0,$C349=\"\"),\"\",INDEX(Categories!$A:$E,Entries!$D349,2))","v":""},{"$f":"IF(OR($E349<>0,$C349=\"\"),\"\",INDEX(Categories!$A:$E,Entries!$D349,3))","v":""},{"$f":"IF(OR($E349<>0,$C349=\"\"),\"\",INDEX(Categories!$A:$E,Entries!$D349,4))","v":""},{"$f":"IF(OR($E349<>0,$C349=\"\"),\"\",INDEX(Categories!$A:$E,Entries!$D349,5))","v":""},"2014-01-01","2014-01-01",{"$f":"(Entries!K350-Entries!K349)*24*60","v":0}]
["",null,null,{"$f":"MATCH(C350,Categories!A:A,0)","v":{"$error":"#N/A"}},0,{"$f":"IF(OR($E350<>0,$C350=\"\"),\"\",INDEX(Categories!$A:$E,Entries!$D350,2))","v":""},{"$f":"IF(OR($E350<>0,$C350=\"\"),\"\",INDEX(Categories!$A:$E,Entries!$D350,3))","v":""},{"$f":"IF(OR($E350<>0,$C350=\"\"),\"\",INDEX(Categories!$A:$E,Entries!$D350,4))","v":""},{"$f":"IF(OR($E350<>0,$C350=\"\"),\"\",INDEX(Categories!$A:$E,Entries!$D350,5))","v":""},"2014-01-01","2014-01-01",{"$f":"(Entries!K351-Entries!K350)*24*60","v":0}]
["",null,null,{"$f":"MATCH(C351,Categories!A:A,0)","v":{"$error":"#N/A"}},0,{"$f":"IF(OR($E351<>0,$C351=\"\"),\"\",INDEX(Categories!$A:$E,Entries!$D351,2))","v":""},{"$f":"IF(OR($E351<>0,$C351=\"\"),\"\",INDEX(Categories!$A:$E,Entries!$D351,3))","v":""},{"$f":"IF(OR($E351<>0,$C351=\"\"),\"\",INDEX(Categories!$A:$E,Entries!$D351,4))","v":""},{"$f":"IF(OR($E351<>0,$C351=\"\"),\"\",INDEX(Categories!$A:$E,Entries!$D351,5))","v":""},"2014-01-01","2014-01-01",{"$f":"(Entries!K352-Entries!K351)*24*60","v":0}]
["",null,null,{"$f":"MATCH(C352,Categories!A:A,0)","v":{"$error":"#N/A"}},0,{"$f":"IF(OR($E352<>0,$C352=\"\"),\"\",INDEX(Categories!$A:$E,Entries!$D352,2))","v":""},{"$f":"IF(OR($E352<>0,$C352=\"\"),\"\",INDEX(Categories!$A:$E,Entries!$D352,3))","v":""},{"$f":"IF(OR($E352<>0,$C352=\"\"),\"\",INDEX(Categories!$A:$E,Entries!$D352,4))","v":""},{"$f":"IF(OR($E352<>0,$C352=\"\"),\"\",INDEX(Categories!$A:$E,Entries!$D352,5))","v":""},"2014-01-01","2014-01-01",{"$f":"(Entries!K353-Entries!K352)*24*60","v":0}]
["",null,null,{"$f":"MATCH(C353,Categories!A:A,0)","v":{"$error":"#N/A"}},0,{"$f":"IF(OR($E353<>0,$C353=\"\"),\"\",INDEX(Categories!$A:$E,Entries!$D353,2))","v":""},{"$f":"IF(OR($E353<>0,$C353=\"\"),\"\",INDEX(Categories!$A:$E,Entries!$D353,3))","v":""},{"$f":"IF(OR($E353<>0,$C353=\"\"),\"\",INDEX(Categories!$A:$E,Entries!$D353,4))","v":""},{"$f":"IF(OR($E353<>0,$C353=\"\"),\"\",INDEX(Categories!$A:$E,Entries!$D353,5))","v":""},"2014-01-01","2014-01-01",{"$f":"(Entries!K354-Entries!K353)*24*60","v":0}]
["",null,null,{"$f":"MATCH(C354,Categories!A:A,0)","v":{"$error":"#N/A"}},0,{"$f":"IF(OR($E354<>0,$C354=\"\"),\"\",INDEX(Categories!$A:$E,Entries!$D354,2))","v":""},{"$f":"IF(OR($E354<>0,$C354=\"\"),\"\",INDEX(Categories!$A:$E,Entries!$D354,3))","v":""},{"$f":"IF(OR($E354<>0,$C354=\"\"),\"\",INDEX(Categories!$A:$E,Entries!$D354,4))","v":""},{"$f":"IF(OR($E354<>0,$C354=\"\"),\"\",INDEX(Categories!$A:$E,Entries!$D354,5))","v":""},"2014-01-01","2014-01-01",{"$f":"(Entries!K355-Entries!K354)*24*60","v":0}]
["",null,null,{"$f":"MATCH(C355,Categories!A:A,0)","v":{"$error":"#N/A"}},0,{"$f":"IF(OR($E355<>0,$C355=\"\"),\"\",INDEX(Categories!$A:$E,Entries!$D355,2))","v":""},{"$f":"IF(OR($E355<>0,$C355=\"\"),\"\",INDEX(Categories!$A:$E,Entries!$D355,3))","v":""},{"$f":"IF(OR($E355<>0,$C355=\"\"),\"\",INDEX(Categories!$A:$E,Entries!$D355,4))","v":""},{"$f":"IF(OR($E355<>0,$C355=\"\"),\"\",INDEX(Categories!$A:$E,Entries!$D355,5))","v":""},"2014-01-01","2014-01-01",{"$f":"(Entries!K356-Entries!K355)*24*60","v":0}]
[{"$f":"IF(OR(B356>=B355,C355=\"z\",B356=\"\"),\"\",J355+1)","v":""},null,null,{"$f":"MATCH(C356,Categories!A:A,0)","v":{"$error":"#N/A"}},0,{"$f":"IF(OR($E356<>0,$C356=\"\"),\"\",INDEX(Categories!$A:$E,Entries!$D356,2))","v":""},{"$f":"IF(OR($E356<>0,$C356=\"\"),\"\",INDEX(Categories!$A:$E,Entries!$D356,3))","v":""},{"$f":"IF(OR($E356<>0,$C356=\"\"),\"\",INDEX(Categories!$A:$E,Entries!$D356,4))","v":""},{"$f":"IF(OR($E356<>0,$C356=\"\"),\"\",INDEX(Categories!$A:$E,Entries!$D356,5))","v":""},"2014-01-01","2014-01-01",{"$f":"(Entries!K357-Entries!K356)*24*60","v":0}]
["",null,null,{"$f":"MATCH(C357,Categories!A:A,0)","v":{"$error":"#N/A"}},0,{"$f":"IF(OR($E357<>0,$C357=\"\"),\"\",INDEX(Categories!$A:$E,Entries!$D357,2))","v":""},{"$f":"IF(OR($E357<>0,$C357=\"\"),\"\",INDEX(Categories!$A:$E,Entries!$D357,3))","v":""},{"$f":"IF(OR($E357<>0,$C357=\"\"),\"\",INDEX(Categories!$A:$E,Entries!$D357,4))","v":""},{"$f":"IF(OR($E357<>0,$C357=\"\"),\"\",INDEX(Categories!$A:$E,Entries!$D357,5))","v":""},"2014-01-01","2014-01-01",{"$f":"(Entries!K358-Entries!K357)*24*60","v":0}]
["",null,null,{"$f":"MATCH(C358,Categories!A:A,0)","v":{"$error":"#N/A"}},0,{"$f":"IF(OR($E358<>0,$C358=\"\"),\"\",INDEX(Categories!$A:$E,Entries!$D358,2))","v":""},{"$f":"IF(OR($E358<>0,$C358=\"\"),\"\",INDEX(Categories!$A:$E,Entries!$D358,3))","v":""},{"$f":"IF(OR($E358<>0,$C358=\"\"),\"\",INDEX(Categories!$A:$E,Entries!$D358,4))","v":""},{"$f":"IF(OR($E358<>0,$C358=\"\"),\"\",INDEX(Categories!$A:$E,Entries!$D358,5))","v":""},"2014-01-01","2014-01-01",{"$f":"(Entries!K359-Entries!K358)*24*60","v":0}]
["",null,null,{"$f":"MATCH(C359,Categories!A:A,0)","v":{"$error":"#N/A"}},0,{"$f":"IF(OR($E359<>0,$C359=\"\"),\"\",INDEX(Categories!$A:$E,Entries!$D359,2))","v":""},{"$f":"IF(OR($E359<>0,$C359=\"\"),\"\",INDEX(Categories!$A:$E,Entries!$D359,3))","v":""},{"$f":"IF(OR($E359<>0,$C359=\"\"),\"\",INDEX(Categories!$A:$E,Entries!$D359,4))","v":""},{"$f":"IF(OR($E359<>0,$C359=\"\"),\"\",INDEX(Categories!$A:$E,Entries!$D359,5))","v":""},"2014-01-01","2014-01-01",{"$f":"(Entries!K360-Entries!K359)*24*60","v":0}]
["",null,null,{"$f":"MATCH(C360,Categories!A:A,0)","v":{"$error":"#N/A"}},0,{"$f":"IF(OR($E360<>0,$C360=\"\"),\"\",INDEX(Categories!$A:$E,Entries!$D360,2))","v":""},{"$f":"IF(OR($E360<>0,$C360=\"\"),\"\",INDEX(Categories!$A:$E,Entries!$D360,3))","v":""},{"$f":"IF(OR($E360<>0,$C360=\"\"),\"\",INDEX(Categories!$A:$E,Entries!$D360,4))","v":""},{"$f":"IF(OR($E360<>0,$C360=\"\"),\"\",INDEX(Categories!$A:$E,Entries!$D360,5))","v":""},"2014-01-01","2014-01-01",{"$f":"(Entries!K361-Entries!K360)*24*60","v":0}]
["",null,null,{"$f":"MATCH(C361,Categories!A:A,0)","v":{"$error":"#N/A"}},0,{"$f":"IF(OR($E361<>0,$C361=\"\"),\"\",INDEX(Categories!$A:$E,Entries!$D361,2))","v":""},{"$f":"IF(OR($E361<>0,$C361=\"\"),\"\",INDEX(Categories!$A:$E,Entries!$D361,3))","v":""},{"$f":"IF(OR($E361<>0,$C361=\"\"),\"\",INDEX(Categories!$A:$E,Entries!$D361,4))","v":""},{"$f":"IF(OR($E361<>0,$C361=\"\"),\"\",INDEX(Categories!$A:$E,Entries!$D361,5))","v":""},"2014-01-01","2014-01-01",{"$f":"(Entries!K362-Entries!K361)*24*60","v":0}]
["",null,null,{"$f":"MATCH(C362,Categories!A:A,0)","v":{"$error":"#N/A"}},0,{"$f":"IF(OR($E362<>0,$C362=\"\"),\"\",INDEX(Categories!$A:$E,Entries!$D362,2))","v":""},{"$f":"IF(OR($E362<>0,$C362=\"\"),\"\",INDEX(Categories!$A:$E,Entries!$D362,3))","v":""},{"$f":"IF(OR($E362<>0,$C362=\"\"),\"\",INDEX(Categories!$A:$E,Entries!$D362,4))","v":""},{"$f":"IF(OR($E362<>0,$C362=\"\"),\"\",INDEX(Categories!$A:$E,Entries!$D362,5))","v":""},"2014-01-01","2014-01-01",{"$f":"(Entries!K363-Entries!K362)*24*60","v":0}]
["",null,null,{"$f":"MATCH(C363,Categories!A:A,0)","v":{"$error":"#N/A"}},0,{"$f":"IF(OR($E363<>0,$C363=\"\"),\"\",INDEX(Categories!$A:$E,Entries!$D363,2))","v":""},{"$f":"IF(OR($E363<>0,$C363=\"\"),\"\",INDEX(Categories!$A:$E,Entries!$D363,3))","v":""},{"$f":"IF(OR($E363<>0,$C363=\"\"),\"\",INDEX(Categories!$A:$E,Entries!$D363,4))","v":""},{"$f":"IF(OR($E363<>0,$C363=\"\"),\"\",INDEX(Categories!$A:$E,Entries!$D363,5))","v":""},"2014-01-01","2014-01-01",{"$f":"(Entries!K364-Entries!K363)*24*60","v":0}]
["",null,null,{"$f":"MATCH(C364,Categories!A:A,0)","v":{"$error":"#N/A"}},0,{"$f":"IF(OR($E364<>0,$C364=\"\"),\"\",INDEX(Categories!$A:$E,Entries!$D364,2))","v":""},{"$f":"IF(OR($E364<>0,$C364=\"\"),\"\",INDEX(Categories!$A:$E,Entries!$D364,3))","v":""},{"$f":"IF(OR($E364<>0,$C364=\"\"),\"\",INDEX(Categories!$A:$E,Entries!$D364,4))","v":""},{"$f":"IF(OR($E364<>0,$C364=\"\"),\"\",INDEX(Categories!$A:$E,Entries!$D364,5))","v":""},"2014-01-01","2014-01-01",{"$f":"(Entries!K365-Entries!K364)*24*60","v":0}]
["",null,null,{"$f":"MATCH(C365,Categories!A:A,0)","v":{"$error":"#N/A"}},0,{"$f":"IF(OR($E365<>0,$C365=\"\"),\"\",INDEX(Categories!$A:$E,Entries!$D365,2))","v":""},{"$f":"IF(OR($E365<>0,$C365=\"\"),\"\",INDEX(Categories!$A:$E,Entries!$D365,3))","v":""},{"$f":"IF(OR($E365<>0,$C365=\"\"),\"\",INDEX(Categories!$A:$E,Entries!$D365,4))","v":""},{"$f":"IF(OR($E365<>0,$C365=\"\"),\"\",INDEX(Categories!$A:$E,Entries!$D365,5))","v":""},"2014-01-01","2014-01-01",{"$f":"(Entries!K366-Entries!K365)*24*60","v":0}]
["",null,null,{"$f":"MATCH(C366,Categories!A:A,0)","v":{"$error":"#N/A"}},0,{"$f":"IF(OR($E366<>0,$C366=\"\"),\"\",INDEX(Categories!$A:$E,Entries!$D366,2))","v":""},{"$f":"IF(OR($E366<>0,$C366=\"\"),\"\",INDEX(Categories!$A:$E,Entries!$D366,3))","v":""},{"$f":"IF(OR($E366<>0,$C366=\"\"),\"\",INDEX(Categories!$A:$E,Entries!$D366,4))","v":""},{"$f":"IF(OR($E366<>0,$C366=\"\"),\"\",INDEX(Categories!$A:$E,Entries!$D366,5))","v":""},"2014-01-01","2014-01-01",{"$f":"(Entries!K367-Entries!K366)*24*60","v":0}]
["",null,null,{"$f":"MATCH(C367,Categories!A:A,0)","v":{"$error":"#N/A"}},0,{"$f":"IF(OR($E367<>0,$C367=\"\"),\"\",INDEX(Categories!$A:$E,Entries!$D367,2))","v":""},{"$f":"IF(OR($E367<>0,$C367=\"\"),\"\",INDEX(Categories!$A:$E,Entries!$D367,3))","v":""},{"$f":"IF(OR($E367<>0,$C367=\"\"),\"\",INDEX(Categories!$A:$E,Entries!$D367,4))","v":""},{"$f":"IF(OR($E367<>0,$C367=\"\"),\"\",INDEX(Categories!$A:$E,Entries!$D367,5))","v":""},"2014-01-01","2014-01-01",{"$f":"(Entries!K368-Entries!K367)*24*60","v":0}]
["",null,null,{"$f":"MATCH(C368,Categories!A:A,0)","v":{"$error":"#N/A"}},0,{"$f":"IF(OR($E368<>0,$C368=\"\"),\"\",INDEX(Categories!$A:$E,Entries!$D368,2))","v":""},{"$f":"IF(OR($E368<>0,$C368=\"\"),\"\",INDEX(Categories!$A:$E,Entries!$D368,3))","v":""},{"$f":"IF(OR($E368<>0,$C368=\"\"),\"\",INDEX(Categories!$A:$E,Entries!$D368,4))","v":""},{"$f":"IF(OR($E368<>0,$C368=\"\"),\"\",INDEX(Categories!$A:$E,Entries!$D368,5))","v":""},"2014-01-01","2014-01-01",{"$f":"(Entries!K369-Entries!K368)*24*60","v":0}]
["",null,null,{"$f":"MATCH(C369,Categories!A:A,0)","v":{"$error":"#N/A"}},0,{"$f":"IF(OR($E369<>0,$C369=\"\"),\"\",INDEX(Categories!$A:$E,Entries!$D369,2))","v":""},{"$f":"IF(OR($E369<>0,$C369=\"\"),\"\",INDEX(Categories!$A:$E,Entries!$D369,3))","v":""},{"$f":"IF(OR($E369<>0,$C369=\"\"),\"\",INDEX(Categories!$A:$E,Entries!$D369,4))","v":""},{"$f":"IF(OR($E369<>0,$C369=\"\"),\"\",INDEX(Categories!$A:$E,Entries!$D369,5))","v":""},"2014-01-01","2014-01-01",{"$f":"(Entries!K370-Entries!K369)*24*60","v":0}]
["",null,null,{"$f":"MATCH(C370,Categories!A:A,0)","v":{"$error":"#N/A"}},0,{"$f":"IF(OR($E370<>0,$C370=\"\"),\"\",INDEX(Categories!$A:$E,Entries!$D370,2))","v":""},{"$f":"IF(OR($E370<>0,$C370=\"\"),\"\",INDEX(Categories!$A:$E,Entries!$D370,3))","v":""},{"$f":"IF(OR($E370<>0,$C370=\"\"),\"\",INDEX(Categories!$A:$E,Entries!$D370,4))","v":""},{"$f":"IF(OR($E370<>0,$C370=\"\"),\"\",INDEX(Categories!$A:$E,Entries!$D370,5))","v":""},"2014-01-01","2014-01-01",{"$f":"(Entries!K371-Entries!K370)*24*60","v":0}]
["",null,null,{"$f":"MATCH(C371,Categories!A:A,0)","v":{"$error":"#N/A"}},0,{"$f":"IF(OR($E371<>0,$C371=\"\"),\"\",INDEX(Categories!$A:$E,Entries!$D371,2))","v":""},{"$f":"IF(OR($E371<>0,$C371=\"\"),\"\",INDEX(Categories!$A:$E,Entries!$D371,3))","v":""},{"$f":"IF(OR($E371<>0,$C371=\"\"),\"\",INDEX(Categories!$A:$E,Entries!$D371,4))","v":""},{"$f":"IF(OR($E371<>0,$C371=\"\"),\"\",INDEX(Categories!$A:$E,Entries!$D371,5))","v":""},"2014-01-01","2014-01-01",{"$f":"(Entries!K372-Entries!K371)*24*60","v":0}]
["",null,null,{"$f":"MATCH(C372,Categories!A:A,0)","v":{"$error":"#N/A"}},0,{"$f":"IF(OR($E372<>0,$C372=\"\"),\"\",INDEX(Categories!$A:$E,Entries!$D372,2))","v":""},{"$f":"IF(OR($E372<>0,$C372=\"\"),\"\",INDEX(Categories!$A:$E,Entries!$D372,3))","v":""},{"$f":"IF(OR($E372<>0,$C372=\"\"),\"\",INDEX(Categories!$A:$E,Entries!$D372,4))","v":""},{"$f":"IF(OR($E372<>0,$C372=\"\"),\"\",INDEX(Categories!$A:$E,Entries!$D372,5))","v":""},"2014-01-01","2014-01-01",{"$f":"(Entries!K373-Entries!K372)*24*60","v":0}]
["",null,null,{"$f":"MATCH(C373,Categories!A:A,0)","v":{"$error":"#N/A"}},0,{"$f":"IF(OR($E373<>0,$C373=\"\"),\"\",INDEX(Categories!$A:$E,Entries!$D373,2))","v":""},{"$f":"IF(OR($E373<>0,$C373=\"\"),\"\",INDEX(Categories!$A:$E,Entries!$D373,3))","v":""},{"$f":"IF(OR($E373<>0,$C373=\"\"),\"\",INDEX(Categories!$A:$E,Entries!$D373,4))","v":""},{"$f":"IF(OR($E373<>0,$C373=\"\"),\"\",INDEX(Categories!$A:$E,Entries!$D373,5))","v":""},"2014-01-01","2014-01-01",{"$f":"(Entries!K374-Entries!K373)*24*60","v":0}]
["",null,null,{"$f":"MATCH(C374,Categories!A:A,0)","v":{"$error":"#N/A"}},0,{"$f":"IF(OR($E374<>0,$C374=\"\"),\"\",INDEX(Categories!$A:$E,Entries!$D374,2))","v":""},{"$f":"IF(OR($E374<>0,$C374=\"\"),\"\",INDEX(Categories!$A:$E,Entries!$D374,3))","v":""},{"$f":"IF(OR($E374<>0,$C374=\"\"),\"\",INDEX(Categories!$A:$E,Entries!$D374,4))","v":""},{"$f":"IF(OR($E374<>0,$C374=\"\"),\"\",INDEX(Categories!$A:$E,Entries!$D374,5))","v":""},"2014-01-01","2014-01-01",{"$f":"(Entries!K375-Entries!K374)*24*60","v":0}]
["",null,null,{"$f":"MATCH(C375,Categories!A:A,0)","v":{"$error":"#N/A"}},0,{"$f":"IF(OR($E375<>0,$C375=\"\"),\"\",INDEX(Categories!$A:$E,Entries!$D375,2))","v":""},{"$f":"IF(OR($E375<>0,$C375=\"\"),\"\",INDEX(Categories!$A:$E,Entries!$D375,3))","v":""},{"$f":"IF(OR($E375<>0,$C375=\"\"),\"\",INDEX(Categories!$A:$E,Entries!$D375,4))","v":""},{"$f":"IF(OR($E375<>0,$C375=\"\"),\"\",INDEX(Categories!$A:$E,Entries!$D375,5))","v":""},"2014-01-01","2014-01-01",{"$f":"(Entries!K376-Entries!K375)*24*60","v":0}]
["",null,null,{"$f":"MATCH(C376,Categories!A:A,0)","v":{"$error":"#N/A"}},0,{"$f":"IF(OR($E376<>0,$C376=\"\"),\"\",INDEX(Categories!$A:$E,Entries!$D376,2))","v":""},{"$f":"IF(OR($E376<>0,$C376=\"\"),\"\",INDEX(Categories!$A:$E,Entries!$D376,3))","v":""},{"$f":"IF(OR($E376<>0,$C376=\"\"),\"\",INDEX(Categories!$A:$E,Entries!$D376,4))","v":""},{"$f":"IF(OR($E376<>0,$C376=\"\"),\"\",INDEX(Categories!$A:$E,Entries!$D376,5))","v":""},"2014-01-01","2014-01-01",{"$f":"(Entries!K377-Entries!K376)*24*60","v":0}]
["",null,null,{"$f":"MATCH(C377,Categories!A:A,0)","v":{"$error":"#N/A"}},0,{"$f":"IF(OR($E377<>0,$C377=\"\"),\"\",INDEX(Categories!$A:$E,Entries!$D377,2))","v":""},{"$f":"IF(OR($E377<>0,$C377=\"\"),\"\",INDEX(Categories!$A:$E,Entries!$D377,3))","v":""},{"$f":"IF(OR($E377<>0,$C377=\"\"),\"\",INDEX(Categories!$A:$E,Entries!$D377,4))","v":""},{"$f":"IF(OR($E377<>0,$C377=\"\"),\"\",INDEX(Categories!$A:$E,Entries!$D377,5))","v":""},"2014-01-01","2014-01-01",{"$f":"(Entries!K378-Entries!K377)*24*60","v":0}]
["",null,null,{"$f":"MATCH(C378,Categories!A:A,0)","v":{"$error":"#N/A"}},0,{"$f":"IF(OR($E378<>0,$C378=\"\"),\"\",INDEX(Categories!$A:$E,Entries!$D378,2))","v":""},{"$f":"IF(OR($E378<>0,$C378=\"\"),\"\",INDEX(Categories!$A:$E,Entries!$D378,3))","v":""},{"$f":"IF(OR($E378<>0,$C378=\"\"),\"\",INDEX(Categories!$A:$E,Entries!$D378,4))","v":""},{"$f":"IF(OR($E378<>0,$C378=\"\"),\"\",INDEX(Categories!$A:$E,Entries!$D378,5))","v":""},"2014-01-01","2014-01-01",{"$f":"(Entries!K379-Entries!K378)*24*60","v":0}]
["",null,null,{"$f":"MATCH(C379,Categories!A:A,0)","v":{"$error":"#N/A"}},0,{"$f":"IF(OR($E379<>0,$C379=\"\"),\"\",INDEX(Categories!$A:$E,Entries!$D379,2))","v":""},{"$f":"IF(OR($E379<>0,$C379=\"\"),\"\",INDEX(Categories!$A:$E,Entries!$D379,3))","v":""},{"$f":"IF(OR($E379<>0,$C379=\"\"),\"\",INDEX(Categories!$A:$E,Entries!$D379,4))","v":""},{"$f":"IF(OR($E379<>0,$C379=\"\"),\"\",INDEX(Categories!$A:$E,Entries!$D379,5))","v":""},"2014-01-01","2014-01-01",{"$f":"(Entries!K380-Entries!K379)*24*60","v":0}]
["",null,null,{"$f":"MATCH(C380,Categories!A:A,0)","v":{"$error":"#N/A"}},0,{"$f":"IF(OR($E380<>0,$C380=\"\"),\"\",INDEX(Categories!$A:$E,Entries!$D380,2))","v":""},{"$f":"IF(OR($E380<>0,$C380=\"\"),\"\",INDEX(Categories!$A:$E,Entries!$D380,3))","v":""},{"$f":"IF(OR($E380<>0,$C380=\"\"),\"\",INDEX(Categories!$A:$E,Entries!$D380,4))","v":""},{"$f":"IF(OR($E380<>0,$C380=\"\"),\"\",INDEX(Categories!$A:$E,Entries!$D380,5))","v":""},"2014-01-01","2014-01-01",{"$f":"(Entries!K381-Entries!K380)*24*60","v":0}]
["",null,null,{"$f":"MATCH(C381,Categories!A:A,0)","v":{"$error":"#N/A"}},0,{"$f":"IF(OR($E381<>0,$C381=\"\"),\"\",INDEX(Categories!$A:$E,Entries!$D381,2))","v":""},{"$f":"IF(OR($E381<>0,$C381=\"\"),\"\",INDEX(Categories!$A:$E,Entries!$D381,3))","v":""},{"$f":"IF(OR($E381<>0,$C381=\"\"),\"\",INDEX(Categories!$A:$E,Entries!$D381,4))","v":""},{"$f":"IF(OR($E381<>0,$C381=\"\"),\"\",INDEX(Categories!$A:$E,Entries!$D381,5))","v":""},"2014-01-01","2014-01-01",{"$f":"(Entries!K382-Entries!K381)*24*60","v":0}]
["",null,null,{"$f":"MATCH(C382,Categories!A:A,0)","v":{"$error":"#N/A"}},0,{"$f":"IF(OR($E382<>0,$C382=\"\"),\"\",INDEX(Categories!$A:$E,Entries!$D382,2))","v":""},{"$f":"IF(OR($E382<>0,$C382=\"\"),\"\",INDEX(Categories!$A:$E,Entries!$D382,3))","v":""},{"$f":"IF(OR($E382<>0,$C382=\"\"),\"\",INDEX(Categories!$A:$E,Entries!$D382,4))","v":""},{"$f":"IF(OR($E382<>0,$C382=\"\"),\"\",INDEX(Categories!$A:$E,Entries!$D382,5))","v":""},"2014-01-01","2014-01-01",{"$f":"(Entries!K383-Entries!K382)*24*60","v":0}]
["",null,null,{"$f":"MATCH(C383,Categories!A:A,0)","v":{"$error":"#N/A"}},0,{"$f":"IF(OR($E383<>0,$C383=\"\"),\"\",INDEX(Categories!$A:$E,Entries!$D383,2))","v":""},{"$f":"IF(OR($E383<>0,$C383=\"\"),\"\",INDEX(Categories!$A:$E,Entries!$D383,3))","v":""},{"$f":"IF(OR($E383<>0,$C383=\"\"),\"\",INDEX(Categories!$A:$E,Entries!$D383,4))","v":""},{"$f":"IF(OR($E383<>0,$C383=\"\"),\"\",INDEX(Categories!$A:$E,Entries!$D383,5))","v":""},"2014-01-01","2014-01-01",{"$f":"(Entries!K384-Entries!K383)*24*60","v":0}]
["",null,null,{"$f":"MATCH(C384,Categories!A:A,0)","v":{"$error":"#N/A"}},0,{"$f":"IF(OR($E384<>0,$C384=\"\"),\"\",INDEX(Categories!$A:$E,Entries!$D384,2))","v":""},{"$f":"IF(OR($E384<>0,$C384=\"\"),\"\",INDEX(Categories!$A:$E,Entries!$D384,3))","v":""},{"$f":"IF(OR($E384<>0,$C384=\"\"),\"\",INDEX(Categories!$A:$E,Entries!$D384,4))","v":""},{"$f":"IF(OR($E384<>0,$C384=\"\"),\"\",INDEX(Categories!$A:$E,Entries!$D384,5))","v":""},"2014-01-01","2014-01-01",{"$f":"(Entries!K385-Entries!K384)*24*60","v":0}]
["",null,null,{"$f":"MATCH(C385,Categories!A:A,0)","v":{"$error":"#N/A"}},0,{"$f":"IF(OR($E385<>0,$C385=\"\"),\"\",INDEX(Categories!$A:$E,Entries!$D385,2))","v":""},{"$f":"IF(OR($E385<>0,$C385=\"\"),\"\",INDEX(Categories!$A:$E,Entries!$D385,3))","v":""},{"$f":"IF(OR($E385<>0,$C385=\"\"),\"\",INDEX(Categories!$A:$E,Entries!$D385,4))","v":""},{"$f":"IF(OR($E385<>0,$C385=\"\"),\"\",INDEX(Categories!$A:$E,Entries!$D385,5))","v":""},"2014-01-01","2014-01-01",{"$f":"(Entries!K386-Entries!K385)*24*60","v":0}]
["",null,null,{"$f":"MATCH(C386,Categories!A:A,0)","v":{"$error":"#N/A"}},{"$f":"IF(AND(ISERROR(D386),C386<>\"\"),ROW(D386),0)","v":0},{"$f":"IF(OR($E386<>0,$C386=\"\"),\"\",INDEX(Categories!$A:$E,Entries!$D386,2))","v":""},{"$f":"IF(OR($E386<>0,$C386=\"\"),\"\",INDEX(Categories!$A:$E,Entries!$D386,3))","v":""},{"$f":"IF(OR($E386<>0,$C386=\"\"),\"\",INDEX(Categories!$A:$E,Entries!$D386,4))","v":""},{"$f":"IF(OR($E386<>0,$C386=\"\"),\"\",INDEX(Categories!$A:$E,Entries!$D386,5))","v":""},{"$f":"IF(A386=\"\",J385,A386)","v":"2014-01-01"},{"$f":"J386+B386","v":"2014-01-01"},{"$f":"(Entries!K387-Entries!K386)*24*60","v":0}]
["",null,null,{"$f":"MATCH(C387,Categories!A:A,0)","v":{"$error":"#N/A"}},0,{"$f":"IF(OR($E387<>0,$C387=\"\"),\"\",INDEX(Categories!$A:$E,Entries!$D387,2))","v":""},{"$f":"IF(OR($E387<>0,$C387=\"\"),\"\",INDEX(Categories!$A:$E,Entries!$D387,3))","v":""},{"$f":"IF(OR($E387<>0,$C387=\"\"),\"\",INDEX(Categories!$A:$E,Entries!$D387,4))","v":""},{"$f":"IF(OR($E387<>0,$C387=\"\"),\"\",INDEX(Categories!$A:$E,Entries!$D387,5))","v":""},"2014-01-01","2014-01-01",{"$f":"(Entries!K388-Entries!K387)*24*60","v":0}]
["",null,null,{"$f":"MATCH(C388,Categories!A:A,0)","v":{"$error":"#N/A"}},0,{"$f":"IF(OR($E388<>0,$C388=\"\"),\"\",INDEX(Categories!$A:$E,Entries!$D388,2))","v":""},{"$f":"IF(OR($E388<>0,$C388=\"\"),\"\",INDEX(Categories!$A:$E,Entries!$D388,3))","v":""},{"$f":"IF(OR($E388<>0,$C388=\"\"),\"\",INDEX(Categories!$A:$E,Entries!$D388,4))","v":""},{"$f":"IF(OR($E388<>0,$C388=\"\"),\"\",INDEX(Categories!$A:$E,Entries!$D388,5))","v":""},"2014-01-01","2014-01-01",{"$f":"(Entries!K389-Entries!K388)*24*60","v":0}]
["",null,null,{"$f":"MATCH(C389,Categories!A:A,0)","v":{"$error":"#N/A"}},0,{"$f":"IF(OR($E389<>0,$C389=\"\"),\"\",INDEX(Categories!$A:$E,Entries!$D389,2))","v":""},{"$f":"IF(OR($E389<>0,$C389=\"\"),\"\",INDEX(Categories!$A:$E,Entries!$D389,3))","v":""},{"$f":"IF(OR($E389<>0,$C389=\"\"),\"\",INDEX(Categories!$A:$E,Entries!$D389,4))","v":""},{"$f":"IF(OR($E389<>0,$C389=\"\"),\"\",INDEX(Categories!$A:$E,Entries!$D389,5))","v":""},"2014-01-01","2014-01-01",{"$f":"(Entries!K390-Entries!K389)*24*60","v":0}]
["",null,null,{"$f":"MATCH(C390,Categories!A:A,0)","v":{"$error":"#N/A"}},0,{"$f":"IF(OR($E390<>0,$C390=\"\"),\"\",INDEX(Categories!$A:$E,Entries!$D390,2))","v":""},{"$f":"IF(OR($E390<>0,$C390=\"\"),\"\",INDEX(Categories!$A:$E,Entries!$D390,3))","v":""},{"$f":"IF(OR($E390<>0,$C390=\"\"),\"\",INDEX(Categories!$A:$E,Entries!$D390,4))","v":""},{"$f":"IF(OR($E390<>0,$C390=\"\"),\"\",INDEX(Categories!$A:$E,Entries!$D390,5))","v":""},"2014-01-01","2014-01-01",{"$f":"(Entries!K391-Entries!K390)*24*60","v":0}]
["",null,null,{"$f":"MATCH(C391,Categories!A:A,0)","v":{"$error":"#N/A"}},0,{"$f":"IF(OR($E391<>0,$C391=\"\"),\"\",INDEX(Categories!$A:$E,Entries!$D391,2))","v":""},{"$f":"IF(OR($E391<>0,$C391=\"\"),\"\",INDEX(Categories!$A:$E,Entries!$D391,3))","v":""},{"$f":"IF(OR($E391<>0,$C391=\"\"),\"\",INDEX(Categories!$A:$E,Entries!$D391,4))","v":""},{"$f":"IF(OR($E391<>0,$C391=\"\"),\"\",INDEX(Categories!$A:$E,Entries!$D391,5))","v":""},"2014-01-01","2014-01-01",{"$f":"(Entries!K392-Entries!K391)*24*60","v":0}]
["",null,null,{"$f":"MATCH(C392,Categories!A:A,0)","v":{"$error":"#N/A"}},0,{"$f":"IF(OR($E392<>0,$C392=\"\"),\"\",INDEX(Categories!$A:$E,Entries!$D392,2))","v":""},{"$f":"IF(OR($E392<>0,$C392=\"\"),\"\",INDEX(Categories!$A:$E,Entries!$D392,3))","v":""},{"$f":"IF(OR($E392<>0,$C392=\"\"),\"\",INDEX(Categories!$A:$E,Entries!$D392,4))","v":""},{"$f":"IF(OR($E392<>0,$C392=\"\"),\"\",INDEX(Categories!$A:$E,Entries!$D392,5))","v":""},"2014-01-01","2014-01-01",{"$f":"(Entries!K393-Entries!K392)*24*60","v":0}]
["",null,null,{"$f":"MATCH(C393,Categories!A:A,0)","v":{"$error":"#N/A"}},0,{"$f":"IF(OR($E393<>0,$C393=\"\"),\"\",INDEX(Categories!$A:$E,Entries!$D393,2))","v":""},{"$f":"IF(OR($E393<>0,$C393=\"\"),\"\",INDEX(Categories!$A:$E,Entries!$D393,3))","v":""},{"$f":"IF(OR($E393<>0,$C393=\"\"),\"\",INDEX(Categories!$A:$E,Entries!$D393,4))","v":""},{"$f":"IF(OR($E393<>0,$C393=\"\"),\"\",INDEX(Categories!$A:$E,Entries!$D393,5))","v":""},"2014-01-01","2014-01-01",{"$f":"(Entries!K394-Entries!K393)*24*60","v":0}]
["",null,null,{"$f":"MATCH(C394,Categories!A:A,0)","v":{"$error":"#N/A"}},0,{"$f":"IF(OR($E394<>0,$C394=\"\"),\"\",INDEX(Categories!$A:$E,Entries!$D394,2))","v":""},{"$f":"IF(OR($E394<>0,$C394=\"\"),\"\",INDEX(Categories!$A:$E,Entries!$D394,3))","v":""},{"$f":"IF(OR($E394<>0,$C394=\"\"),\"\",INDEX(Categories!$A:$E,Entries!$D394,4))","v":""},{"$f":"IF(OR($E394<>0,$C394=\"\"),\"\",INDEX(Categories!$A:$E,Entries!$D394,5))","v":""},"2014-01-01","2014-01-01",{"$f":"(Entries!K395-Entries!K394)*24*60","v":0}]
["",null,null,{"$f":"MATCH(C395,Categories!A:A,0)","v":{"$error":"#N/A"}},0,{"$f":"IF(OR($E395<>0,$C395=\"\"),\"\",INDEX(Categories!$A:$E,Entries!$D395,2))","v":""},{"$f":"IF(OR($E395<>0,$C395=\"\"),\"\",INDEX(Categories!$A:$E,Entries!$D395,3))","v":""},{"$f":"IF(OR($E395<>0,$C395=\"\"),\"\",INDEX(Categories!$A:$E,Entries!$D395,4))","v":""},{"$f":"IF(OR($E395<>0,$C395=\"\"),\"\",INDEX(Categories!$A:$E,Entries!$D395,5))","v":""},"2014-01-01","2014-01-01",{"$f":"(Entries!K396-Entries!K395)*24*60","v":0}]
["",null,null,{"$f":"MATCH(C396,Categories!A:A,0)","v":{"$error":"#N/A"}},0,{"$f":"IF(OR($E396<>0,$C396=\"\"),\"\",INDEX(Categories!$A:$E,Entries!$D396,2))","v":""},{"$f":"IF(OR($E396<>0,$C396=\"\"),\"\",INDEX(Categories!$A:$E,Entries!$D396,3))","v":""},{"$f":"IF(OR($E396<>0,$C396=\"\"),\"\",INDEX(Categories!$A:$E,Entries!$D396,4))","v":""},{"$f":"IF(OR($E396<>0,$C396=\"\"),\"\",INDEX(Categories!$A:$E,Entries!$D396,5))","v":""},"2014-01-01","2014-01-01",{"$f":"(Entries!K397-Entries!K396)*24*60","v":0}]
["",null,null,{"$f":"MATCH(C397,Categories!A:A,0)","v":{"$error":"#N/A"}},0,{"$f":"IF(OR($E397<>0,$C397=\"\"),\"\",INDEX(Categories!$A:$E,Entries!$D397,2))","v":""},{"$f":"IF(OR($E397<>0,$C397=\"\"),\"\",INDEX(Categories!$A:$E,Entries!$D397,3))","v":""},{"$f":"IF(OR($E397<>0,$C397=\"\"),\"\",INDEX(Categories!$A:$E,Entries!$D397,4))","v":""},{"$f":"IF(OR($E397<>0,$C397=\"\"),\"\",INDEX(Categories!$A:$E,Entries!$D397,5))","v":""},"2014-01-01","2014-01-01",{"$f":"(Entries!K398-Entries!K397)*24*60","v":0}]
["",null,null,{"$f":"MATCH(C398,Categories!A:A,0)","v":{"$error":"#N/A"}},0,{"$f":"IF(OR($E398<>0,$C398=\"\"),\"\",INDEX(Categories!$A:$E,Entries!$D398,2))","v":""},{"$f":"IF(OR($E398<>0,$C398=\"\"),\"\",INDEX(Categories!$A:$E,Entries!$D398,3))","v":""},{"$f":"IF(OR($E398<>0,$C398=\"\"),\"\",INDEX(Categories!$A:$E,Entries!$D398,4))","v":""},{"$f":"IF(OR($E398<>0,$C398=\"\"),\"\",INDEX(Categories!$A:$E,Entries!$D398,5))","v":""},"2014-01-01","2014-01-01",{"$f":"(Entries!K399-Entries!K398)*24*60","v":0}]
["",null,null,{"$f":"MATCH(C399,Categories!A:A,0)","v":{"$error":"#N/A"}},0,{"$f":"IF(OR($E399<>0,$C399=\"\"),\"\",INDEX(Categories!$A:$E,Entries!$D399,2))","v":""},{"$f":"IF(OR($E399<>0,$C399=\"\"),\"\",INDEX(Categories!$A:$E,Entries!$D399,3))","v":""},{"$f":"IF(OR($E399<>0,$C399=\"\"),\"\",INDEX(Categories!$A:$E,Entries!$D399,4))","v":""},{"$f":"IF(OR($E399<>0,$C399=\"\"),\"\",INDEX(Categories!$A:$E,Entries!$D399,5))","v":""},"2014-01-01","2014-01-01",{"$f":"(Entries!K400-Entries!K399)*24*60","v":0}]
["",null,null,{"$f":"MATCH(C400,Categories!A:A,0)","v":{"$error":"#N/A"}},0,{"$f":"IF(OR($E400<>0,$C400=\"\"),\"\",INDEX(Categories!$A:$E,Entries!$D400,2))","v":""},{"$f":"IF(OR($E400<>0,$C400=\"\"),\"\",INDEX(Categories!$A:$E,Entries!$D400,3))","v":""},{"$f":"IF(OR($E400<>0,$C400=\"\"),\"\",INDEX(Categories!$A:$E,Entries!$D400,4))","v":""},{"$f":"IF(OR($E400<>0,$C400=\"\"),\"\",INDEX(Categories!$A:$E,Entries!$D400,5))","v":""},"2014-01-01","2014-01-01",{"$f":"(Entries!K401-Entries!K400)*24*60","v":0}]
["",null,null,{"$f":"MATCH(C401,Categories!A:A,0)","v":{"$error":"#N/A"}},0,{"$f":"IF(OR($E401<>0,$C401=\"\"),\"\",INDEX(Categories!$A:$E,Entries!$D401,2))","v":""},{"$f":"IF(OR($E401<>0,$C401=\"\"),\"\",INDEX(Categories!$A:$E,Entries!$D401,3))","v":""},{"$f":"IF(OR($E401<>0,$C401=\"\"),\"\",INDEX(Categories!$A:$E,Entries!$D401,4))","v":""},{"$f":"IF(OR($E401<>0,$C401=\"\"),\"\",INDEX(Categories!$A:$E,Entries!$D401,5))","v":""},"2014-01-01","2014-01-01",{"$f":"(Entries!K402-Entries!K401)*24*60","v":0}]
["",null,null,{"$f":"MATCH(C402,Categories!A:A,0)","v":{"$error":"#N/A"}},0,{"$f":"IF(OR($E402<>0,$C402=\"\"),\"\",INDEX(Categories!$A:$E,Entries!$D402,2))","v":""},{"$f":"IF(OR($E402<>0,$C402=\"\"),\"\",INDEX(Categories!$A:$E,Entries!$D402,3))","v":""},{"$f":"IF(OR($E402<>0,$C402=\"\"),\"\",INDEX(Categories!$A:$E,Entries!$D402,4))","v":""},{"$f":"IF(OR($E402<>0,$C402=\"\"),\"\",INDEX(Categories!$A:$E,Entries!$D402,5))","v":""},"2014-01-01","2014-01-01",{"$f":"(Entries!K403-Entries!K402)*24*60","v":0}]
["",null,null,{"$f":"MATCH(C403,Categories!A:A,0)","v":{"$error":"#N/A"}},0,{"$f":"IF(OR($E403<>0,$C403=\"\"),\"\",INDEX(Categories!$A:$E,Entries!$D403,2))","v":""},{"$f":"IF(OR($E403<>0,$C403=\"\"),\"\",INDEX(Categories!$A:$E,Entries!$D403,3))","v":""},{"$f":"IF(OR($E403<>0,$C403=\"\"),\"\",INDEX(Categories!$A:$E,Entries!$D403,4))","v":""},{"$f":"IF(OR($E403<>0,$C403=\"\"),\"\",INDEX(Categories!$A:$E,Entries!$D403,5))","v":""},"2014-01-01","2014-01-01",{"$f":"(Entries!K404-Entries!K403)*24*60","v":0}]
["",null,null,{"$f":"MATCH(C404,Categories!A:A,0)","v":{"$error":"#N/A"}},0,{"$f":"IF(OR($E404<>0,$C404=\"\"),\"\",INDEX(Categories!$A:$E,Entries!$D404,2))","v":""},{"$f":"IF(OR($E404<>0,$C404=\"\"),\"\",INDEX(Categories!$A:$E,Entries!$D404,3))","v":""},{"$f":"IF(OR($E404<>0,$C404=\"\"),\"\",INDEX(Categories!$A:$E,Entries!$D404,4))","v":""},{"$f":"IF(OR($E404<>0,$C404=\"\"),\"\",INDEX(Categories!$A:$E,Entries!$D404,5))","v":""},"2014-01-01","2014-01-01",{"$f":"(Entries!K405-Entries!K404)*24*60","v":0}]
["",null,null,{"$f":"MATCH(C405,Categories!A:A,0)","v":{"$error":"#N/A"}},0,{"$f":"IF(OR($E405<>0,$C405=\"\"),\"\",INDEX(Categories!$A:$E,Entries!$D405,2))","v":""},{"$f":"IF(OR($E405<>0,$C405=\"\"),\"\",INDEX(Categories!$A:$E,Entries!$D405,3))","v":""},{"$f":"IF(OR($E405<>0,$C405=\"\"),\"\",INDEX(Categories!$A:$E,Entries!$D405,4))","v":""},{"$f":"IF(OR($E405<>0,$C405=\"\"),\"\",INDEX(Categories!$A:$E,Entries!$D405,5))","v":""},"2014-01-01","2014-01-01",{"$f":"(Entries!K406-Entries!K405)*24*60","v":0}]
["",null,null,{"$f":"MATCH(C406,Categories!A:A,0)","v":{"$error":"#N/A"}},0,{"$f":"IF(OR($E406<>0,$C406=\"\"),\"\",INDEX(Categories!$A:$E,Entries!$D406,2))","v":""},{"$f":"IF(OR($E406<>0,$C406=\"\"),\"\",INDEX(Categories!$A:$E,Entries!$D406,3))","v":""},{"$f":"IF(OR($E406<>0,$C406=\"\"),\"\",INDEX(Categories!$A:$E,Entries!$D406,4))","v":""},{"$f":"IF(OR($E406<>0,$C406=\"\"),\"\",INDEX(Categories!$A:$E,Entries!$D406,5))","v":""},"2014-01-01","2014-01-01",{"$f":"(Entries!K407-Entries!K406)*24*60","v":0}]
["",null,null,{"$f":"MATCH(C407,Categories!A:A,0)","v":{"$error":"#N/A"}},0,{"$f":"IF(OR($E407<>0,$C407=\"\"),\"\",INDEX(Categories!$A:$E,Entries!$D407,2))","v":""},{"$f":"IF(OR($E407<>0,$C407=\"\"),\"\",INDEX(Categories!$A:$E,Entries!$D407,3))","v":""},{"$f":"IF(OR($E407<>0,$C407=\"\"),\"\",INDEX(Categories!$A:$E,Entries!$D407,4))","v":""},{"$f":"IF(OR($E407<>0,$C407=\"\"),\"\",INDEX(Categories!$A:$E,Entries!$D407,5))","v":""},"2014-01-01","2014-01-01",{"$f":"(Entries!K408-Entries!K407)*24*60","v":0}]
["",null,null,{"$f":"MATCH(C408,Categories!A:A,0)","v":{"$error":"#N/A"}},0,{"$f":"IF(OR($E408<>0,$C408=\"\"),\"\",INDEX(Categories!$A:$E,Entries!$D408,2))","v":""},{"$f":"IF(OR($E408<>0,$C408=\"\"),\"\",INDEX(Categories!$A:$E,Entries!$D408,3))","v":""},{"$f":"IF(OR($E408<>0,$C408=\"\"),\"\",INDEX(Categories!$A:$E,Entries!$D408,4))","v":""},{"$f":"IF(OR($E408<>0,$C408=\"\"),\"\",INDEX(Categories!$A:$E,Entries!$D408,5))","v":""},"2014-01-01","2014-01-01",{"$f":"(Entries!K409-Entries!K408)*24*60","v":0}]
["",null,null,{"$f":"MATCH(C409,Categories!A:A,0)","v":{"$error":"#N/A"}},0,{"$f":"IF(OR($E409<>0,$C409=\"\"),\"\",INDEX(Categories!$A:$E,Entries!$D409,2))","v":""},{"$f":"IF(OR($E409<>0,$C409=\"\"),\"\",INDEX(Categories!$A:$E,Entries!$D409,3))","v":""},{"$f":"IF(OR($E409<>0,$C409=\"\"),\"\",INDEX(Categories!$A:$E,Entries!$D409,4))","v":""},{"$f":"IF(OR($E409<>0,$C409=\"\"),\"\",INDEX(Categories!$A:$E,Entries!$D409,5))","v":""},"2014-01-01","2014-01-01",{"$f":"(Entries!K410-Entries!K409)*24*60","v":0}]
["",null,null,{"$f":"MATCH(C410,Categories!A:A,0)","v":{"$error":"#N/A"}},0,{"$f":"IF(OR($E410<>0,$C410=\"\"),\"\",INDEX(Categories!$A:$E,Entries!$D410,2))","v":""},{"$f":"IF(OR($E410<>0,$C410=\"\"),\"\",INDEX(Categories!$A:$E,Entries!$D410,3))","v":""},{"$f":"IF(OR($E410<>0,$C410=\"\"),\"\",INDEX(Categories!$A:$E,Entries!$D410,4))","v":""},{"$f":"IF(OR($E410<>0,$C410=\"\"),\"\",INDEX(Categories!$A:$E,Entries!$D410,5))","v":""},"2014-01-01","2014-01-01",{"$f":"(Entries!K411-Entries!K410)*24*60","v":0}]
["",null,null,{"$f":"MATCH(C411,Categories!A:A,0)","v":{"$error":"#N/A"}},0,{"$f":"IF(OR($E411<>0,$C411=\"\"),\"\",INDEX(Categories!$A:$E,Entries!$D411,2))","v":""},{"$f":"IF(OR($E411<>0,$C411=\"\"),\"\",INDEX(Categories!$A:$E,Entries!$D411,3))","v":""},{"$f":"IF(OR($E411<>0,$C411=\"\"),\"\",INDEX(Categories!$A:$E,Entries!$D411,4))","v":""},{"$f":"IF(OR($E411<>0,$C411=\"\"),\"\",INDEX(Categories!$A:$E,Entries!$D411,5))","v":""},"2014-01-01","2014-01-01",{"$f":"(Entries!K412-Entries!K411)*24*60","v":0}]
["",null,null,{"$f":"MATCH(C412,Categories!A:A,0)","v":{"$error":"#N/A"}},0,{"$f":"IF(OR($E412<>0,$C412=\"\"),\"\",INDEX(Categories!$A:$E,Entries!$D412,2))","v":""},{"$f":"IF(OR($E412<>0,$C412=\"\"),\"\",INDEX(Categories!$A:$E,Entries!$D412,3))","v":""},{"$f":"IF(OR($E412<>0,$C412=\"\"),\"\",INDEX(Categories!$A:$E,Entries!$D412,4))","v":""},{"$f":"IF(OR($E412<>0,$C412=\"\"),\"\",INDEX(Categories!$A:$E,Entries!$D412,5))","v":""},"2014-01-01","2014-01-01",{"$f":"(Entries!K413-Entries!K412)*24*60","v":0}]
["",null,null,{"$f":"MATCH(C413,Categories!A:A,0)","v":{"$error":"#N/A"}},0,{"$f":"IF(OR($E413<>0,$C413=\"\"),\"\",INDEX(Categories!$A:$E,Entries!$D413,2))","v":""},{"$f":"IF(OR($E413<>0,$C413=\"\"),\"\",INDEX(Categories!$A:$E,Entries!$D413,3))","v":""},{"$f":"IF(OR($E413<>0,$C413=\"\"),\"\",INDEX(Categories!$A:$E,Entries!$D413,4))","v":""},{"$f":"IF(OR($E413<>0,$C413=\"\"),\"\",INDEX(Categories!$A:$E,Entries!$D413,5))","v":""},"2014-01-01","2014-01-01",{"$f":"(Entries!K414-Entries!K413)*24*60","v":0}]
["",null,null,{"$f":"MATCH(C414,Categories!A:A,0)","v":{"$error":"#N/A"}},0,{"$f":"IF(OR($E414<>0,$C414=\"\"),\"\",INDEX(Categories!$A:$E,Entries!$D414,2))","v":""},{"$f":"IF(OR($E414<>0,$C414=\"\"),\"\",INDEX(Categories!$A:$E,Entries!$D414,3))","v":""},{"$f":"IF(OR($E414<>0,$C414=\"\"),\"\",INDEX(Categories!$A:$E,Entries!$D414,4))","v":""},{"$f":"IF(OR($E414<>0,$C414=\"\"),\"\",INDEX(Categories!$A:$E,Entries!$D414,5))","v":""},"2014-01-01","2014-01-01",{"$f":"(Entries!K415-Entries!K414)*24*60","v":0}]
["",null,null,{"$f":"MATCH(C415,Categories!A:A,0)","v":{"$error":"#N/A"}},0,{"$f":"IF(OR($E415<>0,$C415=\"\"),\"\",INDEX(Categories!$A:$E,Entries!$D415,2))","v":""},{"$f":"IF(OR($E415<>0,$C415=\"\"),\"\",INDEX(Categories!$A:$E,Entries!$D415,3))","v":""},{"$f":"IF(OR($E415<>0,$C415=\"\"),\"\",INDEX(Categories!$A:$E,Entries!$D415,4))","v":""},{"$f":"IF(OR($E415<>0,$C415=\"\"),\"\",INDEX(Categories!$A:$E,Entries!$D415,5))","v":""},"2014-01-01","2014-01-01",{"$f":"(Entries!K416-Entries!K415)*24*60","v":0}]
["",null,null,{"$f":"MATCH(C416,Categories!A:A,0)","v":{"$error":"#N/A"}},0,{"$f":"IF(OR($E416<>0,$C416=\"\"),\"\",INDEX(Categories!$A:$E,Entries!$D416,2))","v":""},{"$f":"IF(OR($E416<>0,$C416=\"\"),\"\",INDEX(Categories!$A:$E,Entries!$D416,3))","v":""},{"$f":"IF(OR($E416<>0,$C416=\"\"),\"\",INDEX(Categories!$A:$E,Entries!$D416,4))","v":""},{"$f":"IF(OR($E416<>0,$C416=\"\"),\"\",INDEX(Categories!$A:$E,Entries!$D416,5))","v":""},"2014-01-01","2014-01-01",{"$f":"(Entries!K417-Entries!K416)*24*60","v":0}]
["",null,null,{"$f":"MATCH(C417,Categories!A:A,0)","v":{"$error":"#N/A"}},0,{"$f":"IF(OR($E417<>0,$C417=\"\"),\"\",INDEX(Categories!$A:$E,Entries!$D417,2))","v":""},{"$f":"IF(OR($E417<>0,$C417=\"\"),\"\",INDEX(Categories!$A:$E,Entries!$D417,3))","v":""},{"$f":"IF(OR($E417<>0,$C417=\"\"),\"\",INDEX(Categories!$A:$E,Entries!$D417,4))","v":""},{"$f":"IF(OR($E417<>0,$C417=\"\"),\"\",INDEX(Categories!$A:$E,Entries!$D417,5))","v":""},"2014-01-01","2014-01-01",{"$f":"(Entries!K418-Entries!K417)*24*60","v":0}]
["",null,null,{"$f":"MATCH(C418,Categories!A:A,0)","v":{"$error":"#N/A"}},0,{"$f":"IF(OR($E418<>0,$C418=\"\"),\"\",INDEX(Categories!$A:$E,Entries!$D418,2))","v":""},{"$f":"IF(OR($E418<>0,$C418=\"\"),\"\",INDEX(Categories!$A:$E,Entries!$D418,3))","v":""},{"$f":"IF(OR($E418<>0,$C418=\"\"),\"\",INDEX(Categories!$A:$E,Entries!$D418,4))","v":""},{"$f":"IF(OR($E418<>0,$C418=\"\"),\"\",INDEX(Categories!$A:$E,Entries!$D418,5))","v":""},"2014-01-01","2014-01-01",{"$f":"(Entries!K419-Entries!K418)*24*60","v":0}]
["",null,null,{"$f":"MATCH(C419,Categories!A:A,0)","v":{"$error":"#N/A"}},0,{"$f":"IF(OR($E419<>0,$C419=\"\"),\"\",INDEX(Categories!$A:$E,Entries!$D419,2))","v":""},{"$f":"IF(OR($E419<>0,$C419=\"\"),\"\",INDEX(Categories!$A:$E,Entries!$D419,3))","v":""},{"$f":"IF(OR($E419<>0,$C419=\"\"),\"\",INDEX(Categories!$A:$E,Entries!$D419,4))","v":""},{"$f":"IF(OR($E419<>0,$C419=\"\"),\"\",INDEX(Categories!$A:$E,Entries!$D419,5))","v":""},"2014-01-01","2014-01-01",{"$f":"(Entries!K420-Entries!K419)*24*60","v":0}]
[{"$f":"IF(OR(B420>=B419,C419=\"z\",B420=\"\"),\"\",J419+1)","v":""},null,null,{"$f":"MATCH(C420,Categories!A:A,0)","v":{"$error":"#N/A"}},0,{"$f":"IF(OR($E420<>0,$C420=\"\"),\"\",INDEX(Categories!$A:$E,Entries!$D420,2))","v":""},{"$f":"IF(OR($E420<>0,$C420=\"\"),\"\",INDEX(Categories!$A:$E,Entries!$D420,3))","v":""},{"$f":"IF(OR($E420<>0,$C420=\"\"),\"\",INDEX(Categories!$A:$E,Entries!$D420,4))","v":""},{"$f":"IF(OR($E420<>0,$C420=\"\"),\"\",INDEX(Categories!$A:$E,Entries!$D420,5))","v":""},"2014-01-01","2014-01-01",{"$f":"(Entries!K421-Entries!K420)*24*60","v":0}]
["",null,null,{"$f":"MATCH(C421,Categories!A:A,0)","v":{"$error":"#N/A"}},0,{"$f":"IF(OR($E421<>0,$C421=\"\"),\"\",INDEX(Categories!$A:$E,Entries!$D421,2))","v":""},{"$f":"IF(OR($E421<>0,$C421=\"\"),\"\",INDEX(Categories!$A:$E,Entries!$D421,3))","v":""},{"$f":"IF(OR($E421<>0,$C421=\"\"),\"\",INDEX(Categories!$A:$E,Entries!$D421,4))","v":""},{"$f":"IF(OR($E421<>0,$C421=\"\"),\"\",INDEX(Categories!$A:$E,Entries!$D421,5))","v":""},"2014-01-01","2014-01-01",{"$f":"(Entries!K422-Entries!K421)*24*60","v":0}]
["",null,null,{"$f":"MATCH(C422,Categories!A:A,0)","v":{"$error":"#N/A"}},0,{"$f":"IF(OR($E422<>0,$C422=\"\"),\"\",INDEX(Categories!$A:$E,Entries!$D422,2))","v":""},{"$f":"IF(OR($E422<>0,$C422=\"\"),\"\",INDEX(Categories!$A:$E,Entries!$D422,3))","v":""},{"$f":"IF(OR($E422<>0,$C422=\"\"),\"\",INDEX(Categories!$A:$E,Entries!$D422,4))","v":""},{"$f":"IF(OR($E422<>0,$C422=\"\"),\"\",INDEX(Categories!$A:$E,Entries!$D422,5))","v":""},"2014-01-01","2014-01-01",{"$f":"(Entries!K423-Entries!K422)*24*60","v":0}]
["",null,null,{"$f":"MATCH(C423,Categories!A:A,0)","v":{"$error":"#N/A"}},0,{"$f":"IF(OR($E423<>0,$C423=\"\"),\"\",INDEX(Categories!$A:$E,Entries!$D423,2))","v":""},{"$f":"IF(OR($E423<>0,$C423=\"\"),\"\",INDEX(Categories!$A:$E,Entries!$D423,3))","v":""},{"$f":"IF(OR($E423<>0,$C423=\"\"),\"\",INDEX(Categories!$A:$E,Entries!$D423,4))","v":""},{"$f":"IF(OR($E423<>0,$C423=\"\"),\"\",INDEX(Categories!$A:$E,Entries!$D423,5))","v":""},"2014-01-01","2014-01-01",{"$f":"(Entries!K424-Entries!K423)*24*60","v":0}]
["",null,null,{"$f":"MATCH(C424,Categories!A:A,0)","v":{"$error":"#N/A"}},0,{"$f":"IF(OR($E424<>0,$C424=\"\"),\"\",INDEX(Categories!$A:$E,Entries!$D424,2))","v":""},{"$f":"IF(OR($E424<>0,$C424=\"\"),\"\",INDEX(Categories!$A:$E,Entries!$D424,3))","v":""},{"$f":"IF(OR($E424<>0,$C424=\"\"),\"\",INDEX(Categories!$A:$E,Entries!$D424,4))","v":""},{"$f":"IF(OR($E424<>0,$C424=\"\"),\"\",INDEX(Categories!$A:$E,Entries!$D424,5))","v":""},"2014-01-01","2014-01-01",{"$f":"(Entries!K425-Entries!K424)*24*60","v":0}]
["",null,null,{"$f":"MATCH(C425,Categories!A:A,0)","v":{"$error":"#N/A"}},0,{"$f":"IF(OR($E425<>0,$C425=\"\"),\"\",INDEX(Categories!$A:$E,Entries!$D425,2))","v":""},{"$f":"IF(OR($E425<>0,$C425=\"\"),\"\",INDEX(Categories!$A:$E,Entries!$D425,3))","v":""},{"$f":"IF(OR($E425<>0,$C425=\"\"),\"\",INDEX(Categories!$A:$E,Entries!$D425,4))","v":""},{"$f":"IF(OR($E425<>0,$C425=\"\"),\"\",INDEX(Categories!$A:$E,Entries!$D425,5))","v":""},"2014-01-01","2014-01-01",{"$f":"(Entries!K426-Entries!K425)*24*60","v":0}]
["",null,null,{"$f":"MATCH(C426,Categories!A:A,0)","v":{"$error":"#N/A"}},0,{"$f":"IF(OR($E426<>0,$C426=\"\"),\"\",INDEX(Categories!$A:$E,Entries!$D426,2))","v":""},{"$f":"IF(OR($E426<>0,$C426=\"\"),\"\",INDEX(Categories!$A:$E,Entries!$D426,3))","v":""},{"$f":"IF(OR($E426<>0,$C426=\"\"),\"\",INDEX(Categories!$A:$E,Entries!$D426,4))","v":""},{"$f":"IF(OR($E426<>0,$C426=\"\"),\"\",INDEX(Categories!$A:$E,Entries!$D426,5))","v":""},"2014-01-01","2014-01-01",{"$f":"(Entries!K427-Entries!K426)*24*60","v":0}]
["",null,null,{"$f":"MATCH(C427,Categories!A:A,0)","v":{"$error":"#N/A"}},0,{"$f":"IF(OR($E427<>0,$C427=\"\"),\"\",INDEX(Categories!$A:$E,Entries!$D427,2))","v":""},{"$f":"IF(OR($E427<>0,$C427=\"\"),\"\",INDEX(Categories!$A:$E,Entries!$D427,3))","v":""},{"$f":"IF(OR($E427<>0,$C427=\"\"),\"\",INDEX(Categories!$A:$E,Entries!$D427,4))","v":""},{"$f":"IF(OR($E427<>0,$C427=\"\"),\"\",INDEX(Categories!$A:$E,Entries!$D427,5))","v":""},"2014-01-01","2014-01-01",{"$f":"(Entries!K428-Entries!K427)*24*60","v":0}]
["",null,null,{"$f":"MATCH(C428,Categories!A:A,0)","v":{"$error":"#N/A"}},0,{"$f":"IF(OR($E428<>0,$C428=\"\"),\"\",INDEX(Categories!$A:$E,Entries!$D428,2))","v":""},{"$f":"IF(OR($E428<>0,$C428=\"\"),\"\",INDEX(Categories!$A:$E,Entries!$D428,3))","v":""},{"$f":"IF(OR($E428<>0,$C428=\"\"),\"\",INDEX(Categories!$A:$E,Entries!$D428,4))","v":""},{"$f":"IF(OR($E428<>0,$C428=\"\"),\"\",INDEX(Categories!$A:$E,Entries!$D428,5))","v":""},"2014-01-01","2014-01-01",{"$f":"(Entries!K429-Entries!K428)*24*60","v":0}]
["",null,null,{"$f":"MATCH(C429,Categories!A:A,0)","v":{"$error":"#N/A"}},0,{"$f":"IF(OR($E429<>0,$C429=\"\"),\"\",INDEX(Categories!$A:$E,Entries!$D429,2))","v":""},{"$f":"IF(OR($E429<>0,$C429=\"\"),\"\",INDEX(Categories!$A:$E,Entries!$D429,3))","v":""},{"$f":"IF(OR($E429<>0,$C429=\"\"),\"\",INDEX(Categories!$A:$E,Entries!$D429,4))","v":""},{"$f":"IF(OR($E429<>0,$C429=\"\"),\"\",INDEX(Categories!$A:$E,Entries!$D429,5))","v":""},"2014-01-01","2014-01-01",{"$f":"(Entries!K430-Entries!K429)*24*60","v":0}]
["",null,null,{"$f":"MATCH(C430,Categories!A:A,0)","v":{"$error":"#N/A"}},0,{"$f":"IF(OR($E430<>0,$C430=\"\"),\"\",INDEX(Categories!$A:$E,Entries!$D430,2))","v":""},{"$f":"IF(OR($E430<>0,$C430=\"\"),\"\",INDEX(Categories!$A:$E,Entries!$D430,3))","v":""},{"$f":"IF(OR($E430<>0,$C430=\"\"),\"\",INDEX(Categories!$A:$E,Entries!$D430,4))","v":""},{"$f":"IF(OR($E430<>0,$C430=\"\"),\"\",INDEX(Categories!$A:$E,Entries!$D430,5))","v":""},"2014-01-01","2014-01-01",{"$f":"(Entries!K431-Entries!K430)*24*60","v":0}]
["",null,null,{"$f":"MATCH(C431,Categories!A:A,0)","v":{"$error":"#N/A"}},0,{"$f":"IF(OR($E431<>0,$C431=\"\"),\"\",INDEX(Categories!$A:$E,Entries!$D431,2))","v":""},{"$f":"IF(OR($E431<>0,$C431=\"\"),\"\",INDEX(Categories!$A:$E,Entries!$D431,3))","v":""},{"$f":"IF(OR($E431<>0,$C431=\"\"),\"\",INDEX(Categories!$A:$E,Entries!$D431,4))","v":""},{"$f":"IF(OR($E431<>0,$C431=\"\"),\"\",INDEX(Categories!$A:$E,Entries!$D431,5))","v":""},"2014-01-01","2014-01-01",{"$f":"(Entries!K432-Entries!K431)*24*60","v":0}]
["",null,null,{"$f":"MATCH(C432,Categories!A:A,0)","v":{"$error":"#N/A"}},0,{"$f":"IF(OR($E432<>0,$C432=\"\"),\"\",INDEX(Categories!$A:$E,Entries!$D432,2))","v":""},{"$f":"IF(OR($E432<>0,$C432=\"\"),\"\",INDEX(Categories!$A:$E,Entries!$D432,3))","v":""},{"$f":"IF(OR($E432<>0,$C432=\"\"),\"\",INDEX(Categories!$A:$E,Entries!$D432,4))","v":""},{"$f":"IF(OR($E432<>0,$C432=\"\"),\"\",INDEX(Categories!$A:$E,Entries!$D432,5))","v":""},"2014-01-01","2014-01-01",{"$f":"(Entries!K433-Entries!K432)*24*60","v":0}]
["",null,null,{"$f":"MATCH(C433,Categories!A:A,0)","v":{"$error":"#N/A"}},0,{"$f":"IF(OR($E433<>0,$C433=\"\"),\"\",INDEX(Categories!$A:$E,Entries!$D433,2))","v":""},{"$f":"IF(OR($E433<>0,$C433=\"\"),\"\",INDEX(Categories!$A:$E,Entries!$D433,3))","v":""},{"$f":"IF(OR($E433<>0,$C433=\"\"),\"\",INDEX(Categories!$A:$E,Entries!$D433,4))","v":""},{"$f":"IF(OR($E433<>0,$C433=\"\"),\"\",INDEX(Categories!$A:$E,Entries!$D433,5))","v":""},"2014-01-01","2014-01-01",{"$f":"(Entries!K434-Entries!K433)*24*60","v":0}]
["",null,null,{"$f":"MATCH(C434,Categories!A:A,0)","v":{"$error":"#N/A"}},0,{"$f":"IF(OR($E434<>0,$C434=\"\"),\"\",INDEX(Categories!$A:$E,Entries!$D434,2))","v":""},{"$f":"IF(OR($E434<>0,$C434=\"\"),\"\",INDEX(Categories!$A:$E,Entries!$D434,3))","v":""},{"$f":"IF(OR($E434<>0,$C434=\"\"),\"\",INDEX(Categories!$A:$E,Entries!$D434,4))","v":""},{"$f":"IF(OR($E434<>0,$C434=\"\"),\"\",INDEX(Categories!$A:$E,Entries!$D434,5))","v":""},"2014-01-01","2014-01-01",{"$f":"(Entries!K435-Entries!K434)*24*60","v":0}]
["",null,null,{"$f":"MATCH(C435,Categories!A:A,0)","v":{"$error":"#N/A"}},0,{"$f":"IF(OR($E435<>0,$C435=\"\"),\"\",INDEX(Categories!$A:$E,Entries!$D435,2))","v":""},{"$f":"IF(OR($E435<>0,$C435=\"\"),\"\",INDEX(Categories!$A:$E,Entries!$D435,3))","v":""},{"$f":"IF(OR($E435<>0,$C435=\"\"),\"\",INDEX(Categories!$A:$E,Entries!$D435,4))","v":""},{"$f":"IF(OR($E435<>0,$C435=\"\"),\"\",INDEX(Categories!$A:$E,Entries!$D435,5))","v":""},"2014-01-01","2014-01-01",{"$f":"(Entries!K436-Entries!K435)*24*60","v":0}]
["",null,null,{"$f":"MATCH(C436,Categories!A:A,0)","v":{"$error":"#N/A"}},0,{"$f":"IF(OR($E436<>0,$C436=\"\"),\"\",INDEX(Categories!$A:$E,Entries!$D436,2))","v":""},{"$f":"IF(OR($E436<>0,$C436=\"\"),\"\",INDEX(Categories!$A:$E,Entries!$D436,3))","v":""},{"$f":"IF(OR($E436<>0,$C436=\"\"),\"\",INDEX(Categories!$A:$E,Entries!$D436,4))","v":""},{"$f":"IF(OR($E436<>0,$C436=\"\"),\"\",INDEX(Categories!$A:$E,Entries!$D436,5))","v":""},"2014-01-01","2014-01-01",{"$f":"(Entries!K437-Entries!K436)*24*60","v":0}]
["",null,null,{"$f":"MATCH(C437,Categories!A:A,0)","v":{"$error":"#N/A"}},0,{"$f":"IF(OR($E437<>0,$C437=\"\"),\"\",INDEX(Categories!$A:$E,Entries!$D437,2))","v":""},{"$f":"IF(OR($E437<>0,$C437=\"\"),\"\",INDEX(Categories!$A:$E,Entries!$D437,3))","v":""},{"$f":"IF(OR($E437<>0,$C437=\"\"),\"\",INDEX(Categories!$A:$E,Entries!$D437,4))","v":""},{"$f":"IF(OR($E437<>0,$C437=\"\"),\"\",INDEX(Categories!$A:$E,Entries!$D437,5))","v":""},"2014-01-01","2014-01-01",{"$f":"(Entries!K438-Entries!K437)*24*60","v":0}]
["",null,null,{"$f":"MATCH(C438,Categories!A:A,0)","v":{"$error":"#N/A"}},0,{"$f":"IF(OR($E438<>0,$C438=\"\"),\"\",INDEX(Categories!$A:$E,Entries!$D438,2))","v":""},{"$f":"IF(OR($E438<>0,$C438=\"\"),\"\",INDEX(Categories!$A:$E,Entries!$D438,3))","v":""},{"$f":"IF(OR($E438<>0,$C438=\"\"),\"\",INDEX(Categories!$A:$E,Entries!$D438,4))","v":""},{"$f":"IF(OR($E438<>0,$C438=\"\"),\"\",INDEX(Categories!$A:$E,Entries!$D438,5))","v":""},"2014-01-01","2014-01-01",{"$f":"(Entries!K439-Entries!K438)*24*60","v":0}]
["",null,null,{"$f":"MATCH(C439,Categories!A:A,0)","v":{"$error":"#N/A"}},0,{"$f":"IF(OR($E439<>0,$C439=\"\"),\"\",INDEX(Categories!$A:$E,Entries!$D439,2))","v":""},{"$f":"IF(OR($E439<>0,$C439=\"\"),\"\",INDEX(Categories!$A:$E,Entries!$D439,3))","v":""},{"$f":"IF(OR($E439<>0,$C439=\"\"),\"\",INDEX(Categories!$A:$E,Entries!$D439,4))","v":""},{"$f":"IF(OR($E439<>0,$C439=\"\"),\"\",INDEX(Categories!$A:$E,Entries!$D439,5))","v":""},"2014-01-01","2014-01-01",{"$f":"(Entries!K440-Entries!K439)*24*60","v":0}]
["",null,null,{"$f":"MATCH(C440,Categories!A:A,0)","v":{"$error":"#N/A"}},0,{"$f":"IF(OR($E440<>0,$C440=\"\"),\"\",INDEX(Categories!$A:$E,Entries!$D440,2))","v":""},{"$f":"IF(OR($E440<>0,$C440=\"\"),\"\",INDEX(Categories!$A:$E,Entries!$D440,3))","v":""},{"$f":"IF(OR($E440<>0,$C440=\"\"),\"\",INDEX(Categories!$A:$E,Entries!$D440,4))","v":""},{"$f":"IF(OR($E440<>0,$C440=\"\"),\"\",INDEX(Categories!$A:$E,Entries!$D440,5))","v":""},"2014-01-01","2014-01-01",{"$f":"(Entries!K441-Entries!K440)*24*60","v":0}]
["",null,null,{"$f":"MATCH(C441,Categories!A:A,0)","v":{"$error":"#N/A"}},0,{"$f":"IF(OR($E441<>0,$C441=\"\"),\"\",INDEX(Categories!$A:$E,Entries!$D441,2))","v":""},{"$f":"IF(OR($E441<>0,$C441=\"\"),\"\",INDEX(Categories!$A:$E,Entries!$D441,3))","v":""},{"$f":"IF(OR($E441<>0,$C441=\"\"),\"\",INDEX(Categories!$A:$E,Entries!$D441,4))","v":""},{"$f":"IF(OR($E441<>0,$C441=\"\"),\"\",INDEX(Categories!$A:$E,Entries!$D441,5))","v":""},"2014-01-01","2014-01-01",{"$f":"(Entries!K442-Entries!K441)*24*60","v":0}]
["",null,null,{"$f":"MATCH(C442,Categories!A:A,0)","v":{"$error":"#N/A"}},0,{"$f":"IF(OR($E442<>0,$C442=\"\"),\"\",INDEX(Categories!$A:$E,Entries!$D442,2))","v":""},{"$f":"IF(OR($E442<>0,$C442=\"\"),\"\",INDEX(Categories!$A:$E,Entries!$D442,3))","v":""},{"$f":"IF(OR($E442<>0,$C442=\"\"),\"\",INDEX(Categories!$A:$E,Entries!$D442,4))","v":""},{"$f":"IF(OR($E442<>0,$C442=\"\"),\"\",INDEX(Categories!$A:$E,Entries!$D442,5))","v":""},"2014-01-01","2014-01-01",{"$f":"(Entries!K443-Entries!K442)*24*60","v":0}]
["",null,null,{"$f":"MATCH(C443,Categories!A:A,0)","v":{"$error":"#N/A"}},0,{"$f":"IF(OR($E443<>0,$C443=\"\"),\"\",INDEX(Categories!$A:$E,Entries!$D443,2))","v":""},{"$f":"IF(OR($E443<>0,$C443=\"\"),\"\",INDEX(Categories!$A:$E,Entries!$D443,3))","v":""},{"$f":"IF(OR($E443<>0,$C443=\"\"),\"\",INDEX(Categories!$A:$E,Entries!$D443,4))","v":""},{"$f":"IF(OR($E443<>0,$C443=\"\"),\"\",INDEX(Categories!$A:$E,Entries!$D443,5))","v":""},"2014-01-01","2014-01-01",{"$f":"(Entries!K444-Entries!K443)*24*60","v":0}]
["",null,null,{"$f":"MATCH(C444,Categories!A:A,0)","v":{"$error":"#N/A"}},0,{"$f":"IF(OR($E444<>0,$C444=\"\"),\"\",INDEX(Categories!$A:$E,Entries!$D444,2))","v":""},{"$f":"IF(OR($E444<>0,$C444=\"\"),\"\",INDEX(Categories!$A:$E,Entries!$D444,3))","v":""},{"$f":"IF(OR($E444<>0,$C444=\"\"),\"\",INDEX(Categories!$A:$E,Entries!$D444,4))","v":""},{"$f":"IF(OR($E444<>0,$C444=\"\"),\"\",INDEX(Categories!$A:$E,Entries!$D444,5))","v":""},"2014-01-01","2014-01-01",{"$f":"(Entries!K445-Entries!K444)*24*60","v":0}]
["",null,null,{"$f":"MATCH(C445,Categories!A:A,0)","v":{"$error":"#N/A"}},0,{"$f":"IF(OR($E445<>0,$C445=\"\"),\"\",INDEX(Categories!$A:$E,Entries!$D445,2))","v":""},{"$f":"IF(OR($E445<>0,$C445=\"\"),\"\",INDEX(Categories!$A:$E,Entries!$D445,3))","v":""},{"$f":"IF(OR($E445<>0,$C445=\"\"),\"\",INDEX(Categories!$A:$E,Entries!$D445,4))","v":""},{"$f":"IF(OR($E445<>0,$C445=\"\"),\"\",INDEX(Categories!$A:$E,Entries!$D445,5))","v":""},"2014-01-01","2014-01-01",{"$f":"(Entries!K446-Entries!K445)*24*60","v":0}]
["",null,null,{"$f":"MATCH(C446,Categories!A:A,0)","v":{"$error":"#N/A"}},0,{"$f":"IF(OR($E446<>0,$C446=\"\"),\"\",INDEX(Categories!$A:$E,Entries!$D446,2))","v":""},{"$f":"IF(OR($E446<>0,$C446=\"\"),\"\",INDEX(Categories!$A:$E,Entries!$D446,3))","v":""},{"$f":"IF(OR($E446<>0,$C446=\"\"),\"\",INDEX(Categories!$A:$E,Entries!$D446,4))","v":""},{"$f":"IF(OR($E446<>0,$C446=\"\"),\"\",INDEX(Categories!$A:$E,Entries!$D446,5))","v":""},"2014-01-01","2014-01-01",{"$f":"(Entries!K447-Entries!K446)*24*60","v":0}]
["",null,null,{"$f":"MATCH(C447,Categories!A:A,0)","v":{"$error":"#N/A"}},0,{"$f":"IF(OR($E447<>0,$C447=\"\"),\"\",INDEX(Categories!$A:$E,Entries!$D447,2))","v":""},{"$f":"IF(OR($E447<>0,$C447=\"\"),\"\",INDEX(Categories!$A:$E,Entries!$D447,3))","v":""},{"$f":"IF(OR($E447<>0,$C447=\"\"),\"\",INDEX(Categories!$A:$E,Entries!$D447,4))","v":""},{"$f":"IF(OR($E447<>0,$C447=\"\"),\"\",INDEX(Categories!$A:$E,Entries!$D447,5))","v":""},"2014-01-01","2014-01-01",{"$f":"(Entries!K448-Entries!K447)*24*60","v":0}]
["",null,null,{"$f":"MATCH(C448,Categories!A:A,0)","v":{"$error":"#N/A"}},0,{"$f":"IF(OR($E448<>0,$C448=\"\"),\"\",INDEX(Categories!$A:$E,Entries!$D448,2))","v":""},{"$f":"IF(OR($E448<>0,$C448=\"\"),\"\",INDEX(Categories!$A:$E,Entries!$D448,3))","v":""},{"$f":"IF(OR($E448<>0,$C448=\"\"),\"\",INDEX(Categories!$A:$E,Entries!$D448,4))","v":""},{"$f":"IF(OR($E448<>0,$C448=\"\"),\"\",INDEX(Categories!$A:$E,Entries!$D448,5))","v":""},"2014-01-01","2014-01-01",{"$f":"(Entries!K449-Entries!K448)*24*60","v":0}]
["",null,null,{"$f":"MATCH(C449,Categories!A:A,0)","v":{"$error":"#N/A"}},0,{"$f":"IF(OR($E449<>0,$C449=\"\"),\"\",INDEX(Categories!$A:$E,Entries!$D449,2))","v":""},{"$f":"IF(OR($E449<>0,$C449=\"\"),\"\",INDEX(Categories!$A:$E,Entries!$D449,3))","v":""},{"$f":"IF(OR($E449<>0,$C449=\"\"),\"\",INDEX(Categories!$A:$E,Entries!$D449,4))","v":""},{"$f":"IF(OR($E449<>0,$C449=\"\"),\"\",INDEX(Categories!$A:$E,Entries!$D449,5))","v":""},"2014-01-01","2014-01-01",{"$f":"(Entries!K450-Entries!K449)*24*60","v":0}]
["",null,null,{"$f":"MATCH(C450,Categories!A:A,0)","v":{"$error":"#N/A"}},{"$f":"IF(AND(ISERROR(D450),C450<>\"\"),ROW(D450),0)","v":0},{"$f":"IF(OR($E450<>0,$C450=\"\"),\"\",INDEX(Categories!$A:$E,Entries!$D450,2))","v":""},{"$f":"IF(OR($E450<>0,$C450=\"\"),\"\",INDEX(Categories!$A:$E,Entries!$D450,3))","v":""},{"$f":"IF(OR($E450<>0,$C450=\"\"),\"\",INDEX(Categories!$A:$E,Entries!$D450,4))","v":""},{"$f":"IF(OR($E450<>0,$C450=\"\"),\"\",INDEX(Categories!$A:$E,Entries!$D450,5))","v":""},{"$f":"IF(A450=\"\",J449,A450)","v":"2014-01-01"},{"$f":"J450+B450","v":"2014-01-01"},{"$f":"(Entries!K451-Entries!K450)*24*60","v":0}]
["",null,null,{"$f":"MATCH(C451,Categories!A:A,0)","v":{"$error":"#N/A"}},0,{"$f":"IF(OR($E451<>0,$C451=\"\"),\"\",INDEX(Categories!$A:$E,Entries!$D451,2))","v":""},{"$f":"IF(OR($E451<>0,$C451=\"\"),\"\",INDEX(Categories!$A:$E,Entries!$D451,3))","v":""},{"$f":"IF(OR($E451<>0,$C451=\"\"),\"\",INDEX(Categories!$A:$E,Entries!$D451,4))","v":""},{"$f":"IF(OR($E451<>0,$C451=\"\"),\"\",INDEX(Categories!$A:$E,Entries!$D451,5))","v":""},"2014-01-01","2014-01-01",{"$f":"(Entries!K452-Entries!K451)*24*60","v":0}]
["",null,null,{"$f":"MATCH(C452,Categories!A:A,0)","v":{"$error":"#N/A"}},0,{"$f":"IF(OR($E452<>0,$C452=\"\"),\"\",INDEX(Categories!$A:$E,Entries!$D452,2))","v":""},{"$f":"IF(OR($E452<>0,$C452=\"\"),\"\",INDEX(Categories!$A:$E,Entries!$D452,3))","v":""},{"$f":"IF(OR($E452<>0,$C452=\"\"),\"\",INDEX(Categories!$A:$E,Entries!$D452,4))","v":""},{"$f":"IF(OR($E452<>0,$C452=\"\"),\"\",INDEX(Categories!$A:$E,Entries!$D452,5))","v":""},"2014-01-01","2014-01-01",{"$f":"(Entries!K453-Entries!K452)*24*60","v":0}]
["",null,null,{"$f":"MATCH(C453,Categories!A:A,0)","v":{"$error":"#N/A"}},0,{"$f":"IF(OR($E453<>0,$C453=\"\"),\"\",INDEX(Categories!$A:$E,Entries!$D453,2))","v":""},{"$f":"IF(OR($E453<>0,$C453=\"\"),\"\",INDEX(Categories!$A:$E,Entries!$D453,3))","v":""},{"$f":"IF(OR($E453<>0,$C453=\"\"),\"\",INDEX(Categories!$A:$E,Entries!$D453,4))","v":""},{"$f":"IF(OR($E453<>0,$C453=\"\"),\"\",INDEX(Categories!$A:$E,Entries!$D453,5))","v":""},"2014-01-01","2014-01-01",{"$f":"(Entries!K454-Entries!K453)*24*60","v":0}]
["",null,null,{"$f":"MATCH(C454,Categories!A:A,0)","v":{"$error":"#N/A"}},0,{"$f":"IF(OR($E454<>0,$C454=\"\"),\"\",INDEX(Categories!$A:$E,Entries!$D454,2))","v":""},{"$f":"IF(OR($E454<>0,$C454=\"\"),\"\",INDEX(Categories!$A:$E,Entries!$D454,3))","v":""},{"$f":"IF(OR($E454<>0,$C454=\"\"),\"\",INDEX(Categories!$A:$E,Entries!$D454,4))","v":""},{"$f":"IF(OR($E454<>0,$C454=\"\"),\"\",INDEX(Categories!$A:$E,Entries!$D454,5))","v":""},"2014-01-01","2014-01-01",{"$f":"(Entries!K455-Entries!K454)*24*60","v":0}]
["",null,null,{"$f":"MATCH(C455,Categories!A:A,0)","v":{"$error":"#N/A"}},0,{"$f":"IF(OR($E455<>0,$C455=\"\"),\"\",INDEX(Categories!$A:$E,Entries!$D455,2))","v":""},{"$f":"IF(OR($E455<>0,$C455=\"\"),\"\",INDEX(Categories!$A:$E,Entries!$D455,3))","v":""},{"$f":"IF(OR($E455<>0,$C455=\"\"),\"\",INDEX(Categories!$A:$E,Entries!$D455,4))","v":""},{"$f":"IF(OR($E455<>0,$C455=\"\"),\"\",INDEX(Categories!$A:$E,Entries!$D455,5))","v":""},"2014-01-01","2014-01-01",{"$f":"(Entries!K456-Entries!K455)*24*60","v":0}]
["",null,null,{"$f":"MATCH(C456,Categories!A:A,0)","v":{"$error":"#N/A"}},0,{"$f":"IF(OR($E456<>0,$C456=\"\"),\"\",INDEX(Categories!$A:$E,Entries!$D456,2))","v":""},{"$f":"IF(OR($E456<>0,$C456=\"\"),\"\",INDEX(Categories!$A:$E,Entries!$D456,3))","v":""},{"$f":"IF(OR($E456<>0,$C456=\"\"),\"\",INDEX(Categories!$A:$E,Entries!$D456,4))","v":""},{"$f":"IF(OR($E456<>0,$C456=\"\"),\"\",INDEX(Categories!$A:$E,Entries!$D456,5))","v":""},"2014-01-01","2014-01-01",{"$f":"(Entries!K457-Entries!K456)*24*60","v":0}]
["",null,null,{"$f":"MATCH(C457,Categories!A:A,0)","v":{"$error":"#N/A"}},0,{"$f":"IF(OR($E457<>0,$C457=\"\"),\"\",INDEX(Categories!$A:$E,Entries!$D457,2))","v":""},{"$f":"IF(OR($E457<>0,$C457=\"\"),\"\",INDEX(Categories!$A:$E,Entries!$D457,3))","v":""},{"$f":"IF(OR($E457<>0,$C457=\"\"),\"\",INDEX(Categories!$A:$E,Entries!$D457,4))","v":""},{"$f":"IF(OR($E457<>0,$C457=\"\"),\"\",INDEX(Categories!$A:$E,Entries!$D457,5))","v":""},"2014-01-01","2014-01-01",{"$f":"(Entries!K458-Entries!K457)*24*60","v":0}]
["",null,null,{"$f":"MATCH(C458,Categories!A:A,0)","v":{"$error":"#N/A"}},0,{"$f":"IF(OR($E458<>0,$C458=\"\"),\"\",INDEX(Categories!$A:$E,Entries!$D458,2))","v":""},{"$f":"IF(OR($E458<>0,$C458=\"\"),\"\",INDEX(Categories!$A:$E,Entries!$D458,3))","v":""},{"$f":"IF(OR($E458<>0,$C458=\"\"),\"\",INDEX(Categories!$A:$E,Entries!$D458,4))","v":""},{"$f":"IF(OR($E458<>0,$C458=\"\"),\"\",INDEX(Categories!$A:$E,Entries!$D458,5))","v":""},"2014-01-01","2014-01-01",{"$f":"(Entries!K459-Entries!K458)*24*60","v":0}]
["",null,null,{"$f":"MATCH(C459,Categories!A:A,0)","v":{"$error":"#N/A"}},0,{"$f":"IF(OR($E459<>0,$C459=\"\"),\"\",INDEX(Categories!$A:$E,Entries!$D459,2))","v":""},{"$f":"IF(OR($E459<>0,$C459=\"\"),\"\",INDEX(Categories!$A:$E,Entries!$D459,3))","v":""},{"$f":"IF(OR($E459<>0,$C459=\"\"),\"\",INDEX(Categories!$A:$E,Entries!$D459,4))","v":""},{"$f":"IF(OR($E459<>0,$C459=\"\"),\"\",INDEX(Categories!$A:$E,Entries!$D459,5))","v":""},"2014-01-01","2014-01-01",{"$f":"(Entries!K460-Entries!K459)*24*60","v":0}]
["",null,null,{"$f":"MATCH(C460,Categories!A:A,0)","v":{"$error":"#N/A"}},0,{"$f":"IF(OR($E460<>0,$C460=\"\"),\"\",INDEX(Categories!$A:$E,Entries!$D460,2))","v":""},{"$f":"IF(OR($E460<>0,$C460=\"\"),\"\",INDEX(Categories!$A:$E,Entries!$D460,3))","v":""},{"$f":"IF(OR($E460<>0,$C460=\"\"),\"\",INDEX(Categories!$A:$E,Entries!$D460,4))","v":""},{"$f":"IF(OR($E460<>0,$C460=\"\"),\"\",INDEX(Categories!$A:$E,Entries!$D460,5))","v":""},"2014-01-01","2014-01-01",{"$f":"(Entries!K461-Entries!K460)*24*60","v":0}]
["",null,null,{"$f":"MATCH(C461,Categories!A:A,0)","v":{"$error":"#N/A"}},0,{"$f":"IF(OR($E461<>0,$C461=\"\"),\"\",INDEX(Categories!$A:$E,Entries!$D461,2))","v":""},{"$f":"IF(OR($E461<>0,$C461=\"\"),\"\",INDEX(Categories!$A:$E,Entries!$D461,3))","v":""},{"$f":"IF(OR($E461<>0,$C461=\"\"),\"\",INDEX(Categories!$A:$E,Entries!$D461,4))","v":""},{"$f":"IF(OR($E461<>0,$C461=\"\"),\"\",INDEX(Categories!$A:$E,Entries!$D461,5))","v":""},"2014-01-01","2014-01-01",{"$f":"(Entries!K462-Entries!K461)*24*60","v":0}]
["",null,null,{"$f":"MATCH(C462,Categories!A:A,0)","v":{"$error":"#N/A"}},0,{"$f":"IF(OR($E462<>0,$C462=\"\"),\"\",INDEX(Categories!$A:$E,Entries!$D462,2))","v":""},{"$f":"IF(OR($E462<>0,$C462=\"\"),\"\",INDEX(Categories!$A:$E,Entries!$D462,3))","v":""},{"$f":"IF(OR($E462<>0,$C462=\"\"),\"\",INDEX(Categories!$A:$E,Entries!$D462,4))","v":""},{"$f":"IF(OR($E462<>0,$C462=\"\"),\"\",INDEX(Categories!$A:$E,Entries!$D462,5))","v":""},"2014-01-01","2014-01-01",{"$f":"(Entries!K463-Entries!K462)*24*60","v":0}]
["",null,null,{"$f":"MATCH(C463,Categories!A:A,0)","v":{"$error":"#N/A"}},0,{"$f":"IF(OR($E463<>0,$C463=\"\"),\"\",INDEX(Categories!$A:$E,Entries!$D463,2))","v":""},{"$f":"IF(OR($E463<>0,$C463=\"\"),\"\",INDEX(Categories!$A:$E,Entries!$D463,3))","v":""},{"$f":"IF(OR($E463<>0,$C463=\"\"),\"\",INDEX(Categories!$A:$E,Entries!$D463,4))","v":""},{"$f":"IF(OR($E463<>0,$C463=\"\"),\"\",INDEX(Categories!$A:$E,Entries!$D463,5))","v":""},"2014-01-01","2014-01-01",{"$f":"(Entries!K464-Entries!K463)*24*60","v":0}]
["",null,null,{"$f":"MATCH(C464,Categories!A:A,0)","v":{"$error":"#N/A"}},0,{"$f":"IF(OR($E464<>0,$C464=\"\"),\"\",INDEX(Categories!$A:$E,Entries!$D464,2))","v":""},{"$f":"IF(OR($E464<>0,$C464=\"\"),\"\",INDEX(Categories!$A:$E,Entries!$D464,3))","v":""},{"$f":"IF(OR($E464<>0,$C464=\"\"),\"\",INDEX(Categories!$A:$E,Entries!$D464,4))","v":""},{"$f":"IF(OR($E464<>0,$C464=\"\"),\"\",INDEX(Categories!$A:$E,Entries!$D464,5))","v":""},"2014-01-01","2014-01-01",{"$f":"(Entries!K465-Entries!K464)*24*60","v":0}]
["",null,null,{"$f":"MATCH(C465,Categories!A:A,0)","v":{"$error":"#N/A"}},0,{"$f":"IF(OR($E465<>0,$C465=\"\"),\"\",INDEX(Categories!$A:$E,Entries!$D465,2))","v":""},{"$f":"IF(OR($E465<>0,$C465=\"\"),\"\",INDEX(Categories!$A:$E,Entries!$D465,3))","v":""},{"$f":"IF(OR($E465<>0,$C465=\"\"),\"\",INDEX(Categories!$A:$E,Entries!$D465,4))","v":""},{"$f":"IF(OR($E465<>0,$C465=\"\"),\"\",INDEX(Categories!$A:$E,Entries!$D465,5))","v":""},"2014-01-01","2014-01-01",{"$f":"(Entries!K466-Entries!K465)*24*60","v":0}]
["",null,null,{"$f":"MATCH(C466,Categories!A:A,0)","v":{"$error":"#N/A"}},0,{"$f":"IF(OR($E466<>0,$C466=\"\"),\"\",INDEX(Categories!$A:$E,Entries!$D466,2))","v":""},{"$f":"IF(OR($E466<>0,$C466=\"\"),\"\",INDEX(Categories!$A:$E,Entries!$D466,3))","v":""},{"$f":"IF(OR($E466<>0,$C466=\"\"),\"\",INDEX(Categories!$A:$E,Entries!$D466,4))","v":""},{"$f":"IF(OR($E466<>0,$C466=\"\"),\"\",INDEX(Categories!$A:$E,Entries!$D466,5))","v":""},"2014-01-01","2014-01-01",{"$f":"(Entries!K467-Entries!K466)*24*60","v":0}]
["",null,null,{"$f":"MATCH(C467,Categories!A:A,0)","v":{"$error":"#N/A"}},0,{"$f":"IF(OR($E467<>0,$C467=\"\"),\"\",INDEX(Categories!$A:$E,Entries!$D467,2))","v":""},{"$f":"IF(OR($E467<>0,$C467=\"\"),\"\",INDEX(Categories!$A:$E,Entries!$D467,3))","v":""},{"$f":"IF(OR($E467<>0,$C467=\"\"),\"\",INDEX(Categories!$A:$E,Entries!$D467,4))","v":""},{"$f":"IF(OR($E467<>0,$C467=\"\"),\"\",INDEX(Categories!$A:$E,Entries!$D467,5))","v":""},"2014-01-01","2014-01-01",{"$f":"(Entries!K468-Entries!K467)*24*60","v":0}]
["",null,null,{"$f":"MATCH(C468,Categories!A:A,0)","v":{"$error":"#N/A"}},0,{"$f":"IF(OR($E468<>0,$C468=\"\"),\"\",INDEX(Categories!$A:$E,Entries!$D468,2))","v":""},{"$f":"IF(OR($E468<>0,$C468=\"\"),\"\",INDEX(Categories!$A:$E,Entries!$D468,3))","v":""},{"$f":"IF(OR($E468<>0,$C468=\"\"),\"\",INDEX(Categories!$A:$E,Entries!$D468,4))","v":""},{"$f":"IF(OR($E468<>0,$C468=\"\"),\"\",INDEX(Categories!$A:$E,Entries!$D468,5))","v":""},"2014-01-01","2014-01-01",{"$f":"(Entries!K469-Entries!K468)*24*60","v":0}]
["",null,null,{"$f":"MATCH(C469,Categories!A:A,0)","v":{"$error":"#N/A"}},0,{"$f":"IF(OR($E469<>0,$C469=\"\"),\"\",INDEX(Categories!$A:$E,Entries!$D469,2))","v":""},{"$f":"IF(OR($E469<>0,$C469=\"\"),\"\",INDEX(Categories!$A:$E,Entries!$D469,3))","v":""},{"$f":"IF(OR($E469<>0,$C469=\"\"),\"\",INDEX(Categories!$A:$E,Entries!$D469,4))","v":""},{"$f":"IF(OR($E469<>0,$C469=\"\"),\"\",INDEX(Categories!$A:$E,Entries!$D469,5))","v":""},"2014-01-01","2014-01-01",{"$f":"(Entries!K470-Entries!K469)*24*60","v":0}]
["",null,null,{"$f":"MATCH(C470,Categories!A:A,0)","v":{"$error":"#N/A"}},0,{"$f":"IF(OR($E470<>0,$C470=\"\"),\"\",INDEX(Categories!$A:$E,Entries!$D470,2))","v":""},{"$f":"IF(OR($E470<>0,$C470=\"\"),\"\",INDEX(Categories!$A:$E,Entries!$D470,3))","v":""},{"$f":"IF(OR($E470<>0,$C470=\"\"),\"\",INDEX(Categories!$A:$E,Entries!$D470,4))","v":""},{"$f":"IF(OR($E470<>0,$C470=\"\"),\"\",INDEX(Categories!$A:$E,Entries!$D470,5))","v":""},"2014-01-01","2014-01-01",{"$f":"(Entries!K471-Entries!K470)*24*60","v":0}]
["",null,null,{"$f":"MATCH(C471,Categories!A:A,0)","v":{"$error":"#N/A"}},0,{"$f":"IF(OR($E471<>0,$C471=\"\"),\"\",INDEX(Categories!$A:$E,Entries!$D471,2))","v":""},{"$f":"IF(OR($E471<>0,$C471=\"\"),\"\",INDEX(Categories!$A:$E,Entries!$D471,3))","v":""},{"$f":"IF(OR($E471<>0,$C471=\"\"),\"\",INDEX(Categories!$A:$E,Entries!$D471,4))","v":""},{"$f":"IF(OR($E471<>0,$C471=\"\"),\"\",INDEX(Categories!$A:$E,Entries!$D471,5))","v":""},"2014-01-01","2014-01-01",{"$f":"(Entries!K472-Entries!K471)*24*60","v":0}]
["",null,null,{"$f":"MATCH(C472,Categories!A:A,0)","v":{"$error":"#N/A"}},0,{"$f":"IF(OR($E472<>0,$C472=\"\"),\"\",INDEX(Categories!$A:$E,Entries!$D472,2))","v":""},{"$f":"IF(OR($E472<>0,$C472=\"\"),\"\",INDEX(Categories!$A:$E,Entries!$D472,3))","v":""},{"$f":"IF(OR($E472<>0,$C472=\"\"),\"\",INDEX(Categories!$A:$E,Entries!$D472,4))","v":""},{"$f":"IF(OR($E472<>0,$C472=\"\"),\"\",INDEX(Categories!$A:$E,Entries!$D472,5))","v":""},"2014-01-01","2014-01-01",{"$f":"(Entries!K473-Entries!K472)*24*60","v":0}]
["",null,null,{"$f":"MATCH(C473,Categories!A:A,0)","v":{"$error":"#N/A"}},0,{"$f":"IF(OR($E473<>0,$C473=\"\"),\"\",INDEX(Categories!$A:$E,Entries!$D473,2))","v":""},{"$f":"IF(OR($E473<>0,$C473=\"\"),\"\",INDEX(Categories!$A:$E,Entries!$D473,3))","v":""},{"$f":"IF(OR($E473<>0,$C473=\"\"),\"\",INDEX(Categories!$A:$E,Entries!$D473,4))","v":""},{"$f":"IF(OR($E473<>0,$C473=\"\"),\"\",INDEX(Categories!$A:$E,Entries!$D473,5))","v":""},"2014-01-01","2014-01-01",{"$f":"(Entries!K474-Entries!K473)*24*60","v":0}]
["",null,null,{"$f":"MATCH(C474,Categories!A:A,0)","v":{"$error":"#N/A"}},0,{"$f":"IF(OR($E474<>0,$C474=\"\"),\"\",INDEX(Categories!$A:$E,Entries!$D474,2))","v":""},{"$f":"IF(OR($E474<>0,$C474=\"\"),\"\",INDEX(Categories!$A:$E,Entries!$D474,3))","v":""},{"$f":"IF(OR($E474<>0,$C474=\"\"),\"\",INDEX(Categories!$A:$E,Entries!$D474,4))","v":""},{"$f":"IF(OR($E474<>0,$C474=\"\"),\"\",INDEX(Categories!$A:$E,Entries!$D474,5))","v":""},"2014-01-01","2014-01-01",{"$f":"(Entries!K475-Entries!K474)*24*60","v":0}]
["",null,null,{"$f":"MATCH(C475,Categories!A:A,0)","v":{"$error":"#N/A"}},0,{"$f":"IF(OR($E475<>0,$C475=\"\"),\"\",INDEX(Categories!$A:$E,Entries!$D475,2))","v":""},{"$f":"IF(OR($E475<>0,$C475=\"\"),\"\",INDEX(Categories!$A:$E,Entries!$D475,3))","v":""},{"$f":"IF(OR($E475<>0,$C475=\"\"),\"\",INDEX(Categories!$A:$E,Entries!$D475,4))","v":""},{"$f":"IF(OR($E475<>0,$C475=\"\"),\"\",INDEX(Categories!$A:$E,Entries!$D475,5))","v":""},"2014-01-01","2014-01-01",{"$f":"(Entries!K476-Entries!K475)*24*60","v":0}]
["",null,null,{"$f":"MATCH(C476,Categories!A:A,0)","v":{"$error":"#N/A"}},0,{"$f":"IF(OR($E476<>0,$C476=\"\"),\"\",INDEX(Categories!$A:$E,Entries!$D476,2))","v":""},{"$f":"IF(OR($E476<>0,$C476=\"\"),\"\",INDEX(Categories!$A:$E,Entries!$D476,3))","v":""},{"$f":"IF(OR($E476<>0,$C476=\"\"),\"\",INDEX(Categories!$A:$E,Entries!$D476,4))","v":""},{"$f":"IF(OR($E476<>0,$C476=\"\"),\"\",INDEX(Categories!$A:$E,Entries!$D476,5))","v":""},"2014-01-01","2014-01-01",{"$f":"(Entries!K477-Entries!K476)*24*60","v":0}]
["",null,null,{"$f":"MATCH(C477,Categories!A:A,0)","v":{"$error":"#N/A"}},0,{"$f":"IF(OR($E477<>0,$C477=\"\"),\"\",INDEX(Categories!$A:$E,Entries!$D477,2))","v":""},{"$f":"IF(OR($E477<>0,$C477=\"\"),\"\",INDEX(Categories!$A:$E,Entries!$D477,3))","v":""},{"$f":"IF(OR($E477<>0,$C477=\"\"),\"\",INDEX(Categories!$A:$E,Entries!$D477,4))","v":""},{"$f":"IF(OR($E477<>0,$C477=\"\"),\"\",INDEX(Categories!$A:$E,Entries!$D477,5))","v":""},"2014-01-01","2014-01-01",{"$f":"(Entries!K478-Entries!K477)*24*60","v":0}]
["",null,null,{"$f":"MATCH(C478,Categories!A:A,0)","v":{"$error":"#N/A"}},0,{"$f":"IF(OR($E478<>0,$C478=\"\"),\"\",INDEX(Categories!$A:$E,Entries!$D478,2))","v":""},{"$f":"IF(OR($E478<>0,$C478=\"\"),\"\",INDEX(Categories!$A:$E,Entries!$D478,3))","v":""},{"$f":"IF(OR($E478<>0,$C478=\"\"),\"\",INDEX(Categories!$A:$E,Entries!$D478,4))","v":""},{"$f":"IF(OR($E478<>0,$C478=\"\"),\"\",INDEX(Categories!$A:$E,Entries!$D478,5))","v":""},"2014-01-01","2014-01-01",{"$f":"(Entries!K479-Entries!K478)*24*60","v":0}]
["",null,null,{"$f":"MATCH(C479,Categories!A:A,0)","v":{"$error":"#N/A"}},0,{"$f":"IF(OR($E479<>0,$C479=\"\"),\"\",INDEX(Categories!$A:$E,Entries!$D479,2))","v":""},{"$f":"IF(OR($E479<>0,$C479=\"\"),\"\",INDEX(Categories!$A:$E,Entries!$D479,3))","v":""},{"$f":"IF(OR($E479<>0,$C479=\"\"),\"\",INDEX(Categories!$A:$E,Entries!$D479,4))","v":""},{"$f":"IF(OR($E479<>0,$C479=\"\"),\"\",INDEX(Categories!$A:$E,Entries!$D479,5))","v":""},"2014-01-01","2014-01-01",{"$f":"(Entries!K480-Entries!K479)*24*60","v":0}]
["",null,null,{"$f":"MATCH(C480,Categories!A:A,0)","v":{"$error":"#N/A"}},0,{"$f":"IF(OR($E480<>0,$C480=\"\"),\"\",INDEX(Categories!$A:$E,Entries!$D480,2))","v":""},{"$f":"IF(OR($E480<>0,$C480=\"\"),\"\",INDEX(Categories!$A:$E,Entries!$D480,3))","v":""},{"$f":"IF(OR($E480<>0,$C480=\"\"),\"\",INDEX(Categories!$A:$E,Entries!$D480,4))","v":""},{"$f":"IF(OR($E480<>0,$C480=\"\"),\"\",INDEX(Categories!$A:$E,Entries!$D480,5))","v":""},"2014-01-01","2014-01-01",{"$f":"(Entries!K481-Entries!K480)*24*60","v":0}]
["",null,null,{"$f":"MATCH(C481,Categories!A:A,0)","v":{"$error":"#N/A"}},0,{"$f":"IF(OR($E481<>0,$C481=\"\"),\"\",INDEX(Categories!$A:$E,Entries!$D481,2))","v":""},{"$f":"IF(OR($E481<>0,$C481=\"\"),\"\",INDEX(Categories!$A:$E,Entries!$D481,3))","v":""},{"$f":"IF(OR($E481<>0,$C481=\"\"),\"\",INDEX(Categories!$A:$E,Entries!$D481,4))","v":""},{"$f":"IF(OR($E481<>0,$C481=\"\"),\"\",INDEX(Categories!$A:$E,Entries!$D481,5))","v":""},"2014-01-01","2014-01-01",{"$f":"(Entries!K482-Entries!K481)*24*60","v":0}]
["",null,null,{"$f":"MATCH(C482,Categories!A:A,0)","v":{"$error":"#N/A"}},0,{"$f":"IF(OR($E482<>0,$C482=\"\"),\"\",INDEX(Categories!$A:$E,Entries!$D482,2))","v":""},{"$f":"IF(OR($E482<>0,$C482=\"\"),\"\",INDEX(Categories!$A:$E,Entries!$D482,3))","v":""},{"$f":"IF(OR($E482<>0,$C482=\"\"),\"\",INDEX(Categories!$A:$E,Entries!$D482,4))","v":""},{"$f":"IF(OR($E482<>0,$C482=\"\"),\"\",INDEX(Categories!$A:$E,Entries!$D482,5))","v":""},"2014-01-01","2014-01-01",{"$f":"(Entries!K483-Entries!K482)*24*60","v":0}]
["",null,null,{"$f":"MATCH(C483,Categories!A:A,0)","v":{"$error":"#N/A"}},0,{"$f":"IF(OR($E483<>0,$C483=\"\"),\"\",INDEX(Categories!$A:$E,Entries!$D483,2))","v":""},{"$f":"IF(OR($E483<>0,$C483=\"\"),\"\",INDEX(Categories!$A:$E,Entries!$D483,3))","v":""},{"$f":"IF(OR($E483<>0,$C483=\"\"),\"\",INDEX(Categories!$A:$E,Entries!$D483,4))","v":""},{"$f":"IF(OR($E483<>0,$C483=\"\"),\"\",INDEX(Categories!$A:$E,Entries!$D483,5))","v":""},"2014-01-01","2014-01-01",{"$f":"(Entries!K484-Entries!K483)*24*60","v":0}]
[{"$f":"IF(OR(B484>=B483,C483=\"z\",B484=\"\"),\"\",J483+1)","v":""},null,null,{"$f":"MATCH(C484,Categories!A:A,0)","v":{"$error":"#N/A"}},0,{"$f":"IF(OR($E484<>0,$C484=\"\"),\"\",INDEX(Categories!$A:$E,Entries!$D484,2))","v":""},{"$f":"IF(OR($E484<>0,$C484=\"\"),\"\",INDEX(Categories!$A:$E,Entries!$D484,3))","v":""},{"$f":"IF(OR($E484<>0,$C484=\"\"),\"\",INDEX(Categories!$A:$E,Entries!$D484,4))","v":""},{"$f":"IF(OR($E484<>0,$C484=\"\"),\"\",INDEX(Categories!$A:$E,Entries!$D484,5))","v":""},"2014-01-01","2014-01-01",{"$f":"(Entries!K485-Entries!K484)*24*60","v":0}]
["",null,null,{"$f":"MATCH(C485,Categories!A:A,0)","v":{"$error":"#N/A"}},0,{"$f":"IF(OR($E485<>0,$C485=\"\"),\"\",INDEX(Categories!$A:$E,Entries!$D485,2))","v":""},{"$f":"IF(OR($E485<>0,$C485=\"\"),\"\",INDEX(Categories!$A:$E,Entries!$D485,3))","v":""},{"$f":"IF(OR($E485<>0,$C485=\"\"),\"\",INDEX(Categories!$A:$E,Entries!$D485,4))","v":""},{"$f":"IF(OR($E485<>0,$C485=\"\"),\"\",INDEX(Categories!$A:$E,Entries!$D485,5))","v":""},"2014-01-01","2014-01-01",{"$f":"(Entries!K486-Entries!K485)*24*60","v":0}]
["",null,null,{"$f":"MATCH(C486,Categories!A:A,0)","v":{"$error":"#N/A"}},0,{"$f":"IF(OR($E486<>0,$C486=\"\"),\"\",INDEX(Categories!$A:$E,Entries!$D486,2))","v":""},{"$f":"IF(OR($E486<>0,$C486=\"\"),\"\",INDEX(Categories!$A:$E,Entries!$D486,3))","v":""},{"$f":"IF(OR($E486<>0,$C486=\"\"),\"\",INDEX(Categories!$A:$E,Entries!$D486,4))","v":""},{"$f":"IF(OR($E486<>0,$C486=\"\"),\"\",INDEX(Categories!$A:$E,Entries!$D486,5))","v":""},"2014-01-01","2014-01-01",{"$f":"(Entries!K487-Entries!K486)*24*60","v":0}]
["",null,null,{"$f":"MATCH(C487,Categories!A:A,0)","v":{"$error":"#N/A"}},0,{"$f":"IF(OR($E487<>0,$C487=\"\"),\"\",INDEX(Categories!$A:$E,Entries!$D487,2))","v":""},{"$f":"IF(OR($E487<>0,$C487=\"\"),\"\",INDEX(Categories!$A:$E,Entries!$D487,3))","v":""},{"$f":"IF(OR($E487<>0,$C487=\"\"),\"\",INDEX(Categories!$A:$E,Entries!$D487,4))","v":""},{"$f":"IF(OR($E487<>0,$C487=\"\"),\"\",INDEX(Categories!$A:$E,Entries!$D487,5))","v":""},"2014-01-01","2014-01-01",{"$f":"(Entries!K488-Entries!K487)*24*60","v":0}]
["",null,null,{"$f":"MATCH(C488,Categories!A:A,0)","v":{"$error":"#N/A"}},0,{"$f":"IF(OR($E488<>0,$C488=\"\"),\"\",INDEX(Categories!$A:$E,Entries!$D488,2))","v":""},{"$f":"IF(OR($E488<>0,$C488=\"\"),\"\",INDEX(Categories!$A:$E,Entries!$D488,3))","v":""},{"$f":"IF(OR($E488<>0,$C488=\"\"),\"\",INDEX(Categories!$A:$E,Entries!$D488,4))","v":""},{"$f":"IF(OR($E488<>0,$C488=\"\"),\"\",INDEX(Categories!$A:$E,Entries!$D488,5))","v":""},"2014-01-01","2014-01-01",{"$f":"(Entries!K489-Entries!K488)*24*60","v":0}]
["",null,null,{"$f":"MATCH(C489,Categories!A:A,0)","v":{"$error":"#N/A"}},0,{"$f":"IF(OR($E489<>0,$C489=\"\"),\"\",INDEX(Categories!$A:$E,Entries!$D489,2))","v":""},{"$f":"IF(OR($E489<>0,$C489=\"\"),\"\",INDEX(Categories!$A:$E,Entries!$D489,3))","v":""},{"$f":"IF(OR($E489<>0,$C489=\"\"),\"\",INDEX(Categories!$A:$E,Entries!$D489,4))","v":""},{"$f":"IF(OR($E489<>0,$C489=\"\"),\"\",INDEX(Categories!$A:$E,Entries!$D489,5))","v":""},"2014-01-01","2014-01-01",{"$f":"(Entries!K490-Entries!K489)*24*60","v":0}]
["",null,null,{"$f":"MATCH(C490,Categories!A:A,0)","v":{"$error":"#N/A"}},0,{"$f":"IF(OR($E490<>0,$C490=\"\"),\"\",INDEX(Categories!$A:$E,Entries!$D490,2))","v":""},{"$f":"IF(OR($E490<>0,$C490=\"\"),\"\",INDEX(Categories!$A:$E,Entries!$D490,3))","v":""},{"$f":"IF(OR($E490<>0,$C490=\"\"),\"\",INDEX(Categories!$A:$E,Entries!$D490,4))","v":""},{"$f":"IF(OR($E490<>0,$C490=\"\"),\"\",INDEX(Categories!$A:$E,Entries!$D490,5))","v":""},"2014-01-01","2014-01-01",{"$f":"(Entries!K491-Entries!K490)*24*60","v":0}]
["",null,null,{"$f":"MATCH(C491,Categories!A:A,0)","v":{"$error":"#N/A"}},0,{"$f":"IF(OR($E491<>0,$C491=\"\"),\"\",INDEX(Categories!$A:$E,Entries!$D491,2))","v":""},{"$f":"IF(OR($E491<>0,$C491=\"\"),\"\",INDEX(Categories!$A:$E,Entries!$D491,3))","v":""},{"$f":"IF(OR($E491<>0,$C491=\"\"),\"\",INDEX(Categories!$A:$E,Entries!$D491,4))","v":""},{"$f":"IF(OR($E491<>0,$C491=\"\"),\"\",INDEX(Categories!$A:$E,Entries!$D491,5))","v":""},"2014-01-01","2014-01-01",{"$f":"(Entries!K492-Entries!K491)*24*60","v":0}]
["",null,null,{"$f":"MATCH(C492,Categories!A:A,0)","v":{"$error":"#N/A"}},0,{"$f":"IF(OR($E492<>0,$C492=\"\"),\"\",INDEX(Categories!$A:$E,Entries!$D492,2))","v":""},{"$f":"IF(OR($E492<>0,$C492=\"\"),\"\",INDEX(Categories!$A:$E,Entries!$D492,3))","v":""},{"$f":"IF(OR($E492<>0,$C492=\"\"),\"\",INDEX(Categories!$A:$E,Entries!$D492,4))","v":""},{"$f":"IF(OR($E492<>0,$C492=\"\"),\"\",INDEX(Categories!$A:$E,Entries!$D492,5))","v":""},"2014-01-01","2014-01-01",{"$f":"(Entries!K493-Entries!K492)*24*60","v":0}]
["",null,null,{"$f":"MATCH(C493,Categories!A:A,0)","v":{"$error":"#N/A"}},0,{"$f":"IF(OR($E493<>0,$C493=\"\"),\"\",INDEX(Categories!$A:$E,Entries!$D493,2))","v":""},{"$f":"IF(OR($E493<>0,$C493=\"\"),\"\",INDEX(Categories!$A:$E,Entries!$D493,3))","v":""},{"$f":"IF(OR($E493<>0,$C493=\"\"),\"\",INDEX(Categories!$A:$E,Entries!$D493,4))","v":""},{"$f":"IF(OR($E493<>0,$C493=\"\"),\"\",INDEX(Categories!$A:$E,Entries!$D493,5))","v":""},"2014-01-01","2014-01-01",{"$f":"(Entries!K494-Entries!K493)*24*60","v":0}]
["",null,null,{"$f":"MATCH(C494,Categories!A:A,0)","v":{"$error":"#N/A"}},0,{"$f":"IF(OR($E494<>0,$C494=\"\"),\"\",INDEX(Categories!$A:$E,Entries!$D494,2))","v":""},{"$f":"IF(OR($E494<>0,$C494=\"\"),\"\",INDEX(Categories!$A:$E,Entries!$D494,3))","v":""},{"$f":"IF(OR($E494<>0,$C494=\"\"),\"\",INDEX(Categories!$A:$E,Entries!$D494,4))","v":""},{"$f":"IF(OR($E494<>0,$C494=\"\"),\"\",INDEX(Categories!$A:$E,Entries!$D494,5))","v":""},"2014-01-01","2014-01-01",{"$f":"(Entries!K495-Entries!K494)*24*60","v":0}]
["",null,null,{"$f":"MATCH(C495,Categories!A:A,0)","v":{"$error":"#N/A"}},0,{"$f":"IF(OR($E495<>0,$C495=\"\"),\"\",INDEX(Categories!$A:$E,Entries!$D495,2))","v":""},{"$f":"IF(OR($E495<>0,$C495=\"\"),\"\",INDEX(Categories!$A:$E,Entries!$D495,3))","v":""},{"$f":"IF(OR($E495<>0,$C495=\"\"),\"\",INDEX(Categories!$A:$E,Entries!$D495,4))","v":""},{"$f":"IF(OR($E495<>0,$C495=\"\"),\"\",INDEX(Categories!$A:$E,Entries!$D495,5))","v":""},"2014-01-01","2014-01-01",{"$f":"(Entries!K496-Entries!K495)*24*60","v":0}]
["",null,null,{"$f":"MATCH(C496,Categories!A:A,0)","v":{"$error":"#N/A"}},0,{"$f":"IF(OR($E496<>0,$C496=\"\"),\"\",INDEX(Categories!$A:$E,Entries!$D496,2))","v":""},{"$f":"IF(OR($E496<>0,$C496=\"\"),\"\",INDEX(Categories!$A:$E,Entries!$D496,3))","v":""},{"$f":"IF(OR($E496<>0,$C496=\"\"),\"\",INDEX(Categories!$A:$E,Entries!$D496,4))","v":""},{"$f":"IF(OR($E496<>0,$C496=\"\"),\"\",INDEX(Categories!$A:$E,Entries!$D496,5))","v":""},"2014-01-01","2014-01-01",{"$f":"(Entries!K497-Entries!K496)*24*60","v":0}]
["",null,null,{"$f":"MATCH(C497,Categories!A:A,0)","v":{"$error":"#N/A"}},0,{"$f":"IF(OR($E497<>0,$C497=\"\"),\"\",INDEX(Categories!$A:$E,Entries!$D497,2))","v":""},{"$f":"IF(OR($E497<>0,$C497=\"\"),\"\",INDEX(Categories!$A:$E,Entries!$D497,3))","v":""},{"$f":"IF(OR($E497<>0,$C497=\"\"),\"\",INDEX(Categories!$A:$E,Entries!$D497,4))","v":""},{"$f":"IF(OR($E497<>0,$C497=\"\"),\"\",INDEX(Categories!$A:$E,Entries!$D497,5))","v":""},"2014-01-01","2014-01-01",{"$f":"(Entries!K498-Entries!K497)*24*60","v":0}]
["",null,null,{"$f":"MATCH(C498,Categories!A:A,0)","v":{"$error":"#N/A"}},0,{"$f":"IF(OR($E498<>0,$C498=\"\"),\"\",INDEX(Categories!$A:$E,Entries!$D498,2))","v":""},{"$f":"IF(OR($E498<>0,$C498=\"\"),\"\",INDEX(Categories!$A:$E,Entries!$D498,3))","v":""},{"$f":"IF(OR($E498<>0,$C498=\"\"),\"\",INDEX(Categories!$A:$E,Entries!$D498,4))","v":""},{"$f":"IF(OR($E498<>0,$C498=\"\"),\"\",INDEX(Categories!$A:$E,Entries!$D498,5))","v":""},"2014-01-01","2014-01-01",{"$f":"(Entries!K499-Entries!K498)*24*60","v":0}]
["",null,null,{"$f":"MATCH(C499,Categories!A:A,0)","v":{"$error":"#N/A"}},0,{"$f":"IF(OR($E499<>0,$C499=\"\"),\"\",INDEX(Categories!$A:$E,Entries!$D499,2))","v":""},{"$f":"IF(OR($E499<>0,$C499=\"\"),\"\",INDEX(Categories!$A:$E,Entries!$D499,3))","v":""},{"$f":"IF(OR($E499<>0,$C499=\"\"),\"\",INDEX(Categories!$A:$E,Entries!$D499,4))","v":""},{"$f":"IF(OR($E499<>0,$C499=\"\"),\"\",INDEX(Categories!$A:$E,Entries!$D499,5))","v":""},"2014-01-01","2014-01-01",{"$f":"(Entries!K500-Entries!K499)*24*60","v":0}]
["",null,null,{"$f":"MATCH(C500,Categories!A:A,0)","v":{"$error":"#N/A"}},0,{"$f":"IF(OR($E500<>0,$C500=\"\"),\"\",INDEX(Categories!$A:$E,Entries!$D500,2))","v":""},{"$f":"IF(OR($E500<>0,$C500=\"\"),\"\",INDEX(Categories!$A:$E,Entries!$D500,3))","v":""},{"$f":"IF(OR($E500<>0,$C500=\"\"),\"\",INDEX(Categories!$A:$E,Entries!$D500,4))","v":""},{"$f":"IF(OR($E500<>0,$C500=\"\"),\"\",INDEX(Categories!$A:$E,Entries!$D500,5))","v":""},"2014-01-01","2014-01-01",{"$f":"(Entries!K501-Entries!K500)*24*60","v":0}]
["",null,null,{"$f":"MATCH(C501,Categories!A:A,0)","v":{"$error":"#N/A"}},0,{"$f":"IF(OR($E501<>0,$C501=\"\"),\"\",INDEX(Categories!$A:$E,Entries!$D501,2))","v":""},{"$f":"IF(OR($E501<>0,$C501=\"\"),\"\",INDEX(Categories!$A:$E,Entries!$D501,3))","v":""},{"$f":"IF(OR($E501<>0,$C501=\"\"),\"\",INDEX(Categories!$A:$E,Entries!$D501,4))","v":""},{"$f":"IF(OR($E501<>0,$C501=\"\"),\"\",INDEX(Categories!$A:$E,Entries!$D501,5))","v":""},"2014-01-01","2014-01-01",{"$f":"(Entries!K502-Entries!K501)*24*60","v":0}]
["",null,null,{"$f":"MATCH(C502,Categories!A:A,0)","v":{"$error":"#N/A"}},0,{"$f":"IF(OR($E502<>0,$C502=\"\"),\"\",INDEX(Categories!$A:$E,Entries!$D502,2))","v":""},{"$f":"IF(OR($E502<>0,$C502=\"\"),\"\",INDEX(Categories!$A:$E,Entries!$D502,3))","v":""},{"$f":"IF(OR($E502<>0,$C502=\"\"),\"\",INDEX(Categories!$A:$E,Entries!$D502,4))","v":""},{"$f":"IF(OR($E502<>0,$C502=\"\"),\"\",INDEX(Categories!$A:$E,Entries!$D502,5))","v":""},"2014-01-01","2014-01-01",{"$f":"(Entries!K503-Entries!K502)*24*60","v":0}]
["",null,null,{"$f":"MATCH(C503,Categories!A:A,0)","v":{"$error":"#N/A"}},0,{"$f":"IF(OR($E503<>0,$C503=\"\"),\"\",INDEX(Categories!$A:$E,Entries!$D503,2))","v":""},{"$f":"IF(OR($E503<>0,$C503=\"\"),\"\",INDEX(Categories!$A:$E,Entries!$D503,3))","v":""},{"$f":"IF(OR($E503<>0,$C503=\"\"),\"\",INDEX(Categories!$A:$E,Entries!$D503,4))","v":""},{"$f":"IF(OR($E503<>0,$C503=\"\"),\"\",INDEX(Categories!$A:$E,Entries!$D503,5))","v":""},"2014-01-01","2014-01-01",{"$f":"(Entries!K504-Entries!K503)*24*60","v":0}]
["",null,null,{"$f":"MATCH(C504,Categories!A:A,0)","v":{"$error":"#N/A"}},0,{"$f":"IF(OR($E504<>0,$C504=\"\"),\"\",INDEX(Categories!$A:$E,Entries!$D504,2))","v":""},{"$f":"IF(OR($E504<>0,$C504=\"\"),\"\",INDEX(Categories!$A:$E,Entries!$D504,3))","v":""},{"$f":"IF(OR($E504<>0,$C504=\"\"),\"\",INDEX(Categories!$A:$E,Entries!$D504,4))","v":""},{"$f":"IF(OR($E504<>0,$C504=\"\"),\"\",INDEX(Categories!$A:$E,Entries!$D504,5))","v":""},"2014-01-01","2014-01-01",{"$f":"(Entries!K505-Entries!K504)*24*60","v":0}]
["",null,null,{"$f":"MATCH(C505,Categories!A:A,0)","v":{"$error":"#N/A"}},0,{"$f":"IF(OR($E505<>0,$C505=\"\"),\"\",INDEX(Categories!$A:$E,Entries!$D505,2))","v":""},{"$f":"IF(OR($E505<>0,$C505=\"\"),\"\",INDEX(Categories!$A:$E,Entries!$D505,3))","v":""},{"$f":"IF(OR($E505<>0,$C505=\"\"),\"\",INDEX(Categories!$A:$E,Entries!$D505,4))","v":""},{"$f":"IF(OR($E505<>0,$C505=\"\"),\"\",INDEX(Categories!$A:$E,Entries!$D505,5))","v":""},"2014-01-01","2014-01-01",{"$f":"(Entries!K506-Entries!K505)*24*60","v":0}]
["",null,null,{"$f":"MATCH(C506,Categories!A:A,0)","v":{"$error":"#N/A"}},0,{"$f":"IF(OR($E506<>0,$C506=\"\"),\"\",INDEX(Categories!$A:$E,Entries!$D506,2))","v":""},{"$f":"IF(OR($E506<>0,$C506=\"\"),\"\",INDEX(Categories!$A:$E,Entries!$D506,3))","v":""},{"$f":"IF(OR($E506<>0,$C506=\"\"),\"\",INDEX(Categories!$A:$E,Entries!$D506,4))","v":""},{"$f":"IF(OR($E506<>0,$C506=\"\"),\"\",INDEX(Categories!$A:$E,Entries!$D506,5))","v":""},"2014-01-01","2014-01-01",{"$f":"(Entries!K507-Entries!K506)*24*60","v":0}]
["",null,null,{"$f":"MATCH(C507,Categories!A:A,0)","v":{"$error":"#N/A"}},0,{"$f":"IF(OR($E507<>0,$C507=\"\"),\"\",INDEX(Categories!$A:$E,Entries!$D507,2))","v":""},{"$f":"IF(OR($E507<>0,$C507=\"\"),\"\",INDEX(Categories!$A:$E,Entries!$D507,3))","v":""},{"$f":"IF(OR($E507<>0,$C507=\"\"),\"\",INDEX(Categories!$A:$E,Entries!$D507,4))","v":""},{"$f":"IF(OR($E507<>0,$C507=\"\"),\"\",INDEX(Categories!$A:$E,Entries!$D507,5))","v":""},"2014-01-01","2014-01-01",{"$f":"(Entries!K508-Entries!K507)*24*60","v":0}]
["",null,null,{"$f":"MATCH(C508,Categories!A:A,0)","v":{"$error":"#N/A"}},0,{"$f":"IF(OR($E508<>0,$C508=\"\"),\"\",INDEX(Categories!$A:$E,Entries!$D508,2))","v":""},{"$f":"IF(OR($E508<>0,$C508=\"\"),\"\",INDEX(Categories!$A:$E,Entries!$D508,3))","v":""},{"$f":"IF(OR($E508<>0,$C508=\"\"),\"\",INDEX(Categories!$A:$E,Entries!$D508,4))","v":""},{"$f":"IF(OR($E508<>0,$C508=\"\"),\"\",INDEX(Categories!$A:$E,Entries!$D508,5))","v":""},"2014-01-01","2014-01-01",{"$f":"(Entries!K509-Entries!K508)*24*60","v":0}]
["",null,null,{"$f":"MATCH(C509,Categories!A:A,0)","v":{"$error":"#N/A"}},0,{"$f":"IF(OR($E509<>0,$C509=\"\"),\"\",INDEX(Categories!$A:$E,Entries!$D509,2))","v":""},{"$f":"IF(OR($E509<>0,$C509=\"\"),\"\",INDEX(Categories!$A:$E,Entries!$D509,3))","v":""},{"$f":"IF(OR($E509<>0,$C509=\"\"),\"\",INDEX(Categories!$A:$E,Entries!$D509,4))","v":""},{"$f":"IF(OR($E509<>0,$C509=\"\"),\"\",INDEX(Categories!$A:$E,Entries!$D509,5))","v":""},"2014-01-01","2014-01-01",{"$f":"(Entries!K510-Entries!K509)*24*60","v":0}]
["",null,null,{"$f":"MATCH(C510,Categories!A:A,0)","v":{"$error":"#N/A"}},0,{"$f":"IF(OR($E510<>0,$C510=\"\"),\"\",INDEX(Categories!$A:$E,Entries!$D510,2))","v":""},{"$f":"IF(OR($E510<>0,$C510=\"\"),\"\",INDEX(Categories!$A:$E,Entries!$D510,3))","v":""},{"$f":"IF(OR($E510<>0,$C510=\"\"),\"\",INDEX(Categories!$A:$E,Entries!$D510,4))","v":""},{"$f":"IF(OR($E510<>0,$C510=\"\"),\"\",INDEX(Categories!$A:$E,Entries!$D510,5))","v":""},"2014-01-01","2014-01-01",{"$f":"(Entries!K511-Entries!K510)*24*60","v":0}]
["",null,null,{"$f":"MATCH(C511,Categories!A:A,0)","v":{"$error":"#N/A"}},0,{"$f":"IF(OR($E511<>0,$C511=\"\"),\"\",INDEX(Categories!$A:$E,Entries!$D511,2))","v":""},{"$f":"IF(OR($E511<>0,$C511=\"\"),\"\",INDEX(Categories!$A:$E,Entries!$D511,3))","v":""},{"$f":"IF(OR($E511<>0,$C511=\"\"),\"\",INDEX(Categories!$A:$E,Entries!$D511,4))","v":""},{"$f":"IF(OR($E511<>0,$C511=\"\"),\"\",INDEX(Categories!$A:$E,Entries!$D511,5))","v":""},"2014-01-01","2014-01-01",{"$f":"(Entries!K512-Entries!K511)*24*60","v":0}]
["",null,null,{"$f":"MATCH(C512,Categories!A:A,0)","v":{"$error":"#N/A"}},0,{"$f":"IF(OR($E512<>0,$C512=\"\"),\"\",INDEX(Categories!$A:$E,Entries!$D512,2))","v":""},{"$f":"IF(OR($E512<>0,$C512=\"\"),\"\",INDEX(Categories!$A:$E,Entries!$D512,3))","v":""},{"$f":"IF(OR($E512<>0,$C512=\"\"),\"\",INDEX(Categories!$A:$E,Entries!$D512,4))","v":""},{"$f":"IF(OR($E512<>0,$C512=\"\"),\"\",INDEX(Categories!$A:$E,Entries!$D512,5))","v":""},"2014-01-01","2014-01-01",{"$f":"(Entries!K513-Entries!K512)*24*60","v":0}]
["",null,null,{"$f":"MATCH(C513,Categories!A:A,0)","v":{"$error":"#N/A"}},0,{"$f":"IF(OR($E513<>0,$C513=\"\"),\"\",INDEX(Categories!$A:$E,Entries!$D513,2))","v":""},{"$f":"IF(OR($E513<>0,$C513=\"\"),\"\",INDEX(Categories!$A:$E,Entries!$D513,3))","v":""},{"$f":"IF(OR($E513<>0,$C513=\"\"),\"\",INDEX(Categories!$A:$E,Entries!$D513,4))","v":""},{"$f":"IF(OR($E513<>0,$C513=\"\"),\"\",INDEX(Categories!$A:$E,Entries!$D513,5))","v":""},"2014-01-01","2014-01-01",{"$f":"(Entries!K514-Entries!K513)*24*60","v":0}]
["",null,null,{"$f":"MATCH(C514,Categories!A:A,0)","v":{"$error":"#N/A"}},{"$f":"IF(AND(ISERROR(D514),C514<>\"\"),ROW(D514),0)","v":0},{"$f":"IF(OR($E514<>0,$C514=\"\"),\"\",INDEX(Categories!$A:$E,Entries!$D514,2))","v":""},{"$f":"IF(OR($E514<>0,$C514=\"\"),\"\",INDEX(Categories!$A:$E,Entries!$D514,3))","v":""},{"$f":"IF(OR($E514<>0,$C514=\"\"),\"\",INDEX(Categories!$A:$E,Entries!$D514,4))","v":""},{"$f":"IF(OR($E514<>0,$C514=\"\"),\"\",INDEX(Categories!$A:$E,Entries!$D514,5))","v":""},{"$f":"IF(A514=\"\",J513,A514)","v":"2014-01-01"},{"$f":"J514+B514","v":"2014-01-01"},{"$f":"(Entries!K515-Entries!K514)*24*60","v":0}]
["",null,null,{"$f":"MATCH(C515,Categories!A:A,0)","v":{"$error":"#N/A"}},0,{"$f":"IF(OR($E515<>0,$C515=\"\"),\"\",INDEX(Categories!$A:$E,Entries!$D515,2))","v":""},{"$f":"IF(OR($E515<>0,$C515=\"\"),\"\",INDEX(Categories!$A:$E,Entries!$D515,3))","v":""},{"$f":"IF(OR($E515<>0,$C515=\"\"),\"\",INDEX(Categories!$A:$E,Entries!$D515,4))","v":""},{"$f":"IF(OR($E515<>0,$C515=\"\"),\"\",INDEX(Categories!$A:$E,Entries!$D515,5))","v":""},"2014-01-01","2014-01-01",{"$f":"(Entries!K516-Entries!K515)*24*60","v":0}]
["",null,null,{"$f":"MATCH(C516,Categories!A:A,0)","v":{"$error":"#N/A"}},0,{"$f":"IF(OR($E516<>0,$C516=\"\"),\"\",INDEX(Categories!$A:$E,Entries!$D516,2))","v":""},{"$f":"IF(OR($E516<>0,$C516=\"\"),\"\",INDEX(Categories!$A:$E,Entries!$D516,3))","v":""},{"$f":"IF(OR($E516<>0,$C516=\"\"),\"\",INDEX(Categories!$A:$E,Entries!$D516,4))","v":""},{"$f":"IF(OR($E516<>0,$C516=\"\"),\"\",INDEX(Categories!$A:$E,Entries!$D516,5))","v":""},"2014-01-01","2014-01-01",{"$f":"(Entries!K517-Entries!K516)*24*60","v":0}]
["",null,null,{"$f":"MATCH(C517,Categories!A:A,0)","v":{"$error":"#N/A"}},0,{"$f":"IF(OR($E517<>0,$C517=\"\"),\"\",INDEX(Categories!$A:$E,Entries!$D517,2))","v":""},{"$f":"IF(OR($E517<>0,$C517=\"\"),\"\",INDEX(Categories!$A:$E,Entries!$D517,3))","v":""},{"$f":"IF(OR($E517<>0,$C517=\"\"),\"\",INDEX(Categories!$A:$E,Entries!$D517,4))","v":""},{"$f":"IF(OR($E517<>0,$C517=\"\"),\"\",INDEX(Categories!$A:$E,Entries!$D517,5))","v":""},"2014-01-01","2014-01-01",{"$f":"(Entries!K518-Entries!K517)*24*60","v":0}]
["",null,null,{"$f":"MATCH(C518,Categories!A:A,0)","v":{"$error":"#N/A"}},0,{"$f":"IF(OR($E518<>0,$C518=\"\"),\"\",INDEX(Categories!$A:$E,Entries!$D518,2))","v":""},{"$f":"IF(OR($E518<>0,$C518=\"\"),\"\",INDEX(Categories!$A:$E,Entries!$D518,3))","v":""},{"$f":"IF(OR($E518<>0,$C518=\"\"),\"\",INDEX(Categories!$A:$E,Entries!$D518,4))","v":""},{"$f":"IF(OR($E518<>0,$C518=\"\"),\"\",INDEX(Categories!$A:$E,Entries!$D518,5))","v":""},"2014-01-01","2014-01-01",{"$f":"(Entries!K519-Entries!K518)*24*60","v":0}]
["",null,null,{"$f":"MATCH(C519,Categories!A:A,0)","v":{"$error":"#N/A"}},0,{"$f":"IF(OR($E519<>0,$C519=\"\"),\"\",INDEX(Categories!$A:$E,Entries!$D519,2))","v":""},{"$f":"IF(OR($E519<>0,$C519=\"\"),\"\",INDEX(Categories!$A:$E,Entries!$D519,3))","v":""},{"$f":"IF(OR($E519<>0,$C519=\"\"),\"\",INDEX(Categories!$A:$E,Entries!$D519,4))","v":""},{"$f":"IF(OR($E519<>0,$C519=\"\"),\"\",INDEX(Categories!$A:$E,Entries!$D519,5))","v":""},"2014-01-01","2014-01-01",{"$f":"(Entries!K520-Entries!K519)*24*60","v":0}]
["",null,null,{"$f":"MATCH(C520,Categories!A:A,0)","v":{"$error":"#N/A"}},0,{"$f":"IF(OR($E520<>0,$C520=\"\"),\"\",INDEX(Categories!$A:$E,Entries!$D520,2))","v":""},{"$f":"IF(OR($E520<>0,$C520=\"\"),\"\",INDEX(Categories!$A:$E,Entries!$D520,3))","v":""},{"$f":"IF(OR($E520<>0,$C520=\"\"),\"\",INDEX(Categories!$A:$E,Entries!$D520,4))","v":""},{"$f":"IF(OR($E520<>0,$C520=\"\"),\"\",INDEX(Categories!$A:$E,Entries!$D520,5))","v":""},"2014-01-01","2014-01-01",{"$f":"(Entries!K521-Entries!K520)*24*60","v":0}]
["",null,null,{"$f":"MATCH(C521,Categories!A:A,0)","v":{"$error":"#N/A"}},0,{"$f":"IF(OR($E521<>0,$C521=\"\"),\"\",INDEX(Categories!$A:$E,Entries!$D521,2))","v":""},{"$f":"IF(OR($E521<>0,$C521=\"\"),\"\",INDEX(Categories!$A:$E,Entries!$D521,3))","v":""},{"$f":"IF(OR($E521<>0,$C521=\"\"),\"\",INDEX(Categories!$A:$E,Entries!$D521,4))","v":""},{"$f":"IF(OR($E521<>0,$C521=\"\"),\"\",INDEX(Categories!$A:$E,Entries!$D521,5))","v":""},"2014-01-01","2014-01-01",{"$f":"(Entries!K522-Entries!K521)*24*60","v":0}]
["",null,null,{"$f":"MATCH(C522,Categories!A:A,0)","v":{"$error":"#N/A"}},0,{"$f":"IF(OR($E522<>0,$C522=\"\"),\"\",INDEX(Categories!$A:$E,Entries!$D522,2))","v":""},{"$f":"IF(OR($E522<>0,$C522=\"\"),\"\",INDEX(Categories!$A:$E,Entries!$D522,3))","v":""},{"$f":"IF(OR($E522<>0,$C522=\"\"),\"\",INDEX(Categories!$A:$E,Entries!$D522,4))","v":""},{"$f":"IF(OR($E522<>0,$C522=\"\"),\"\",INDEX(Categories!$A:$E,Entries!$D522,5))","v":""},"2014-01-01","2014-01-01",{"$f":"(Entries!K523-Entries!K522)*24*60","v":0}]
["",null,null,{"$f":"MATCH(C523,Categories!A:A,0)","v":{"$error":"#N/A"}},0,{"$f":"IF(OR($E523<>0,$C523=\"\"),\"\",INDEX(Categories!$A:$E,Entries!$D523,2))","v":""},{"$f":"IF(OR($E523<>0,$C523=\"\"),\"\",INDEX(Categories!$A:$E,Entries!$D523,3))","v":""},{"$f":"IF(OR($E523<>0,$C523=\"\"),\"\",INDEX(Categories!$A:$E,Entries!$D523,4))","v":""},{"$f":"IF(OR($E523<>0,$C523=\"\"),\"\",INDEX(Categories!$A:$E,Entries!$D523,5))","v":""},"2014-01-01","2014-01-01",{"$f":"(Entries!K524-Entries!K523)*24*60","v":0}]
["",null,null,{"$f":"MATCH(C524,Categories!A:A,0)","v":{"$error":"#N/A"}},0,{"$f":"IF(OR($E524<>0,$C524=\"\"),\"\",INDEX(Categories!$A:$E,Entries!$D524,2))","v":""},{"$f":"IF(OR($E524<>0,$C524=\"\"),\"\",INDEX(Categories!$A:$E,Entries!$D524,3))","v":""},{"$f":"IF(OR($E524<>0,$C524=\"\"),\"\",INDEX(Categories!$A:$E,Entries!$D524,4))","v":""},{"$f":"IF(OR($E524<>0,$C524=\"\"),\"\",INDEX(Categories!$A:$E,Entries!$D524,5))","v":""},"2014-01-01","2014-01-01",{"$f":"(Entries!K525-Entries!K524)*24*60","v":0}]
["",null,null,{"$f":"MATCH(C525,Categories!A:A,0)","v":{"$error":"#N/A"}},0,{"$f":"IF(OR($E525<>0,$C525=\"\"),\"\",INDEX(Categories!$A:$E,Entries!$D525,2))","v":""},{"$f":"IF(OR($E525<>0,$C525=\"\"),\"\",INDEX(Categories!$A:$E,Entries!$D525,3))","v":""},{"$f":"IF(OR($E525<>0,$C525=\"\"),\"\",INDEX(Categories!$A:$E,Entries!$D525,4))","v":""},{"$f":"IF(OR($E525<>0,$C525=\"\"),\"\",INDEX(Categories!$A:$E,Entries!$D525,5))","v":""},"2014-01-01","2014-01-01",{"$f":"(Entries!K526-Entries!K525)*24*60","v":0}]
["",null,null,{"$f":"MATCH(C526,Categories!A:A,0)","v":{"$error":"#N/A"}},0,{"$f":"IF(OR($E526<>0,$C526=\"\"),\"\",INDEX(Categories!$A:$E,Entries!$D526,2))","v":""},{"$f":"IF(OR($E526<>0,$C526=\"\"),\"\",INDEX(Categories!$A:$E,Entries!$D526,3))","v":""},{"$f":"IF(OR($E526<>0,$C526=\"\"),\"\",INDEX(Categories!$A:$E,Entries!$D526,4))","v":""},{"$f":"IF(OR($E526<>0,$C526=\"\"),\"\",INDEX(Categories!$A:$E,Entries!$D526,5))","v":""},"2014-01-01","2014-01-01",{"$f":"(Entries!K527-Entries!K526)*24*60","v":0}]
["",null,null,{"$f":"MATCH(C527,Categories!A:A,0)","v":{"$error":"#N/A"}},0,{"$f":"IF(OR($E527<>0,$C527=\"\"),\"\",INDEX(Categories!$A:$E,Entries!$D527,2))","v":""},{"$f":"IF(OR($E527<>0,$C527=\"\"),\"\",INDEX(Categories!$A:$E,Entries!$D527,3))","v":""},{"$f":"IF(OR($E527<>0,$C527=\"\"),\"\",INDEX(Categories!$A:$E,Entries!$D527,4))","v":""},{"$f":"IF(OR($E527<>0,$C527=\"\"),\"\",INDEX(Categories!$A:$E,Entries!$D527,5))","v":""},"2014-01-01","2014-01-01",{"$f":"(Entries!K528-Entries!K527)*24*60","v":0}]
["",null,null,{"$f":"MATCH(C528,Categories!A:A,0)","v":{"$error":"#N/A"}},0,{"$f":"IF(OR($E528<>0,$C528=\"\"),\"\",INDEX(Categories!$A:$E,Entries!$D528,2))","v":""},{"$f":"IF(OR($E528<>0,$C528=\"\"),\"\",INDEX(Categories!$A:$E,Entries!$D528,3))","v":""},{"$f":"IF(OR($E528<>0,$C528=\"\"),\"\",INDEX(Categories!$A:$E,Entries!$D528,4))","v":""},{"$f":"IF(OR($E528<>0,$C528=\"\"),\"\",INDEX(Categories!$A:$E,Entries!$D528,5))","v":""},"2014-01-01","2014-01-01",{"$f":"(Entries!K529-Entries!K528)*24*60","v":0}]
["",null,null,{"$f":"MATCH(C529,Categories!A:A,0)","v":{"$error":"#N/A"}},0,{"$f":"IF(OR($E529<>0,$C529=\"\"),\"\",INDEX(Categories!$A:$E,Entries!$D529,2))","v":""},{"$f":"IF(OR($E529<>0,$C529=\"\"),\"\",INDEX(Categories!$A:$E,Entries!$D529,3))","v":""},{"$f":"IF(OR($E529<>0,$C529=\"\"),\"\",INDEX(Categories!$A:$E,Entries!$D529,4))","v":""},{"$f":"IF(OR($E529<>0,$C529=\"\"),\"\",INDEX(Categories!$A:$E,Entries!$D529,5))","v":""},"2014-01-01","2014-01-01",{"$f":"(Entries!K530-Entries!K529)*24*60","v":0}]
["",null,null,{"$f":"MATCH(C530,Categories!A:A,0)","v":{"$error":"#N/A"}},0,{"$f":"IF(OR($E530<>0,$C530=\"\"),\"\",INDEX(Categories!$A:$E,Entries!$D530,2))","v":""},{"$f":"IF(OR($E530<>0,$C530=\"\"),\"\",INDEX(Categories!$A:$E,Entries!$D530,3))","v":""},{"$f":"IF(OR($E530<>0,$C530=\"\"),\"\",INDEX(Categories!$A:$E,Entries!$D530,4))","v":""},{"$f":"IF(OR($E530<>0,$C530=\"\"),\"\",INDEX(Categories!$A:$E,Entries!$D530,5))","v":""},"2014-01-01","2014-01-01",{"$f":"(Entries!K531-Entries!K530)*24*60","v":0}]
["",null,null,{"$f":"MATCH(C531,Categories!A:A,0)","v":{"$error":"#N/A"}},0,{"$f":"IF(OR($E531<>0,$C531=\"\"),\"\",INDEX(Categories!$A:$E,Entries!$D531,2))","v":""},{"$f":"IF(OR($E531<>0,$C531=\"\"),\"\",INDEX(Categories!$A:$E,Entries!$D531,3))","v":""},{"$f":"IF(OR($E531<>0,$C531=\"\"),\"\",INDEX(Categories!$A:$E,Entries!$D531,4))","v":""},{"$f":"IF(OR($E531<>0,$C531=\"\"),\"\",INDEX(Categories!$A:$E,Entries!$D531,5))","v":""},"2014-01-01","2014-01-01",{"$f":"(Entries!K532-Entries!K531)*24*60","v":0}]
["",null,null,{"$f":"MATCH(C532,Categories!A:A,0)","v":{"$error":"#N/A"}},0,{"$f":"IF(OR($E532<>0,$C532=\"\"),\"\",INDEX(Categories!$A:$E,Entries!$D532,2))","v":""},{"$f":"IF(OR($E532<>0,$C532=\"\"),\"\",INDEX(Categories!$A:$E,Entries!$D532,3))","v":""},{"$f":"IF(OR($E532<>0,$C532=\"\"),\"\",INDEX(Categories!$A:$E,Entries!$D532,4))","v":""},{"$f":"IF(OR($E532<>0,$C532=\"\"),\"\",INDEX(Categories!$A:$E,Entries!$D532,5))","v":""},"2014-01-01","2014-01-01",{"$f":"(Entries!K533-Entries!K532)*24*60","v":0}]
["",null,null,{"$f":"MATCH(C533,Categories!A:A,0)","v":{"$error":"#N/A"}},0,{"$f":"IF(OR($E533<>0,$C533=\"\"),\"\",INDEX(Categories!$A:$E,Entries!$D533,2))","v":""},{"$f":"IF(OR($E533<>0,$C533=\"\"),\"\",INDEX(Categories!$A:$E,Entries!$D533,3))","v":""},{"$f":"IF(OR($E533<>0,$C533=\"\"),\"\",INDEX(Categories!$A:$E,Entries!$D533,4))","v":""},{"$f":"IF(OR($E533<>0,$C533=\"\"),\"\",INDEX(Categories!$A:$E,Entries!$D533,5))","v":""},"2014-01-01","2014-01-01",{"$f":"(Entries!K534-Entries!K533)*24*60","v":0}]
["",null,null,{"$f":"MATCH(C534,Categories!A:A,0)","v":{"$error":"#N/A"}},0,{"$f":"IF(OR($E534<>0,$C534=\"\"),\"\",INDEX(Categories!$A:$E,Entries!$D534,2))","v":""},{"$f":"IF(OR($E534<>0,$C534=\"\"),\"\",INDEX(Categories!$A:$E,Entries!$D534,3))","v":""},{"$f":"IF(OR($E534<>0,$C534=\"\"),\"\",INDEX(Categories!$A:$E,Entries!$D534,4))","v":""},{"$f":"IF(OR($E534<>0,$C534=\"\"),\"\",INDEX(Categories!$A:$E,Entries!$D534,5))","v":""},"2014-01-01","2014-01-01",{"$f":"(Entries!K535-Entries!K534)*24*60","v":0}]
["",null,null,{"$f":"MATCH(C535,Categories!A:A,0)","v":{"$error":"#N/A"}},0,{"$f":"IF(OR($E535<>0,$C535=\"\"),\"\",INDEX(Categories!$A:$E,Entries!$D535,2))","v":""},{"$f":"IF(OR($E535<>0,$C535=\"\"),\"\",INDEX(Categories!$A:$E,Entries!$D535,3))","v":""},{"$f":"IF(OR($E535<>0,$C535=\"\"),\"\",INDEX(Categories!$A:$E,Entries!$D535,4))","v":""},{"$f":"IF(OR($E535<>0,$C535=\"\"),\"\",INDEX(Categories!$A:$E,Entries!$D535,5))","v":""},"2014-01-01","2014-01-01",{"$f":"(Entries!K536-Entries!K535)*24*60","v":0}]
["",null,null,{"$f":"MATCH(C536,Categories!A:A,0)","v":{"$error":"#N/A"}},0,{"$f":"IF(OR($E536<>0,$C536=\"\"),\"\",INDEX(Categories!$A:$E,Entries!$D536,2))","v":""},{"$f":"IF(OR($E536<>0,$C536=\"\"),\"\",INDEX(Categories!$A:$E,Entries!$D536,3))","v":""},{"$f":"IF(OR($E536<>0,$C536=\"\"),\"\",INDEX(Categories!$A:$E,Entries!$D536,4))","v":""},{"$f":"IF(OR($E536<>0,$C536=\"\"),\"\",INDEX(Categories!$A:$E,Entries!$D536,5))","v":""},"2014-01-01","2014-01-01",{"$f":"(Entries!K537-Entries!K536)*24*60","v":0}]
["",null,null,{"$f":"MATCH(C537,Categories!A:A,0)","v":{"$error":"#N/A"}},0,{"$f":"IF(OR($E537<>0,$C537=\"\"),\"\",INDEX(Categories!$A:$E,Entries!$D537,2))","v":""},{"$f":"IF(OR($E537<>0,$C537=\"\"),\"\",INDEX(Categories!$A:$E,Entries!$D537,3))","v":""},{"$f":"IF(OR($E537<>0,$C537=\"\"),\"\",INDEX(Categories!$A:$E,Entries!$D537,4))","v":""},{"$f":"IF(OR($E537<>0,$C537=\"\"),\"\",INDEX(Categories!$A:$E,Entries!$D537,5))","v":""},"2014-01-01","2014-01-01",{"$f":"(Entries!K538-Entries!K537)*24*60","v":0}]
["",null,null,{"$f":"MATCH(C538,Categories!A:A,0)","v":{"$error":"#N/A"}},0,{"$f":"IF(OR($E538<>0,$C538=\"\"),\"\",INDEX(Categories!$A:$E,Entries!$D538,2))","v":""},{"$f":"IF(OR($E538<>0,$C538=\"\"),\"\",INDEX(Categories!$A:$E,Entries!$D538,3))","v":""},{"$f":"IF(OR($E538<>0,$C538=\"\"),\"\",INDEX(Categories!$A:$E,Entries!$D538,4))","v":""},{"$f":"IF(OR($E538<>0,$C538=\"\"),\"\",INDEX(Categories!$A:$E,Entries!$D538,5))","v":""},"2014-01-01","2014-01-01",{"$f":"(Entries!K539-Entries!K538)*24*60","v":0}]
["",null,null,{"$f":"MATCH(C539,Categories!A:A,0)","v":{"$error":"#N/A"}},0,{"$f":"IF(OR($E539<>0,$C539=\"\"),\"\",INDEX(Categories!$A:$E,Entries!$D539,2))","v":""},{"$f":"IF(OR($E539<>0,$C539=\"\"),\"\",INDEX(Categories!$A:$E,Entries!$D539,3))","v":""},{"$f":"IF(OR($E539<>0,$C539=\"\"),\"\",INDEX(Categories!$A:$E,Entries!$D539,4))","v":""},{"$f":"IF(OR($E539<>0,$C539=\"\"),\"\",INDEX(Categories!$A:$E,Entries!$D539,5))","v":""},"2014-01-01","2014-01-01",{"$f":"(Entries!K540-Entries!K539)*24*60","v":0}]
["",null,null,{"$f":"MATCH(C540,Categories!A:A,0)","v":{"$error":"#N/A"}},0,{"$f":"IF(OR($E540<>0,$C540=\"\"),\"\",INDEX(Categories!$A:$E,Entries!$D540,2))","v":""},{"$f":"IF(OR($E540<>0,$C540=\"\"),\"\",INDEX(Categories!$A:$E,Entries!$D540,3))","v":""},{"$f":"IF(OR($E540<>0,$C540=\"\"),\"\",INDEX(Categories!$A:$E,Entries!$D540,4))","v":""},{"$f":"IF(OR($E540<>0,$C540=\"\"),\"\",INDEX(Categories!$A:$E,Entries!$D540,5))","v":""},"2014-01-01","2014-01-01",{"$f":"(Entries!K541-Entries!K540)*24*60","v":0}]
["",null,null,{"$f":"MATCH(C541,Categories!A:A,0)","v":{"$error":"#N/A"}},0,{"$f":"IF(OR($E541<>0,$C541=\"\"),\"\",INDEX(Categories!$A:$E,Entries!$D541,2))","v":""},{"$f":"IF(OR($E541<>0,$C541=\"\"),\"\",INDEX(Categories!$A:$E,Entries!$D541,3))","v":""},{"$f":"IF(OR($E541<>0,$C541=\"\"),\"\",INDEX(Categories!$A:$E,Entries!$D541,4))","v":""},{"$f":"IF(OR($E541<>0,$C541=\"\"),\"\",INDEX(Categories!$A:$E,Entries!$D541,5))","v":""},"2014-01-01","2014-01-01",{"$f":"(Entries!K542-Entries!K541)*24*60","v":0}]
["",null,null,{"$f":"MATCH(C542,Categories!A:A,0)","v":{"$error":"#N/A"}},0,{"$f":"IF(OR($E542<>0,$C542=\"\"),\"\",INDEX(Categories!$A:$E,Entries!$D542,2))","v":""},{"$f":"IF(OR($E542<>0,$C542=\"\"),\"\",INDEX(Categories!$A:$E,Entries!$D542,3))","v":""},{"$f":"IF(OR($E542<>0,$C542=\"\"),\"\",INDEX(Categories!$A:$E,Entries!$D542,4))","v":""},{"$f":"IF(OR($E542<>0,$C542=\"\"),\"\",INDEX(Categories!$A:$E,Entries!$D542,5))","v":""},"2014-01-01","2014-01-01",{"$f":"(Entries!K543-Entries!K542)*24*60","v":0}]
["",null,null,{"$f":"MATCH(C543,Categories!A:A,0)","v":{"$error":"#N/A"}},0,{"$f":"IF(OR($E543<>0,$C543=\"\"),\"\",INDEX(Categories!$A:$E,Entries!$D543,2))","v":""},{"$f":"IF(OR($E543<>0,$C543=\"\"),\"\",INDEX(Categories!$A:$E,Entries!$D543,3))","v":""},{"$f":"IF(OR($E543<>0,$C543=\"\"),\"\",INDEX(Categories!$A:$E,Entries!$D543,4))","v":""},{"$f":"IF(OR($E543<>0,$C543=\"\"),\"\",INDEX(Categories!$A:$E,Entries!$D543,5))","v":""},"2014-01-01","2014-01-01",{"$f":"(Entries!K544-Entries!K543)*24*60","v":0}]
["",null,null,{"$f":"MATCH(C544,Categories!A:A,0)","v":{"$error":"#N/A"}},0,{"$f":"IF(OR($E544<>0,$C544=\"\"),\"\",INDEX(Categories!$A:$E,Entries!$D544,2))","v":""},{"$f":"IF(OR($E544<>0,$C544=\"\"),\"\",INDEX(Categories!$A:$E,Entries!$D544,3))","v":""},{"$f":"IF(OR($E544<>0,$C544=\"\"),\"\",INDEX(Categories!$A:$E,Entries!$D544,4))","v":""},{"$f":"IF(OR($E544<>0,$C544=\"\"),\"\",INDEX(Categories!$A:$E,Entries!$D544,5))","v":""},"2014-01-01","2014-01-01",{"$f":"(Entries!K545-Entries!K544)*24*60","v":0}]
["",null,null,{"$f":"MATCH(C545,Categories!A:A,0)","v":{"$error":"#N/A"}},0,{"$f":"IF(OR($E545<>0,$C545=\"\"),\"\",INDEX(Categories!$A:$E,Entries!$D545,2))","v":""},{"$f":"IF(OR($E545<>0,$C545=\"\"),\"\",INDEX(Categories!$A:$E,Entries!$D545,3))","v":""},{"$f":"IF(OR($E545<>0,$C545=\"\"),\"\",INDEX(Categories!$A:$E,Entries!$D545,4))","v":""},{"$f":"IF(OR($E545<>0,$C545=\"\"),\"\",INDEX(Categories!$A:$E,Entries!$D545,5))","v":""},"2014-01-01","2014-01-01",{"$f":"(Entries!K546-Entries!K545)*24*60","v":0}]
["",null,null,{"$f":"MATCH(C546,Categories!A:A,0)","v":{"$error":"#N/A"}},0,{"$f":"IF(OR($E546<>0,$C546=\"\"),\"\",INDEX(Categories!$A:$E,Entries!$D546,2))","v":""},{"$f":"IF(OR($E546<>0,$C546=\"\"),\"\",INDEX(Categories!$A:$E,Entries!$D546,3))","v":""},{"$f":"IF(OR($E546<>0,$C546=\"\"),\"\",INDEX(Categories!$A:$E,Entries!$D546,4))","v":""},{"$f":"IF(OR($E546<>0,$C546=\"\"),\"\",INDEX(Categories!$A:$E,Entries!$D546,5))","v":""},"2014-01-01","2014-01-01",{"$f":"(Entries!K547-Entries!K546)*24*60","v":0}]
["",null,null,{"$f":"MATCH(C547,Categories!A:A,0)","v":{"$error":"#N/A"}},0,{"$f":"IF(OR($E547<>0,$C547=\"\"),\"\",INDEX(Categories!$A:$E,Entries!$D547,2))","v":""},{"$f":"IF(OR($E547<>0,$C547=\"\"),\"\",INDEX(Categories!$A:$E,Entries!$D547,3))","v":""},{"$f":"IF(OR($E547<>0,$C547=\"\"),\"\",INDEX(Categories!$A:$E,Entries!$D547,4))","v":""},{"$f":"IF(OR($E547<>0,$C547=\"\"),\"\",INDEX(Categories!$A:$E,Entries!$D547,5))","v":""},"2014-01-01","2014-01-01",{"$f":"(Entries!K548-Entries!K547)*24*60","v":0}]
[{"$f":"IF(OR(B548>=B547,C547=\"z\",B548=\"\"),\"\",J547+1)","v":""},null,null,{"$f":"MATCH(C548,Categories!A:A,0)","v":{"$error":"#N/A"}},0,{"$f":"IF(OR($E548<>0,$C548=\"\"),\"\",INDEX(Categories!$A:$E,Entries!$D548,2))","v":""},{"$f":"IF(OR($E548<>0,$C548=\"\"),\"\",INDEX(Categories!$A:$E,Entries!$D548,3))","v":""},{"$f":"IF(OR($E548<>0,$C548=\"\"),\"\",INDEX(Categories!$A:$E,Entries!$D548,4))","v":""},{"$f":"IF(OR($E548<>0,$C548=\"\"),\"\",INDEX(Categories!$A:$E,Entries!$D548,5))","v":""},"2014-01-01","2014-01-01",{"$f":"(Entries!K549-Entries!K548)*24*60","v":0}]
["",null,null,{"$f":"MATCH(C549,Categories!A:A,0)","v":{"$error":"#N/A"}},0,{"$f":"IF(OR($E549<>0,$C549=\"\"),\"\",INDEX(Categories!$A:$E,Entries!$D549,2))","v":""},{"$f":"IF(OR($E549<>0,$C549=\"\"),\"\",INDEX(Categories!$A:$E,Entries!$D549,3))","v":""},{"$f":"IF(OR($E549<>0,$C549=\"\"),\"\",INDEX(Categories!$A:$E,Entries!$D549,4))","v":""},{"$f":"IF(OR($E549<>0,$C549=\"\"),\"\",INDEX(Categories!$A:$E,Entries!$D549,5))","v":""},"2014-01-01","2014-01-01",{"$f":"(Entries!K550-Entries!K549)*24*60","v":0}]
["",null,null,{"$f":"MATCH(C550,Categories!A:A,0)","v":{"$error":"#N/A"}},0,{"$f":"IF(OR($E550<>0,$C550=\"\"),\"\",INDEX(Categories!$A:$E,Entries!$D550,2))","v":""},{"$f":"IF(OR($E550<>0,$C550=\"\"),\"\",INDEX(Categories!$A:$E,Entries!$D550,3))","v":""},{"$f":"IF(OR($E550<>0,$C550=\"\"),\"\",INDEX(Categories!$A:$E,Entries!$D550,4))","v":""},{"$f":"IF(OR($E550<>0,$C550=\"\"),\"\",INDEX(Categories!$A:$E,Entries!$D550,5))","v":""},"2014-01-01","2014-01-01",{"$f":"(Entries!K551-Entries!K550)*24*60","v":0}]
["",null,null,{"$f":"MATCH(C551,Categories!A:A,0)","v":{"$error":"#N/A"}},0,{"$f":"IF(OR($E551<>0,$C551=\"\"),\"\",INDEX(Categories!$A:$E,Entries!$D551,2))","v":""},{"$f":"IF(OR($E551<>0,$C551=\"\"),\"\",INDEX(Categories!$A:$E,Entries!$D551,3))","v":""},{"$f":"IF(OR($E551<>0,$C551=\"\"),\"\",INDEX(Categories!$A:$E,Entries!$D551,4))","v":""},{"$f":"IF(OR($E551<>0,$C551=\"\"),\"\",INDEX(Categories!$A:$E,Entries!$D551,5))","v":""},"2014-01-01","2014-01-01",{"$f":"(Entries!K552-Entries!K551)*24*60","v":0}]
["",null,null,{"$f":"MATCH(C552,Categories!A:A,0)","v":{"$error":"#N/A"}},0,{"$f":"IF(OR($E552<>0,$C552=\"\"),\"\",INDEX(Categories!$A:$E,Entries!$D552,2))","v":""},{"$f":"IF(OR($E552<>0,$C552=\"\"),\"\",INDEX(Categories!$A:$E,Entries!$D552,3))","v":""},{"$f":"IF(OR($E552<>0,$C552=\"\"),\"\",INDEX(Categories!$A:$E,Entries!$D552,4))","v":""},{"$f":"IF(OR($E552<>0,$C552=\"\"),\"\",INDEX(Categories!$A:$E,Entries!$D552,5))","v":""},"2014-01-01","2014-01-01",{"$f":"(Entries!K553-Entries!K552)*24*60","v":0}]
["",null,null,{"$f":"MATCH(C553,Categories!A:A,0)","v":{"$error":"#N/A"}},0,{"$f":"IF(OR($E553<>0,$C553=\"\"),\"\",INDEX(Categories!$A:$E,Entries!$D553,2))","v":""},{"$f":"IF(OR($E553<>0,$C553=\"\"),\"\",INDEX(Categories!$A:$E,Entries!$D553,3))","v":""},{"$f":"IF(OR($E553<>0,$C553=\"\"),\"\",INDEX(Categories!$A:$E,Entries!$D553,4))","v":""},{"$f":"IF(OR($E553<>0,$C553=\"\"),\"\",INDEX(Categories!$A:$E,Entries!$D553,5))","v":""},"2014-01-01","2014-01-01",{"$f":"(Entries!K554-Entries!K553)*24*60","v":0}]
["",null,null,{"$f":"MATCH(C554,Categories!A:A,0)","v":{"$error":"#N/A"}},0,{"$f":"IF(OR($E554<>0,$C554=\"\"),\"\",INDEX(Categories!$A:$E,Entries!$D554,2))","v":""},{"$f":"IF(OR($E554<>0,$C554=\"\"),\"\",INDEX(Categories!$A:$E,Entries!$D554,3))","v":""},{"$f":"IF(OR($E554<>0,$C554=\"\"),\"\",INDEX(Categories!$A:$E,Entries!$D554,4))","v":""},{"$f":"IF(OR($E554<>0,$C554=\"\"),\"\",INDEX(Categories!$A:$E,Entries!$D554,5))","v":""},"2014-01-01","2014-01-01",{"$f":"(Entries!K555-Entries!K554)*24*60","v":0}]
["",null,null,{"$f":"MATCH(C555,Categories!A:A,0)","v":{"$error":"#N/A"}},0,{"$f":"IF(OR($E555<>0,$C555=\"\"),\"\",INDEX(Categories!$A:$E,Entries!$D555,2))","v":""},{"$f":"IF(OR($E555<>0,$C555=\"\"),\"\",INDEX(Categories!$A:$E,Entries!$D555,3))","v":""},{"$f":"IF(OR($E555<>0,$C555=\"\"),\"\",INDEX(Categories!$A:$E,Entries!$D555,4))","v":""},{"$f":"IF(OR($E555<>0,$C555=\"\"),\"\",INDEX(Categories!$A:$E,Entries!$D555,5))","v":""},"2014-01-01","2014-01-01",{"$f":"(Entries!K556-Entries!K555)*24*60","v":0}]
["",null,null,{"$f":"MATCH(C556,Categories!A:A,0)","v":{"$error":"#N/A"}},0,{"$f":"IF(OR($E556<>0,$C556=\"\"),\"\",INDEX(Categories!$A:$E,Entries!$D556,2))","v":""},{"$f":"IF(OR($E556<>0,$C556=\"\"),\"\",INDEX(Categories!$A:$E,Entries!$D556,3))","v":""},{"$f":"IF(OR($E556<>0,$C556=\"\"),\"\",INDEX(Categories!$A:$E,Entries!$D556,4))","v":""},{"$f":"IF(OR($E556<>0,$C556=\"\"),\"\",INDEX(Categories!$A:$E,Entries!$D556,5))","v":""},"2014-01-01","2014-01-01",{"$f":"(Entries!K557-Entries!K556)*24*60","v":0}]
["",null,null,{"$f":"MATCH(C557,Categories!A:A,0)","v":{"$error":"#N/A"}},0,{"$f":"IF(OR($E557<>0,$C557=\"\"),\"\",INDEX(Categories!$A:$E,Entries!$D557,2))","v":""},{"$f":"IF(OR($E557<>0,$C557=\"\"),\"\",INDEX(Categories!$A:$E,Entries!$D557,3))","v":""},{"$f":"IF(OR($E557<>0,$C557=\"\"),\"\",INDEX(Categories!$A:$E,Entries!$D557,4))","v":""},{"$f":"IF(OR($E557<>0,$C557=\"\"),\"\",INDEX(Categories!$A:$E,Entries!$D557,5))","v":""},"2014-01-01","2014-01-01",{"$f":"(Entries!K558-Entries!K557)*24*60","v":0}]
["",null,null,{"$f":"MATCH(C558,Categories!A:A,0)","v":{"$error":"#N/A"}},0,{"$f":"IF(OR($E558<>0,$C558=\"\"),\"\",INDEX(Categories!$A:$E,Entries!$D558,2))","v":""},{"$f":"IF(OR($E558<>0,$C558=\"\"),\"\",INDEX(Categories!$A:$E,Entries!$D558,3))","v":""},{"$f":"IF(OR($E558<>0,$C558=\"\"),\"\",INDEX(Categories!$A:$E,Entries!$D558,4))","v":""},{"$f":"IF(OR($E558<>0,$C558=\"\"),\"\",INDEX(Categories!$A:$E,Entries!$D558,5))","v":""},"2014-01-01","2014-01-01",{"$f":"(Entries!K559-Entries!K558)*24*60","v":0}]
["",null,null,{"$f":"MATCH(C559,Categories!A:A,0)","v":{"$error":"#N/A"}},0,{"$f":"IF(OR($E559<>0,$C559=\"\"),\"\",INDEX(Categories!$A:$E,Entries!$D559,2))","v":""},{"$f":"IF(OR($E559<>0,$C559=\"\"),\"\",INDEX(Categories!$A:$E,Entries!$D559,3))","v":""},{"$f":"IF(OR($E559<>0,$C559=\"\"),\"\",INDEX(Categories!$A:$E,Entries!$D559,4))","v":""},{"$f":"IF(OR($E559<>0,$C559=\"\"),\"\",INDEX(Categories!$A:$E,Entries!$D559,5))","v":""},"2014-01-01","2014-01-01",{"$f":"(Entries!K560-Entries!K559)*24*60","v":0}]
["",null,null,{"$f":"MATCH(C560,Categories!A:A,0)","v":{"$error":"#N/A"}},0,{"$f":"IF(OR($E560<>0,$C560=\"\"),\"\",INDEX(Categories!$A:$E,Entries!$D560,2))","v":""},{"$f":"IF(OR($E560<>0,$C560=\"\"),\"\",INDEX(Categories!$A:$E,Entries!$D560,3))","v":""},{"$f":"IF(OR($E560<>0,$C560=\"\"),\"\",INDEX(Categories!$A:$E,Entries!$D560,4))","v":""},{"$f":"IF(OR($E560<>0,$C560=\"\"),\"\",INDEX(Categories!$A:$E,Entries!$D560,5))","v":""},"2014-01-01","2014-01-01",{"$f":"(Entries!K561-Entries!K560)*24*60","v":0}]
["",null,null,{"$f":"MATCH(C561,Categories!A:A,0)","v":{"$error":"#N/A"}},0,{"$f":"IF(OR($E561<>0,$C561=\"\"),\"\",INDEX(Categories!$A:$E,Entries!$D561,2))","v":""},{"$f":"IF(OR($E561<>0,$C561=\"\"),\"\",INDEX(Categories!$A:$E,Entries!$D561,3))","v":""},{"$f":"IF(OR($E561<>0,$C561=\"\"),\"\",INDEX(Categories!$A:$E,Entries!$D561,4))","v":""},{"$f":"IF(OR($E561<>0,$C561=\"\"),\"\",INDEX(Categories!$A:$E,Entries!$D561,5))","v":""},"2014-01-01","2014-01-01",{"$f":"(Entries!K562-Entries!K561)*24*60","v":0}]
["",null,null,{"$f":"MATCH(C562,Categories!A:A,0)","v":{"$error":"#N/A"}},0,{"$f":"IF(OR($E562<>0,$C562=\"\"),\"\",INDEX(Categories!$A:$E,Entries!$D562,2))","v":""},{"$f":"IF(OR($E562<>0,$C562=\"\"),\"\",INDEX(Categories!$A:$E,Entries!$D562,3))","v":""},{"$f":"IF(OR($E562<>0,$C562=\"\"),\"\",INDEX(Categories!$A:$E,Entries!$D562,4))","v":""},{"$f":"IF(OR($E562<>0,$C562=\"\"),\"\",INDEX(Categories!$A:$E,Entries!$D562,5))","v":""},"2014-01-01","2014-01-01",{"$f":"(Entries!K563-Entries!K562)*24*60","v":0}]
["",null,null,{"$f":"MATCH(C563,Categories!A:A,0)","v":{"$error":"#N/A"}},0,{"$f":"IF(OR($E563<>0,$C563=\"\"),\"\",INDEX(Categories!$A:$E,Entries!$D563,2))","v":""},{"$f":"IF(OR($E563<>0,$C563=\"\"),\"\",INDEX(Categories!$A:$E,Entries!$D563,3))","v":""},{"$f":"IF(OR($E563<>0,$C563=\"\"),\"\",INDEX(Categories!$A:$E,Entries!$D563,4))","v":""},{"$f":"IF(OR($E563<>0,$C563=\"\"),\"\",INDEX(Categories!$A:$E,Entries!$D563,5))","v":""},"2014-01-01","2014-01-01",{"$f":"(Entries!K564-Entries!K563)*24*60","v":0}]
["",null,null,{"$f":"MATCH(C564,Categories!A:A,0)","v":{"$error":"#N/A"}},0,{"$f":"IF(OR($E564<>0,$C564=\"\"),\"\",INDEX(Categories!$A:$E,Entries!$D564,2))","v":""},{"$f":"IF(OR($E564<>0,$C564=\"\"),\"\",INDEX(Categories!$A:$E,Entries!$D564,3))","v":""},{"$f":"IF(OR($E564<>0,$C564=\"\"),\"\",INDEX(Categories!$A:$E,Entries!$D564,4))","v":""},{"$f":"IF(OR($E564<>0,$C564=\"\"),\"\",INDEX(Categories!$A:$E,Entries!$D564,5))","v":""},"2014-01-01","2014-01-01",{"$f":"(Entries!K565-Entries!K564)*24*60","v":0}]
["",null,null,{"$f":"MATCH(C565,Categories!A:A,0)","v":{"$error":"#N/A"}},0,{"$f":"IF(OR($E565<>0,$C565=\"\"),\"\",INDEX(Categories!$A:$E,Entries!$D565,2))","v":""},{"$f":"IF(OR($E565<>0,$C565=\"\"),\"\",INDEX(Categories!$A:$E,Entries!$D565,3))","v":""},{"$f":"IF(OR($E565<>0,$C565=\"\"),\"\",INDEX(Categories!$A:$E,Entries!$D565,4))","v":""},{"$f":"IF(OR($E565<>0,$C565=\"\"),\"\",INDEX(Categories!$A:$E,Entries!$D565,5))","v":""},"2014-01-01","2014-01-01",{"$f":"(Entries!K566-Entries!K565)*24*60","v":0}]
["",null,null,{"$f":"MATCH(C566,Categories!A:A,0)","v":{"$error":"#N/A"}},0,{"$f":"IF(OR($E566<>0,$C566=\"\"),\"\",INDEX(Categories!$A:$E,Entries!$D566,2))","v":""},{"$f":"IF(OR($E566<>0,$C566=\"\"),\"\",INDEX(Categories!$A:$E,Entries!$D566,3))","v":""},{"$f":"IF(OR($E566<>0,$C566=\"\"),\"\",INDEX(Categories!$A:$E,Entries!$D566,4))","v":""},{"$f":"IF(OR($E566<>0,$C566=\"\"),\"\",INDEX(Categories!$A:$E,Entries!$D566,5))","v":""},"2014-01-01","2014-01-01",{"$f":"(Entries!K567-Entries!K566)*24*60","v":0}]
["",null,null,{"$f":"MATCH(C567,Categories!A:A,0)","v":{"$error":"#N/A"}},0,{"$f":"IF(OR($E567<>0,$C567=\"\"),\"\",INDEX(Categories!$A:$E,Entries!$D567,2))","v":""},{"$f":"IF(OR($E567<>0,$C567=\"\"),\"\",INDEX(Categories!$A:$E,Entries!$D567,3))","v":""},{"$f":"IF(OR($E567<>0,$C567=\"\"),\"\",INDEX(Categories!$A:$E,Entries!$D567,4))","v":""},{"$f":"IF(OR($E567<>0,$C567=\"\"),\"\",INDEX(Categories!$A:$E,Entries!$D567,5))","v":""},"2014-01-01","2014-01-01",{"$f":"(Entries!K568-Entries!K567)*24*60","v":0}]
["",null,null,{"$f":"MATCH(C568,Categories!A:A,0)","v":{"$error":"#N/A"}},0,{"$f":"IF(OR($E568<>0,$C568=\"\"),\"\",INDEX(Categories!$A:$E,Entries!$D568,2))","v":""},{"$f":"IF(OR($E568<>0,$C568=\"\"),\"\",INDEX(Categories!$A:$E,Entries!$D568,3))","v":""},{"$f":"IF(OR($E568<>0,$C568=\"\"),\"\",INDEX(Categories!$A:$E,Entries!$D568,4))","v":""},{"$f":"IF(OR($E568<>0,$C568=\"\"),\"\",INDEX(Categories!$A:$E,Entries!$D568,5))","v":""},"2014-01-01","2014-01-01",{"$f":"(Entries!K569-Entries!K568)*24*60","v":0}]
["",null,null,{"$f":"MATCH(C569,Categories!A:A,0)","v":{"$error":"#N/A"}},0,{"$f":"IF(OR($E569<>0,$C569=\"\"),\"\",INDEX(Categories!$A:$E,Entries!$D569,2))","v":""},{"$f":"IF(OR($E569<>0,$C569=\"\"),\"\",INDEX(Categories!$A:$E,Entries!$D569,3))","v":""},{"$f":"IF(OR($E569<>0,$C569=\"\"),\"\",INDEX(Categories!$A:$E,Entries!$D569,4))","v":""},{"$f":"IF(OR($E569<>0,$C569=\"\"),\"\",INDEX(Categories!$A:$E,Entries!$D569,5))","v":""},"2014-01-01","2014-01-01",{"$f":"(Entries!K570-Entries!K569)*24*60","v":0}]
["",null,null,{"$f":"MATCH(C570,Categories!A:A,0)","v":{"$error":"#N/A"}},0,{"$f":"IF(OR($E570<>0,$C570=\"\"),\"\",INDEX(Categories!$A:$E,Entries!$D570,2))","v":""},{"$f":"IF(OR($E570<>0,$C570=\"\"),\"\",INDEX(Categories!$A:$E,Entries!$D570,3))","v":""},{"$f":"IF(OR($E570<>0,$C570=\"\"),\"\",INDEX(Categories!$A:$E,Entries!$D570,4))","v":""},{"$f":"IF(OR($E570<>0,$C570=\"\"),\"\",INDEX(Categories!$A:$E,Entries!$D570,5))","v":""},"2014-01-01","2014-01-01",{"$f":"(Entries!K571-Entries!K570)*24*60","v":0}]
["",null,null,{"$f":"MATCH(C571,Categories!A:A,0)","v":{"$error":"#N/A"}},0,{"$f":"IF(OR($E571<>0,$C571=\"\"),\"\",INDEX(Categories!$A:$E,Entries!$D571,2))","v":""},{"$f":"IF(OR($E571<>0,$C571=\"\"),\"\",INDEX(Categories!$A:$E,Entries!$D571,3))","v":""},{"$f":"IF(OR($E571<>0,$C571=\"\"),\"\",INDEX(Categories!$A:$E,Entries!$D571,4))","v":""},{"$f":"IF(OR($E571<>0,$C571=\"\"),\"\",INDEX(Categories!$A:$E,Entries!$D571,5))","v":""},"2014-01-01","2014-01-01",{"$f":"(Entries!K572-Entries!K571)*24*60","v":0}]
["",null,null,{"$f":"MATCH(C572,Categories!A:A,0)","v":{"$error":"#N/A"}},0,{"$f":"IF(OR($E572<>0,$C572=\"\"),\"\",INDEX(Categories!$A:$E,Entries!$D572,2))","v":""},{"$f":"IF(OR($E572<>0,$C572=\"\"),\"\",INDEX(Categories!$A:$E,Entries!$D572,3))","v":""},{"$f":"IF(OR($E572<>0,$C572=\"\"),\"\",INDEX(Categories!$A:$E,Entries!$D572,4))","v":""},{"$f":"IF(OR($E572<>0,$C572=\"\"),\"\",INDEX(Categories!$A:$E,Entries!$D572,5))","v":""},"2014-01-01","2014-01-01",{"$f":"(Entries!K573-Entries!K572)*24*60","v":0}]
["",null,null,{"$f":"MATCH(C573,Categories!A:A,0)","v":{"$error":"#N/A"}},0,{"$f":"IF(OR($E573<>0,$C573=\"\"),\"\",INDEX(Categories!$A:$E,Entries!$D573,2))","v":""},{"$f":"IF(OR($E573<>0,$C573=\"\"),\"\",INDEX(Categories!$A:$E,Entries!$D573,3))","v":""},{"$f":"IF(OR($E573<>0,$C573=\"\"),\"\",INDEX(Categories!$A:$E,Entries!$D573,4))","v":""},{"$f":"IF(OR($E573<>0,$C573=\"\"),\"\",INDEX(Categories!$A:$E,Entries!$D573,5))","v":""},"2014-01-01","2014-01-01",{"$f":"(Entries!K574-Entries!K573)*24*60","v":0}]
["",null,null,{"$f":"MATCH(C574,Categories!A:A,0)","v":{"$error":"#N/A"}},0,{"$f":"IF(OR($E574<>0,$C574=\"\"),\"\",INDEX(Categories!$A:$E,Entries!$D574,2))","v":""},{"$f":"IF(OR($E574<>0,$C574=\"\"),\"\",INDEX(Categories!$A:$E,Entries!$D574,3))","v":""},{"$f":"IF(OR($E574<>0,$C574=\"\"),\"\",INDEX(Categories!$A:$E,Entries!$D574,4))","v":""},{"$f":"IF(OR($E574<>0,$C574=\"\"),\"\",INDEX(Categories!$A:$E,Entries!$D574,5))","v":""},"2014-01-01","2014-01-01",{"$f":"(Entries!K575-Entries!K574)*24*60","v":0}]
["",null,null,{"$f":"MATCH(C575,Categories!A:A,0)","v":{"$error":"#N/A"}},0,{"$f":"IF(OR($E575<>0,$C575=\"\"),\"\",INDEX(Categories!$A:$E,Entries!$D575,2))","v":""},{"$f":"IF(OR($E575<>0,$C575=\"\"),\"\",INDEX(Categories!$A:$E,Entries!$D575,3))","v":""},{"$f":"IF(OR($E575<>0,$C575=\"\"),\"\",INDEX(Categories!$A:$E,Entries!$D575,4))","v":""},{"$f":"IF(OR($E575<>0,$C575=\"\"),\"\",INDEX(Categories!$A:$E,Entries!$D575,5))","v":""},"2014-01-01","2014-01-01",{"$f":"(Entries!K576-Entries!K575)*24*60","v":0}]
["",null,null,{"$f":"MATCH(C576,Categories!A:A,0)","v":{"$error":"#N/A"}},0,{"$f":"IF(OR($E576<>0,$C576=\"\"),\"\",INDEX(Categories!$A:$E,Entries!$D576,2))","v":""},{"$f":"IF(OR($E576<>0,$C576=\"\"),\"\",INDEX(Categories!$A:$E,Entries!$D576,3))","v":""},{"$f":"IF(OR($E576<>0,$C576=\"\"),\"\",INDEX(Categories!$A:$E,Entries!$D576,4))","v":""},{"$f":"IF(OR($E576<>0,$C576=\"\"),\"\",INDEX(Categories!$A:$E,Entries!$D576,5))","v":""},"2014-01-01","2014-01-01",{"$f":"(Entries!K577-Entries!K576)*24*60","v":0}]
["",null,null,{"$f":"MATCH(C577,Categories!A:A,0)","v":{"$error":"#N/A"}},0,{"$f":"IF(OR($E577<>0,$C577=\"\"),\"\",INDEX(Categories!$A:$E,Entries!$D577,2))","v":""},{"$f":"IF(OR($E577<>0,$C577=\"\"),\"\",INDEX(Categories!$A:$E,Entries!$D577,3))","v":""},{"$f":"IF(OR($E577<>0,$C577=\"\"),\"\",INDEX(Categories!$A:$E,Entries!$D577,4))","v":""},{"$f":"IF(OR($E577<>0,$C577=\"\"),\"\",INDEX(Categories!$A:$E,Entries!$D577,5))","v":""},"2014-01-01","2014-01-01",{"$f":"(Entries!K578-Entries!K577)*24*60","v":0}]
["",null,null,{"$f":"MATCH(C578,Categories!A:A,0)","v":{"$error":"#N/A"}},{"$f":"IF(AND(ISERROR(D578),C578<>\"\"),ROW(D578),0)","v":0},{"$f":"IF(OR($E578<>0,$C578=\"\"),\"\",INDEX(Categories!$A:$E,Entries!$D578,2))","v":""},{"$f":"IF(OR($E578<>0,$C578=\"\"),\"\",INDEX(Categories!$A:$E,Entries!$D578,3))","v":""},{"$f":"IF(OR($E578<>0,$C578=\"\"),\"\",INDEX(Categories!$A:$E,Entries!$D578,4))","v":""},{"$f":"IF(OR($E578<>0,$C578=\"\"),\"\",INDEX(Categories!$A:$E,Entries!$D578,5))","v":""},{"$f":"IF(A578=\"\",J577,A578)","v":"2014-01-01"},{"$f":"J578+B578","v":"2014-01-01"},{"$f":"(Entries!K579-Entries!K578)*24*60","v":0}]
["",null,null,{"$f":"MATCH(C579,Categories!A:A,0)","v":{"$error":"#N/A"}},0,{"$f":"IF(OR($E579<>0,$C579=\"\"),\"\",INDEX(Categories!$A:$E,Entries!$D579,2))","v":""},{"$f":"IF(OR($E579<>0,$C579=\"\"),\"\",INDEX(Categories!$A:$E,Entries!$D579,3))","v":""},{"$f":"IF(OR($E579<>0,$C579=\"\"),\"\",INDEX(Categories!$A:$E,Entries!$D579,4))","v":""},{"$f":"IF(OR($E579<>0,$C579=\"\"),\"\",INDEX(Categories!$A:$E,Entries!$D579,5))","v":""},"2014-01-01","2014-01-01",{"$f":"(Entries!K580-Entries!K579)*24*60","v":0}]
["",null,null,{"$f":"MATCH(C580,Categories!A:A,0)","v":{"$error":"#N/A"}},0,{"$f":"IF(OR($E580<>0,$C580=\"\"),\"\",INDEX(Categories!$A:$E,Entries!$D580,2))","v":""},{"$f":"IF(OR($E580<>0,$C580=\"\"),\"\",INDEX(Categories!$A:$E,Entries!$D580,3))","v":""},{"$f":"IF(OR($E580<>0,$C580=\"\"),\"\",INDEX(Categories!$A:$E,Entries!$D580,4))","v":""},{"$f":"IF(OR($E580<>0,$C580=\"\"),\"\",INDEX(Categories!$A:$E,Entries!$D580,5))","v":""},"2014-01-01","2014-01-01",{"$f":"(Entries!K581-Entries!K580)*24*60","v":0}]
["",null,null,{"$f":"MATCH(C581,Categories!A:A,0)","v":{"$error":"#N/A"}},0,{"$f":"IF(OR($E581<>0,$C581=\"\"),\"\",INDEX(Categories!$A:$E,Entries!$D581,2))","v":""},{"$f":"IF(OR($E581<>0,$C581=\"\"),\"\",INDEX(Categories!$A:$E,Entries!$D581,3))","v":""},{"$f":"IF(OR($E581<>0,$C581=\"\"),\"\",INDEX(Categories!$A:$E,Entries!$D581,4))","v":""},{"$f":"IF(OR($E581<>0,$C581=\"\"),\"\",INDEX(Categories!$A:$E,Entries!$D581,5))","v":""},"2014-01-01","2014-01-01",{"$f":"(Entries!K582-Entries!K581)*24*60","v":0}]
["",null,null,{"$f":"MATCH(C582,Categories!A:A,0)","v":{"$error":"#N/A"}},0,{"$f":"IF(OR($E582<>0,$C582=\"\"),\"\",INDEX(Categories!$A:$E,Entries!$D582,2))","v":""},{"$f":"IF(OR($E582<>0,$C582=\"\"),\"\",INDEX(Categories!$A:$E,Entries!$D582,3))","v":""},{"$f":"IF(OR($E582<>0,$C582=\"\"),\"\",INDEX(Categories!$A:$E,Entries!$D582,4))","v":""},{"$f":"IF(OR($E582<>0,$C582=\"\"),\"\",INDEX(Categories!$A:$E,Entries!$D582,5))","v":""},"2014-01-01","2014-01-01",{"$f":"(Entries!K583-Entries!K582)*24*60","v":0}]
["",null,null,{"$f":"MATCH(C583,Categories!A:A,0)","v":{"$error":"#N/A"}},0,{"$f":"IF(OR($E583<>0,$C583=\"\"),\"\",INDEX(Categories!$A:$E,Entries!$D583,2))","v":""},{"$f":"IF(OR($E583<>0,$C583=\"\"),\"\",INDEX(Categories!$A:$E,Entries!$D583,3))","v":""},{"$f":"IF(OR($E583<>0,$C583=\"\"),\"\",INDEX(Categories!$A:$E,Entries!$D583,4))","v":""},{"$f":"IF(OR($E583<>0,$C583=\"\"),\"\",INDEX(Categories!$A:$E,Entries!$D583,5))","v":""},"2014-01-01","2014-01-01",{"$f":"(Entries!K584-Entries!K583)*24*60","v":0}]
["",null,null,{"$f":"MATCH(C584,Categories!A:A,0)","v":{"$error":"#N/A"}},0,{"$f":"IF(OR($E584<>0,$C584=\"\"),\"\",INDEX(Categories!$A:$E,Entries!$D584,2))","v":""},{"$f":"IF(OR($E584<>0,$C584=\"\"),\"\",INDEX(Categories!$A:$E,Entries!$D584,3))","v":""},{"$f":"IF(OR($E584<>0,$C584=\"\"),\"\",INDEX(Categories!$A:$E,Entries!$D584,4))","v":""},{"$f":"IF(OR($E584<>0,$C584=\"\"),\"\",INDEX(Categories!$A:$E,Entries!$D584,5))","v":""},"2014-01-01","2014-01-01",{"$f":"(Entries!K585-Entries!K584)*24*60","v":0}]
["",null,null,{"$f":"MATCH(C585,Categories!A:A,0)","v":{"$error":"#N/A"}},0,{"$f":"IF(OR($E585<>0,$C585=\"\"),\"\",INDEX(Categories!$A:$E,Entries!$D585,2))","v":""},{"$f":"IF(OR($E585<>0,$C585=\"\"),\"\",INDEX(Categories!$A:$E,Entries!$D585,3))","v":""},{"$f":"IF(OR($E585<>0,$C585=\"\"),\"\",INDEX(Categories!$A:$E,Entries!$D585,4))","v":""},{"$f":"IF(OR($E585<>0,$C585=\"\"),\"\",INDEX(Categories!$A:$E,Entries!$D585,5))","v":""},"2014-01-01","2014-01-01",{"$f":"(Entries!K586-Entries!K585)*24*60","v":0}]
["",null,null,{"$f":"MATCH(C586,Categories!A:A,0)","v":{"$error":"#N/A"}},0,{"$f":"IF(OR($E586<>0,$C586=\"\"),\"\",INDEX(Categories!$A:$E,Entries!$D586,2))","v":""},{"$f":"IF(OR($E586<>0,$C586=\"\"),\"\",INDEX(Categories!$A:$E,Entries!$D586,3))","v":""},{"$f":"IF(OR($E586<>0,$C586=\"\"),\"\",INDEX(Categories!$A:$E,Entries!$D586,4))","v":""},{"$f":"IF(OR($E586<>0,$C586=\"\"),\"\",INDEX(Categories!$A:$E,Entries!$D586,5))","v":""},"2014-01-01","2014-01-01",{"$f":"(Entries!K587-Entries!K586)*24*60","v":0}]
["",null,null,{"$f":"MATCH(C587,Categories!A:A,0)","v":{"$error":"#N/A"}},0,{"$f":"IF(OR($E587<>0,$C587=\"\"),\"\",INDEX(Categories!$A:$E,Entries!$D587,2))","v":""},{"$f":"IF(OR($E587<>0,$C587=\"\"),\"\",INDEX(Categories!$A:$E,Entries!$D587,3))","v":""},{"$f":"IF(OR($E587<>0,$C587=\"\"),\"\",INDEX(Categories!$A:$E,Entries!$D587,4))","v":""},{"$f":"IF(OR($E587<>0,$C587=\"\"),\"\",INDEX(Categories!$A:$E,Entries!$D587,5))","v":""},"2014-01-01","2014-01-01",{"$f":"(Entries!K588-Entries!K587)*24*60","v":0}]
["",null,null,{"$f":"MATCH(C588,Categories!A:A,0)","v":{"$error":"#N/A"}},0,{"$f":"IF(OR($E588<>0,$C588=\"\"),\"\",INDEX(Categories!$A:$E,Entries!$D588,2))","v":""},{"$f":"IF(OR($E588<>0,$C588=\"\"),\"\",INDEX(Categories!$A:$E,Entries!$D588,3))","v":""},{"$f":"IF(OR($E588<>0,$C588=\"\"),\"\",INDEX(Categories!$A:$E,Entries!$D588,4))","v":""},{"$f":"IF(OR($E588<>0,$C588=\"\"),\"\",INDEX(Categories!$A:$E,Entries!$D588,5))","v":""},"2014-01-01","2014-01-01",{"$f":"(Entries!K589-Entries!K588)*24*60","v":0}]
["",null,null,{"$f":"MATCH(C589,Categories!A:A,0)","v":{"$error":"#N/A"}},0,{"$f":"IF(OR($E589<>0,$C589=\"\"),\"\",INDEX(Categories!$A:$E,Entries!$D589,2))","v":""},{"$f":"IF(OR($E589<>0,$C589=\"\"),\"\",INDEX(Categories!$A:$E,Entries!$D589,3))","v":""},{"$f":"IF(OR($E589<>0,$C589=\"\"),\"\",INDEX(Categories!$A:$E,Entries!$D589,4))","v":""},{"$f":"IF(OR($E589<>0,$C589=\"\"),\"\",INDEX(Categories!$A:$E,Entries!$D589,5))","v":""},"2014-01-01","2014-01-01",{"$f":"(Entries!K590-Entries!K589)*24*60","v":0}]
["",null,null,{"$f":"MATCH(C590,Categories!A:A,0)","v":{"$error":"#N/A"}},0,{"$f":"IF(OR($E590<>0,$C590=\"\"),\"\",INDEX(Categories!$A:$E,Entries!$D590,2))","v":""},{"$f":"IF(OR($E590<>0,$C590=\"\"),\"\",INDEX(Categories!$A:$E,Entries!$D590,3))","v":""},{"$f":"IF(OR($E590<>0,$C590=\"\"),\"\",INDEX(Categories!$A:$E,Entries!$D590,4))","v":""},{"$f":"IF(OR($E590<>0,$C590=\"\"),\"\",INDEX(Categories!$A:$E,Entries!$D590,5))","v":""},"2014-01-01","2014-01-01",{"$f":"(Entries!K591-Entries!K590)*24*60","v":0}]
["",null,null,{"$f":"MATCH(C591,Categories!A:A,0)","v":{"$error":"#N/A"}},0,{"$f":"IF(OR($E591<>0,$C591=\"\"),\"\",INDEX(Categories!$A:$E,Entries!$D591,2))","v":""},{"$f":"IF(OR($E591<>0,$C591=\"\"),\"\",INDEX(Categories!$A:$E,Entries!$D591,3))","v":""},{"$f":"IF(OR($E591<>0,$C591=\"\"),\"\",INDEX(Categories!$A:$E,Entries!$D591,4))","v":""},{"$f":"IF(OR($E591<>0,$C591=\"\"),\"\",INDEX(Categories!$A:$E,Entries!$D591,5))","v":""},"2014-01-01","2014-01-01",{"$f":"(Entries!K592-Entries!K591)*24*60","v":0}]
["",null,null,{"$f":"MATCH(C592,Categories!A:A,0)","v":{"$error":"#N/A"}},0,{"$f":"IF(OR($E592<>0,$C592=\"\"),\"\",INDEX(Categories!$A:$E,Entries!$D592,2))","v":""},{"$f":"IF(OR($E592<>0,$C592=\"\"),\"\",INDEX(Categories!$A:$E,Entries!$D592,3))","v":""},{"$f":"IF(OR($E592<>0,$C592=\"\"),\"\",INDEX(Categories!$A:$E,Entries!$D592,4))","v":""},{"$f":"IF(OR($E592<>0,$C592=\"\"),\"\",INDEX(Categories!$A:$E,Entries!$D592,5))","v":""},"2014-01-01","2014-01-01",{"$f":"(Entries!K593-Entries!K592)*24*60","v":0}]
["",null,null,{"$f":"MATCH(C593,Categories!A:A,0)","v":{"$error":"#N/A"}},0,{"$f":"IF(OR($E593<>0,$C593=\"\"),\"\",INDEX(Categories!$A:$E,Entries!$D593,2))","v":""},{"$f":"IF(OR($E593<>0,$C593=\"\"),\"\",INDEX(Categories!$A:$E,Entries!$D593,3))","v":""},{"$f":"IF(OR($E593<>0,$C593=\"\"),\"\",INDEX(Categories!$A:$E,Entries!$D593,4))","v":""},{"$f":"IF(OR($E593<>0,$C593=\"\"),\"\",INDEX(Categories!$A:$E,Entries!$D593,5))","v":""},"2014-01-01","2014-01-01",{"$f":"(Entries!K594-Entries!K593)*24*60","v":0}]
["",null,null,{"$f":"MATCH(C594,Categories!A:A,0)","v":{"$error":"#N/A"}},0,{"$f":"IF(OR($E594<>0,$C594=\"\"),\"\",INDEX(Categories!$A:$E,Entries!$D594,2))","v":""},{"$f":"IF(OR($E594<>0,$C594=\"\"),\"\",INDEX(Categories!$A:$E,Entries!$D594,3))","v":""},{"$f":"IF(OR($E594<>0,$C594=\"\"),\"\",INDEX(Categories!$A:$E,Entries!$D594,4))","v":""},{"$f":"IF(OR($E594<>0,$C594=\"\"),\"\",INDEX(Categories!$A:$E,Entries!$D594,5))","v":""},"2014-01-01","2014-01-01",{"$f":"(Entries!K595-Entries!K594)*24*60","v":0}]
["",null,null,{"$f":"MATCH(C595,Categories!A:A,0)","v":{"$error":"#N/A"}},0,{"$f":"IF(OR($E595<>0,$C595=\"\"),\"\",INDEX(Categories!$A:$E,Entries!$D595,2))","v":""},{"$f":"IF(OR($E595<>0,$C595=\"\"),\"\",INDEX(Categories!$A:$E,Entries!$D595,3))","v":""},{"$f":"IF(OR($E595<>0,$C595=\"\"),\"\",INDEX(Categories!$A:$E,Entries!$D595,4))","v":""},{"$f":"IF(OR($E595<>0,$C595=\"\"),\"\",INDEX(Categories!$A:$E,Entries!$D595,5))","v":""},"2014-01-01","2014-01-01",{"$f":"(Entries!K596-Entries!K595)*24*60","v":0}]
["",null,null,{"$f":"MATCH(C596,Categories!A:A,0)","v":{"$error":"#N/A"}},0,{"$f":"IF(OR($E596<>0,$C596=\"\"),\"\",INDEX(Categories!$A:$E,Entries!$D596,2))","v":""},{"$f":"IF(OR($E596<>0,$C596=\"\"),\"\",INDEX(Categories!$A:$E,Entries!$D596,3))","v":""},{"$f":"IF(OR($E596<>0,$C596=\"\"),\"\",INDEX(Categories!$A:$E,Entries!$D596,4))","v":""},{"$f":"IF(OR($E596<>0,$C596=\"\"),\"\",INDEX(Categories!$A:$E,Entries!$D596,5))","v":""},"2014-01-01","2014-01-01",{"$f":"(Entries!K597-Entries!K596)*24*60","v":0}]
["",null,null,{"$f":"MATCH(C597,Categories!A:A,0)","v":{"$error":"#N/A"}},0,{"$f":"IF(OR($E597<>0,$C597=\"\"),\"\",INDEX(Categories!$A:$E,Entries!$D597,2))","v":""},{"$f":"IF(OR($E597<>0,$C597=\"\"),\"\",INDEX(Categories!$A:$E,Entries!$D597,3))","v":""},{"$f":"IF(OR($E597<>0,$C597=\"\"),\"\",INDEX(Categories!$A:$E,Entries!$D597,4))","v":""},{"$f":"IF(OR($E597<>0,$C597=\"\"),\"\",INDEX(Categories!$A:$E,Entries!$D597,5))","v":""},"2014-01-01","2014-01-01",{"$f":"(Entries!K598-Entries!K597)*24*60","v":0}]
["",null,null,{"$f":"MATCH(C598,Categories!A:A,0)","v":{"$error":"#N/A"}},0,{"$f":"IF(OR($E598<>0,$C598=\"\"),\"\",INDEX(Categories!$A:$E,Entries!$D598,2))","v":""},{"$f":"IF(OR($E598<>0,$C598=\"\"),\"\",INDEX(Categories!$A:$E,Entries!$D598,3))","v":""},{"$f":"IF(OR($E598<>0,$C598=\"\"),\"\",INDEX(Categories!$A:$E,Entries!$D598,4))","v":""},{"$f":"IF(OR($E598<>0,$C598=\"\"),\"\",INDEX(Categories!$A:$E,Entries!$D598,5))","v":""},"2014-01-01","2014-01-01",{"$f":"(Entries!K599-Entries!K598)*24*60","v":0}]
["",null,null,{"$f":"MATCH(C599,Categories!A:A,0)","v":{"$error":"#N/A"}},0,{"$f":"IF(OR($E599<>0,$C599=\"\"),\"\",INDEX(Categories!$A:$E,Entries!$D599,2))","v":""},{"$f":"IF(OR($E599<>0,$C599=\"\"),\"\",INDEX(Categories!$A:$E,Entries!$D599,3))","v":""},{"$f":"IF(OR($E599<>0,$C599=\"\"),\"\",INDEX(Categories!$A:$E,Entries!$D599,4))","v":""},{"$f":"IF(OR($E599<>0,$C599=\"\"),\"\",INDEX(Categories!$A:$E,Entries!$D599,5))","v":""},"2014-01-01","2014-01-01",{"$f":"(Entries!K600-Entries!K599)*24*60","v":0}]
["",null,null,{"$f":"MATCH(C600,Categories!A:A,0)","v":{"$error":"#N/A"}},0,{"$f":"IF(OR($E600<>0,$C600=\"\"),\"\",INDEX(Categories!$A:$E,Entries!$D600,2))","v":""},{"$f":"IF(OR($E600<>0,$C600=\"\"),\"\",INDEX(Categories!$A:$E,Entries!$D600,3))","v":""},{"$f":"IF(OR($E600<>0,$C600=\"\"),\"\",INDEX(Categories!$A:$E,Entries!$D600,4))","v":""},{"$f":"IF(OR($E600<>0,$C600=\"\"),\"\",INDEX(Categories!$A:$E,Entries!$D600,5))","v":""},"2014-01-01","2014-01-01",{"$f":"(Entries!K601-Entries!K600)*24*60","v":0}]
["",null,null,{"$f":"MATCH(C601,Categories!A:A,0)","v":{"$error":"#N/A"}},0,{"$f":"IF(OR($E601<>0,$C601=\"\"),\"\",INDEX(Categories!$A:$E,Entries!$D601,2))","v":""},{"$f":"IF(OR($E601<>0,$C601=\"\"),\"\",INDEX(Categories!$A:$E,Entries!$D601,3))","v":""},{"$f":"IF(OR($E601<>0,$C601=\"\"),\"\",INDEX(Categories!$A:$E,Entries!$D601,4))","v":""},{"$f":"IF(OR($E601<>0,$C601=\"\"),\"\",INDEX(Categories!$A:$E,Entries!$D601,5))","v":""},"2014-01-01","2014-01-01",{"$f":"(Entries!K602-Entries!K601)*24*60","v":0}]
["",null,null,{"$f":"MATCH(C602,Categories!A:A,0)","v":{"$error":"#N/A"}},0,{"$f":"IF(OR($E602<>0,$C602=\"\"),\"\",INDEX(Categories!$A:$E,Entries!$D602,2))","v":""},{"$f":"IF(OR($E602<>0,$C602=\"\"),\"\",INDEX(Categories!$A:$E,Entries!$D602,3))","v":""},{"$f":"IF(OR($E602<>0,$C602=\"\"),\"\",INDEX(Categories!$A:$E,Entries!$D602,4))","v":""},{"$f":"IF(OR($E602<>0,$C602=\"\"),\"\",INDEX(Categories!$A:$E,Entries!$D602,5))","v":""},"2014-01-01","2014-01-01",{"$f":"(Entries!K603-Entries!K602)*24*60","v":0}]
["",null,null,{"$f":"MATCH(C603,Categories!A:A,0)","v":{"$error":"#N/A"}},0,{"$f":"IF(OR($E603<>0,$C603=\"\"),\"\",INDEX(Categories!$A:$E,Entries!$D603,2))","v":""},{"$f":"IF(OR($E603<>0,$C603=\"\"),\"\",INDEX(Categories!$A:$E,Entries!$D603,3))","v":""},{"$f":"IF(OR($E603<>0,$C603=\"\"),\"\",INDEX(Categories!$A:$E,Entries!$D603,4))","v":""},{"$f":"IF(OR($E603<>0,$C603=\"\"),\"\",INDEX(Categories!$A:$E,Entries!$D603,5))","v":""},"2014-01-01","2014-01-01",{"$f":"(Entries!K604-Entries!K603)*24*60","v":0}]
["",null,null,{"$f":"MATCH(C604,Categories!A:A,0)","v":{"$error":"#N/A"}},0,{"$f":"IF(OR($E604<>0,$C604=\"\"),\"\",INDEX(Categories!$A:$E,Entries!$D604,2))","v":""},{"$f":"IF(OR($E604<>0,$C604=\"\"),\"\",INDEX(Categories!$A:$E,Entries!$D604,3))","v":""},{"$f":"IF(OR($E604<>0,$C604=\"\"),\"\",INDEX(Categories!$A:$E,Entries!$D604,4))","v":""},{"$f":"IF(OR($E604<>0,$C604=\"\"),\"\",INDEX(Categories!$A:$E,Entries!$D604,5))","v":""},"2014-01-01","2014-01-01",{"$f":"(Entries!K605-Entries!K604)*24*60","v":0}]
["",null,null,{"$f":"MATCH(C605,Categories!A:A,0)","v":{"$error":"#N/A"}},0,{"$f":"IF(OR($E605<>0,$C605=\"\"),\"\",INDEX(Categories!$A:$E,Entries!$D605,2))","v":""},{"$f":"IF(OR($E605<>0,$C605=\"\"),\"\",INDEX(Categories!$A:$E,Entries!$D605,3))","v":""},{"$f":"IF(OR($E605<>0,$C605=\"\"),\"\",INDEX(Categories!$A:$E,Entries!$D605,4))","v":""},{"$f":"IF(OR($E605<>0,$C605=\"\"),\"\",INDEX(Categories!$A:$E,Entries!$D605,5))","v":""},"2014-01-01","2014-01-01",{"$f":"(Entries!K606-Entries!K605)*24*60","v":0}]
["",null,null,{"$f":"MATCH(C606,Categories!A:A,0)","v":{"$error":"#N/A"}},0,{"$f":"IF(OR($E606<>0,$C606=\"\"),\"\",INDEX(Categories!$A:$E,Entries!$D606,2))","v":""},{"$f":"IF(OR($E606<>0,$C606=\"\"),\"\",INDEX(Categories!$A:$E,Entries!$D606,3))","v":""},{"$f":"IF(OR($E606<>0,$C606=\"\"),\"\",INDEX(Categories!$A:$E,Entries!$D606,4))","v":""},{"$f":"IF(OR($E606<>0,$C606=\"\"),\"\",INDEX(Categories!$A:$E,Entries!$D606,5))","v":""},"2014-01-01","2014-01-01",{"$f":"(Entries!K607-Entries!K606)*24*60","v":0}]
["",null,null,{"$f":"MATCH(C607,Categories!A:A,0)","v":{"$error":"#N/A"}},0,{"$f":"IF(OR($E607<>0,$C607=\"\"),\"\",INDEX(Categories!$A:$E,Entries!$D607,2))","v":""},{"$f":"IF(OR($E607<>0,$C607=\"\"),\"\",INDEX(Categories!$A:$E,Entries!$D607,3))","v":""},{"$f":"IF(OR($E607<>0,$C607=\"\"),\"\",INDEX(Categories!$A:$E,Entries!$D607,4))","v":""},{"$f":"IF(OR($E607<>0,$C607=\"\"),\"\",INDEX(Categories!$A:$E,Entries!$D607,5))","v":""},"2014-01-01","2014-01-01",{"$f":"(Entries!K608-Entries!K607)*24*60","v":0}]
["",null,null,{"$f":"MATCH(C608,Categories!A:A,0)","v":{"$error":"#N/A"}},0,{"$f":"IF(OR($E608<>0,$C608=\"\"),\"\",INDEX(Categories!$A:$E,Entries!$D608,2))","v":""},{"$f":"IF(OR($E608<>0,$C608=\"\"),\"\",INDEX(Categories!$A:$E,Entries!$D608,3))","v":""},{"$f":"IF(OR($E608<>0,$C608=\"\"),\"\",INDEX(Categories!$A:$E,Entries!$D608,4))","v":""},{"$f":"IF(OR($E608<>0,$C608=\"\"),\"\",INDEX(Categories!$A:$E,Entries!$D608,5))","v":""},"2014-01-01","2014-01-01",{"$f":"(Entries!K609-Entries!K608)*24*60","v":0}]
["",null,null,{"$f":"MATCH(C609,Categories!A:A,0)","v":{"$error":"#N/A"}},0,{"$f":"IF(OR($E609<>0,$C609=\"\"),\"\",INDEX(Categories!$A:$E,Entries!$D609,2))","v":""},{"$f":"IF(OR($E609<>0,$C609=\"\"),\"\",INDEX(Categories!$A:$E,Entries!$D609,3))","v":""},{"$f":"IF(OR($E609<>0,$C609=\"\"),\"\",INDEX(Categories!$A:$E,Entries!$D609,4))","v":""},{"$f":"IF(OR($E609<>0,$C609=\"\"),\"\",INDEX(Categories!$A:$E,Entries!$D609,5))","v":""},"2014-01-01","2014-01-01",{"$f":"(Entries!K610-Entries!K609)*24*60","v":0}]
["",null,null,{"$f":"MATCH(C610,Categories!A:A,0)","v":{"$error":"#N/A"}},0,{"$f":"IF(OR($E610<>0,$C610=\"\"),\"\",INDEX(Categories!$A:$E,Entries!$D610,2))","v":""},{"$f":"IF(OR($E610<>0,$C610=\"\"),\"\",INDEX(Categories!$A:$E,Entries!$D610,3))","v":""},{"$f":"IF(OR($E610<>0,$C610=\"\"),\"\",INDEX(Categories!$A:$E,Entries!$D610,4))","v":""},{"$f":"IF(OR($E610<>0,$C610=\"\"),\"\",INDEX(Categories!$A:$E,Entries!$D610,5))","v":""},"2014-01-01","2014-01-01",{"$f":"(Entries!K611-Entries!K610)*24*60","v":0}]
["",null,null,{"$f":"MATCH(C611,Categories!A:A,0)","v":{"$error":"#N/A"}},0,{"$f":"IF(OR($E611<>0,$C611=\"\"),\"\",INDEX(Categories!$A:$E,Entries!$D611,2))","v":""},{"$f":"IF(OR($E611<>0,$C611=\"\"),\"\",INDEX(Categories!$A:$E,Entries!$D611,3))","v":""},{"$f":"IF(OR($E611<>0,$C611=\"\"),\"\",INDEX(Categories!$A:$E,Entries!$D611,4))","v":""},{"$f":"IF(OR($E611<>0,$C611=\"\"),\"\",INDEX(Categories!$A:$E,Entries!$D611,5))","v":""},"2014-01-01","2014-01-01",{"$f":"(Entries!K612-Entries!K611)*24*60","v":0}]
[{"$f":"IF(OR(B612>=B611,C611=\"z\",B612=\"\"),\"\",J611+1)","v":""},null,null,{"$f":"MATCH(C612,Categories!A:A,0)","v":{"$error":"#N/A"}},0,{"$f":"IF(OR($E612<>0,$C612=\"\"),\"\",INDEX(Categories!$A:$E,Entries!$D612,2))","v":""},{"$f":"IF(OR($E612<>0,$C612=\"\"),\"\",INDEX(Categories!$A:$E,Entries!$D612,3))","v":""},{"$f":"IF(OR($E612<>0,$C612=\"\"),\"\",INDEX(Categories!$A:$E,Entries!$D612,4))","v":""},{"$f":"IF(OR($E612<>0,$C612=\"\"),\"\",INDEX(Categories!$A:$E,Entries!$D612,5))","v":""},"2014-01-01","2014-01-01",{"$f":"(Entries!K613-Entries!K612)*24*60","v":0}]
["",null,null,{"$f":"MATCH(C613,Categories!A:A,0)","v":{"$error":"#N/A"}},0,{"$f":"IF(OR($E613<>0,$C613=\"\"),\"\",INDEX(Categories!$A:$E,Entries!$D613,2))","v":""},{"$f":"IF(OR($E613<>0,$C613=\"\"),\"\",INDEX(Categories!$A:$E,Entries!$D613,3))","v":""},{"$f":"IF(OR($E613<>0,$C613=\"\"),\"\",INDEX(Categories!$A:$E,Entries!$D613,4))","v":""},{"$f":"IF(OR($E613<>0,$C613=\"\"),\"\",INDEX(Categories!$A:$E,Entries!$D613,5))","v":""},"2014-01-01","2014-01-01",{"$f":"(Entries!K614-Entries!K613)*24*60","v":0}]
["",null,null,{"$f":"MATCH(C614,Categories!A:A,0)","v":{"$error":"#N/A"}},0,{"$f":"IF(OR($E614<>0,$C614=\"\"),\"\",INDEX(Categories!$A:$E,Entries!$D614,2))","v":""},{"$f":"IF(OR($E614<>0,$C614=\"\"),\"\",INDEX(Categories!$A:$E,Entries!$D614,3))","v":""},{"$f":"IF(OR($E614<>0,$C614=\"\"),\"\",INDEX(Categories!$A:$E,Entries!$D614,4))","v":""},{"$f":"IF(OR($E614<>0,$C614=\"\"),\"\",INDEX(Categories!$A:$E,Entries!$D614,5))","v":""},"2014-01-01","2014-01-01",{"$f":"(Entries!K615-Entries!K614)*24*60","v":0}]
["",null,null,{"$f":"MATCH(C615,Categories!A:A,0)","v":{"$error":"#N/A"}},0,{"$f":"IF(OR($E615<>0,$C615=\"\"),\"\",INDEX(Categories!$A:$E,Entries!$D615,2))","v":""},{"$f":"IF(OR($E615<>0,$C615=\"\"),\"\",INDEX(Categories!$A:$E,Entries!$D615,3))","v":""},{"$f":"IF(OR($E615<>0,$C615=\"\"),\"\",INDEX(Categories!$A:$E,Entries!$D615,4))","v":""},{"$f":"IF(OR($E615<>0,$C615=\"\"),\"\",INDEX(Categories!$A:$E,Entries!$D615,5))","v":""},"2014-01-01","2014-01-01",{"$f":"(Entries!K616-Entries!K615)*24*60","v":0}]
["",null,null,{"$f":"MATCH(C616,Categories!A:A,0)","v":{"$error":"#N/A"}},0,{"$f":"IF(OR($E616<>0,$C616=\"\"),\"\",INDEX(Categories!$A:$E,Entries!$D616,2))","v":""},{"$f":"IF(OR($E616<>0,$C616=\"\"),\"\",INDEX(Categories!$A:$E,Entries!$D616,3))","v":""},{"$f":"IF(OR($E616<>0,$C616=\"\"),\"\",INDEX(Categories!$A:$E,Entries!$D616,4))","v":""},{"$f":"IF(OR($E616<>0,$C616=\"\"),\"\",INDEX(Categories!$A:$E,Entries!$D616,5))","v":""},"2014-01-01","2014-01-01",{"$f":"(Entries!K617-Entries!K616)*24*60","v":0}]
["",null,null,{"$f":"MATCH(C617,Categories!A:A,0)","v":{"$error":"#N/A"}},0,{"$f":"IF(OR($E617<>0,$C617=\"\"),\"\",INDEX(Categories!$A:$E,Entries!$D617,2))","v":""},{"$f":"IF(OR($E617<>0,$C617=\"\"),\"\",INDEX(Categories!$A:$E,Entries!$D617,3))","v":""},{"$f":"IF(OR($E617<>0,$C617=\"\"),\"\",INDEX(Categories!$A:$E,Entries!$D617,4))","v":""},{"$f":"IF(OR($E617<>0,$C617=\"\"),\"\",INDEX(Categories!$A:$E,Entries!$D617,5))","v":""},"2014-01-01","2014-01-01",{"$f":"(Entries!K618-Entries!K617)*24*60","v":0}]
["",null,null,{"$f":"MATCH(C618,Categories!A:A,0)","v":{"$error":"#N/A"}},0,{"$f":"IF(OR($E618<>0,$C618=\"\"),\"\",INDEX(Categories!$A:$E,Entries!$D618,2))","v":""},{"$f":"IF(OR($E618<>0,$C618=\"\"),\"\",INDEX(Categories!$A:$E,Entries!$D618,3))","v":""},{"$f":"IF(OR($E618<>0,$C618=\"\"),\"\",INDEX(Categories!$A:$E,Entries!$D618,4))","v":""},{"$f":"IF(OR($E618<>0,$C618=\"\"),\"\",INDEX(Categories!$A:$E,Entries!$D618,5))","v":""},"2014-01-01","2014-01-01",{"$f":"(Entries!K619-Entries!K618)*24*60","v":0}]
["",null,null,{"$f":"MATCH(C619,Categories!A:A,0)","v":{"$error":"#N/A"}},0,{"$f":"IF(OR($E619<>0,$C619=\"\"),\"\",INDEX(Categories!$A:$E,Entries!$D619,2))","v":""},{"$f":"IF(OR($E619<>0,$C619=\"\"),\"\",INDEX(Categories!$A:$E,Entries!$D619,3))","v":""},{"$f":"IF(OR($E619<>0,$C619=\"\"),\"\",INDEX(Categories!$A:$E,Entries!$D619,4))","v":""},{"$f":"IF(OR($E619<>0,$C619=\"\"),\"\",INDEX(Categories!$A:$E,Entries!$D619,5))","v":""},"2014-01-01","2014-01-01",{"$f":"(Entries!K620-Entries!K619)*24*60","v":0}]
["",null,null,{"$f":"MATCH(C620,Categories!A:A,0)","v":{"$error":"#N/A"}},0,{"$f":"IF(OR($E620<>0,$C620=\"\"),\"\",INDEX(Categories!$A:$E,Entries!$D620,2))","v":""},{"$f":"IF(OR($E620<>0,$C620=\"\"),\"\",INDEX(Categories!$A:$E,Entries!$D620,3))","v":""},{"$f":"IF(OR($E620<>0,$C620=\"\"),\"\",INDEX(Categories!$A:$E,Entries!$D620,4))","v":""},{"$f":"IF(OR($E620<>0,$C620=\"\"),\"\",INDEX(Categories!$A:$E,Entries!$D620,5))","v":""},"2014-01-01","2014-01-01",{"$f":"(Entries!K621-Entries!K620)*24*60","v":0}]
["",null,null,{"$f":"MATCH(C621,Categories!A:A,0)","v":{"$error":"#N/A"}},0,{"$f":"IF(OR($E621<>0,$C621=\"\"),\"\",INDEX(Categories!$A:$E,Entries!$D621,2))","v":""},{"$f":"IF(OR($E621<>0,$C621=\"\"),\"\",INDEX(Categories!$A:$E,Entries!$D621,3))","v":""},{"$f":"IF(OR($E621<>0,$C621=\"\"),\"\",INDEX(Categories!$A:$E,Entries!$D621,4))","v":""},{"$f":"IF(OR($E621<>0,$C621=\"\"),\"\",INDEX(Categories!$A:$E,Entries!$D621,5))","v":""},"2014-01-01","2014-01-01",{"$f":"(Entries!K622-Entries!K621)*24*60","v":0}]
["",null,null,{"$f":"MATCH(C622,Categories!A:A,0)","v":{"$error":"#N/A"}},0,{"$f":"IF(OR($E622<>0,$C622=\"\"),\"\",INDEX(Categories!$A:$E,Entries!$D622,2))","v":""},{"$f":"IF(OR($E622<>0,$C622=\"\"),\"\",INDEX(Categories!$A:$E,Entries!$D622,3))","v":""},{"$f":"IF(OR($E622<>0,$C622=\"\"),\"\",INDEX(Categories!$A:$E,Entries!$D622,4))","v":""},{"$f":"IF(OR($E622<>0,$C622=\"\"),\"\",INDEX(Categories!$A:$E,Entries!$D622,5))","v":""},"2014-01-01","2014-01-01",{"$f":"(Entries!K623-Entries!K622)*24*60","v":0}]
["",null,null,{"$f":"MATCH(C623,Categories!A:A,0)","v":{"$error":"#N/A"}},0,{"$f":"IF(OR($E623<>0,$C623=\"\"),\"\",INDEX(Categories!$A:$E,Entries!$D623,2))","v":""},{"$f":"IF(OR($E623<>0,$C623=\"\"),\"\",INDEX(Categories!$A:$E,Entries!$D623,3))","v":""},{"$f":"IF(OR($E623<>0,$C623=\"\"),\"\",INDEX(Categories!$A:$E,Entries!$D623,4))","v":""},{"$f":"IF(OR($E623<>0,$C623=\"\"),\"\",INDEX(Categories!$A:$E,Entries!$D623,5))","v":""},"2014-01-01","2014-01-01",{"$f":"(Entries!K624-Entries!K623)*24*60","v":0}]
["",null,null,{"$f":"MATCH(C624,Categories!A:A,0)","v":{"$error":"#N/A"}},0,{"$f":"IF(OR($E624<>0,$C624=\"\"),\"\",INDEX(Categories!$A:$E,Entries!$D624,2))","v":""},{"$f":"IF(OR($E624<>0,$C624=\"\"),\"\",INDEX(Categories!$A:$E,Entries!$D624,3))","v":""},{"$f":"IF(OR($E624<>0,$C624=\"\"),\"\",INDEX(Categories!$A:$E,Entries!$D624,4))","v":""},{"$f":"IF(OR($E624<>0,$C624=\"\"),\"\",INDEX(Categories!$A:$E,Entries!$D624,5))","v":""},"2014-01-01","2014-01-01",{"$f":"(Entries!K625-Entries!K624)*24*60","v":0}]
["",null,null,{"$f":"MATCH(C625,Categories!A:A,0)","v":{"$error":"#N/A"}},0,{"$f":"IF(OR($E625<>0,$C625=\"\"),\"\",INDEX(Categories!$A:$E,Entries!$D625,2))","v":""},{"$f":"IF(OR($E625<>0,$C625=\"\"),\"\",INDEX(Categories!$A:$E,Entries!$D625,3))","v":""},{"$f":"IF(OR($E625<>0,$C625=\"\"),\"\",INDEX(Categories!$A:$E,Entries!$D625,4))","v":""},{"$f":"IF(OR($E625<>0,$C625=\"\"),\"\",INDEX(Categories!$A:$E,Entries!$D625,5))","v":""},"2014-01-01","2014-01-01",{"$f":"(Entries!K626-Entries!K625)*24*60","v":0}]
["",null,null,{"$f":"MATCH(C626,Categories!A:A,0)","v":{"$error":"#N/A"}},0,{"$f":"IF(OR($E626<>0,$C626=\"\"),\"\",INDEX(Categories!$A:$E,Entries!$D626,2))","v":""},{"$f":"IF(OR($E626<>0,$C626=\"\"),\"\",INDEX(Categories!$A:$E,Entries!$D626,3))","v":""},{"$f":"IF(OR($E626<>0,$C626=\"\"),\"\",INDEX(Categories!$A:$E,Entries!$D626,4))","v":""},{"$f":"IF(OR($E626<>0,$C626=\"\"),\"\",INDEX(Categories!$A:$E,Entries!$D626,5))","v":""},"2014-01-01","2014-01-01",{"$f":"(Entries!K627-Entries!K626)*24*60","v":0}]
["",null,null,{"$f":"MATCH(C627,Categories!A:A,0)","v":{"$error":"#N/A"}},0,{"$f":"IF(OR($E627<>0,$C627=\"\"),\"\",INDEX(Categories!$A:$E,Entries!$D627,2))","v":""},{"$f":"IF(OR($E627<>0,$C627=\"\"),\"\",INDEX(Categories!$A:$E,Entries!$D627,3))","v":""},{"$f":"IF(OR($E627<>0,$C627=\"\"),\"\",INDEX(Categories!$A:$E,Entries!$D627,4))","v":""},{"$f":"IF(OR($E627<>0,$C627=\"\"),\"\",INDEX(Categories!$A:$E,Entries!$D627,5))","v":""},"2014-01-01","2014-01-01",{"$f":"(Entries!K628-Entries!K627)*24*60","v":0}]
["",null,null,{"$f":"MATCH(C628,Categories!A:A,0)","v":{"$error":"#N/A"}},0,{"$f":"IF(OR($E628<>0,$C628=\"\"),\"\",INDEX(Categories!$A:$E,Entries!$D628,2))","v":""},{"$f":"IF(OR($E628<>0,$C628=\"\"),\"\",INDEX(Categories!$A:$E,Entries!$D628,3))","v":""},{"$f":"IF(OR($E628<>0,$C628=\"\"),\"\",INDEX(Categories!$A:$E,Entries!$D628,4))","v":""},{"$f":"IF(OR($E628<>0,$C628=\"\"),\"\",INDEX(Categories!$A:$E,Entries!$D628,5))","v":""},"2014-01-01","2014-01-01",{"$f":"(Entries!K629-Entries!K628)*24*60","v":0}]
["",null,null,{"$f":"MATCH(C629,Categories!A:A,0)","v":{"$error":"#N/A"}},0,{"$f":"IF(OR($E629<>0,$C629=\"\"),\"\",INDEX(Categories!$A:$E,Entries!$D629,2))","v":""},{"$f":"IF(OR($E629<>0,$C629=\"\"),\"\",INDEX(Categories!$A:$E,Entries!$D629,3))","v":""},{"$f":"IF(OR($E629<>0,$C629=\"\"),\"\",INDEX(Categories!$A:$E,Entries!$D629,4))","v":""},{"$f":"IF(OR($E629<>0,$C629=\"\"),\"\",INDEX(Categories!$A:$E,Entries!$D629,5))","v":""},"2014-01-01","2014-01-01",{"$f":"(Entries!K630-Entries!K629)*24*60","v":0}]
["",null,null,{"$f":"MATCH(C630,Categories!A:A,0)","v":{"$error":"#N/A"}},0,{"$f":"IF(OR($E630<>0,$C630=\"\"),\"\",INDEX(Categories!$A:$E,Entries!$D630,2))","v":""},{"$f":"IF(OR($E630<>0,$C630=\"\"),\"\",INDEX(Categories!$A:$E,Entries!$D630,3))","v":""},{"$f":"IF(OR($E630<>0,$C630=\"\"),\"\",INDEX(Categories!$A:$E,Entries!$D630,4))","v":""},{"$f":"IF(OR($E630<>0,$C630=\"\"),\"\",INDEX(Categories!$A:$E,Entries!$D630,5))","v":""},"2014-01-01","2014-01-01",{"$f":"(Entries!K631-Entries!K630)*24*60","v":0}]
["",null,null,{"$f":"MATCH(C631,Categories!A:A,0)","v":{"$error":"#N/A"}},0,{"$f":"IF(OR($E631<>0,$C631=\"\"),\"\",INDEX(Categories!$A:$E,Entries!$D631,2))","v":""},{"$f":"IF(OR($E631<>0,$C631=\"\"),\"\",INDEX(Categories!$A:$E,Entries!$D631,3))","v":""},{"$f":"IF(OR($E631<>0,$C631=\"\"),\"\",INDEX(Categories!$A:$E,Entries!$D631,4))","v":""},{"$f":"IF(OR($E631<>0,$C631=\"\"),\"\",INDEX(Categories!$A:$E,Entries!$D631,5))","v":""},"2014-01-01","2014-01-01",{"$f":"(Entries!K632-Entries!K631)*24*60","v":0}]
["",null,null,{"$f":"MATCH(C632,Categories!A:A,0)","v":{"$error":"#N/A"}},0,{"$f":"IF(OR($E632<>0,$C632=\"\"),\"\",INDEX(Categories!$A:$E,Entries!$D632,2))","v":""},{"$f":"IF(OR($E632<>0,$C632=\"\"),\"\",INDEX(Categories!$A:$E,Entries!$D632,3))","v":""},{"$f":"IF(OR($E632<>0,$C632=\"\"),\"\",INDEX(Categories!$A:$E,Entries!$D632,4))","v":""},{"$f":"IF(OR($E632<>0,$C632=\"\"),\"\",INDEX(Categories!$A:$E,Entries!$D632,5))","v":""},"2014-01-01","2014-01-01",{"$f":"(Entries!K633-Entries!K632)*24*60","v":0}]
["",null,null,{"$f":"MATCH(C633,Categories!A:A,0)","v":{"$error":"#N/A"}},0,{"$f":"IF(OR($E633<>0,$C633=\"\"),\"\",INDEX(Categories!$A:$E,Entries!$D633,2))","v":""},{"$f":"IF(OR($E633<>0,$C633=\"\"),\"\",INDEX(Categories!$A:$E,Entries!$D633,3))","v":""},{"$f":"IF(OR($E633<>0,$C633=\"\"),\"\",INDEX(Categories!$A:$E,Entries!$D633,4))","v":""},{"$f":"IF(OR($E633<>0,$C633=\"\"),\"\",INDEX(Categories!$A:$E,Entries!$D633,5))","v":""},"2014-01-01","2014-01-01",{"$f":"(Entries!K634-Entries!K633)*24*60","v":0}]
["",null,null,{"$f":"MATCH(C634,Categories!A:A,0)","v":{"$error":"#N/A"}},0,{"$f":"IF(OR($E634<>0,$C634=\"\"),\"\",INDEX(Categories!$A:$E,Entries!$D634,2))","v":""},{"$f":"IF(OR($E634<>0,$C634=\"\"),\"\",INDEX(Categories!$A:$E,Entries!$D634,3))","v":""},{"$f":"IF(OR($E634<>0,$C634=\"\"),\"\",INDEX(Categories!$A:$E,Entries!$D634,4))","v":""},{"$f":"IF(OR($E634<>0,$C634=\"\"),\"\",INDEX(Categories!$A:$E,Entries!$D634,5))","v":""},"2014-01-01","2014-01-01",{"$f":"(Entries!K635-Entries!K634)*24*60","v":0}]
["",null,null,{"$f":"MATCH(C635,Categories!A:A,0)","v":{"$error":"#N/A"}},0,{"$f":"IF(OR($E635<>0,$C635=\"\"),\"\",INDEX(Categories!$A:$E,Entries!$D635,2))","v":""},{"$f":"IF(OR($E635<>0,$C635=\"\"),\"\",INDEX(Categories!$A:$E,Entries!$D635,3))","v":""},{"$f":"IF(OR($E635<>0,$C635=\"\"),\"\",INDEX(Categories!$A:$E,Entries!$D635,4))","v":""},{"$f":"IF(OR($E635<>0,$C635=\"\"),\"\",INDEX(Categories!$A:$E,Entries!$D635,5))","v":""},"2014-01-01","2014-01-01",{"$f":"(Entries!K636-Entries!K635)*24*60","v":0}]
["",null,null,{"$f":"MATCH(C636,Categories!A:A,0)","v":{"$error":"#N/A"}},0,{"$f":"IF(OR($E636<>0,$C636=\"\"),\"\",INDEX(Categories!$A:$E,Entries!$D636,2))","v":""},{"$f":"IF(OR($E636<>0,$C636=\"\"),\"\",INDEX(Categories!$A:$E,Entries!$D636,3))","v":""},{"$f":"IF(OR($E636<>0,$C636=\"\"),\"\",INDEX(Categories!$A:$E,Entries!$D636,4))","v":""},{"$f":"IF(OR($E636<>0,$C636=\"\"),\"\",INDEX(Categories!$A:$E,Entries!$D636,5))","v":""},"2014-01-01","2014-01-01",{"$f":"(Entries!K637-Entries!K636)*24*60","v":0}]
["",null,null,{"$f":"MATCH(C637,Categories!A:A,0)","v":{"$error":"#N/A"}},0,{"$f":"IF(OR($E637<>0,$C637=\"\"),\"\",INDEX(Categories!$A:$E,Entries!$D637,2))","v":""},{"$f":"IF(OR($E637<>0,$C637=\"\"),\"\",INDEX(Categories!$A:$E,Entries!$D637,3))","v":""},{"$f":"IF(OR($E637<>0,$C637=\"\"),\"\",INDEX(Categories!$A:$E,Entries!$D637,4))","v":""},{"$f":"IF(OR($E637<>0,$C637=\"\"),\"\",INDEX(Categories!$A:$E,Entries!$D637,5))","v":""},"2014-01-01","2014-01-01",{"$f":"(Entries!K638-Entries!K637)*24*60","v":0}]
["",null,null,{"$f":"MATCH(C638,Categories!A:A,0)","v":{"$error":"#N/A"}},0,{"$f":"IF(OR($E638<>0,$C638=\"\"),\"\",INDEX(Categories!$A:$E,Entries!$D638,2))","v":""},{"$f":"IF(OR($E638<>0,$C638=\"\"),\"\",INDEX(Categories!$A:$E,Entries!$D638,3))","v":""},{"$f":"IF(OR($E638<>0,$C638=\"\"),\"\",INDEX(Categories!$A:$E,Entries!$D638,4))","v":""},{"$f":"IF(OR($E638<>0,$C638=\"\"),\"\",INDEX(Categories!$A:$E,Entries!$D638,5))","v":""},"2014-01-01","2014-01-01",{"$f":"(Entries!K639-Entries!K638)*24*60","v":0}]
["",null,null,{"$f":"MATCH(C639,Categories!A:A,0)","v":{"$error":"#N/A"}},0,{"$f":"IF(OR($E639<>0,$C639=\"\"),\"\",INDEX(Categories!$A:$E,Entries!$D639,2))","v":""},{"$f":"IF(OR($E639<>0,$C639=\"\"),\"\",INDEX(Categories!$A:$E,Entries!$D639,3))","v":""},{"$f":"IF(OR($E639<>0,$C639=\"\"),\"\",INDEX(Categories!$A:$E,Entries!$D639,4))","v":""},{"$f":"IF(OR($E639<>0,$C639=\"\"),\"\",INDEX(Categories!$A:$E,Entries!$D639,5))","v":""},"2014-01-01","2014-01-01",{"$f":"(Entries!K640-Entries!K639)*24*60","v":0}]
["",null,null,{"$f":"MATCH(C640,Categories!A:A,0)","v":{"$error":"#N/A"}},0,{"$f":"IF(OR($E640<>0,$C640=\"\"),\"\",INDEX(Categories!$A:$E,Entries!$D640,2))","v":""},{"$f":"IF(OR($E640<>0,$C640=\"\"),\"\",INDEX(Categories!$A:$E,Entries!$D640,3))","v":""},{"$f":"IF(OR($E640<>0,$C640=\"\"),\"\",INDEX(Categories!$A:$E,Entries!$D640,4))","v":""},{"$f":"IF(OR($E640<>0,$C640=\"\"),\"\",INDEX(Categories!$A:$E,Entries!$D640,5))","v":""},"2014-01-01","2014-01-01",{"$f":"(Entries!K641-Entries!K640)*24*60","v":0}]
["",null,null,{"$f":"MATCH(C641,Categories!A:A,0)","v":{"$error":"#N/A"}},0,{"$f":"IF(OR($E641<>0,$C641=\"\"),\"\",INDEX(Categories!$A:$E,Entries!$D641,2))","v":""},{"$f":"IF(OR($E641<>0,$C641=\"\"),\"\",INDEX(Categories!$A:$E,Entries!$D641,3))","v":""},{"$f":"IF(OR($E641<>0,$C641=\"\"),\"\",INDEX(Categories!$A:$E,Entries!$D641,4))","v":""},{"$f":"IF(OR($E641<>0,$C641=\"\"),\"\",INDEX(Categories!$A:$E,Entries!$D641,5))","v":""},"2014-01-01","2014-01-01",{"$f":"(Entries!K642-Entries!K641)*24*60","v":0}]
["",null,null,{"$f":"MATCH(C642,Categories!A:A,0)","v":{"$error":"#N/A"}},{"$f":"IF(AND(ISERROR(D642),C642<>\"\"),ROW(D642),0)","v":0},{"$f":"IF(OR($E642<>0,$C642=\"\"),\"\",INDEX(Categories!$A:$E,Entries!$D642,2))","v":""},{"$f":"IF(OR($E642<>0,$C642=\"\"),\"\",INDEX(Categories!$A:$E,Entries!$D642,3))","v":""},{"$f":"IF(OR($E642<>0,$C642=\"\"),\"\",INDEX(Categories!$A:$E,Entries!$D642,4))","v":""},{"$f":"IF(OR($E642<>0,$C642=\"\"),\"\",INDEX(Categories!$A:$E,Entries!$D642,5))","v":""},{"$f":"IF(A642=\"\",J641,A642)","v":"2014-01-01"},{"$f":"J642+B642","v":"2014-01-01"},{"$f":"(Entries!K643-Entries!K642)*24*60","v":0}]
["",null,null,{"$f":"MATCH(C643,Categories!A:A,0)","v":{"$error":"#N/A"}},0,{"$f":"IF(OR($E643<>0,$C643=\"\"),\"\",INDEX(Categories!$A:$E,Entries!$D643,2))","v":""},{"$f":"IF(OR($E643<>0,$C643=\"\"),\"\",INDEX(Categories!$A:$E,Entries!$D643,3))","v":""},{"$f":"IF(OR($E643<>0,$C643=\"\"),\"\",INDEX(Categories!$A:$E,Entries!$D643,4))","v":""},{"$f":"IF(OR($E643<>0,$C643=\"\"),\"\",INDEX(Categories!$A:$E,Entries!$D643,5))","v":""},"2014-01-01","2014-01-01",{"$f":"(Entries!K644-Entries!K643)*24*60","v":0}]
["",null,null,{"$f":"MATCH(C644,Categories!A:A,0)","v":{"$error":"#N/A"}},0,{"$f":"IF(OR($E644<>0,$C644=\"\"),\"\",INDEX(Categories!$A:$E,Entries!$D644,2))","v":""},{"$f":"IF(OR($E644<>0,$C644=\"\"),\"\",INDEX(Categories!$A:$E,Entries!$D644,3))","v":""},{"$f":"IF(OR($E644<>0,$C644=\"\"),\"\",INDEX(Categories!$A:$E,Entries!$D644,4))","v":""},{"$f":"IF(OR($E644<>0,$C644=\"\"),\"\",INDEX(Categories!$A:$E,Entries!$D644,5))","v":""},"2014-01-01","2014-01-01",{"$f":"(Entries!K645-Entries!K644)*24*60","v":0}]
["",null,null,{"$f":"MATCH(C645,Categories!A:A,0)","v":{"$error":"#N/A"}},0,{"$f":"IF(OR($E645<>0,$C645=\"\"),\"\",INDEX(Categories!$A:$E,Entries!$D645,2))","v":""},{"$f":"IF(OR($E645<>0,$C645=\"\"),\"\",INDEX(Categories!$A:$E,Entries!$D645,3))","v":""},{"$f":"IF(OR($E645<>0,$C645=\"\"),\"\",INDEX(Categories!$A:$E,Entries!$D645,4))","v":""},{"$f":"IF(OR($E645<>0,$C645=\"\"),\"\",INDEX(Categories!$A:$E,Entries!$D645,5))","v":""},"2014-01-01","2014-01-01",{"$f":"(Entries!K646-Entries!K645)*24*60","v":0}]
["",null,null,{"$f":"MATCH(C646,Categories!A:A,0)","v":{"$error":"#N/A"}},0,{"$f":"IF(OR($E646<>0,$C646=\"\"),\"\",INDEX(Categories!$A:$E,Entries!$D646,2))","v":""},{"$f":"IF(OR($E646<>0,$C646=\"\"),\"\",INDEX(Categories!$A:$E,Entries!$D646,3))","v":""},{"$f":"IF(OR($E646<>0,$C646=\"\"),\"\",INDEX(Categories!$A:$E,Entries!$D646,4))","v":""},{"$f":"IF(OR($E646<>0,$C646=\"\"),\"\",INDEX(Categories!$A:$E,Entries!$D646,5))","v":""},"2014-01-01","2014-01-01",{"$f":"(Entries!K647-Entries!K646)*24*60","v":0}]
["",null,null,{"$f":"MATCH(C647,Categories!A:A,0)","v":{"$error":"#N/A"}},0,{"$f":"IF(OR($E647<>0,$C647=\"\"),\"\",INDEX(Categories!$A:$E,Entries!$D647,2))","v":""},{"$f":"IF(OR($E647<>0,$C647=\"\"),\"\",INDEX(Categories!$A:$E,Entries!$D647,3))","v":""},{"$f":"IF(OR($E647<>0,$C647=\"\"),\"\",INDEX(Categories!$A:$E,Entries!$D647,4))","v":""},{"$f":"IF(OR($E647<>0,$C647=\"\"),\"\",INDEX(Categories!$A:$E,Entries!$D647,5))","v":""},"2014-01-01","2014-01-01",{"$f":"(Entries!K648-Entries!K647)*24*60","v":0}]
["",null,null,{"$f":"MATCH(C648,Categories!A:A,0)","v":{"$error":"#N/A"}},0,{"$f":"IF(OR($E648<>0,$C648=\"\"),\"\",INDEX(Categories!$A:$E,Entries!$D648,2))","v":""},{"$f":"IF(OR($E648<>0,$C648=\"\"),\"\",INDEX(Categories!$A:$E,Entries!$D648,3))","v":""},{"$f":"IF(OR($E648<>0,$C648=\"\"),\"\",INDEX(Categories!$A:$E,Entries!$D648,4))","v":""},{"$f":"IF(OR($E648<>0,$C648=\"\"),\"\",INDEX(Categories!$A:$E,Entries!$D648,5))","v":""},"2014-01-01","2014-01-01",{"$f":"(Entries!K649-Entries!K648)*24*60","v":0}]
["",null,null,{"$f":"MATCH(C649,Categories!A:A,0)","v":{"$error":"#N/A"}},0,{"$f":"IF(OR($E649<>0,$C649=\"\"),\"\",INDEX(Categories!$A:$E,Entries!$D649,2))","v":""},{"$f":"IF(OR($E649<>0,$C649=\"\"),\"\",INDEX(Categories!$A:$E,Entries!$D649,3))","v":""},{"$f":"IF(OR($E649<>0,$C649=\"\"),\"\",INDEX(Categories!$A:$E,Entries!$D649,4))","v":""},{"$f":"IF(OR($E649<>0,$C649=\"\"),\"\",INDEX(Categories!$A:$E,Entries!$D649,5))","v":""},"2014-01-01","2014-01-01",{"$f":"(Entries!K650-Entries!K649)*24*60","v":0}]
["",null,null,{"$f":"MATCH(C650,Categories!A:A,0)","v":{"$error":"#N/A"}},0,{"$f":"IF(OR($E650<>0,$C650=\"\"),\"\",INDEX(Categories!$A:$E,Entries!$D650,2))","v":""},{"$f":"IF(OR($E650<>0,$C650=\"\"),\"\",INDEX(Categories!$A:$E,Entries!$D650,3))","v":""},{"$f":"IF(OR($E650<>0,$C650=\"\"),\"\",INDEX(Categories!$A:$E,Entries!$D650,4))","v":""},{"$f":"IF(OR($E650<>0,$C650=\"\"),\"\",INDEX(Categories!$A:$E,Entries!$D650,5))","v":""},"2014-01-01","2014-01-01",{"$f":"(Entries!K651-Entries!K650)*24*60","v":0}]
["",null,null,{"$f":"MATCH(C651,Categories!A:A,0)","v":{"$error":"#N/A"}},0,{"$f":"IF(OR($E651<>0,$C651=\"\"),\"\",INDEX(Categories!$A:$E,Entries!$D651,2))","v":""},{"$f":"IF(OR($E651<>0,$C651=\"\"),\"\",INDEX(Categories!$A:$E,Entries!$D651,3))","v":""},{"$f":"IF(OR($E651<>0,$C651=\"\"),\"\",INDEX(Categories!$A:$E,Entries!$D651,4))","v":""},{"$f":"IF(OR($E651<>0,$C651=\"\"),\"\",INDEX(Categories!$A:$E,Entries!$D651,5))","v":""},"2014-01-01","2014-01-01",{"$f":"(Entries!K652-Entries!K651)*24*60","v":0}]
["",null,null,{"$f":"MATCH(C652,Categories!A:A,0)","v":{"$error":"#N/A"}},0,{"$f":"IF(OR($E652<>0,$C652=\"\"),\"\",INDEX(Categories!$A:$E,Entries!$D652,2))","v":""},{"$f":"IF(OR($E652<>0,$C652=\"\"),\"\",INDEX(Categories!$A:$E,Entries!$D652,3))","v":""},{"$f":"IF(OR($E652<>0,$C652=\"\"),\"\",INDEX(Categories!$A:$E,Entries!$D652,4))","v":""},{"$f":"IF(OR($E652<>0,$C652=\"\"),\"\",INDEX(Categories!$A:$E,Entries!$D652,5))","v":""},"2014-01-01","2014-01-01",{"$f":"(Entries!K653-Entries!K652)*24*60","v":0}]
["",null,null,{"$f":"MATCH(C653,Categories!A:A,0)","v":{"$error":"#N/A"}},0,{"$f":"IF(OR($E653<>0,$C653=\"\"),\"\",INDEX(Categories!$A:$E,Entries!$D653,2))","v":""},{"$f":"IF(OR($E653<>0,$C653=\"\"),\"\",INDEX(Categories!$A:$E,Entries!$D653,3))","v":""},{"$f":"IF(OR($E653<>0,$C653=\"\"),\"\",INDEX(Categories!$A:$E,Entries!$D653,4))","v":""},{"$f":"IF(OR($E653<>0,$C653=\"\"),\"\",INDEX(Categories!$A:$E,Entries!$D653,5))","v":""},"2014-01-01","2014-01-01",{"$f":"(Entries!K654-Entries!K653)*24*60","v":0}]
["",null,null,{"$f":"MATCH(C654,Categories!A:A,0)","v":{"$error":"#N/A"}},0,{"$f":"IF(OR($E654<>0,$C654=\"\"),\"\",INDEX(Categories!$A:$E,Entries!$D654,2))","v":""},{"$f":"IF(OR($E654<>0,$C654=\"\"),\"\",INDEX(Categories!$A:$E,Entries!$D654,3))","v":""},{"$f":"IF(OR($E654<>0,$C654=\"\"),\"\",INDEX(Categories!$A:$E,Entries!$D654,4))","v":""},{"$f":"IF(OR($E654<>0,$C654=\"\"),\"\",INDEX(Categories!$A:$E,Entries!$D654,5))","v":""},"2014-01-01","2014-01-01",{"$f":"(Entries!K655-Entries!K654)*24*60","v":0}]
["",null,null,{"$f":"MATCH(C655,Categories!A:A,0)","v":{"$error":"#N/A"}},0,{"$f":"IF(OR($E655<>0,$C655=\"\"),\"\",INDEX(Categories!$A:$E,Entries!$D655,2))","v":""},{"$f":"IF(OR($E655<>0,$C655=\"\"),\"\",INDEX(Categories!$A:$E,Entries!$D655,3))","v":""},{"$f":"IF(OR($E655<>0,$C655=\"\"),\"\",INDEX(Categories!$A:$E,Entries!$D655,4))","v":""},{"$f":"IF(OR($E655<>0,$C655=\"\"),\"\",INDEX(Categories!$A:$E,Entries!$D655,5))","v":""},"2014-01-01","2014-01-01",{"$f":"(Entries!K656-Entries!K655)*24*60","v":0}]
["",null,null,{"$f":"MATCH(C656,Categories!A:A,0)","v":{"$error":"#N/A"}},0,{"$f":"IF(OR($E656<>0,$C656=\"\"),\"\",INDEX(Categories!$A:$E,Entries!$D656,2))","v":""},{"$f":"IF(OR($E656<>0,$C656=\"\"),\"\",INDEX(Categories!$A:$E,Entries!$D656,3))","v":""},{"$f":"IF(OR($E656<>0,$C656=\"\"),\"\",INDEX(Categories!$A:$E,Entries!$D656,4))","v":""},{"$f":"IF(OR($E656<>0,$C656=\"\"),\"\",INDEX(Categories!$A:$E,Entries!$D656,5))","v":""},"2014-01-01","2014-01-01",{"$f":"(Entries!K657-Entries!K656)*24*60","v":0}]
["",null,null,{"$f":"MATCH(C657,Categories!A:A,0)","v":{"$error":"#N/A"}},0,{"$f":"IF(OR($E657<>0,$C657=\"\"),\"\",INDEX(Categories!$A:$E,Entries!$D657,2))","v":""},{"$f":"IF(OR($E657<>0,$C657=\"\"),\"\",INDEX(Categories!$A:$E,Entries!$D657,3))","v":""},{"$f":"IF(OR($E657<>0,$C657=\"\"),\"\",INDEX(Categories!$A:$E,Entries!$D657,4))","v":""},{"$f":"IF(OR($E657<>0,$C657=\"\"),\"\",INDEX(Categories!$A:$E,Entries!$D657,5))","v":""},"2014-01-01","2014-01-01",{"$f":"(Entries!K658-Entries!K657)*24*60","v":0}]
["",null,null,{"$f":"MATCH(C658,Categories!A:A,0)","v":{"$error":"#N/A"}},0,{"$f":"IF(OR($E658<>0,$C658=\"\"),\"\",INDEX(Categories!$A:$E,Entries!$D658,2))","v":""},{"$f":"IF(OR($E658<>0,$C658=\"\"),\"\",INDEX(Categories!$A:$E,Entries!$D658,3))","v":""},{"$f":"IF(OR($E658<>0,$C658=\"\"),\"\",INDEX(Categories!$A:$E,Entries!$D658,4))","v":""},{"$f":"IF(OR($E658<>0,$C658=\"\"),\"\",INDEX(Categories!$A:$E,Entries!$D658,5))","v":""},"2014-01-01","2014-01-01",{"$f":"(Entries!K659-Entries!K658)*24*60","v":0}]
["",null,null,{"$f":"MATCH(C659,Categories!A:A,0)","v":{"$error":"#N/A"}},0,{"$f":"IF(OR($E659<>0,$C659=\"\"),\"\",INDEX(Categories!$A:$E,Entries!$D659,2))","v":""},{"$f":"IF(OR($E659<>0,$C659=\"\"),\"\",INDEX(Categories!$A:$E,Entries!$D659,3))","v":""},{"$f":"IF(OR($E659<>0,$C659=\"\"),\"\",INDEX(Categories!$A:$E,Entries!$D659,4))","v":""},{"$f":"IF(OR($E659<>0,$C659=\"\"),\"\",INDEX(Categories!$A:$E,Entries!$D659,5))","v":""},"2014-01-01","2014-01-01",{"$f":"(Entries!K660-Entries!K659)*24*60","v":0}]
["",null,null,{"$f":"MATCH(C660,Categories!A:A,0)","v":{"$error":"#N/A"}},0,{"$f":"IF(OR($E660<>0,$C660=\"\"),\"\",INDEX(Categories!$A:$E,Entries!$D660,2))","v":""},{"$f":"IF(OR($E660<>0,$C660=\"\"),\"\",INDEX(Categories!$A:$E,Entries!$D660,3))","v":""},{"$f":"IF(OR($E660<>0,$C660=\"\"),\"\",INDEX(Categories!$A:$E,Entries!$D660,4))","v":""},{"$f":"IF(OR($E660<>0,$C660=\"\"),\"\",INDEX(Categories!$A:$E,Entries!$D660,5))","v":""},"2014-01-01","2014-01-01",{"$f":"(Entries!K661-Entries!K660)*24*60","v":0}]
["",null,null,{"$f":"MATCH(C661,Categories!A:A,0)","v":{"$error":"#N/A"}},0,{"$f":"IF(OR($E661<>0,$C661=\"\"),\"\",INDEX(Categories!$A:$E,Entries!$D661,2))","v":""},{"$f":"IF(OR($E661<>0,$C661=\"\"),\"\",INDEX(Categories!$A:$E,Entries!$D661,3))","v":""},{"$f":"IF(OR($E661<>0,$C661=\"\"),\"\",INDEX(Categories!$A:$E,Entries!$D661,4))","v":""},{"$f":"IF(OR($E661<>0,$C661=\"\"),\"\",INDEX(Categories!$A:$E,Entries!$D661,5))","v":""},"2014-01-01","2014-01-01",{"$f":"(Entries!K662-Entries!K661)*24*60","v":0}]
["",null,null,{"$f":"MATCH(C662,Categories!A:A,0)","v":{"$error":"#N/A"}},0,{"$f":"IF(OR($E662<>0,$C662=\"\"),\"\",INDEX(Categories!$A:$E,Entries!$D662,2))","v":""},{"$f":"IF(OR($E662<>0,$C662=\"\"),\"\",INDEX(Categories!$A:$E,Entries!$D662,3))","v":""},{"$f":"IF(OR($E662<>0,$C662=\"\"),\"\",INDEX(Categories!$A:$E,Entries!$D662,4))","v":""},{"$f":"IF(OR($E662<>0,$C662=\"\"),\"\",INDEX(Categories!$A:$E,Entries!$D662,5))","v":""},"2014-01-01","2014-01-01",{"$f":"(Entries!K663-Entries!K662)*24*60","v":0}]
["",null,null,{"$f":"MATCH(C663,Categories!A:A,0)","v":{"$error":"#N/A"}},0,{"$f":"IF(OR($E663<>0,$C663=\"\"),\"\",INDEX(Categories!$A:$E,Entries!$D663,2))","v":""},{"$f":"IF(OR($E663<>0,$C663=\"\"),\"\",INDEX(Categories!$A:$E,Entries!$D663,3))","v":""},{"$f":"IF(OR($E663<>0,$C663=\"\"),\"\",INDEX(Categories!$A:$E,Entries!$D663,4))","v":""},{"$f":"IF(OR($E663<>0,$C663=\"\"),\"\",INDEX(Categories!$A:$E,Entries!$D663,5))","v":""},"2014-01-01","2014-01-01",{"$f":"(Entries!K664-Entries!K663)*24*60","v":0}]
["",null,null,{"$f":"MATCH(C664,Categories!A:A,0)","v":{"$error":"#N/A"}},0,{"$f":"IF(OR($E664<>0,$C664=\"\"),\"\",INDEX(Categories!$A:$E,Entries!$D664,2))","v":""},{"$f":"IF(OR($E664<>0,$C664=\"\"),\"\",INDEX(Categories!$A:$E,Entries!$D664,3))","v":""},{"$f":"IF(OR($E664<>0,$C664=\"\"),\"\",INDEX(Categories!$A:$E,Entries!$D664,4))","v":""},{"$f":"IF(OR($E664<>0,$C664=\"\"),\"\",INDEX(Categories!$A:$E,Entries!$D664,5))","v":""},"2014-01-01","2014-01-01",{"$f":"(Entries!K665-Entries!K664)*24*60","v":0}]
["",null,null,{"$f":"MATCH(C665,Categories!A:A,0)","v":{"$error":"#N/A"}},0,{"$f":"IF(OR($E665<>0,$C665=\"\"),\"\",INDEX(Categories!$A:$E,Entries!$D665,2))","v":""},{"$f":"IF(OR($E665<>0,$C665=\"\"),\"\",INDEX(Categories!$A:$E,Entries!$D665,3))","v":""},{"$f":"IF(OR($E665<>0,$C665=\"\"),\"\",INDEX(Categories!$A:$E,Entries!$D665,4))","v":""},{"$f":"IF(OR($E665<>0,$C665=\"\"),\"\",INDEX(Categories!$A:$E,Entries!$D665,5))","v":""},"2014-01-01","2014-01-01",{"$f":"(Entries!K666-Entries!K665)*24*60","v":0}]
["",null,null,{"$f":"MATCH(C666,Categories!A:A,0)","v":{"$error":"#N/A"}},0,{"$f":"IF(OR($E666<>0,$C666=\"\"),\"\",INDEX(Categories!$A:$E,Entries!$D666,2))","v":""},{"$f":"IF(OR($E666<>0,$C666=\"\"),\"\",INDEX(Categories!$A:$E,Entries!$D666,3))","v":""},{"$f":"IF(OR($E666<>0,$C666=\"\"),\"\",INDEX(Categories!$A:$E,Entries!$D666,4))","v":""},{"$f":"IF(OR($E666<>0,$C666=\"\"),\"\",INDEX(Categories!$A:$E,Entries!$D666,5))","v":""},"2014-01-01","2014-01-01",{"$f":"(Entries!K667-Entries!K666)*24*60","v":0}]
["",null,null,{"$f":"MATCH(C667,Categories!A:A,0)","v":{"$error":"#N/A"}},0,{"$f":"IF(OR($E667<>0,$C667=\"\"),\"\",INDEX(Categories!$A:$E,Entries!$D667,2))","v":""},{"$f":"IF(OR($E667<>0,$C667=\"\"),\"\",INDEX(Categories!$A:$E,Entries!$D667,3))","v":""},{"$f":"IF(OR($E667<>0,$C667=\"\"),\"\",INDEX(Categories!$A:$E,Entries!$D667,4))","v":""},{"$f":"IF(OR($E667<>0,$C667=\"\"),\"\",INDEX(Categories!$A:$E,Entries!$D667,5))","v":""},"2014-01-01","2014-01-01",{"$f":"(Entries!K668-Entries!K667)*24*60","v":0}]
["",null,null,{"$f":"MATCH(C668,Categories!A:A,0)","v":{"$error":"#N/A"}},0,{"$f":"IF(OR($E668<>0,$C668=\"\"),\"\",INDEX(Categories!$A:$E,Entries!$D668,2))","v":""},{"$f":"IF(OR($E668<>0,$C668=\"\"),\"\",INDEX(Categories!$A:$E,Entries!$D668,3))","v":""},{"$f":"IF(OR($E668<>0,$C668=\"\"),\"\",INDEX(Categories!$A:$E,Entries!$D668,4))","v":""},{"$f":"IF(OR($E668<>0,$C668=\"\"),\"\",INDEX(Categories!$A:$E,Entries!$D668,5))","v":""},"2014-01-01","2014-01-01",{"$f":"(Entries!K669-Entries!K668)*24*60","v":0}]
["",null,null,{"$f":"MATCH(C669,Categories!A:A,0)","v":{"$error":"#N/A"}},0,{"$f":"IF(OR($E669<>0,$C669=\"\"),\"\",INDEX(Categories!$A:$E,Entries!$D669,2))","v":""},{"$f":"IF(OR($E669<>0,$C669=\"\"),\"\",INDEX(Categories!$A:$E,Entries!$D669,3))","v":""},{"$f":"IF(OR($E669<>0,$C669=\"\"),\"\",INDEX(Categories!$A:$E,Entries!$D669,4))","v":""},{"$f":"IF(OR($E669<>0,$C669=\"\"),\"\",INDEX(Categories!$A:$E,Entries!$D669,5))","v":""},"2014-01-01","2014-01-01",{"$f":"(Entries!K670-Entries!K669)*24*60","v":0}]
["",null,null,{"$f":"MATCH(C670,Categories!A:A,0)","v":{"$error":"#N/A"}},0,{"$f":"IF(OR($E670<>0,$C670=\"\"),\"\",INDEX(Categories!$A:$E,Entries!$D670,2))","v":""},{"$f":"IF(OR($E670<>0,$C670=\"\"),\"\",INDEX(Categories!$A:$E,Entries!$D670,3))","v":""},{"$f":"IF(OR($E670<>0,$C670=\"\"),\"\",INDEX(Categories!$A:$E,Entries!$D670,4))","v":""},{"$f":"IF(OR($E670<>0,$C670=\"\"),\"\",INDEX(Categories!$A:$E,Entries!$D670,5))","v":""},"2014-01-01","2014-01-01",{"$f":"(Entries!K671-Entries!K670)*24*60","v":0}]
["",null,null,{"$f":"MATCH(C671,Categories!A:A,0)","v":{"$error":"#N/A"}},0,{"$f":"IF(OR($E671<>0,$C671=\"\"),\"\",INDEX(Categories!$A:$E,Entries!$D671,2))","v":""},{"$f":"IF(OR($E671<>0,$C671=\"\"),\"\",INDEX(Categories!$A:$E,Entries!$D671,3))","v":""},{"$f":"IF(OR($E671<>0,$C671=\"\"),\"\",INDEX(Categories!$A:$E,Entries!$D671,4))","v":""},{"$f":"IF(OR($E671<>0,$C671=\"\"),\"\",INDEX(Categories!$A:$E,Entries!$D671,5))","v":""},"2014-01-01","2014-01-01",{"$f":"(Entries!K672-Entries!K671)*24*60","v":0}]
["",null,null,{"$f":"MATCH(C672,Categories!A:A,0)","v":{"$error":"#N/A"}},0,{"$f":"IF(OR($E672<>0,$C672=\"\"),\"\",INDEX(Categories!$A:$E,Entries!$D672,2))","v":""},{"$f":"IF(OR($E672<>0,$C672=\"\"),\"\",INDEX(Categories!$A:$E,Entries!$D672,3))","v":""},{"$f":"IF(OR($E672<>0,$C672=\"\"),\"\",INDEX(Categories!$A:$E,Entries!$D672,4))","v":""},{"$f":"IF(OR($E672<>0,$C672=\"\"),\"\",INDEX(Categories!$A:$E,Entries!$D672,5))","v":""},"2014-01-01","2014-01-01",{"$f":"(Entries!K673-Entries!K672)*24*60","v":0}]
["",null,null,{"$f":"MATCH(C673,Categories!A:A,0)","v":{"$error":"#N/A"}},0,{"$f":"IF(OR($E673<>0,$C673=\"\"),\"\",INDEX(Categories!$A:$E,Entries!$D673,2))","v":""},{"$f":"IF(OR($E673<>0,$C673=\"\"),\"\",INDEX(Categories!$A:$E,Entries!$D673,3))","v":""},{"$f":"IF(OR($E673<>0,$C673=\"\"),\"\",INDEX(Categories!$A:$E,Entries!$D673,4))","v":""},{"$f":"IF(OR($E673<>0,$C673=\"\"),\"\",INDEX(Categories!$A:$E,Entries!$D673,5))","v":""},"2014-01-01","2014-01-01",{"$f":"(Entries!K674-Entries!K673)*24*60","v":0}]
["",null,null,{"$f":"MATCH(C674,Categories!A:A,0)","v":{"$error":"#N/A"}},0,{"$f":"IF(OR($E674<>0,$C674=\"\"),\"\",INDEX(Categories!$A:$E,Entries!$D674,2))","v":""},{"$f":"IF(OR($E674<>0,$C674=\"\"),\"\",INDEX(Categories!$A:$E,Entries!$D674,3))","v":""},{"$f":"IF(OR($E674<>0,$C674=\"\"),\"\",INDEX(Categories!$A:$E,Entries!$D674,4))","v":""},{"$f":"IF(OR($E674<>0,$C674=\"\"),\"\",INDEX(Categories!$A:$E,Entries!$D674,5))","v":""},"2014-01-01","2014-01-01",{"$f":"(Entries!K675-Entries!K674)*24*60","v":0}]
["",null,null,{"$f":"MATCH(C675,Categories!A:A,0)","v":{"$error":"#N/A"}},0,{"$f":"IF(OR($E675<>0,$C675=\"\"),\"\",INDEX(Categories!$A:$E,Entries!$D675,2))","v":""},{"$f":"IF(OR($E675<>0,$C675=\"\"),\"\",INDEX(Categories!$A:$E,Entries!$D675,3))","v":""},{"$f":"IF(OR($E675<>0,$C675=\"\"),\"\",INDEX(Categories!$A:$E,Entries!$D675,4))","v":""},{"$f":"IF(OR($E675<>0,$C675=\"\"),\"\",INDEX(Categories!$A:$E,Entries!$D675,5))","v":""},"2014-01-01","2014-01-01",{"$f":"(Entries!K676-Entries!K675)*24*60","v":0}]
[{"$f":"IF(OR(B676>=B675,C675=\"z\",B676=\"\"),\"\",J675+1)","v":""},null,null,{"$f":"MATCH(C676,Categories!A:A,0)","v":{"$error":"#N/A"}},0,{"$f":"IF(OR($E676<>0,$C676=\"\"),\"\",INDEX(Categories!$A:$E,Entries!$D676,2))","v":""},{"$f":"IF(OR($E676<>0,$C676=\"\"),\"\",INDEX(Categories!$A:$E,Entries!$D676,3))","v":""},{"$f":"IF(OR($E676<>0,$C676=\"\"),\"\",INDEX(Categories!$A:$E,Entries!$D676,4))","v":""},{"$f":"IF(OR($E676<>0,$C676=\"\"),\"\",INDEX(Categories!$A:$E,Entries!$D676,5))","v":""},"2014-01-01","2014-01-01",{"$f":"(Entries!K677-Entries!K676)*24*60","v":0}]
["",null,null,{"$f":"MATCH(C677,Categories!A:A,0)","v":{"$error":"#N/A"}},0,{"$f":"IF(OR($E677<>0,$C677=\"\"),\"\",INDEX(Categories!$A:$E,Entries!$D677,2))","v":""},{"$f":"IF(OR($E677<>0,$C677=\"\"),\"\",INDEX(Categories!$A:$E,Entries!$D677,3))","v":""},{"$f":"IF(OR($E677<>0,$C677=\"\"),\"\",INDEX(Categories!$A:$E,Entries!$D677,4))","v":""},{"$f":"IF(OR($E677<>0,$C677=\"\"),\"\",INDEX(Categories!$A:$E,Entries!$D677,5))","v":""},"2014-01-01","2014-01-01",{"$f":"(Entries!K678-Entries!K677)*24*60","v":0}]
["",null,null,{"$f":"MATCH(C678,Categories!A:A,0)","v":{"$error":"#N/A"}},0,{"$f":"IF(OR($E678<>0,$C678=\"\"),\"\",INDEX(Categories!$A:$E,Entries!$D678,2))","v":""},{"$f":"IF(OR($E678<>0,$C678=\"\"),\"\",INDEX(Categories!$A:$E,Entries!$D678,3))","v":""},{"$f":"IF(OR($E678<>0,$C678=\"\"),\"\",INDEX(Categories!$A:$E,Entries!$D678,4))","v":""},{"$f":"IF(OR($E678<>0,$C678=\"\"),\"\",INDEX(Categories!$A:$E,Entries!$D678,5))","v":""},"2014-01-01","2014-01-01",{"$f":"(Entries!K679-Entries!K678)*24*60","v":0}]
["",null,null,{"$f":"MATCH(C679,Categories!A:A,0)","v":{"$error":"#N/A"}},0,{"$f":"IF(OR($E679<>0,$C679=\"\"),\"\",INDEX(Categories!$A:$E,Entries!$D679,2))","v":""},{"$f":"IF(OR($E679<>0,$C679=\"\"),\"\",INDEX(Categories!$A:$E,Entries!$D679,3))","v":""},{"$f":"IF(OR($E679<>0,$C679=\"\"),\"\",INDEX(Categories!$A:$E,Entries!$D679,4))","v":""},{"$f":"IF(OR($E679<>0,$C679=\"\"),\"\",INDEX(Categories!$A:$E,Entries!$D679,5))","v":""},"2014-01-01","2014-01-01",{"$f":"(Entries!K680-Entries!K679)*24*60","v":0}]
["",null,null,{"$f":"MATCH(C680,Categories!A:A,0)","v":{"$error":"#N/A"}},0,{"$f":"IF(OR($E680<>0,$C680=\"\"),\"\",INDEX(Categories!$A:$E,Entries!$D680,2))","v":""},{"$f":"IF(OR($E680<>0,$C680=\"\"),\"\",INDEX(Categories!$A:$E,Entries!$D680,3))","v":""},{"$f":"IF(OR($E680<>0,$C680=\"\"),\"\",INDEX(Categories!$A:$E,Entries!$D680,4))","v":""},{"$f":"IF(OR($E680<>0,$C680=\"\"),\"\",INDEX(Categories!$A:$E,Entries!$D680,5))","v":""},"2014-01-01","2014-01-01",{"$f":"(Entries!K681-Entries!K680)*24*60","v":0}]
["",null,null,{"$f":"MATCH(C681,Categories!A:A,0)","v":{"$error":"#N/A"}},0,{"$f":"IF(OR($E681<>0,$C681=\"\"),\"\",INDEX(Categories!$A:$E,Entries!$D681,2))","v":""},{"$f":"IF(OR($E681<>0,$C681=\"\"),\"\",INDEX(Categories!$A:$E,Entries!$D681,3))","v":""},{"$f":"IF(OR($E681<>0,$C681=\"\"),\"\",INDEX(Categories!$A:$E,Entries!$D681,4))","v":""},{"$f":"IF(OR($E681<>0,$C681=\"\"),\"\",INDEX(Categories!$A:$E,Entries!$D681,5))","v":""},"2014-01-01","2014-01-01",{"$f":"(Entries!K682-Entries!K681)*24*60","v":0}]
["",null,null,{"$f":"MATCH(C682,Categories!A:A,0)","v":{"$error":"#N/A"}},0,{"$f":"IF(OR($E682<>0,$C682=\"\"),\"\",INDEX(Categories!$A:$E,Entries!$D682,2))","v":""},{"$f":"IF(OR($E682<>0,$C682=\"\"),\"\",INDEX(Categories!$A:$E,Entries!$D682,3))","v":""},{"$f":"IF(OR($E682<>0,$C682=\"\"),\"\",INDEX(Categories!$A:$E,Entries!$D682,4))","v":""},{"$f":"IF(OR($E682<>0,$C682=\"\"),\"\",INDEX(Categories!$A:$E,Entries!$D682,5))","v":""},"2014-01-01","2014-01-01",{"$f":"(Entries!K683-Entries!K682)*24*60","v":0}]
["",null,null,{"$f":"MATCH(C683,Categories!A:A,0)","v":{"$error":"#N/A"}},0,{"$f":"IF(OR($E683<>0,$C683=\"\"),\"\",INDEX(Categories!$A:$E,Entries!$D683,2))","v":""},{"$f":"IF(OR($E683<>0,$C683=\"\"),\"\",INDEX(Categories!$A:$E,Entries!$D683,3))","v":""},{"$f":"IF(OR($E683<>0,$C683=\"\"),\"\",INDEX(Categories!$A:$E,Entries!$D683,4))","v":""},{"$f":"IF(OR($E683<>0,$C683=\"\"),\"\",INDEX(Categories!$A:$E,Entries!$D683,5))","v":""},"2014-01-01","2014-01-01",{"$f":"(Entries!K684-Entries!K683)*24*60","v":0}]
["",null,null,{"$f":"MATCH(C684,Categories!A:A,0)","v":{"$error":"#N/A"}},0,{"$f":"IF(OR($E684<>0,$C684=\"\"),\"\",INDEX(Categories!$A:$E,Entries!$D684,2))","v":""},{"$f":"IF(OR($E684<>0,$C684=\"\"),\"\",INDEX(Categories!$A:$E,Entries!$D684,3))","v":""},{"$f":"IF(OR($E684<>0,$C684=\"\"),\"\",INDEX(Categories!$A:$E,Entries!$D684,4))","v":""},{"$f":"IF(OR($E684<>0,$C684=\"\"),\"\",INDEX(Categories!$A:$E,Entries!$D684,5))","v":""},"2014-01-01","2014-01-01",{"$f":"(Entries!K685-Entries!K684)*24*60","v":0}]
["",null,null,{"$f":"MATCH(C685,Categories!A:A,0)","v":{"$error":"#N/A"}},0,{"$f":"IF(OR($E685<>0,$C685=\"\"),\"\",INDEX(Categories!$A:$E,Entries!$D685,2))","v":""},{"$f":"IF(OR($E685<>0,$C685=\"\"),\"\",INDEX(Categories!$A:$E,Entries!$D685,3))","v":""},{"$f":"IF(OR($E685<>0,$C685=\"\"),\"\",INDEX(Categories!$A:$E,Entries!$D685,4))","v":""},{"$f":"IF(OR($E685<>0,$C685=\"\"),\"\",INDEX(Categories!$A:$E,Entries!$D685,5))","v":""},"2014-01-01","2014-01-01",{"$f":"(Entries!K686-Entries!K685)*24*60","v":0}]
["",null,null,{"$f":"MATCH(C686,Categories!A:A,0)","v":{"$error":"#N/A"}},0,{"$f":"IF(OR($E686<>0,$C686=\"\"),\"\",INDEX(Categories!$A:$E,Entries!$D686,2))","v":""},{"$f":"IF(OR($E686<>0,$C686=\"\"),\"\",INDEX(Categories!$A:$E,Entries!$D686,3))","v":""},{"$f":"IF(OR($E686<>0,$C686=\"\"),\"\",INDEX(Categories!$A:$E,Entries!$D686,4))","v":""},{"$f":"IF(OR($E686<>0,$C686=\"\"),\"\",INDEX(Categories!$A:$E,Entries!$D686,5))","v":""},"2014-01-01","2014-01-01",{"$f":"(Entries!K687-Entries!K686)*24*60","v":0}]
["",null,null,{"$f":"MATCH(C687,Categories!A:A,0)","v":{"$error":"#N/A"}},0,{"$f":"IF(OR($E687<>0,$C687=\"\"),\"\",INDEX(Categories!$A:$E,Entries!$D687,2))","v":""},{"$f":"IF(OR($E687<>0,$C687=\"\"),\"\",INDEX(Categories!$A:$E,Entries!$D687,3))","v":""},{"$f":"IF(OR($E687<>0,$C687=\"\"),\"\",INDEX(Categories!$A:$E,Entries!$D687,4))","v":""},{"$f":"IF(OR($E687<>0,$C687=\"\"),\"\",INDEX(Categories!$A:$E,Entries!$D687,5))","v":""},"2014-01-01","2014-01-01",{"$f":"(Entries!K688-Entries!K687)*24*60","v":0}]
["",null,null,{"$f":"MATCH(C688,Categories!A:A,0)","v":{"$error":"#N/A"}},0,{"$f":"IF(OR($E688<>0,$C688=\"\"),\"\",INDEX(Categories!$A:$E,Entries!$D688,2))","v":""},{"$f":"IF(OR($E688<>0,$C688=\"\"),\"\",INDEX(Categories!$A:$E,Entries!$D688,3))","v":""},{"$f":"IF(OR($E688<>0,$C688=\"\"),\"\",INDEX(Categories!$A:$E,Entries!$D688,4))","v":""},{"$f":"IF(OR($E688<>0,$C688=\"\"),\"\",INDEX(Categories!$A:$E,Entries!$D688,5))","v":""},"2014-01-01","2014-01-01",{"$f":"(Entries!K689-Entries!K688)*24*60","v":0}]
["",null,null,{"$f":"MATCH(C689,Categories!A:A,0)","v":{"$error":"#N/A"}},0,{"$f":"IF(OR($E689<>0,$C689=\"\"),\"\",INDEX(Categories!$A:$E,Entries!$D689,2))","v":""},{"$f":"IF(OR($E689<>0,$C689=\"\"),\"\",INDEX(Categories!$A:$E,Entries!$D689,3))","v":""},{"$f":"IF(OR($E689<>0,$C689=\"\"),\"\",INDEX(Categories!$A:$E,Entries!$D689,4))","v":""},{"$f":"IF(OR($E689<>0,$C689=\"\"),\"\",INDEX(Categories!$A:$E,Entries!$D689,5))","v":""},"2014-01-01","2014-01-01",{"$f":"(Entries!K690-Entries!K689)*24*60","v":0}]
["",null,null,{"$f":"MATCH(C690,Categories!A:A,0)","v":{"$error":"#N/A"}},0,{"$f":"IF(OR($E690<>0,$C690=\"\"),\"\",INDEX(Categories!$A:$E,Entries!$D690,2))","v":""},{"$f":"IF(OR($E690<>0,$C690=\"\"),\"\",INDEX(Categories!$A:$E,Entries!$D690,3))","v":""},{"$f":"IF(OR($E690<>0,$C690=\"\"),\"\",INDEX(Categories!$A:$E,Entries!$D690,4))","v":""},{"$f":"IF(OR($E690<>0,$C690=\"\"),\"\",INDEX(Categories!$A:$E,Entries!$D690,5))","v":""},"2014-01-01","2014-01-01",{"$f":"(Entries!K691-Entries!K690)*24*60","v":0}]
["",null,null,{"$f":"MATCH(C691,Categories!A:A,0)","v":{"$error":"#N/A"}},0,{"$f":"IF(OR($E691<>0,$C691=\"\"),\"\",INDEX(Categories!$A:$E,Entries!$D691,2))","v":""},{"$f":"IF(OR($E691<>0,$C691=\"\"),\"\",INDEX(Categories!$A:$E,Entries!$D691,3))","v":""},{"$f":"IF(OR($E691<>0,$C691=\"\"),\"\",INDEX(Categories!$A:$E,Entries!$D691,4))","v":""},{"$f":"IF(OR($E691<>0,$C691=\"\"),\"\",INDEX(Categories!$A:$E,Entries!$D691,5))","v":""},"2014-01-01","2014-01-01",{"$f":"(Entries!K692-Entries!K691)*24*60","v":0}]
["",null,null,{"$f":"MATCH(C692,Categories!A:A,0)","v":{"$error":"#N/A"}},0,{"$f":"IF(OR($E692<>0,$C692=\"\"),\"\",INDEX(Categories!$A:$E,Entries!$D692,2))","v":""},{"$f":"IF(OR($E692<>0,$C692=\"\"),\"\",INDEX(Categories!$A:$E,Entries!$D692,3))","v":""},{"$f":"IF(OR($E692<>0,$C692=\"\"),\"\",INDEX(Categories!$A:$E,Entries!$D692,4))","v":""},{"$f":"IF(OR($E692<>0,$C692=\"\"),\"\",INDEX(Categories!$A:$E,Entries!$D692,5))","v":""},"2014-01-01","2014-01-01",{"$f":"(Entries!K693-Entries!K692)*24*60","v":0}]
["",null,null,{"$f":"MATCH(C693,Categories!A:A,0)","v":{"$error":"#N/A"}},0,{"$f":"IF(OR($E693<>0,$C693=\"\"),\"\",INDEX(Categories!$A:$E,Entries!$D693,2))","v":""},{"$f":"IF(OR($E693<>0,$C693=\"\"),\"\",INDEX(Categories!$A:$E,Entries!$D693,3))","v":""},{"$f":"IF(OR($E693<>0,$C693=\"\"),\"\",INDEX(Categories!$A:$E,Entries!$D693,4))","v":""},{"$f":"IF(OR($E693<>0,$C693=\"\"),\"\",INDEX(Categories!$A:$E,Entries!$D693,5))","v":""},"2014-01-01","2014-01-01",{"$f":"(Entries!K694-Entries!K693)*24*60","v":0}]
["",null,null,{"$f":"MATCH(C694,Categories!A:A,0)","v":{"$error":"#N/A"}},0,{"$f":"IF(OR($E694<>0,$C694=\"\"),\"\",INDEX(Categories!$A:$E,Entries!$D694,2))","v":""},{"$f":"IF(OR($E694<>0,$C694=\"\"),\"\",INDEX(Categories!$A:$E,Entries!$D694,3))","v":""},{"$f":"IF(OR($E694<>0,$C694=\"\"),\"\",INDEX(Categories!$A:$E,Entries!$D694,4))","v":""},{"$f":"IF(OR($E694<>0,$C694=\"\"),\"\",INDEX(Categories!$A:$E,Entries!$D694,5))","v":""},"2014-01-01","2014-01-01",{"$f":"(Entries!K695-Entries!K694)*24*60","v":0}]
["",null,null,{"$f":"MATCH(C695,Categories!A:A,0)","v":{"$error":"#N/A"}},0,{"$f":"IF(OR($E695<>0,$C695=\"\"),\"\",INDEX(Categories!$A:$E,Entries!$D695,2))","v":""},{"$f":"IF(OR($E695<>0,$C695=\"\"),\"\",INDEX(Categories!$A:$E,Entries!$D695,3))","v":""},{"$f":"IF(OR($E695<>0,$C695=\"\"),\"\",INDEX(Categories!$A:$E,Entries!$D695,4))","v":""},{"$f":"IF(OR($E695<>0,$C695=\"\"),\"\",INDEX(Categories!$A:$E,Entries!$D695,5))","v":""},"2014-01-01","2014-01-01",{"$f":"(Entries!K696-Entries!K695)*24*60","v":0}]
["",null,null,{"$f":"MATCH(C696,Categories!A:A,0)","v":{"$error":"#N/A"}},0,{"$f":"IF(OR($E696<>0,$C696=\"\"),\"\",INDEX(Categories!$A:$E,Entries!$D696,2))","v":""},{"$f":"IF(OR($E696<>0,$C696=\"\"),\"\",INDEX(Categories!$A:$E,Entries!$D696,3))","v":""},{"$f":"IF(OR($E696<>0,$C696=\"\"),\"\",INDEX(Categories!$A:$E,Entries!$D696,4))","v":""},{"$f":"IF(OR($E696<>0,$C696=\"\"),\"\",INDEX(Categories!$A:$E,Entries!$D696,5))","v":""},"2014-01-01","2014-01-01",{"$f":"(Entries!K697-Entries!K696)*24*60","v":0}]
["",null,null,{"$f":"MATCH(C697,Categories!A:A,0)","v":{"$error":"#N/A"}},0,{"$f":"IF(OR($E697<>0,$C697=\"\"),\"\",INDEX(Categories!$A:$E,Entries!$D697,2))","v":""},{"$f":"IF(OR($E697<>0,$C697=\"\"),\"\",INDEX(Categories!$A:$E,Entries!$D697,3))","v":""},{"$f":"IF(OR($E697<>0,$C697=\"\"),\"\",INDEX(Categories!$A:$E,Entries!$D697,4))","v":""},{"$f":"IF(OR($E697<>0,$C697=\"\"),\"\",INDEX(Categories!$A:$E,Entries!$D697,5))","v":""},"2014-01-01","2014-01-01",{"$f":"(Entries!K698-Entries!K697)*24*60","v":0}]
["",null,null,{"$f":"MATCH(C698,Categories!A:A,0)","v":{"$error":"#N/A"}},0,{"$f":"IF(OR($E698<>0,$C698=\"\"),\"\",INDEX(Categories!$A:$E,Entries!$D698,2))","v":""},{"$f":"IF(OR($E698<>0,$C698=\"\"),\"\",INDEX(Categories!$A:$E,Entries!$D698,3))","v":""},{"$f":"IF(OR($E698<>0,$C698=\"\"),\"\",INDEX(Categories!$A:$E,Entries!$D698,4))","v":""},{"$f":"IF(OR($E698<>0,$C698=\"\"),\"\",INDEX(Categories!$A:$E,Entries!$D698,5))","v":""},"2014-01-01","2014-01-01",{"$f":"(Entries!K699-Entries!K698)*24*60","v":0}]
["",null,null,{"$f":"MATCH(C699,Categories!A:A,0)","v":{"$error":"#N/A"}},0,{"$f":"IF(OR($E699<>0,$C699=\"\"),\"\",INDEX(Categories!$A:$E,Entries!$D699,2))","v":""},{"$f":"IF(OR($E699<>0,$C699=\"\"),\"\",INDEX(Categories!$A:$E,Entries!$D699,3))","v":""},{"$f":"IF(OR($E699<>0,$C699=\"\"),\"\",INDEX(Categories!$A:$E,Entries!$D699,4))","v":""},{"$f":"IF(OR($E699<>0,$C699=\"\"),\"\",INDEX(Categories!$A:$E,Entries!$D699,5))","v":""},"2014-01-01","2014-01-01",{"$f":"(Entries!K700-Entries!K699)*24*60","v":0}]
["",null,null,{"$f":"MATCH(C700,Categories!A:A,0)","v":{"$error":"#N/A"}},0,{"$f":"IF(OR($E700<>0,$C700=\"\"),\"\",INDEX(Categories!$A:$E,Entries!$D700,2))","v":""},{"$f":"IF(OR($E700<>0,$C700=\"\"),\"\",INDEX(Categories!$A:$E,Entries!$D700,3))","v":""},{"$f":"IF(OR($E700<>0,$C700=\"\"),\"\",INDEX(Categories!$A:$E,Entries!$D700,4))","v":""},{"$f":"IF(OR($E700<>0,$C700=\"\"),\"\",INDEX(Categories!$A:$E,Entries!$D700,5))","v":""},"2014-01-01","2014-01-01",{"$f":"(Entries!K701-Entries!K700)*24*60","v":0}]
["",null,null,{"$f":"MATCH(C701,Categories!A:A,0)","v":{"$error":"#N/A"}},0,{"$f":"IF(OR($E701<>0,$C701=\"\"),\"\",INDEX(Categories!$A:$E,Entries!$D701,2))","v":""},{"$f":"IF(OR($E701<>0,$C701=\"\"),\"\",INDEX(Categories!$A:$E,Entries!$D701,3))","v":""},{"$f":"IF(OR($E701<>0,$C701=\"\"),\"\",INDEX(Categories!$A:$E,Entries!$D701,4))","v":""},{"$f":"IF(OR($E701<>0,$C701=\"\"),\"\",INDEX(Categories!$A:$E,Entries!$D701,5))","v":""},"2014-01-01","2014-01-01",{"$f":"(Entries!K702-Entries!K701)*24*60","v":0}]
["",null,null,{"$f":"MATCH(C702,Categories!A:A,0)","v":{"$error":"#N/A"}},0,{"$f":"IF(OR($E702<>0,$C702=\"\"),\"\",INDEX(Categories!$A:$E,Entries!$D702,2))","v":""},{"$f":"IF(OR($E702<>0,$C702=\"\"),\"\",INDEX(Categories!$A:$E,Entries!$D702,3))","v":""},{"$f":"IF(OR($E702<>0,$C702=\"\"),\"\",INDEX(Categories!$A:$E,Entries!$D702,4))","v":""},{"$f":"IF(OR($E702<>0,$C702=\"\"),\"\",INDEX(Categories!$A:$E,Entries!$D702,5))","v":""},"2014-01-01","2014-01-01",{"$f":"(Entries!K703-Entries!K702)*24*60","v":0}]
["",null,null,{"$f":"MATCH(C703,Categories!A:A,0)","v":{"$error":"#N/A"}},0,{"$f":"IF(OR($E703<>0,$C703=\"\"),\"\",INDEX(Categories!$A:$E,Entries!$D703,2))","v":""},{"$f":"IF(OR($E703<>0,$C703=\"\"),\"\",INDEX(Categories!$A:$E,Entries!$D703,3))","v":""},{"$f":"IF(OR($E703<>0,$C703=\"\"),\"\",INDEX(Categories!$A:$E,Entries!$D703,4))","v":""},{"$f":"IF(OR($E703<>0,$C703=\"\"),\"\",INDEX(Categories!$A:$E,Entries!$D703,5))","v":""},"2014-01-01","2014-01-01",{"$f":"(Entries!K704-Entries!K703)*24*60","v":0}]
["",null,null,{"$f":"MATCH(C704,Categories!A:A,0)","v":{"$error":"#N/A"}},0,{"$f":"IF(OR($E704<>0,$C704=\"\"),\"\",INDEX(Categories!$A:$E,Entries!$D704,2))","v":""},{"$f":"IF(OR($E704<>0,$C704=\"\"),\"\",INDEX(Categories!$A:$E,Entries!$D704,3))","v":""},{"$f":"IF(OR($E704<>0,$C704=\"\"),\"\",INDEX(Categories!$A:$E,Entries!$D704,4))","v":""},{"$f":"IF(OR($E704<>0,$C704=\"\"),\"\",INDEX(Categories!$A:$E,Entries!$D704,5))","v":""},"2014-01-01","2014-01-01",{"$f":"(Entries!K705-Entries!K704)*24*60","v":0}]
["",null,null,{"$f":"MATCH(C705,Categories!A:A,0)","v":{"$error":"#N/A"}},0,{"$f":"IF(OR($E705<>0,$C705=\"\"),\"\",INDEX(Categories!$A:$E,Entries!$D705,2))","v":""},{"$f":"IF(OR($E705<>0,$C705=\"\"),\"\",INDEX(Categories!$A:$E,Entries!$D705,3))","v":""},{"$f":"IF(OR($E705<>0,$C705=\"\"),\"\",INDEX(Categories!$A:$E,Entries!$D705,4))","v":""},{"$f":"IF(OR($E705<>0,$C705=\"\"),\"\",INDEX(Categories!$A:$E,Entries!$D705,5))","v":""},"2014-01-01","2014-01-01",{"$f":"(Entries!K706-Entries!K705)*24*60","v":0}]
["",null,null,{"$f":"MATCH(C706,Categories!A:A,0)","v":{"$error":"#N/A"}},{"$f":"IF(AND(ISERROR(D706),C706<>\"\"),ROW(D706),0)","v":0},{"$f":"IF(OR($E706<>0,$C706=\"\"),\"\",INDEX(Categories!$A:$E,Entries!$D706,2))","v":""},{"$f":"IF(OR($E706<>0,$C706=\"\"),\"\",INDEX(Categories!$A:$E,Entries!$D706,3))","v":""},{"$f":"IF(OR($E706<>0,$C706=\"\"),\"\",INDEX(Categories!$A:$E,Entries!$D706,4))","v":""},{"$f":"IF(OR($E706<>0,$C706=\"\"),\"\",INDEX(Categories!$A:$E,Entries!$D706,5))","v":""},{"$f":"IF(A706=\"\",J705,A706)","v":"2014-01-01"},{"$f":"J706+B706","v":"2014-01-01"},{"$f":"(Entries!K707-Entries!K706)*24*60","v":0}]
["",null,null,{"$f":"MATCH(C707,Categories!A:A,0)","v":{"$error":"#N/A"}},0,{"$f":"IF(OR($E707<>0,$C707=\"\"),\"\",INDEX(Categories!$A:$E,Entries!$D707,2))","v":""},{"$f":"IF(OR($E707<>0,$C707=\"\"),\"\",INDEX(Categories!$A:$E,Entries!$D707,3))","v":""},{"$f":"IF(OR($E707<>0,$C707=\"\"),\"\",INDEX(Categories!$A:$E,Entries!$D707,4))","v":""},{"$f":"IF(OR($E707<>0,$C707=\"\"),\"\",INDEX(Categories!$A:$E,Entries!$D707,5))","v":""},"2014-01-01","2014-01-01",{"$f":"(Entries!K708-Entries!K707)*24*60","v":0}]
["",null,null,{"$f":"MATCH(C708,Categories!A:A,0)","v":{"$error":"#N/A"}},0,{"$f":"IF(OR($E708<>0,$C708=\"\"),\"\",INDEX(Categories!$A:$E,Entries!$D708,2))","v":""},{"$f":"IF(OR($E708<>0,$C708=\"\"),\"\",INDEX(Categories!$A:$E,Entries!$D708,3))","v":""},{"$f":"IF(OR($E708<>0,$C708=\"\"),\"\",INDEX(Categories!$A:$E,Entries!$D708,4))","v":""},{"$f":"IF(OR($E708<>0,$C708=\"\"),\"\",INDEX(Categories!$A:$E,Entries!$D708,5))","v":""},"2014-01-01","2014-01-01",{"$f":"(Entries!K709-Entries!K708)*24*60","v":0}]
["",null,null,{"$f":"MATCH(C709,Categories!A:A,0)","v":{"$error":"#N/A"}},0,{"$f":"IF(OR($E709<>0,$C709=\"\"),\"\",INDEX(Categories!$A:$E,Entries!$D709,2))","v":""},{"$f":"IF(OR($E709<>0,$C709=\"\"),\"\",INDEX(Categories!$A:$E,Entries!$D709,3))","v":""},{"$f":"IF(OR($E709<>0,$C709=\"\"),\"\",INDEX(Categories!$A:$E,Entries!$D709,4))","v":""},{"$f":"IF(OR($E709<>0,$C709=\"\"),\"\",INDEX(Categories!$A:$E,Entries!$D709,5))","v":""},"2014-01-01","2014-01-01",{"$f":"(Entries!K710-Entries!K709)*24*60","v":0}]
["",null,null,{"$f":"MATCH(C710,Categories!A:A,0)","v":{"$error":"#N/A"}},0,{"$f":"IF(OR($E710<>0,$C710=\"\"),\"\",INDEX(Categories!$A:$E,Entries!$D710,2))","v":""},{"$f":"IF(OR($E710<>0,$C710=\"\"),\"\",INDEX(Categories!$A:$E,Entries!$D710,3))","v":""},{"$f":"IF(OR($E710<>0,$C710=\"\"),\"\",INDEX(Categories!$A:$E,Entries!$D710,4))","v":""},{"$f":"IF(OR($E710<>0,$C710=\"\"),\"\",INDEX(Categories!$A:$E,Entries!$D710,5))","v":""},"2014-01-01","2014-01-01",{"$f":"(Entries!K711-Entries!K710)*24*60","v":0}]
["",null,null,{"$f":"MATCH(C711,Categories!A:A,0)","v":{"$error":"#N/A"}},0,{"$f":"IF(OR($E711<>0,$C711=\"\"),\"\",INDEX(Categories!$A:$E,Entries!$D711,2))","v":""},{"$f":"IF(OR($E711<>0,$C711=\"\"),\"\",INDEX(Categories!$A:$E,Entries!$D711,3))","v":""},{"$f":"IF(OR($E711<>0,$C711=\"\"),\"\",INDEX(Categories!$A:$E,Entries!$D711,4))","v":""},{"$f":"IF(OR($E711<>0,$C711=\"\"),\"\",INDEX(Categories!$A:$E,Entries!$D711,5))","v":""},"2014-01-01","2014-01-01",{"$f":"(Entries!K712-Entries!K711)*24*60","v":0}]
["",null,null,{"$f":"MATCH(C712,Categories!A:A,0)","v":{"$error":"#N/A"}},0,{"$f":"IF(OR($E712<>0,$C712=\"\"),\"\",INDEX(Categories!$A:$E,Entries!$D712,2))","v":""},{"$f":"IF(OR($E712<>0,$C712=\"\"),\"\",INDEX(Categories!$A:$E,Entries!$D712,3))","v":""},{"$f":"IF(OR($E712<>0,$C712=\"\"),\"\",INDEX(Categories!$A:$E,Entries!$D712,4))","v":""},{"$f":"IF(OR($E712<>0,$C712=\"\"),\"\",INDEX(Categories!$A:$E,Entries!$D712,5))","v":""},"2014-01-01","2014-01-01",{"$f":"(Entries!K713-Entries!K712)*24*60","v":0}]
["",null,null,{"$f":"MATCH(C713,Categories!A:A,0)","v":{"$error":"#N/A"}},0,{"$f":"IF(OR($E713<>0,$C713=\"\"),\"\",INDEX(Categories!$A:$E,Entries!$D713,2))","v":""},{"$f":"IF(OR($E713<>0,$C713=\"\"),\"\",INDEX(Categories!$A:$E,Entries!$D713,3))","v":""},{"$f":"IF(OR($E713<>0,$C713=\"\"),\"\",INDEX(Categories!$A:$E,Entries!$D713,4))","v":""},{"$f":"IF(OR($E713<>0,$C713=\"\"),\"\",INDEX(Categories!$A:$E,Entries!$D713,5))","v":""},"2014-01-01","2014-01-01",{"$f":"(Entries!K714-Entries!K713)*24*60","v":0}]
["",null,null,{"$f":"MATCH(C714,Categories!A:A,0)","v":{"$error":"#N/A"}},0,{"$f":"IF(OR($E714<>0,$C714=\"\"),\"\",INDEX(Categories!$A:$E,Entries!$D714,2))","v":""},{"$f":"IF(OR($E714<>0,$C714=\"\"),\"\",INDEX(Categories!$A:$E,Entries!$D714,3))","v":""},{"$f":"IF(OR($E714<>0,$C714=\"\"),\"\",INDEX(Categories!$A:$E,Entries!$D714,4))","v":""},{"$f":"IF(OR($E714<>0,$C714=\"\"),\"\",INDEX(Categories!$A:$E,Entries!$D714,5))","v":""},"2014-01-01","2014-01-01",{"$f":"(Entries!K715-Entries!K714)*24*60","v":0}]
["",null,null,{"$f":"MATCH(C715,Categories!A:A,0)","v":{"$error":"#N/A"}},0,{"$f":"IF(OR($E715<>0,$C715=\"\"),\"\",INDEX(Categories!$A:$E,Entries!$D715,2))","v":""},{"$f":"IF(OR($E715<>0,$C715=\"\"),\"\",INDEX(Categories!$A:$E,Entries!$D715,3))","v":""},{"$f":"IF(OR($E715<>0,$C715=\"\"),\"\",INDEX(Categories!$A:$E,Entries!$D715,4))","v":""},{"$f":"IF(OR($E715<>0,$C715=\"\"),\"\",INDEX(Categories!$A:$E,Entries!$D715,5))","v":""},"2014-01-01","2014-01-01",{"$f":"(Entries!K716-Entries!K715)*24*60","v":0}]
["",null,null,{"$f":"MATCH(C716,Categories!A:A,0)","v":{"$error":"#N/A"}},0,{"$f":"IF(OR($E716<>0,$C716=\"\"),\"\",INDEX(Categories!$A:$E,Entries!$D716,2))","v":""},{"$f":"IF(OR($E716<>0,$C716=\"\"),\"\",INDEX(Categories!$A:$E,Entries!$D716,3))","v":""},{"$f":"IF(OR($E716<>0,$C716=\"\"),\"\",INDEX(Categories!$A:$E,Entries!$D716,4))","v":""},{"$f":"IF(OR($E716<>0,$C716=\"\"),\"\",INDEX(Categories!$A:$E,Entries!$D716,5))","v":""},"2014-01-01","2014-01-01",{"$f":"(Entries!K717-Entries!K716)*24*60","v":0}]
["",null,null,{"$f":"MATCH(C717,Categories!A:A,0)","v":{"$error":"#N/A"}},0,{"$f":"IF(OR($E717<>0,$C717=\"\"),\"\",INDEX(Categories!$A:$E,Entries!$D717,2))","v":""},{"$f":"IF(OR($E717<>0,$C717=\"\"),\"\",INDEX(Categories!$A:$E,Entries!$D717,3))","v":""},{"$f":"IF(OR($E717<>0,$C717=\"\"),\"\",INDEX(Categories!$A:$E,Entries!$D717,4))","v":""},{"$f":"IF(OR($E717<>0,$C717=\"\"),\"\",INDEX(Categories!$A:$E,Entries!$D717,5))","v":""},"2014-01-01","2014-01-01",{"$f":"(Entries!K718-Entries!K717)*24*60","v":0}]
["",null,null,{"$f":"MATCH(C718,Categories!A:A,0)","v":{"$error":"#N/A"}},0,{"$f":"IF(OR($E718<>0,$C718=\"\"),\"\",INDEX(Categories!$A:$E,Entries!$D718,2))","v":""},{"$f":"IF(OR($E718<>0,$C718=\"\"),\"\",INDEX(Categories!$A:$E,Entries!$D718,3))","v":""},{"$f":"IF(OR($E718<>0,$C718=\"\"),\"\",INDEX(Categories!$A:$E,Entries!$D718,4))","v":""},{"$f":"IF(OR($E718<>0,$C718=\"\"),\"\",INDEX(Categories!$A:$E,Entries!$D718,5))","v":""},"2014-01-01","2014-01-01",{"$f":"(Entries!K719-Entries!K718)*24*60","v":0}]
["",null,null,{"$f":"MATCH(C719,Categories!A:A,0)","v":{"$error":"#N/A"}},0,{"$f":"IF(OR($E719<>0,$C719=\"\"),\"\",INDEX(Categories!$A:$E,Entries!$D719,2))","v":""},{"$f":"IF(OR($E719<>0,$C719=\"\"),\"\",INDEX(Categories!$A:$E,Entries!$D719,3))","v":""},{"$f":"IF(OR($E719<>0,$C719=\"\"),\"\",INDEX(Categories!$A:$E,Entries!$D719,4))","v":""},{"$f":"IF(OR($E719<>0,$C719=\"\"),\"\",INDEX(Categories!$A:$E,Entries!$D719,5))","v":""},"2014-01-01","2014-01-01",{"$f":"(Entries!K720-Entries!K719)*24*60","v":0}]
["",null,null,{"$f":"MATCH(C720,Categories!A:A,0)","v":{"$error":"#N/A"}},0,{"$f":"IF(OR($E720<>0,$C720=\"\"),\"\",INDEX(Categories!$A:$E,Entries!$D720,2))","v":""},{"$f":"IF(OR($E720<>0,$C720=\"\"),\"\",INDEX(Categories!$A:$E,Entries!$D720,3))","v":""},{"$f":"IF(OR($E720<>0,$C720=\"\"),\"\",INDEX(Categories!$A:$E,Entries!$D720,4))","v":""},{"$f":"IF(OR($E720<>0,$C720=\"\"),\"\",INDEX(Categories!$A:$E,Entries!$D720,5))","v":""},"2014-01-01","2014-01-01",{"$f":"(Entries!K721-Entries!K720)*24*60","v":0}]
["",null,null,{"$f":"MATCH(C721,Categories!A:A,0)","v":{"$error":"#N/A"}},0,{"$f":"IF(OR($E721<>0,$C721=\"\"),\"\",INDEX(Categories!$A:$E,Entries!$D721,2))","v":""},{"$f":"IF(OR($E721<>0,$C721=\"\"),\"\",INDEX(Categories!$A:$E,Entries!$D721,3))","v":""},{"$f":"IF(OR($E721<>0,$C721=\"\"),\"\",INDEX(Categories!$A:$E,Entries!$D721,4))","v":""},{"$f":"IF(OR($E721<>0,$C721=\"\"),\"\",INDEX(Categories!$A:$E,Entries!$D721,5))","v":""},"2014-01-01","2014-01-01",{"$f":"(Entries!K722-Entries!K721)*24*60","v":0}]
["",null,null,{"$f":"MATCH(C722,Categories!A:A,0)","v":{"$error":"#N/A"}},0,{"$f":"IF(OR($E722<>0,$C722=\"\"),\"\",INDEX(Categories!$A:$E,Entries!$D722,2))","v":""},{"$f":"IF(OR($E722<>0,$C722=\"\"),\"\",INDEX(Categories!$A:$E,Entries!$D722,3))","v":""},{"$f":"IF(OR($E722<>0,$C722=\"\"),\"\",INDEX(Categories!$A:$E,Entries!$D722,4))","v":""},{"$f":"IF(OR($E722<>0,$C722=\"\"),\"\",INDEX(Categories!$A:$E,Entries!$D722,5))","v":""},"2014-01-01","2014-01-01",{"$f":"(Entries!K723-Entries!K722)*24*60","v":0}]
["",null,null,{"$f":"MATCH(C723,Categories!A:A,0)","v":{"$error":"#N/A"}},0,{"$f":"IF(OR($E723<>0,$C723=\"\"),\"\",INDEX(Categories!$A:$E,Entries!$D723,2))","v":""},{"$f":"IF(OR($E723<>0,$C723=\"\"),\"\",INDEX(Categories!$A:$E,Entries!$D723,3))","v":""},{"$f":"IF(OR($E723<>0,$C723=\"\"),\"\",INDEX(Categories!$A:$E,Entries!$D723,4))","v":""},{"$f":"IF(OR($E723<>0,$C723=\"\"),\"\",INDEX(Categories!$A:$E,Entries!$D723,5))","v":""},"2014-01-01","2014-01-01",{"$f":"(Entries!K724-Entries!K723)*24*60","v":0}]
["",null,null,{"$f":"MATCH(C724,Categories!A:A,0)","v":{"$error":"#N/A"}},0,{"$f":"IF(OR($E724<>0,$C724=\"\"),\"\",INDEX(Categories!$A:$E,Entries!$D724,2))","v":""},{"$f":"IF(OR($E724<>0,$C724=\"\"),\"\",INDEX(Categories!$A:$E,Entries!$D724,3))","v":""},{"$f":"IF(OR($E724<>0,$C724=\"\"),\"\",INDEX(Categories!$A:$E,Entries!$D724,4))","v":""},{"$f":"IF(OR($E724<>0,$C724=\"\"),\"\",INDEX(Categories!$A:$E,Entries!$D724,5))","v":""},"2014-01-01","2014-01-01",{"$f":"(Entries!K725-Entries!K724)*24*60","v":0}]
["",null,null,{"$f":"MATCH(C725,Categories!A:A,0)","v":{"$error":"#N/A"}},0,{"$f":"IF(OR($E725<>0,$C725=\"\"),\"\",INDEX(Categories!$A:$E,Entries!$D725,2))","v":""},{"$f":"IF(OR($E725<>0,$C725=\"\"),\"\",INDEX(Categories!$A:$E,Entries!$D725,3))","v":""},{"$f":"IF(OR($E725<>0,$C725=\"\"),\"\",INDEX(Categories!$A:$E,Entries!$D725,4))","v":""},{"$f":"IF(OR($E725<>0,$C725=\"\"),\"\",INDEX(Categories!$A:$E,Entries!$D725,5))","v":""},"2014-01-01","2014-01-01",{"$f":"(Entries!K726-Entries!K725)*24*60","v":0}]
["",null,null,{"$f":"MATCH(C726,Categories!A:A,0)","v":{"$error":"#N/A"}},0,{"$f":"IF(OR($E726<>0,$C726=\"\"),\"\",INDEX(Categories!$A:$E,Entries!$D726,2))","v":""},{"$f":"IF(OR($E726<>0,$C726=\"\"),\"\",INDEX(Categories!$A:$E,Entries!$D726,3))","v":""},{"$f":"IF(OR($E726<>0,$C726=\"\"),\"\",INDEX(Categories!$A:$E,Entries!$D726,4))","v":""},{"$f":"IF(OR($E726<>0,$C726=\"\"),\"\",INDEX(Categories!$A:$E,Entries!$D726,5))","v":""},"2014-01-01","2014-01-01",{"$f":"(Entries!K727-Entries!K726)*24*60","v":0}]
["",null,null,{"$f":"MATCH(C727,Categories!A:A,0)","v":{"$error":"#N/A"}},0,{"$f":"IF(OR($E727<>0,$C727=\"\"),\"\",INDEX(Categories!$A:$E,Entries!$D727,2))","v":""},{"$f":"IF(OR($E727<>0,$C727=\"\"),\"\",INDEX(Categories!$A:$E,Entries!$D727,3))","v":""},{"$f":"IF(OR($E727<>0,$C727=\"\"),\"\",INDEX(Categories!$A:$E,Entries!$D727,4))","v":""},{"$f":"IF(OR($E727<>0,$C727=\"\"),\"\",INDEX(Categories!$A:$E,Entries!$D727,5))","v":""},"2014-01-01","2014-01-01",{"$f":"(Entries!K728-Entries!K727)*24*60","v":0}]
["",null,null,{"$f":"MATCH(C728,Categories!A:A,0)","v":{"$error":"#N/A"}},0,{"$f":"IF(OR($E728<>0,$C728=\"\"),\"\",INDEX(Categories!$A:$E,Entries!$D728,2))","v":""},{"$f":"IF(OR($E728<>0,$C728=\"\"),\"\",INDEX(Categories!$A:$E,Entries!$D728,3))","v":""},{"$f":"IF(OR($E728<>0,$C728=\"\"),\"\",INDEX(Categories!$A:$E,Entries!$D728,4))","v":""},{"$f":"IF(OR($E728<>0,$C728=\"\"),\"\",INDEX(Categories!$A:$E,Entries!$D728,5))","v":""},"2014-01-01","2014-01-01",{"$f":"(Entries!K729-Entries!K728)*24*60","v":0}]
["",null,null,{"$f":"MATCH(C729,Categories!A:A,0)","v":{"$error":"#N/A"}},0,{"$f":"IF(OR($E729<>0,$C729=\"\"),\"\",INDEX(Categories!$A:$E,Entries!$D729,2))","v":""},{"$f":"IF(OR($E729<>0,$C729=\"\"),\"\",INDEX(Categories!$A:$E,Entries!$D729,3))","v":""},{"$f":"IF(OR($E729<>0,$C729=\"\"),\"\",INDEX(Categories!$A:$E,Entries!$D729,4))","v":""},{"$f":"IF(OR($E729<>0,$C729=\"\"),\"\",INDEX(Categories!$A:$E,Entries!$D729,5))","v":""},"2014-01-01","2014-01-01",{"$f":"(Entries!K730-Entries!K729)*24*60","v":0}]
["",null,null,{"$f":"MATCH(C730,Categories!A:A,0)","v":{"$error":"#N/A"}},0,{"$f":"IF(OR($E730<>0,$C730=\"\"),\"\",INDEX(Categories!$A:$E,Entries!$D730,2))","v":""},{"$f":"IF(OR($E730<>0,$C730=\"\"),\"\",INDEX(Categories!$A:$E,Entries!$D730,3))","v":""},{"$f":"IF(OR($E730<>0,$C730=\"\"),\"\",INDEX(Categories!$A:$E,Entries!$D730,4))","v":""},{"$f":"IF(OR($E730<>0,$C730=\"\"),\"\",INDEX(Categories!$A:$E,Entries!$D730,5))","v":""},"2014-01-01","2014-01-01",{"$f":"(Entries!K731-Entries!K730)*24*60","v":0}]
["",null,null,{"$f":"MATCH(C731,Categories!A:A,0)","v":{"$error":"#N/A"}},0,{"$f":"IF(OR($E731<>0,$C731=\"\"),\"\",INDEX(Categories!$A:$E,Entries!$D731,2))","v":""},{"$f":"IF(OR($E731<>0,$C731=\"\"),\"\",INDEX(Categories!$A:$E,Entries!$D731,3))","v":""},{"$f":"IF(OR($E731<>0,$C731=\"\"),\"\",INDEX(Categories!$A:$E,Entries!$D731,4))","v":""},{"$f":"IF(OR($E731<>0,$C731=\"\"),\"\",INDEX(Categories!$A:$E,Entries!$D731,5))","v":""},"2014-01-01","2014-01-01",{"$f":"(Entries!K732-Entries!K731)*24*60","v":0}]
["",null,null,{"$f":"MATCH(C732,Categories!A:A,0)","v":{"$error":"#N/A"}},0,{"$f":"IF(OR($E732<>0,$C732=\"\"),\"\",INDEX(Categories!$A:$E,Entries!$D732,2))","v":""},{"$f":"IF(OR($E732<>0,$C732=\"\"),\"\",INDEX(Categories!$A:$E,Entries!$D732,3))","v":""},{"$f":"IF(OR($E732<>0,$C732=\"\"),\"\",INDEX(Categories!$A:$E,Entries!$D732,4))","v":""},{"$f":"IF(OR($E732<>0,$C732=\"\"),\"\",INDEX(Categories!$A:$E,Entries!$D732,5))","v":""},"2014-01-01","2014-01-01",{"$f":"(Entries!K733-Entries!K732)*24*60","v":0}]
["",null,null,{"$f":"MATCH(C733,Categories!A:A,0)","v":{"$error":"#N/A"}},0,{"$f":"IF(OR($E733<>0,$C733=\"\"),\"\",INDEX(Categories!$A:$E,Entries!$D733,2))","v":""},{"$f":"IF(OR($E733<>0,$C733=\"\"),\"\",INDEX(Categories!$A:$E,Entries!$D733,3))","v":""},{"$f":"IF(OR($E733<>0,$C733=\"\"),\"\",INDEX(Categories!$A:$E,Entries!$D733,4))","v":""},{"$f":"IF(OR($E733<>0,$C733=\"\"),\"\",INDEX(Categories!$A:$E,Entries!$D733,5))","v":""},"2014-01-01","2014-01-01",{"$f":"(Entries!K734-Entries!K733)*24*60","v":0}]
["",null,null,{"$f":"MATCH(C734,Categories!A:A,0)","v":{"$error":"#N/A"}},0,{"$f":"IF(OR($E734<>0,$C734=\"\"),\"\",INDEX(Categories!$A:$E,Entries!$D734,2))","v":""},{"$f":"IF(OR($E734<>0,$C734=\"\"),\"\",INDEX(Categories!$A:$E,Entries!$D734,3))","v":""},{"$f":"IF(OR($E734<>0,$C734=\"\"),\"\",INDEX(Categories!$A:$E,Entries!$D734,4))","v":""},{"$f":"IF(OR($E734<>0,$C734=\"\"),\"\",INDEX(Categories!$A:$E,Entries!$D734,5))","v":""},"2014-01-01","2014-01-01",{"$f":"(Entries!K735-Entries!K734)*24*60","v":0}]
["",null,null,{"$f":"MATCH(C735,Categories!A:A,0)","v":{"$error":"#N/A"}},0,{"$f":"IF(OR($E735<>0,$C735=\"\"),\"\",INDEX(Categories!$A:$E,Entries!$D735,2))","v":""},{"$f":"IF(OR($E735<>0,$C735=\"\"),\"\",INDEX(Categories!$A:$E,Entries!$D735,3))","v":""},{"$f":"IF(OR($E735<>0,$C735=\"\"),\"\",INDEX(Categories!$A:$E,Entries!$D735,4))","v":""},{"$f":"IF(OR($E735<>0,$C735=\"\"),\"\",INDEX(Categories!$A:$E,Entries!$D735,5))","v":""},"2014-01-01","2014-01-01",{"$f":"(Entries!K736-Entries!K735)*24*60","v":0}]
["",null,null,{"$f":"MATCH(C736,Categories!A:A,0)","v":{"$error":"#N/A"}},0,{"$f":"IF(OR($E736<>0,$C736=\"\"),\"\",INDEX(Categories!$A:$E,Entries!$D736,2))","v":""},{"$f":"IF(OR($E736<>0,$C736=\"\"),\"\",INDEX(Categories!$A:$E,Entries!$D736,3))","v":""},{"$f":"IF(OR($E736<>0,$C736=\"\"),\"\",INDEX(Categories!$A:$E,Entries!$D736,4))","v":""},{"$f":"IF(OR($E736<>0,$C736=\"\"),\"\",INDEX(Categories!$A:$E,Entries!$D736,5))","v":""},"2014-01-01","2014-01-01",{"$f":"(Entries!K737-Entries!K736)*24*60","v":0}]
["",null,null,{"$f":"MATCH(C737,Categories!A:A,0)","v":{"$error":"#N/A"}},0,{"$f":"IF(OR($E737<>0,$C737=\"\"),\"\",INDEX(Categories!$A:$E,Entries!$D737,2))","v":""},{"$f":"IF(OR($E737<>0,$C737=\"\"),\"\",INDEX(Categories!$A:$E,Entries!$D737,3))","v":""},{"$f":"IF(OR($E737<>0,$C737=\"\"),\"\",INDEX(Categories!$A:$E,Entries!$D737,4))","v":""},{"$f":"IF(OR($E737<>0,$C737=\"\"),\"\",INDEX(Categories!$A:$E,Entries!$D737,5))","v":""},"2014-01-01","2014-01-01",{"$f":"(Entries!K738-Entries!K737)*24*60","v":0}]
["",null,null,{"$f":"MATCH(C738,Categories!A:A,0)","v":{"$error":"#N/A"}},0,{"$f":"IF(OR($E738<>0,$C738=\"\"),\"\",INDEX(Categories!$A:$E,Entries!$D738,2))","v":""},{"$f":"IF(OR($E738<>0,$C738=\"\"),\"\",INDEX(Categories!$A:$E,Entries!$D738,3))","v":""},{"$f":"IF(OR($E738<>0,$C738=\"\"),\"\",INDEX(Categories!$A:$E,Entries!$D738,4))","v":""},{"$f":"IF(OR($E738<>0,$C738=\"\"),\"\",INDEX(Categories!$A:$E,Entries!$D738,5))","v":""},"2014-01-01","2014-01-01",{"$f":"(Entries!K739-Entries!K738)*24*60","v":0}]
["",null,null,{"$f":"MATCH(C739,Categories!A:A,0)","v":{"$error":"#N/A"}},0,{"$f":"IF(OR($E739<>0,$C739=\"\"),\"\",INDEX(Categories!$A:$E,Entries!$D739,2))","v":""},{"$f":"IF(OR($E739<>0,$C739=\"\"),\"\",INDEX(Categories!$A:$E,Entries!$D739,3))","v":""},{"$f":"IF(OR($E739<>0,$C739=\"\"),\"\",INDEX(Categories!$A:$E,Entries!$D739,4))","v":""},{"$f":"IF(OR($E739<>0,$C739=\"\"),\"\",INDEX(Categories!$A:$E,Entries!$D739,5))","v":""},"2014-01-01","2014-01-01",{"$f":"(Entries!K740-Entries!K739)*24*60","v":0}]
[{"$f":"IF(OR(B740>=B739,C739=\"z\",B740=\"\"),\"\",J739+1)","v":""},null,null,{"$f":"MATCH(C740,Categories!A:A,0)","v":{"$error":"#N/A"}},0,{"$f":"IF(OR($E740<>0,$C740=\"\"),\"\",INDEX(Categories!$A:$E,Entries!$D740,2))","v":""},{"$f":"IF(OR($E740<>0,$C740=\"\"),\"\",INDEX(Categories!$A:$E,Entries!$D740,3))","v":""},{"$f":"IF(OR($E740<>0,$C740=\"\"),\"\",INDEX(Categories!$A:$E,Entries!$D740,4))","v":""},{"$f":"IF(OR($E740<>0,$C740=\"\"),\"\",INDEX(Categories!$A:$E,Entries!$D740,5))","v":""},"2014-01-01","2014-01-01",{"$f":"(Entries!K741-Entries!K740)*24*60","v":0}]
["",null,null,{"$f":"MATCH(C741,Categories!A:A,0)","v":{"$error":"#N/A"}},0,{"$f":"IF(OR($E741<>0,$C741=\"\"),\"\",INDEX(Categories!$A:$E,Entries!$D741,2))","v":""},{"$f":"IF(OR($E741<>0,$C741=\"\"),\"\",INDEX(Categories!$A:$E,Entries!$D741,3))","v":""},{"$f":"IF(OR($E741<>0,$C741=\"\"),\"\",INDEX(Categories!$A:$E,Entries!$D741,4))","v":""},{"$f":"IF(OR($E741<>0,$C741=\"\"),\"\",INDEX(Categories!$A:$E,Entries!$D741,5))","v":""},"2014-01-01","2014-01-01",{"$f":"(Entries!K742-Entries!K741)*24*60","v":0}]
["",null,null,{"$f":"MATCH(C742,Categories!A:A,0)","v":{"$error":"#N/A"}},0,{"$f":"IF(OR($E742<>0,$C742=\"\"),\"\",INDEX(Categories!$A:$E,Entries!$D742,2))","v":""},{"$f":"IF(OR($E742<>0,$C742=\"\"),\"\",INDEX(Categories!$A:$E,Entries!$D742,3))","v":""},{"$f":"IF(OR($E742<>0,$C742=\"\"),\"\",INDEX(Categories!$A:$E,Entries!$D742,4))","v":""},{"$f":"IF(OR($E742<>0,$C742=\"\"),\"\",INDEX(Categories!$A:$E,Entries!$D742,5))","v":""},"2014-01-01","2014-01-01",{"$f":"(Entries!K743-Entries!K742)*24*60","v":0}]
["",null,null,{"$f":"MATCH(C743,Categories!A:A,0)","v":{"$error":"#N/A"}},0,{"$f":"IF(OR($E743<>0,$C743=\"\"),\"\",INDEX(Categories!$A:$E,Entries!$D743,2))","v":""},{"$f":"IF(OR($E743<>0,$C743=\"\"),\"\",INDEX(Categories!$A:$E,Entries!$D743,3))","v":""},{"$f":"IF(OR($E743<>0,$C743=\"\"),\"\",INDEX(Categories!$A:$E,Entries!$D743,4))","v":""},{"$f":"IF(OR($E743<>0,$C743=\"\"),\"\",INDEX(Categories!$A:$E,Entries!$D743,5))","v":""},"2014-01-01","2014-01-01",{"$f":"(Entries!K744-Entries!K743)*24*60","v":0}]
["",null,null,{"$f":"MATCH(C744,Categories!A:A,0)","v":{"$error":"#N/A"}},0,{"$f":"IF(OR($E744<>0,$C744=\"\"),\"\",INDEX(Categories!$A:$E,Entries!$D744,2))","v":""},{"$f":"IF(OR($E744<>0,$C744=\"\"),\"\",INDEX(Categories!$A:$E,Entries!$D744,3))","v":""},{"$f":"IF(OR($E744<>0,$C744=\"\"),\"\",INDEX(Categories!$A:$E,Entries!$D744,4))","v":""},{"$f":"IF(OR($E744<>0,$C744=\"\"),\"\",INDEX(Categories!$A:$E,Entries!$D744,5))","v":""},"2014-01-01","2014-01-01",{"$f":"(Entries!K745-Entries!K744)*24*60","v":0}]
["",null,null,{"$f":"MATCH(C745,Categories!A:A,0)","v":{"$error":"#N/A"}},0,{"$f":"IF(OR($E745<>0,$C745=\"\"),\"\",INDEX(Categories!$A:$E,Entries!$D745,2))","v":""},{"$f":"IF(OR($E745<>0,$C745=\"\"),\"\",INDEX(Categories!$A:$E,Entries!$D745,3))","v":""},{"$f":"IF(OR($E745<>0,$C745=\"\"),\"\",INDEX(Categories!$A:$E,Entries!$D745,4))","v":""},{"$f":"IF(OR($E745<>0,$C745=\"\"),\"\",INDEX(Categories!$A:$E,Entries!$D745,5))","v":""},"2014-01-01","2014-01-01",{"$f":"(Entries!K746-Entries!K745)*24*60","v":0}]
["",null,null,{"$f":"MATCH(C746,Categories!A:A,0)","v":{"$error":"#N/A"}},0,{"$f":"IF(OR($E746<>0,$C746=\"\"),\"\",INDEX(Categories!$A:$E,Entries!$D746,2))","v":""},{"$f":"IF(OR($E746<>0,$C746=\"\"),\"\",INDEX(Categories!$A:$E,Entries!$D746,3))","v":""},{"$f":"IF(OR($E746<>0,$C746=\"\"),\"\",INDEX(Categories!$A:$E,Entries!$D746,4))","v":""},{"$f":"IF(OR($E746<>0,$C746=\"\"),\"\",INDEX(Categories!$A:$E,Entries!$D746,5))","v":""},"2014-01-01","2014-01-01",{"$f":"(Entries!K747-Entries!K746)*24*60","v":0}]
["",null,null,{"$f":"MATCH(C747,Categories!A:A,0)","v":{"$error":"#N/A"}},0,{"$f":"IF(OR($E747<>0,$C747=\"\"),\"\",INDEX(Categories!$A:$E,Entries!$D747,2))","v":""},{"$f":"IF(OR($E747<>0,$C747=\"\"),\"\",INDEX(Categories!$A:$E,Entries!$D747,3))","v":""},{"$f":"IF(OR($E747<>0,$C747=\"\"),\"\",INDEX(Categories!$A:$E,Entries!$D747,4))","v":""},{"$f":"IF(OR($E747<>0,$C747=\"\"),\"\",INDEX(Categories!$A:$E,Entries!$D747,5))","v":""},"2014-01-01","2014-01-01",{"$f":"(Entries!K748-Entries!K747)*24*60","v":0}]
["",null,null,{"$f":"MATCH(C748,Categories!A:A,0)","v":{"$error":"#N/A"}},0,{"$f":"IF(OR($E748<>0,$C748=\"\"),\"\",INDEX(Categories!$A:$E,Entries!$D748,2))","v":""},{"$f":"IF(OR($E748<>0,$C748=\"\"),\"\",INDEX(Categories!$A:$E,Entries!$D748,3))","v":""},{"$f":"IF(OR($E748<>0,$C748=\"\"),\"\",INDEX(Categories!$A:$E,Entries!$D748,4))","v":""},{"$f":"IF(OR($E748<>0,$C748=\"\"),\"\",INDEX(Categories!$A:$E,Entries!$D748,5))","v":""},"2014-01-01","2014-01-01",{"$f":"(Entries!K749-Entries!K748)*24*60","v":0}]
["",null,null,{"$f":"MATCH(C749,Categories!A:A,0)","v":{"$error":"#N/A"}},0,{"$f":"IF(OR($E749<>0,$C749=\"\"),\"\",INDEX(Categories!$A:$E,Entries!$D749,2))","v":""},{"$f":"IF(OR($E749<>0,$C749=\"\"),\"\",INDEX(Categories!$A:$E,Entries!$D749,3))","v":""},{"$f":"IF(OR($E749<>0,$C749=\"\"),\"\",INDEX(Categories!$A:$E,Entries!$D749,4))","v":""},{"$f":"IF(OR($E749<>0,$C749=\"\"),\"\",INDEX(Categories!$A:$E,Entries!$D749,5))","v":""},"2014-01-01","2014-01-01",{"$f":"(Entries!K750-Entries!K749)*24*60","v":0}]
["",null,null,{"$f":"MATCH(C750,Categories!A:A,0)","v":{"$error":"#N/A"}},0,{"$f":"IF(OR($E750<>0,$C750=\"\"),\"\",INDEX(Categories!$A:$E,Entries!$D750,2))","v":""},{"$f":"IF(OR($E750<>0,$C750=\"\"),\"\",INDEX(Categories!$A:$E,Entries!$D750,3))","v":""},{"$f":"IF(OR($E750<>0,$C750=\"\"),\"\",INDEX(Categories!$A:$E,Entries!$D750,4))","v":""},{"$f":"IF(OR($E750<>0,$C750=\"\"),\"\",INDEX(Categories!$A:$E,Entries!$D750,5))","v":""},"2014-01-01","2014-01-01",{"$f":"(Entries!K751-Entries!K750)*24*60","v":0}]
["",null,null,{"$f":"MATCH(C751,Categories!A:A,0)","v":{"$error":"#N/A"}},0,{"$f":"IF(OR($E751<>0,$C751=\"\"),\"\",INDEX(Categories!$A:$E,Entries!$D751,2))","v":""},{"$f":"IF(OR($E751<>0,$C751=\"\"),\"\",INDEX(Categories!$A:$E,Entries!$D751,3))","v":""},{"$f":"IF(OR($E751<>0,$C751=\"\"),\"\",INDEX(Categories!$A:$E,Entries!$D751,4))","v":""},{"$f":"IF(OR($E751<>0,$C751=\"\"),\"\",INDEX(Categories!$A:$E,Entries!$D751,5))","v":""},"2014-01-01","2014-01-01",{"$f":"(Entries!K752-Entries!K751)*24*60","v":0}]
["",null,null,{"$f":"MATCH(C752,Categories!A:A,0)","v":{"$error":"#N/A"}},0,{"$f":"IF(OR($E752<>0,$C752=\"\"),\"\",INDEX(Categories!$A:$E,Entries!$D752,2))","v":""},{"$f":"IF(OR($E752<>0,$C752=\"\"),\"\",INDEX(Categories!$A:$E,Entries!$D752,3))","v":""},{"$f":"IF(OR($E752<>0,$C752=\"\"),\"\",INDEX(Categories!$A:$E,Entries!$D752,4))","v":""},{"$f":"IF(OR($E752<>0,$C752=\"\"),\"\",INDEX(Categories!$A:$E,Entries!$D752,5))","v":""},"2014-01-01","2014-01-01",{"$f":"(Entries!K753-Entries!K752)*24*60","v":0}]
["",null,null,{"$f":"MATCH(C753,Categories!A:A,0)","v":{"$error":"#N/A"}},0,{"$f":"IF(OR($E753<>0,$C753=\"\"),\"\",INDEX(Categories!$A:$E,Entries!$D753,2))","v":""},{"$f":"IF(OR($E753<>0,$C753=\"\"),\"\",INDEX(Categories!$A:$E,Entries!$D753,3))","v":""},{"$f":"IF(OR($E753<>0,$C753=\"\"),\"\",INDEX(Categories!$A:$E,Entries!$D753,4))","v":""},{"$f":"IF(OR($E753<>0,$C753=\"\"),\"\",INDEX(Categories!$A:$E,Entries!$D753,5))","v":""},"2014-01-01","2014-01-01",{"$f":"(Entries!K754-Entries!K753)*24*60","v":0}]
["",null,null,{"$f":"MATCH(C754,Categories!A:A,0)","v":{"$error":"#N/A"}},0,{"$f":"IF(OR($E754<>0,$C754=\"\"),\"\",INDEX(Categories!$A:$E,Entries!$D754,2))","v":""},{"$f":"IF(OR($E754<>0,$C754=\"\"),\"\",INDEX(Categories!$A:$E,Entries!$D754,3))","v":""},{"$f":"IF(OR($E754<>0,$C754=\"\"),\"\",INDEX(Categories!$A:$E,Entries!$D754,4))","v":""},{"$f":"IF(OR($E754<>0,$C754=\"\"),\"\",INDEX(Categories!$A:$E,Entries!$D754,5))","v":""},"2014-01-01","2014-01-01",{"$f":"(Entries!K755-Entries!K754)*24*60","v":0}]
["",null,null,{"$f":"MATCH(C755,Categories!A:A,0)","v":{"$error":"#N/A"}},0,{"$f":"IF(OR($E755<>0,$C755=\"\"),\"\",INDEX(Categories!$A:$E,Entries!$D755,2))","v":""},{"$f":"IF(OR($E755<>0,$C755=\"\"),\"\",INDEX(Categories!$A:$E,Entries!$D755,3))","v":""},{"$f":"IF(OR($E755<>0,$C755=\"\"),\"\",INDEX(Categories!$A:$E,Entries!$D755,4))","v":""},{"$f":"IF(OR($E755<>0,$C755=\"\"),\"\",INDEX(Categories!$A:$E,Entries!$D755,5))","v":""},"2014-01-01","2014-01-01",{"$f":"(Entries!K756-Entries!K755)*24*60","v":0}]
["",null,null,{"$f":"MATCH(C756,Categories!A:A,0)","v":{"$error":"#N/A"}},0,{"$f":"IF(OR($E756<>0,$C756=\"\"),\"\",INDEX(Categories!$A:$E,Entries!$D756,2))","v":""},{"$f":"IF(OR($E756<>0,$C756=\"\"),\"\",INDEX(Categories!$A:$E,Entries!$D756,3))","v":""},{"$f":"IF(OR($E756<>0,$C756=\"\"),\"\",INDEX(Categories!$A:$E,Entries!$D756,4))","v":""},{"$f":"IF(OR($E756<>0,$C756=\"\"),\"\",INDEX(Categories!$A:$E,Entries!$D756,5))","v":""},"2014-01-01","2014-01-01",{"$f":"(Entries!K757-Entries!K756)*24*60","v":0}]
["",null,null,{"$f":"MATCH(C757,Categories!A:A,0)","v":{"$error":"#N/A"}},0,{"$f":"IF(OR($E757<>0,$C757=\"\"),\"\",INDEX(Categories!$A:$E,Entries!$D757,2))","v":""},{"$f":"IF(OR($E757<>0,$C757=\"\"),\"\",INDEX(Categories!$A:$E,Entries!$D757,3))","v":""},{"$f":"IF(OR($E757<>0,$C757=\"\"),\"\",INDEX(Categories!$A:$E,Entries!$D757,4))","v":""},{"$f":"IF(OR($E757<>0,$C757=\"\"),\"\",INDEX(Categories!$A:$E,Entries!$D757,5))","v":""},"2014-01-01","2014-01-01",{"$f":"(Entries!K758-Entries!K757)*24*60","v":0}]
["",null,null,{"$f":"MATCH(C758,Categories!A:A,0)","v":{"$error":"#N/A"}},0,{"$f":"IF(OR($E758<>0,$C758=\"\"),\"\",INDEX(Categories!$A:$E,Entries!$D758,2))","v":""},{"$f":"IF(OR($E758<>0,$C758=\"\"),\"\",INDEX(Categories!$A:$E,Entries!$D758,3))","v":""},{"$f":"IF(OR($E758<>0,$C758=\"\"),\"\",INDEX(Categories!$A:$E,Entries!$D758,4))","v":""},{"$f":"IF(OR($E758<>0,$C758=\"\"),\"\",INDEX(Categories!$A:$E,Entries!$D758,5))","v":""},"2014-01-01","2014-01-01",{"$f":"(Entries!K759-Entries!K758)*24*60","v":0}]
["",null,null,{"$f":"MATCH(C759,Categories!A:A,0)","v":{"$error":"#N/A"}},0,{"$f":"IF(OR($E759<>0,$C759=\"\"),\"\",INDEX(Categories!$A:$E,Entries!$D759,2))","v":""},{"$f":"IF(OR($E759<>0,$C759=\"\"),\"\",INDEX(Categories!$A:$E,Entries!$D759,3))","v":""},{"$f":"IF(OR($E759<>0,$C759=\"\"),\"\",INDEX(Categories!$A:$E,Entries!$D759,4))","v":""},{"$f":"IF(OR($E759<>0,$C759=\"\"),\"\",INDEX(Categories!$A:$E,Entries!$D759,5))","v":""},"2014-01-01","2014-01-01",{"$f":"(Entries!K760-Entries!K759)*24*60","v":0}]
["",null,null,{"$f":"MATCH(C760,Categories!A:A,0)","v":{"$error":"#N/A"}},0,{"$f":"IF(OR($E760<>0,$C760=\"\"),\"\",INDEX(Categories!$A:$E,Entries!$D760,2))","v":""},{"$f":"IF(OR($E760<>0,$C760=\"\"),\"\",INDEX(Categories!$A:$E,Entries!$D760,3))","v":""},{"$f":"IF(OR($E760<>0,$C760=\"\"),\"\",INDEX(Categories!$A:$E,Entries!$D760,4))","v":""},{"$f":"IF(OR($E760<>0,$C760=\"\"),\"\",INDEX(Categories!$A:$E,Entries!$D760,5))","v":""},"2014-01-01","2014-01-01",{"$f":"(Entries!K761-Entries!K760)*24*60","v":0}]
["",null,null,{"$f":"MATCH(C761,Categories!A:A,0)","v":{"$error":"#N/A"}},0,{"$f":"IF(OR($E761<>0,$C761=\"\"),\"\",INDEX(Categories!$A:$E,Entries!$D761,2))","v":""},{"$f":"IF(OR($E761<>0,$C761=\"\"),\"\",INDEX(Categories!$A:$E,Entries!$D761,3))","v":""},{"$f":"IF(OR($E761<>0,$C761=\"\"),\"\",INDEX(Categories!$A:$E,Entries!$D761,4))","v":""},{"$f":"IF(OR($E761<>0,$C761=\"\"),\"\",INDEX(Categories!$A:$E,Entries!$D761,5))","v":""},"2014-01-01","2014-01-01",{"$f":"(Entries!K762-Entries!K761)*24*60","v":0}]
["",null,null,{"$f":"MATCH(C762,Categories!A:A,0)","v":{"$error":"#N/A"}},0,{"$f":"IF(OR($E762<>0,$C762=\"\"),\"\",INDEX(Categories!$A:$E,Entries!$D762,2))","v":""},{"$f":"IF(OR($E762<>0,$C762=\"\"),\"\",INDEX(Categories!$A:$E,Entries!$D762,3))","v":""},{"$f":"IF(OR($E762<>0,$C762=\"\"),\"\",INDEX(Categories!$A:$E,Entries!$D762,4))","v":""},{"$f":"IF(OR($E762<>0,$C762=\"\"),\"\",INDEX(Categories!$A:$E,Entries!$D762,5))","v":""},"2014-01-01","2014-01-01",{"$f":"(Entries!K763-Entries!K762)*24*60","v":0}]
["",null,null,{"$f":"MATCH(C763,Categories!A:A,0)","v":{"$error":"#N/A"}},0,{"$f":"IF(OR($E763<>0,$C763=\"\"),\"\",INDEX(Categories!$A:$E,Entries!$D763,2))","v":""},{"$f":"IF(OR($E763<>0,$C763=\"\"),\"\",INDEX(Categories!$A:$E,Entries!$D763,3))","v":""},{"$f":"IF(OR($E763<>0,$C763=\"\"),\"\",INDEX(Categories!$A:$E,Entries!$D763,4))","v":""},{"$f":"IF(OR($E763<>0,$C763=\"\"),\"\",INDEX(Categories!$A:$E,Entries!$D763,5))","v":""},"2014-01-01","2014-01-01",{"$f":"(Entries!K764-Entries!K763)*24*60","v":0}]
["",null,null,{"$f":"MATCH(C764,Categories!A:A,0)","v":{"$error":"#N/A"}},0,{"$f":"IF(OR($E764<>0,$C764=\"\"),\"\",INDEX(Categories!$A:$E,Entries!$D764,2))","v":""},{"$f":"IF(OR($E764<>0,$C764=\"\"),\"\",INDEX(Categories!$A:$E,Entries!$D764,3))","v":""},{"$f":"IF(OR($E764<>0,$C764=\"\"),\"\",INDEX(Categories!$A:$E,Entries!$D764,4))","v":""},{"$f":"IF(OR($E764<>0,$C764=\"\"),\"\",INDEX(Categories!$A:$E,Entries!$D764,5))","v":""},"2014-01-01","2014-01-01",{"$f":"(Entries!K765-Entries!K764)*24*60","v":0}]
["",null,null,{"$f":"MATCH(C765,Categories!A:A,0)","v":{"$error":"#N/A"}},0,{"$f":"IF(OR($E765<>0,$C765=\"\"),\"\",INDEX(Categories!$A:$E,Entries!$D765,2))","v":""},{"$f":"IF(OR($E765<>0,$C765=\"\"),\"\",INDEX(Categories!$A:$E,Entries!$D765,3))","v":""},{"$f":"IF(OR($E765<>0,$C765=\"\"),\"\",INDEX(Categories!$A:$E,Entries!$D765,4))","v":""},{"$f":"IF(OR($E765<>0,$C765=\"\"),\"\",INDEX(Categories!$A:$E,Entries!$D765,5))","v":""},"2014-01-01","2014-01-01",{"$f":"(Entries!K766-Entries!K765)*24*60","v":0}]
["",null,null,{"$f":"MATCH(C766,Categories!A:A,0)","v":{"$error":"#N/A"}},0,{"$f":"IF(OR($E766<>0,$C766=\"\"),\"\",INDEX(Categories!$A:$E,Entries!$D766,2))","v":""},{"$f":"IF(OR($E766<>0,$C766=\"\"),\"\",INDEX(Categories!$A:$E,Entries!$D766,3))","v":""},{"$f":"IF(OR($E766<>0,$C766=\"\"),\"\",INDEX(Categories!$A:$E,Entries!$D766,4))","v":""},{"$f":"IF(OR($E766<>0,$C766=\"\"),\"\",INDEX(Categories!$A:$E,Entries!$D766,5))","v":""},"2014-01-01","2014-01-01",{"$f":"(Entries!K767-Entries!K766)*24*60","v":0}]
["",null,null,{"$f":"MATCH(C767,Categories!A:A,0)","v":{"$error":"#N/A"}},0,{"$f":"IF(OR($E767<>0,$C767=\"\"),\"\",INDEX(Categories!$A:$E,Entries!$D767,2))","v":""},{"$f":"IF(OR($E767<>0,$C767=\"\"),\"\",INDEX(Categories!$A:$E,Entries!$D767,3))","v":""},{"$f":"IF(OR($E767<>0,$C767=\"\"),\"\",INDEX(Categories!$A:$E,Entries!$D767,4))","v":""},{"$f":"IF(OR($E767<>0,$C767=\"\"),\"\",INDEX(Categories!$A:$E,Entries!$D767,5))","v":""},"2014-01-01","2014-01-01",{"$f":"(Entries!K768-Entries!K767)*24*60","v":0}]
["",null,null,{"$f":"MATCH(C768,Categories!A:A,0)","v":{"$error":"#N/A"}},0,{"$f":"IF(OR($E768<>0,$C768=\"\"),\"\",INDEX(Categories!$A:$E,Entries!$D768,2))","v":""},{"$f":"IF(OR($E768<>0,$C768=\"\"),\"\",INDEX(Categories!$A:$E,Entries!$D768,3))","v":""},{"$f":"IF(OR($E768<>0,$C768=\"\"),\"\",INDEX(Categories!$A:$E,Entries!$D768,4))","v":""},{"$f":"IF(OR($E768<>0,$C768=\"\"),\"\",INDEX(Categories!$A:$E,Entries!$D768,5))","v":""},"2014-01-01","2014-01-01",{"$f":"(Entries!K769-Entries!K768)*24*60","v":0}]
["",null,null,{"$f":"MATCH(C769,Categories!A:A,0)","v":{"$error":"#N/A"}},0,{"$f":"IF(OR($E769<>0,$C769=\"\"),\"\",INDEX(Categories!$A:$E,Entries!$D769,2))","v":""},{"$f":"IF(OR($E769<>0,$C769=\"\"),\"\",INDEX(Categories!$A:$E,Entries!$D769,3))","v":""},{"$f":"IF(OR($E769<>0,$C769=\"\"),\"\",INDEX(Categories!$A:$E,Entries!$D769,4))","v":""},{"$f":"IF(OR($E769<>0,$C769=\"\"),\"\",INDEX(Categories!$A:$E,Entries!$D769,5))","v":""},"2014-01-01","2014-01-01",{"$f":"(Entries!K770-Entries!K769)*24*60","v":0}]
["",null,null,{"$f":"MATCH(C770,Categories!A:A,0)","v":{"$error":"#N/A"}},{"$f":"IF(AND(ISERROR(D770),C770<>\"\"),ROW(D770),0)","v":0},{"$f":"IF(OR($E770<>0,$C770=\"\"),\"\",INDEX(Categories!$A:$E,Entries!$D770,2))","v":""},{"$f":"IF(OR($E770<>0,$C770=\"\"),\"\",INDEX(Categories!$A:$E,Entries!$D770,3))","v":""},{"$f":"IF(OR($E770<>0,$C770=\"\"),\"\",INDEX(Categories!$A:$E,Entries!$D770,4))","v":""},{"$f":"IF(OR($E770<>0,$C770=\"\"),\"\",INDEX(Categories!$A:$E,Entries!$D770,5))","v":""},{"$f":"IF(A770=\"\",J769,A770)","v":"2014-01-01"},{"$f":"J770+B770","v":"2014-01-01"},{"$f":"(Entries!K771-Entries!K770)*24*60","v":0}]
["",null,null,{"$f":"MATCH(C771,Categories!A:A,0)","v":{"$error":"#N/A"}},0,{"$f":"IF(OR($E771<>0,$C771=\"\"),\"\",INDEX(Categories!$A:$E,Entries!$D771,2))","v":""},{"$f":"IF(OR($E771<>0,$C771=\"\"),\"\",INDEX(Categories!$A:$E,Entries!$D771,3))","v":""},{"$f":"IF(OR($E771<>0,$C771=\"\"),\"\",INDEX(Categories!$A:$E,Entries!$D771,4))","v":""},{"$f":"IF(OR($E771<>0,$C771=\"\"),\"\",INDEX(Categories!$A:$E,Entries!$D771,5))","v":""},"2014-01-01","2014-01-01",{"$f":"(Entries!K772-Entries!K771)*24*60","v":0}]
["",null,null,{"$f":"MATCH(C772,Categories!A:A,0)","v":{"$error":"#N/A"}},0,{"$f":"IF(OR($E772<>0,$C772=\"\"),\"\",INDEX(Categories!$A:$E,Entries!$D772,2))","v":""},{"$f":"IF(OR($E772<>0,$C772=\"\"),\"\",INDEX(Categories!$A:$E,Entries!$D772,3))","v":""},{"$f":"IF(OR($E772<>0,$C772=\"\"),\"\",INDEX(Categories!$A:$E,Entries!$D772,4))","v":""},{"$f":"IF(OR($E772<>0,$C772=\"\"),\"\",INDEX(Categories!$A:$E,Entries!$D772,5))","v":""},"2014-01-01","2014-01-01",{"$f":"(Entries!K773-Entries!K772)*24*60","v":0}]
["",null,null,{"$f":"MATCH(C773,Categories!A:A,0)","v":{"$error":"#N/A"}},0,{"$f":"IF(OR($E773<>0,$C773=\"\"),\"\",INDEX(Categories!$A:$E,Entries!$D773,2))","v":""},{"$f":"IF(OR($E773<>0,$C773=\"\"),\"\",INDEX(Categories!$A:$E,Entries!$D773,3))","v":""},{"$f":"IF(OR($E773<>0,$C773=\"\"),\"\",INDEX(Categories!$A:$E,Entries!$D773,4))","v":""},{"$f":"IF(OR($E773<>0,$C773=\"\"),\"\",INDEX(Categories!$A:$E,Entries!$D773,5))","v":""},"2014-01-01","2014-01-01",{"$f":"(Entries!K774-Entries!K773)*24*60","v":0}]
["",null,null,{"$f":"MATCH(C774,Categories!A:A,0)","v":{"$error":"#N/A"}},0,{"$f":"IF(OR($E774<>0,$C774=\"\"),\"\",INDEX(Categories!$A:$E,Entries!$D774,2))","v":""},{"$f":"IF(OR($E774<>0,$C774=\"\"),\"\",INDEX(Categories!$A:$E,Entries!$D774,3))","v":""},{"$f":"IF(OR($E774<>0,$C774=\"\"),\"\",INDEX(Categories!$A:$E,Entries!$D774,4))","v":""},{"$f":"IF(OR($E774<>0,$C774=\"\"),\"\",INDEX(Categories!$A:$E,Entries!$D774,5))","v":""},"2014-01-01","2014-01-01",{"$f":"(Entries!K775-Entries!K774)*24*60","v":0}]
["",null,null,{"$f":"MATCH(C775,Categories!A:A,0)","v":{"$error":"#N/A"}},0,{"$f":"IF(OR($E775<>0,$C775=\"\"),\"\",INDEX(Categories!$A:$E,Entries!$D775,2))","v":""},{"$f":"IF(OR($E775<>0,$C775=\"\"),\"\",INDEX(Categories!$A:$E,Entries!$D775,3))","v":""},{"$f":"IF(OR($E775<>0,$C775=\"\"),\"\",INDEX(Categories!$A:$E,Entries!$D775,4))","v":""},{"$f":"IF(OR($E775<>0,$C775=\"\"),\"\",INDEX(Categories!$A:$E,Entries!$D775,5))","v":""},"2014-01-01","2014-01-01",{"$f":"(Entries!K776-Entries!K775)*24*60","v":0}]
["",null,null,{"$f":"MATCH(C776,Categories!A:A,0)","v":{"$error":"#N/A"}},0,{"$f":"IF(OR($E776<>0,$C776=\"\"),\"\",INDEX(Categories!$A:$E,Entries!$D776,2))","v":""},{"$f":"IF(OR($E776<>0,$C776=\"\"),\"\",INDEX(Categories!$A:$E,Entries!$D776,3))","v":""},{"$f":"IF(OR($E776<>0,$C776=\"\"),\"\",INDEX(Categories!$A:$E,Entries!$D776,4))","v":""},{"$f":"IF(OR($E776<>0,$C776=\"\"),\"\",INDEX(Categories!$A:$E,Entries!$D776,5))","v":""},"2014-01-01","2014-01-01",{"$f":"(Entries!K777-Entries!K776)*24*60","v":0}]
["",null,null,{"$f":"MATCH(C777,Categories!A:A,0)","v":{"$error":"#N/A"}},0,{"$f":"IF(OR($E777<>0,$C777=\"\"),\"\",INDEX(Categories!$A:$E,Entries!$D777,2))","v":""},{"$f":"IF(OR($E777<>0,$C777=\"\"),\"\",INDEX(Categories!$A:$E,Entries!$D777,3))","v":""},{"$f":"IF(OR($E777<>0,$C777=\"\"),\"\",INDEX(Categories!$A:$E,Entries!$D777,4))","v":""},{"$f":"IF(OR($E777<>0,$C777=\"\"),\"\",INDEX(Categories!$A:$E,Entries!$D777,5))","v":""},"2014-01-01","2014-01-01",{"$f":"(Entries!K778-Entries!K777)*24*60","v":0}]
["",null,null,{"$f":"MATCH(C778,Categories!A:A,0)","v":{"$error":"#N/A"}},0,{"$f":"IF(OR($E778<>0,$C778=\"\"),\"\",INDEX(Categories!$A:$E,Entries!$D778,2))","v":""},{"$f":"IF(OR($E778<>0,$C778=\"\"),\"\",INDEX(Categories!$A:$E,Entries!$D778,3))","v":""},{"$f":"IF(OR($E778<>0,$C778=\"\"),\"\",INDEX(Categories!$A:$E,Entries!$D778,4))","v":""},{"$f":"IF(OR($E778<>0,$C778=\"\"),\"\",INDEX(Categories!$A:$E,Entries!$D778,5))","v":""},"2014-01-01","2014-01-01",{"$f":"(Entries!K779-Entries!K778)*24*60","v":0}]
["",null,null,{"$f":"MATCH(C779,Categories!A:A,0)","v":{"$error":"#N/A"}},0,{"$f":"IF(OR($E779<>0,$C779=\"\"),\"\",INDEX(Categories!$A:$E,Entries!$D779,2))","v":""},{"$f":"IF(OR($E779<>0,$C779=\"\"),\"\",INDEX(Categories!$A:$E,Entries!$D779,3))","v":""},{"$f":"IF(OR($E779<>0,$C779=\"\"),\"\",INDEX(Categories!$A:$E,Entries!$D779,4))","v":""},{"$f":"IF(OR($E779<>0,$C779=\"\"),\"\",INDEX(Categories!$A:$E,Entries!$D779,5))","v":""},"2014-01-01","2014-01-01",{"$f":"(Entries!K780-Entries!K779)*24*60","v":0}]
["",null,null,{"$f":"MATCH(C780,Categories!A:A,0)","v":{"$error":"#N/A"}},0,{"$f":"IF(OR($E780<>0,$C780=\"\"),\"\",INDEX(Categories!$A:$E,Entries!$D780,2))","v":""},{"$f":"IF(OR($E780<>0,$C780=\"\"),\"\",INDEX(Categories!$A:$E,Entries!$D780,3))","v":""},{"$f":"IF(OR($E780<>0,$C780=\"\"),\"\",INDEX(Categories!$A:$E,Entries!$D780,4))","v":""},{"$f":"IF(OR($E780<>0,$C780=\"\"),\"\",INDEX(Categories!$A:$E,Entries!$D780,5))","v":""},"2014-01-01","2014-01-01",{"$f":"(Entries!K781-Entries!K780)*24*60","v":0}]
["",null,null,{"$f":"MATCH(C781,Categories!A:A,0)","v":{"$error":"#N/A"}},0,{"$f":"IF(OR($E781<>0,$C781=\"\"),\"\",INDEX(Categories!$A:$E,Entries!$D781,2))","v":""},{"$f":"IF(OR($E781<>0,$C781=\"\"),\"\",INDEX(Categories!$A:$E,Entries!$D781,3))","v":""},{"$f":"IF(OR($E781<>0,$C781=\"\"),\"\",INDEX(Categories!$A:$E,Entries!$D781,4))","v":""},{"$f":"IF(OR($E781<>0,$C781=\"\"),\"\",INDEX(Categories!$A:$E,Entries!$D781,5))","v":""},"2014-01-01","2014-01-01",{"$f":"(Entries!K782-Entries!K781)*24*60","v":0}]
["",null,null,{"$f":"MATCH(C782,Categories!A:A,0)","v":{"$error":"#N/A"}},0,{"$f":"IF(OR($E782<>0,$C782=\"\"),\"\",INDEX(Categories!$A:$E,Entries!$D782,2))","v":""},{"$f":"IF(OR($E782<>0,$C782=\"\"),\"\",INDEX(Categories!$A:$E,Entries!$D782,3))","v":""},{"$f":"IF(OR($E782<>0,$C782=\"\"),\"\",INDEX(Categories!$A:$E,Entries!$D782,4))","v":""},{"$f":"IF(OR($E782<>0,$C782=\"\"),\"\",INDEX(Categories!$A:$E,Entries!$D782,5))","v":""},"2014-01-01","2014-01-01",{"$f":"(Entries!K783-Entries!K782)*24*60","v":0}]
["",null,null,{"$f":"MATCH(C783,Categories!A:A,0)","v":{"$error":"#N/A"}},0,{"$f":"IF(OR($E783<>0,$C783=\"\"),\"\",INDEX(Categories!$A:$E,Entries!$D783,2))","v":""},{"$f":"IF(OR($E783<>0,$C783=\"\"),\"\",INDEX(Categories!$A:$E,Entries!$D783,3))","v":""},{"$f":"IF(OR($E783<>0,$C783=\"\"),\"\",INDEX(Categories!$A:$E,Entries!$D783,4))","v":""},{"$f":"IF(OR($E783<>0,$C783=\"\"),\"\",INDEX(Categories!$A:$E,Entries!$D783,5))","v":""},"2014-01-01","2014-01-01",{"$f":"(Entries!K784-Entries!K783)*24*60","v":0}]
["",null,null,{"$f":"MATCH(C784,Categories!A:A,0)","v":{"$error":"#N/A"}},0,{"$f":"IF(OR($E784<>0,$C784=\"\"),\"\",INDEX(Categories!$A:$E,Entries!$D784,2))","v":""},{"$f":"IF(OR($E784<>0,$C784=\"\"),\"\",INDEX(Categories!$A:$E,Entries!$D784,3))","v":""},{"$f":"IF(OR($E784<>0,$C784=\"\"),\"\",INDEX(Categories!$A:$E,Entries!$D784,4))","v":""},{"$f":"IF(OR($E784<>0,$C784=\"\"),\"\",INDEX(Categories!$A:$E,Entries!$D784,5))","v":""},"2014-01-01","2014-01-01",{"$f":"(Entries!K785-Entries!K784)*24*60","v":0}]
["",null,null,{"$f":"MATCH(C785,Categories!A:A,0)","v":{"$error":"#N/A"}},0,{"$f":"IF(OR($E785<>0,$C785=\"\"),\"\",INDEX(Categories!$A:$E,Entries!$D785,2))","v":""},{"$f":"IF(OR($E785<>0,$C785=\"\"),\"\",INDEX(Categories!$A:$E,Entries!$D785,3))","v":""},{"$f":"IF(OR($E785<>0,$C785=\"\"),\"\",INDEX(Categories!$A:$E,Entries!$D785,4))","v":""},{"$f":"IF(OR($E785<>0,$C785=\"\"),\"\",INDEX(Categories!$A:$E,Entries!$D785,5))","v":""},"2014-01-01","2014-01-01",{"$f":"(Entries!K786-Entries!K785)*24*60","v":0}]
["",null,null,{"$f":"MATCH(C786,Categories!A:A,0)","v":{"$error":"#N/A"}},0,{"$f":"IF(OR($E786<>0,$C786=\"\"),\"\",INDEX(Categories!$A:$E,Entries!$D786,2))","v":""},{"$f":"IF(OR($E786<>0,$C786=\"\"),\"\",INDEX(Categories!$A:$E,Entries!$D786,3))","v":""},{"$f":"IF(OR($E786<>0,$C786=\"\"),\"\",INDEX(Categories!$A:$E,Entries!$D786,4))","v":""},{"$f":"IF(OR($E786<>0,$C786=\"\"),\"\",INDEX(Categories!$A:$E,Entries!$D786,5))","v":""},"2014-01-01","2014-01-01",{"$f":"(Entries!K787-Entries!K786)*24*60","v":0}]
["",null,null,{"$f":"MATCH(C787,Categories!A:A,0)","v":{"$error":"#N/A"}},0,{"$f":"IF(OR($E787<>0,$C787=\"\"),\"\",INDEX(Categories!$A:$E,Entries!$D787,2))","v":""},{"$f":"IF(OR($E787<>0,$C787=\"\"),\"\",INDEX(Categories!$A:$E,Entries!$D787,3))","v":""},{"$f":"IF(OR($E787<>0,$C787=\"\"),\"\",INDEX(Categories!$A:$E,Entries!$D787,4))","v":""},{"$f":"IF(OR($E787<>0,$C787=\"\"),\"\",INDEX(Categories!$A:$E,Entries!$D787,5))","v":""},"2014-01-01","2014-01-01",{"$f":"(Entries!K788-Entries!K787)*24*60","v":0}]
["",null,null,{"$f":"MATCH(C788,Categories!A:A,0)","v":{"$error":"#N/A"}},0,{"$f":"IF(OR($E788<>0,$C788=\"\"),\"\",INDEX(Categories!$A:$E,Entries!$D788,2))","v":""},{"$f":"IF(OR($E788<>0,$C788=\"\"),\"\",INDEX(Categories!$A:$E,Entries!$D788,3))","v":""},{"$f":"IF(OR($E788<>0,$C788=\"\"),\"\",INDEX(Categories!$A:$E,Entries!$D788,4))","v":""},{"$f":"IF(OR($E788<>0,$C788=\"\"),\"\",INDEX(Categories!$A:$E,Entries!$D788,5))","v":""},"2014-01-01","2014-01-01",{"$f":"(Entries!K789-Entries!K788)*24*60","v":0}]
["",null,null,{"$f":"MATCH(C789,Categories!A:A,0)","v":{"$error":"#N/A"}},0,{"$f":"IF(OR($E789<>0,$C789=\"\"),\"\",INDEX(Categories!$A:$E,Entries!$D789,2))","v":""},{"$f":"IF(OR($E789<>0,$C789=\"\"),\"\",INDEX(Categories!$A:$E,Entries!$D789,3))","v":""},{"$f":"IF(OR($E789<>0,$C789=\"\"),\"\",INDEX(Categories!$A:$E,Entries!$D789,4))","v":""},{"$f":"IF(OR($E789<>0,$C789=\"\"),\"\",INDEX(Categories!$A:$E,Entries!$D789,5))","v":""},"2014-01-01","2014-01-01",{"$f":"(Entries!K790-Entries!K789)*24*60","v":0}]
["",null,null,{"$f":"MATCH(C790,Categories!A:A,0)","v":{"$error":"#N/A"}},0,{"$f":"IF(OR($E790<>0,$C790=\"\"),\"\",INDEX(Categories!$A:$E,Entries!$D790,2))","v":""},{"$f":"IF(OR($E790<>0,$C790=\"\"),\"\",INDEX(Categories!$A:$E,Entries!$D790,3))","v":""},{"$f":"IF(OR($E790<>0,$C790=\"\"),\"\",INDEX(Categories!$A:$E,Entries!$D790,4))","v":""},{"$f":"IF(OR($E790<>0,$C790=\"\"),\"\",INDEX(Categories!$A:$E,Entries!$D790,5))","v":""},"2014-01-01","2014-01-01",{"$f":"(Entries!K791-Entries!K790)*24*60","v":0}]
["",null,null,{"$f":"MATCH(C791,Categories!A:A,0)","v":{"$error":"#N/A"}},0,{"$f":"IF(OR($E791<>0,$C791=\"\"),\"\",INDEX(Categories!$A:$E,Entries!$D791,2))","v":""},{"$f":"IF(OR($E791<>0,$C791=\"\"),\"\",INDEX(Categories!$A:$E,Entries!$D791,3))","v":""},{"$f":"IF(OR($E791<>0,$C791=\"\"),\"\",INDEX(Categories!$A:$E,Entries!$D791,4))","v":""},{"$f":"IF(OR($E791<>0,$C791=\"\"),\"\",INDEX(Categories!$A:$E,Entries!$D791,5))","v":""},"2014-01-01","2014-01-01",{"$f":"(Entries!K792-Entries!K791)*24*60","v":0}]
["",null,null,{"$f":"MATCH(C792,Categories!A:A,0)","v":{"$error":"#N/A"}},0,{"$f":"IF(OR($E792<>0,$C792=\"\"),\"\",INDEX(Categories!$A:$E,Entries!$D792,2))","v":""},{"$f":"IF(OR($E792<>0,$C792=\"\"),\"\",INDEX(Categories!$A:$E,Entries!$D792,3))","v":""},{"$f":"IF(OR($E792<>0,$C792=\"\"),\"\",INDEX(Categories!$A:$E,Entries!$D792,4))","v":""},{"$f":"IF(OR($E792<>0,$C792=\"\"),\"\",INDEX(Categories!$A:$E,Entries!$D792,5))","v":""},"2014-01-01","2014-01-01",{"$f":"(Entries!K793-Entries!K792)*24*60","v":0}]
["",null,null,{"$f":"MATCH(C793,Categories!A:A,0)","v":{"$error":"#N/A"}},0,{"$f":"IF(OR($E793<>0,$C793=\"\"),\"\",INDEX(Categories!$A:$E,Entries!$D793,2))","v":""},{"$f":"IF(OR($E793<>0,$C793=\"\"),\"\",INDEX(Categories!$A:$E,Entries!$D793,3))","v":""},{"$f":"IF(OR($E793<>0,$C793=\"\"),\"\",INDEX(Categories!$A:$E,Entries!$D793,4))","v":""},{"$f":"IF(OR($E793<>0,$C793=\"\"),\"\",INDEX(Categories!$A:$E,Entries!$D793,5))","v":""},"2014-01-01","2014-01-01",{"$f":"(Entries!K794-Entries!K793)*24*60","v":0}]
["",null,null,{"$f":"MATCH(C794,Categories!A:A,0)","v":{"$error":"#N/A"}},0,{"$f":"IF(OR($E794<>0,$C794=\"\"),\"\",INDEX(Categories!$A:$E,Entries!$D794,2))","v":""},{"$f":"IF(OR($E794<>0,$C794=\"\"),\"\",INDEX(Categories!$A:$E,Entries!$D794,3))","v":""},{"$f":"IF(OR($E794<>0,$C794=\"\"),\"\",INDEX(Categories!$A:$E,Entries!$D794,4))","v":""},{"$f":"IF(OR($E794<>0,$C794=\"\"),\"\",INDEX(Categories!$A:$E,Entries!$D794,5))","v":""},"2014-01-01","2014-01-01",{"$f":"(Entries!K795-Entries!K794)*24*60","v":0}]
["",null,null,{"$f":"MATCH(C795,Categories!A:A,0)","v":{"$error":"#N/A"}},0,{"$f":"IF(OR($E795<>0,$C795=\"\"),\"\",INDEX(Categories!$A:$E,Entries!$D795,2))","v":""},{"$f":"IF(OR($E795<>0,$C795=\"\"),\"\",INDEX(Categories!$A:$E,Entries!$D795,3))","v":""},{"$f":"IF(OR($E795<>0,$C795=\"\"),\"\",INDEX(Categories!$A:$E,Entries!$D795,4))","v":""},{"$f":"IF(OR($E795<>0,$C795=\"\"),\"\",INDEX(Categories!$A:$E,Entries!$D795,5))","v":""},"2014-01-01","2014-01-01",{"$f":"(Entries!K796-Entries!K795)*24*60","v":0}]
["",null,null,{"$f":"MATCH(C796,Categories!A:A,0)","v":{"$error":"#N/A"}},0,{"$f":"IF(OR($E796<>0,$C796=\"\"),\"\",INDEX(Categories!$A:$E,Entries!$D796,2))","v":""},{"$f":"IF(OR($E796<>0,$C796=\"\"),\"\",INDEX(Categories!$A:$E,Entries!$D796,3))","v":""},{"$f":"IF(OR($E796<>0,$C796=\"\"),\"\",INDEX(Categories!$A:$E,Entries!$D796,4))","v":""},{"$f":"IF(OR($E796<>0,$C796=\"\"),\"\",INDEX(Categories!$A:$E,Entries!$D796,5))","v":""},"2014-01-01","2014-01-01",{"$f":"(Entries!K797-Entries!K796)*24*60","v":0}]
["",null,null,{"$f":"MATCH(C797,Categories!A:A,0)","v":{"$error":"#N/A"}},0,{"$f":"IF(OR($E797<>0,$C797=\"\"),\"\",INDEX(Categories!$A:$E,Entries!$D797,2))","v":""},{"$f":"IF(OR($E797<>0,$C797=\"\"),\"\",INDEX(Categories!$A:$E,Entries!$D797,3))","v":""},{"$f":"IF(OR($E797<>0,$C797=\"\"),\"\",INDEX(Categories!$A:$E,Entries!$D797,4))","v":""},{"$f":"IF(OR($E797<>0,$C797=\"\"),\"\",INDEX(Categories!$A:$E,Entries!$D797,5))","v":""},"2014-01-01","2014-01-01",{"$f":"(Entries!K798-Entries!K797)*24*60","v":0}]
["",null,null,{"$f":"MATCH(C798,Categories!A:A,0)","v":{"$error":"#N/A"}},0,{"$f":"IF(OR($E798<>0,$C798=\"\"),\"\",INDEX(Categories!$A:$E,Entries!$D798,2))","v":""},{"$f":"IF(OR($E798<>0,$C798=\"\"),\"\",INDEX(Categories!$A:$E,Entries!$D798,3))","v":""},{"$f":"IF(OR($E798<>0,$C798=\"\"),\"\",INDEX(Categories!$A:$E,Entries!$D798,4))","v":""},{"$f":"IF(OR($E798<>0,$C798=\"\"),\"\",INDEX(Categories!$A:$E,Entries!$D798,5))","v":""},"2014-01-01","2014-01-01",{"$f":"(Entries!K799-Entries!K798)*24*60","v":0}]
["",null,null,{"$f":"MATCH(C799,Categories!A:A,0)","v":{"$error":"#N/A"}},0,{"$f":"IF(OR($E799<>0,$C799=\"\"),\"\",INDEX(Categories!$A:$E,Entries!$D799,2))","v":""},{"$f":"IF(OR($E799<>0,$C799=\"\"),\"\",INDEX(Categories!$A:$E,Entries!$D799,3))","v":""},{"$f":"IF(OR($E799<>0,$C799=\"\"),\"\",INDEX(Categories!$A:$E,Entries!$D799,4))","v":""},{"$f":"IF(OR($E799<>0,$C799=\"\"),\"\",INDEX(Categories!$A:$E,Entries!$D799,5))","v":""},"2014-01-01","2014-01-01",{"$f":"(Entries!K800-Entries!K799)*24*60","v":0}]
["",null,null,{"$f":"MATCH(C800,Categories!A:A,0)","v":{"$error":"#N/A"}},0,{"$f":"IF(OR($E800<>0,$C800=\"\"),\"\",INDEX(Categories!$A:$E,Entries!$D800,2))","v":""},{"$f":"IF(OR($E800<>0,$C800=\"\"),\"\",INDEX(Categories!$A:$E,Entries!$D800,3))","v":""},{"$f":"IF(OR($E800<>0,$C800=\"\"),\"\",INDEX(Categories!$A:$E,Entries!$D800,4))","v":""},{"$f":"IF(OR($E800<>0,$C800=\"\"),\"\",INDEX(Categories!$A:$E,Entries!$D800,5))","v":""},"2014-01-01","2014-01-01",{"$f":"(Entries!K801-Entries!K800)*24*60","v":0}]
["",null,null,{"$f":"MATCH(C801,Categories!A:A,0)","v":{"$error":"#N/A"}},0,{"$f":"IF(OR($E801<>0,$C801=\"\"),\"\",INDEX(Categories!$A:$E,Entries!$D801,2))","v":""},{"$f":"IF(OR($E801<>0,$C801=\"\"),\"\",INDEX(Categories!$A:$E,Entries!$D801,3))","v":""},{"$f":"IF(OR($E801<>0,$C801=\"\"),\"\",INDEX(Categories!$A:$E,Entries!$D801,4))","v":""},{"$f":"IF(OR($E801<>0,$C801=\"\"),\"\",INDEX(Categories!$A:$E,Entries!$D801,5))","v":""},"2014-01-01","2014-01-01",{"$f":"(Entries!K802-Entries!K801)*24*60","v":0}]
["",null,null,{"$f":"MATCH(C802,Categories!A:A,0)","v":{"$error":"#N/A"}},0,{"$f":"IF(OR($E802<>0,$C802=\"\"),\"\",INDEX(Categories!$A:$E,Entries!$D802,2))","v":""},{"$f":"IF(OR($E802<>0,$C802=\"\"),\"\",INDEX(Categories!$A:$E,Entries!$D802,3))","v":""},{"$f":"IF(OR($E802<>0,$C802=\"\"),\"\",INDEX(Categories!$A:$E,Entries!$D802,4))","v":""},{"$f":"IF(OR($E802<>0,$C802=\"\"),\"\",INDEX(Categories!$A:$E,Entries!$D802,5))","v":""},"2014-01-01","2014-01-01",{"$f":"(Entries!K803-Entries!K802)*24*60","v":0}]
["",null,null,{"$f":"MATCH(C803,Categories!A:A,0)","v":{"$error":"#N/A"}},0,{"$f":"IF(OR($E803<>0,$C803=\"\"),\"\",INDEX(Categories!$A:$E,Entries!$D803,2))","v":""},{"$f":"IF(OR($E803<>0,$C803=\"\"),\"\",INDEX(Categories!$A:$E,Entries!$D803,3))","v":""},{"$f":"IF(OR($E803<>0,$C803=\"\"),\"\",INDEX(Categories!$A:$E,Entries!$D803,4))","v":""},{"$f":"IF(OR($E803<>0,$C803=\"\"),\"\",INDEX(Categories!$A:$E,Entries!$D803,5))","v":""},"2014-01-01","2014-01-01",{"$f":"(Entries!K804-Entries!K803)*24*60","v":0}]
[{"$f":"IF(OR(B804>=B803,C803=\"z\",B804=\"\"),\"\",J803+1)","v":""},null,null,{"$f":"MATCH(C804,Categories!A:A,0)","v":{"$error":"#N/A"}},0,{"$f":"IF(OR($E804<>0,$C804=\"\"),\"\",INDEX(Categories!$A:$E,Entries!$D804,2))","v":""},{"$f":"IF(OR($E804<>0,$C804=\"\"),\"\",INDEX(Categories!$A:$E,Entries!$D804,3))","v":""},{"$f":"IF(OR($E804<>0,$C804=\"\"),\"\",INDEX(Categories!$A:$E,Entries!$D804,4))","v":""},{"$f":"IF(OR($E804<>0,$C804=\"\"),\"\",INDEX(Categories!$A:$E,Entries!$D804,5))","v":""},"2014-01-01","2014-01-01",{"$f":"(Entries!K805-Entries!K804)*24*60","v":0}]
["",null,null,{"$f":"MATCH(C805,Categories!A:A,0)","v":{"$error":"#N/A"}},0,{"$f":"IF(OR($E805<>0,$C805=\"\"),\"\",INDEX(Categories!$A:$E,Entries!$D805,2))","v":""},{"$f":"IF(OR($E805<>0,$C805=\"\"),\"\",INDEX(Categories!$A:$E,Entries!$D805,3))","v":""},{"$f":"IF(OR($E805<>0,$C805=\"\"),\"\",INDEX(Categories!$A:$E,Entries!$D805,4))","v":""},{"$f":"IF(OR($E805<>0,$C805=\"\"),\"\",INDEX(Categories!$A:$E,Entries!$D805,5))","v":""},"2014-01-01","2014-01-01",{"$f":"(Entries!K806-Entries!K805)*24*60","v":0}]
["",null,null,{"$f":"MATCH(C806,Categories!A:A,0)","v":{"$error":"#N/A"}},0,{"$f":"IF(OR($E806<>0,$C806=\"\"),\"\",INDEX(Categories!$A:$E,Entries!$D806,2))","v":""},{"$f":"IF(OR($E806<>0,$C806=\"\"),\"\",INDEX(Categories!$A:$E,Entries!$D806,3))","v":""},{"$f":"IF(OR($E806<>0,$C806=\"\"),\"\",INDEX(Categories!$A:$E,Entries!$D806,4))","v":""},{"$f":"IF(OR($E806<>0,$C806=\"\"),\"\",INDEX(Categories!$A:$E,Entries!$D806,5))","v":""},"2014-01-01","2014-01-01",{"$f":"(Entries!K807-Entries!K806)*24*60","v":0}]
["",null,null,{"$f":"MATCH(C807,Categories!A:A,0)","v":{"$error":"#N/A"}},0,{"$f":"IF(OR($E807<>0,$C807=\"\"),\"\",INDEX(Categories!$A:$E,Entries!$D807,2))","v":""},{"$f":"IF(OR($E807<>0,$C807=\"\"),\"\",INDEX(Categories!$A:$E,Entries!$D807,3))","v":""},{"$f":"IF(OR($E807<>0,$C807=\"\"),\"\",INDEX(Categories!$A:$E,Entries!$D807,4))","v":""},{"$f":"IF(OR($E807<>0,$C807=\"\"),\"\",INDEX(Categories!$A:$E,Entries!$D807,5))","v":""},"2014-01-01","2014-01-01",{"$f":"(Entries!K808-Entries!K807)*24*60","v":0}]
["",null,null,{"$f":"MATCH(C808,Categories!A:A,0)","v":{"$error":"#N/A"}},0,{"$f":"IF(OR($E808<>0,$C808=\"\"),\"\",INDEX(Categories!$A:$E,Entries!$D808,2))","v":""},{"$f":"IF(OR($E808<>0,$C808=\"\"),\"\",INDEX(Categories!$A:$E,Entries!$D808,3))","v":""},{"$f":"IF(OR($E808<>0,$C808=\"\"),\"\",INDEX(Categories!$A:$E,Entries!$D808,4))","v":""},{"$f":"IF(OR($E808<>0,$C808=\"\"),\"\",INDEX(Categories!$A:$E,Entries!$D808,5))","v":""},"2014-01-01","2014-01-01",{"$f":"(Entries!K809-Entries!K808)*24*60","v":0}]
["",null,null,{"$f":"MATCH(C809,Categories!A:A,0)","v":{"$error":"#N/A"}},0,{"$f":"IF(OR($E809<>0,$C809=\"\"),\"\",INDEX(Categories!$A:$E,Entries!$D809,2))","v":""},{"$f":"IF(OR($E809<>0,$C809=\"\"),\"\",INDEX(Categories!$A:$E,Entries!$D809,3))","v":""},{"$f":"IF(OR($E809<>0,$C809=\"\"),\"\",INDEX(Categories!$A:$E,Entries!$D809,4))","v":""},{"$f":"IF(OR($E809<>0,$C809=\"\"),\"\",INDEX(Categories!$A:$E,Entries!$D809,5))","v":""},"2014-01-01","2014-01-01",{"$f":"(Entries!K810-Entries!K809)*24*60","v":0}]
["",null,null,{"$f":"MATCH(C810,Categories!A:A,0)","v":{"$error":"#N/A"}},0,{"$f":"IF(OR($E810<>0,$C810=\"\"),\"\",INDEX(Categories!$A:$E,Entries!$D810,2))","v":""},{"$f":"IF(OR($E810<>0,$C810=\"\"),\"\",INDEX(Categories!$A:$E,Entries!$D810,3))","v":""},{"$f":"IF(OR($E810<>0,$C810=\"\"),\"\",INDEX(Categories!$A:$E,Entries!$D810,4))","v":""},{"$f":"IF(OR($E810<>0,$C810=\"\"),\"\",INDEX(Categories!$A:$E,Entries!$D810,5))","v":""},"2014-01-01","2014-01-01",{"$f":"(Entries!K811-Entries!K810)*24*60","v":0}]
["",null,null,{"$f":"MATCH(C811,Categories!A:A,0)","v":{"$error":"#N/A"}},0,{"$f":"IF(OR($E811<>0,$C811=\"\"),\"\",INDEX(Categories!$A:$E,Entries!$D811,2))","v":""},{"$f":"IF(OR($E811<>0,$C811=\"\"),\"\",INDEX(Categories!$A:$E,Entries!$D811,3))","v":""},{"$f":"IF(OR($E811<>0,$C811=\"\"),\"\",INDEX(Categories!$A:$E,Entries!$D811,4))","v":""},{"$f":"IF(OR($E811<>0,$C811=\"\"),\"\",INDEX(Categories!$A:$E,Entries!$D811,5))","v":""},"2014-01-01","2014-01-01",{"$f":"(Entries!K812-Entries!K811)*24*60","v":0}]
["",null,null,{"$f":"MATCH(C812,Categories!A:A,0)","v":{"$error":"#N/A"}},0,{"$f":"IF(OR($E812<>0,$C812=\"\"),\"\",INDEX(Categories!$A:$E,Entries!$D812,2))","v":""},{"$f":"IF(OR($E812<>0,$C812=\"\"),\"\",INDEX(Categories!$A:$E,Entries!$D812,3))","v":""},{"$f":"IF(OR($E812<>0,$C812=\"\"),\"\",INDEX(Categories!$A:$E,Entries!$D812,4))","v":""},{"$f":"IF(OR($E812<>0,$C812=\"\"),\"\",INDEX(Categories!$A:$E,Entries!$D812,5))","v":""},"2014-01-01","2014-01-01",{"$f":"(Entries!K813-Entries!K812)*24*60","v":0}]
["",null,null,{"$f":"MATCH(C813,Categories!A:A,0)","v":{"$error":"#N/A"}},0,{"$f":"IF(OR($E813<>0,$C813=\"\"),\"\",INDEX(Categories!$A:$E,Entries!$D813,2))","v":""},{"$f":"IF(OR($E813<>0,$C813=\"\"),\"\",INDEX(Categories!$A:$E,Entries!$D813,3))","v":""},{"$f":"IF(OR($E813<>0,$C813=\"\"),\"\",INDEX(Categories!$A:$E,Entries!$D813,4))","v":""},{"$f":"IF(OR($E813<>0,$C813=\"\"),\"\",INDEX(Categories!$A:$E,Entries!$D813,5))","v":""},"2014-01-01","2014-01-01",{"$f":"(Entries!K814-Entries!K813)*24*60","v":0}]
["",null,null,{"$f":"MATCH(C814,Categories!A:A,0)","v":{"$error":"#N/A"}},0,{"$f":"IF(OR($E814<>0,$C814=\"\"),\"\",INDEX(Categories!$A:$E,Entries!$D814,2))","v":""},{"$f":"IF(OR($E814<>0,$C814=\"\"),\"\",INDEX(Categories!$A:$E,Entries!$D814,3))","v":""},{"$f":"IF(OR($E814<>0,$C814=\"\"),\"\",INDEX(Categories!$A:$E,Entries!$D814,4))","v":""},{"$f":"IF(OR($E814<>0,$C814=\"\"),\"\",INDEX(Categories!$A:$E,Entries!$D814,5))","v":""},"2014-01-01","2014-01-01",{"$f":"(Entries!K815-Entries!K814)*24*60","v":0}]
["",null,null,{"$f":"MATCH(C815,Categories!A:A,0)","v":{"$error":"#N/A"}},0,{"$f":"IF(OR($E815<>0,$C815=\"\"),\"\",INDEX(Categories!$A:$E,Entries!$D815,2))","v":""},{"$f":"IF(OR($E815<>0,$C815=\"\"),\"\",INDEX(Categories!$A:$E,Entries!$D815,3))","v":""},{"$f":"IF(OR($E815<>0,$C815=\"\"),\"\",INDEX(Categories!$A:$E,Entries!$D815,4))","v":""},{"$f":"IF(OR($E815<>0,$C815=\"\"),\"\",INDEX(Categories!$A:$E,Entries!$D815,5))","v":""},"2014-01-01","2014-01-01",{"$f":"(Entries!K816-Entries!K815)*24*60","v":0}]
["",null,null,{"$f":"MATCH(C816,Categories!A:A,0)","v":{"$error":"#N/A"}},0,{"$f":"IF(OR($E816<>0,$C816=\"\"),\"\",INDEX(Categories!$A:$E,Entries!$D816,2))","v":""},{"$f":"IF(OR($E816<>0,$C816=\"\"),\"\",INDEX(Categories!$A:$E,Entries!$D816,3))","v":""},{"$f":"IF(OR($E816<>0,$C816=\"\"),\"\",INDEX(Categories!$A:$E,Entries!$D816,4))","v":""},{"$f":"IF(OR($E816<>0,$C816=\"\"),\"\",INDEX(Categories!$A:$E,Entries!$D816,5))","v":""},"2014-01-01","2014-01-01",{"$f":"(Entries!K817-Entries!K816)*24*60","v":0}]
["",null,null,{"$f":"MATCH(C817,Categories!A:A,0)","v":{"$error":"#N/A"}},0,{"$f":"IF(OR($E817<>0,$C817=\"\"),\"\",INDEX(Categories!$A:$E,Entries!$D817,2))","v":""},{"$f":"IF(OR($E817<>0,$C817=\"\"),\"\",INDEX(Categories!$A:$E,Entries!$D817,3))","v":""},{"$f":"IF(OR($E817<>0,$C817=\"\"),\"\",INDEX(Categories!$A:$E,Entries!$D817,4))","v":""},{"$f":"IF(OR($E817<>0,$C817=\"\"),\"\",INDEX(Categories!$A:$E,Entries!$D817,5))","v":""},"2014-01-01","2014-01-01",{"$f":"(Entries!K818-Entries!K817)*24*60","v":0}]
["",null,null,{"$f":"MATCH(C818,Categories!A:A,0)","v":{"$error":"#N/A"}},0,{"$f":"IF(OR($E818<>0,$C818=\"\"),\"\",INDEX(Categories!$A:$E,Entries!$D818,2))","v":""},{"$f":"IF(OR($E818<>0,$C818=\"\"),\"\",INDEX(Categories!$A:$E,Entries!$D818,3))","v":""},{"$f":"IF(OR($E818<>0,$C818=\"\"),\"\",INDEX(Categories!$A:$E,Entries!$D818,4))","v":""},{"$f":"IF(OR($E818<>0,$C818=\"\"),\"\",INDEX(Categories!$A:$E,Entries!$D818,5))","v":""},"2014-01-01","2014-01-01",{"$f":"(Entries!K819-Entries!K818)*24*60","v":0}]
["",null,null,{"$f":"MATCH(C819,Categories!A:A,0)","v":{"$error":"#N/A"}},0,{"$f":"IF(OR($E819<>0,$C819=\"\"),\"\",INDEX(Categories!$A:$E,Entries!$D819,2))","v":""},{"$f":"IF(OR($E819<>0,$C819=\"\"),\"\",INDEX(Categories!$A:$E,Entries!$D819,3))","v":""},{"$f":"IF(OR($E819<>0,$C819=\"\"),\"\",INDEX(Categories!$A:$E,Entries!$D819,4))","v":""},{"$f":"IF(OR($E819<>0,$C819=\"\"),\"\",INDEX(Categories!$A:$E,Entries!$D819,5))","v":""},"2014-01-01","2014-01-01",{"$f":"(Entries!K820-Entries!K819)*24*60","v":0}]
["",null,null,{"$f":"MATCH(C820,Categories!A:A,0)","v":{"$error":"#N/A"}},0,{"$f":"IF(OR($E820<>0,$C820=\"\"),\"\",INDEX(Categories!$A:$E,Entries!$D820,2))","v":""},{"$f":"IF(OR($E820<>0,$C820=\"\"),\"\",INDEX(Categories!$A:$E,Entries!$D820,3))","v":""},{"$f":"IF(OR($E820<>0,$C820=\"\"),\"\",INDEX(Categories!$A:$E,Entries!$D820,4))","v":""},{"$f":"IF(OR($E820<>0,$C820=\"\"),\"\",INDEX(Categories!$A:$E,Entries!$D820,5))","v":""},"2014-01-01","2014-01-01",{"$f":"(Entries!K821-Entries!K820)*24*60","v":0}]
["",null,null,{"$f":"MATCH(C821,Categories!A:A,0)","v":{"$error":"#N/A"}},0,{"$f":"IF(OR($E821<>0,$C821=\"\"),\"\",INDEX(Categories!$A:$E,Entries!$D821,2))","v":""},{"$f":"IF(OR($E821<>0,$C821=\"\"),\"\",INDEX(Categories!$A:$E,Entries!$D821,3))","v":""},{"$f":"IF(OR($E821<>0,$C821=\"\"),\"\",INDEX(Categories!$A:$E,Entries!$D821,4))","v":""},{"$f":"IF(OR($E821<>0,$C821=\"\"),\"\",INDEX(Categories!$A:$E,Entries!$D821,5))","v":""},"2014-01-01","2014-01-01",{"$f":"(Entries!K822-Entries!K821)*24*60","v":0}]
["",null,null,{"$f":"MATCH(C822,Categories!A:A,0)","v":{"$error":"#N/A"}},0,{"$f":"IF(OR($E822<>0,$C822=\"\"),\"\",INDEX(Categories!$A:$E,Entries!$D822,2))","v":""},{"$f":"IF(OR($E822<>0,$C822=\"\"),\"\",INDEX(Categories!$A:$E,Entries!$D822,3))","v":""},{"$f":"IF(OR($E822<>0,$C822=\"\"),\"\",INDEX(Categories!$A:$E,Entries!$D822,4))","v":""},{"$f":"IF(OR($E822<>0,$C822=\"\"),\"\",INDEX(Categories!$A:$E,Entries!$D822,5))","v":""},"2014-01-01","2014-01-01",{"$f":"(Entries!K823-Entries!K822)*24*60","v":0}]
["",null,null,{"$f":"MATCH(C823,Categories!A:A,0)","v":{"$error":"#N/A"}},0,{"$f":"IF(OR($E823<>0,$C823=\"\"),\"\",INDEX(Categories!$A:$E,Entries!$D823,2))","v":""},{"$f":"IF(OR($E823<>0,$C823=\"\"),\"\",INDEX(Categories!$A:$E,Entries!$D823,3))","v":""},{"$f":"IF(OR($E823<>0,$C823=\"\"),\"\",INDEX(Categories!$A:$E,Entries!$D823,4))","v":""},{"$f":"IF(OR($E823<>0,$C823=\"\"),\"\",INDEX(Categories!$A:$E,Entries!$D823,5))","v":""},"2014-01-01","2014-01-01",{"$f":"(Entries!K824-Entries!K823)*24*60","v":0}]
["",null,null,{"$f":"MATCH(C824,Categories!A:A,0)","v":{"$error":"#N/A"}},0,{"$f":"IF(OR($E824<>0,$C824=\"\"),\"\",INDEX(Categories!$A:$E,Entries!$D824,2))","v":""},{"$f":"IF(OR($E824<>0,$C824=\"\"),\"\",INDEX(Categories!$A:$E,Entries!$D824,3))","v":""},{"$f":"IF(OR($E824<>0,$C824=\"\"),\"\",INDEX(Categories!$A:$E,Entries!$D824,4))","v":""},{"$f":"IF(OR($E824<>0,$C824=\"\"),\"\",INDEX(Categories!$A:$E,Entries!$D824,5))","v":""},"2014-01-01","2014-01-01",{"$f":"(Entries!K825-Entries!K824)*24*60","v":0}]
["",null,null,{"$f":"MATCH(C825,Categories!A:A,0)","v":{"$error":"#N/A"}},0,{"$f":"IF(OR($E825<>0,$C825=\"\"),\"\",INDEX(Categories!$A:$E,Entries!$D825,2))","v":""},{"$f":"IF(OR($E825<>0,$C825=\"\"),\"\",INDEX(Categories!$A:$E,Entries!$D825,3))","v":""},{"$f":"IF(OR($E825<>0,$C825=\"\"),\"\",INDEX(Categories!$A:$E,Entries!$D825,4))","v":""},{"$f":"IF(OR($E825<>0,$C825=\"\"),\"\",INDEX(Categories!$A:$E,Entries!$D825,5))","v":""},"2014-01-01","2014-01-01",{"$f":"(Entries!K826-Entries!K825)*24*60","v":0}]
["",null,null,{"$f":"MATCH(C826,Categories!A:A,0)","v":{"$error":"#N/A"}},0,{"$f":"IF(OR($E826<>0,$C826=\"\"),\"\",INDEX(Categories!$A:$E,Entries!$D826,2))","v":""},{"$f":"IF(OR($E826<>0,$C826=\"\"),\"\",INDEX(Categories!$A:$E,Entries!$D826,3))","v":""},{"$f":"IF(OR($E826<>0,$C826=\"\"),\"\",INDEX(Categories!$A:$E,Entries!$D826,4))","v":""},{"$f":"IF(OR($E826<>0,$C826=\"\"),\"\",INDEX(Categories!$A:$E,Entries!$D826,5))","v":""},"2014-01-01","2014-01-01",{"$f":"(Entries!K827-Entries!K826)*24*60","v":0}]
["",null,null,{"$f":"MATCH(C827,Categories!A:A,0)","v":{"$error":"#N/A"}},0,{"$f":"IF(OR($E827<>0,$C827=\"\"),\"\",INDEX(Categories!$A:$E,Entries!$D827,2))","v":""},{"$f":"IF(OR($E827<>0,$C827=\"\"),\"\",INDEX(Categories!$A:$E,Entries!$D827,3))","v":""},{"$f":"IF(OR($E827<>0,$C827=\"\"),\"\",INDEX(Categories!$A:$E,Entries!$D827,4))","v":""},{"$f":"IF(OR($E827<>0,$C827=\"\"),\"\",INDEX(Categories!$A:$E,Entries!$D827,5))","v":""},"2014-01-01","2014-01-01",{"$f":"(Entries!K828-Entries!K827)*24*60","v":0}]
["",null,null,{"$f":"MATCH(C828,Categories!A:A,0)","v":{"$error":"#N/A"}},0,{"$f":"IF(OR($E828<>0,$C828=\"\"),\"\",INDEX(Categories!$A:$E,Entries!$D828,2))","v":""},{"$f":"IF(OR($E828<>0,$C828=\"\"),\"\",INDEX(Categories!$A:$E,Entries!$D828,3))","v":""},{"$f":"IF(OR($E828<>0,$C828=\"\"),\"\",INDEX(Categories!$A:$E,Entries!$D828,4))","v":""},{"$f":"IF(OR($E828<>0,$C828=\"\"),\"\",INDEX(Categories!$A:$E,Entries!$D828,5))","v":""},"2014-01-01","2014-01-01",{"$f":"(Entries!K829-Entries!K828)*24*60","v":0}]
["",null,null,{"$f":"MATCH(C829,Categories!A:A,0)","v":{"$error":"#N/A"}},0,{"$f":"IF(OR($E829<>0,$C829=\"\"),\"\",INDEX(Categories!$A:$E,Entries!$D829,2))","v":""},{"$f":"IF(OR($E829<>0,$C829=\"\"),\"\",INDEX(Categories!$A:$E,Entries!$D829,3))","v":""},{"$f":"IF(OR($E829<>0,$C829=\"\"),\"\",INDEX(Categories!$A:$E,Entries!$D829,4))","v":""},{"$f":"IF(OR($E829<>0,$C829=\"\"),\"\",INDEX(Categories!$A:$E,Entries!$D829,5))","v":""},"2014-01-01","2014-01-01",{"$f":"(Entries!K830-Entries!K829)*24*60","v":0}]
["",null,null,{"$f":"MATCH(C830,Categories!A:A,0)","v":{"$error":"#N/A"}},0,{"$f":"IF(OR($E830<>0,$C830=\"\"),\"\",INDEX(Categories!$A:$E,Entries!$D830,2))","v":""},{"$f":"IF(OR($E830<>0,$C830=\"\"),\"\",INDEX(Categories!$A:$E,Entries!$D830,3))","v":""},{"$f":"IF(OR($E830<>0,$C830=\"\"),\"\",INDEX(Categories!$A:$E,Entries!$D830,4))","v":""},{"$f":"IF(OR($E830<>0,$C830=\"\"),\"\",INDEX(Categories!$A:$E,Entries!$D830,5))","v":""},"2014-01-01","2014-01-01",{"$f":"(Entries!K831-Entries!K830)*24*60","v":0}]
["",null,null,{"$f":"MATCH(C831,Categories!A:A,0)","v":{"$error":"#N/A"}},0,{"$f":"IF(OR($E831<>0,$C831=\"\"),\"\",INDEX(Categories!$A:$E,Entries!$D831,2))","v":""},{"$f":"IF(OR($E831<>0,$C831=\"\"),\"\",INDEX(Categories!$A:$E,Entries!$D831,3))","v":""},{"$f":"IF(OR($E831<>0,$C831=\"\"),\"\",INDEX(Categories!$A:$E,Entries!$D831,4))","v":""},{"$f":"IF(OR($E831<>0,$C831=\"\"),\"\",INDEX(Categories!$A:$E,Entries!$D831,5))","v":""},"2014-01-01","2014-01-01",{"$f":"(Entries!K832-Entries!K831)*24*60","v":0}]
["",null,null,{"$f":"MATCH(C832,Categories!A:A,0)","v":{"$error":"#N/A"}},0,{"$f":"IF(OR($E832<>0,$C832=\"\"),\"\",INDEX(Categories!$A:$E,Entries!$D832,2))","v":""},{"$f":"IF(OR($E832<>0,$C832=\"\"),\"\",INDEX(Categories!$A:$E,Entries!$D832,3))","v":""},{"$f":"IF(OR($E832<>0,$C832=\"\"),\"\",INDEX(Categories!$A:$E,Entries!$D832,4))","v":""},{"$f":"IF(OR($E832<>0,$C832=\"\"),\"\",INDEX(Categories!$A:$E,Entries!$D832,5))","v":""},"2014-01-01","2014-01-01",{"$f":"(Entries!K833-Entries!K832)*24*60","v":0}]
["",null,null,{"$f":"MATCH(C833,Categories!A:A,0)","v":{"$error":"#N/A"}},0,{"$f":"IF(OR($E833<>0,$C833=\"\"),\"\",INDEX(Categories!$A:$E,Entries!$D833,2))","v":""},{"$f":"IF(OR($E833<>0,$C833=\"\"),\"\",INDEX(Categories!$A:$E,Entries!$D833,3))","v":""},{"$f":"IF(OR($E833<>0,$C833=\"\"),\"\",INDEX(Categories!$A:$E,Entries!$D833,4))","v":""},{"$f":"IF(OR($E833<>0,$C833=\"\"),\"\",INDEX(Categories!$A:$E,Entries!$D833,5))","v":""},"2014-01-01","2014-01-01",{"$f":"(Entries!K834-Entries!K833)*24*60","v":0}]
["",null,null,{"$f":"MATCH(C834,Categories!A:A,0)","v":{"$error":"#N/A"}},{"$f":"IF(AND(ISERROR(D834),C834<>\"\"),ROW(D834),0)","v":0},{"$f":"IF(OR($E834<>0,$C834=\"\"),\"\",INDEX(Categories!$A:$E,Entries!$D834,2))","v":""},{"$f":"IF(OR($E834<>0,$C834=\"\"),\"\",INDEX(Categories!$A:$E,Entries!$D834,3))","v":""},{"$f":"IF(OR($E834<>0,$C834=\"\"),\"\",INDEX(Categories!$A:$E,Entries!$D834,4))","v":""},{"$f":"IF(OR($E834<>0,$C834=\"\"),\"\",INDEX(Categories!$A:$E,Entries!$D834,5))","v":""},{"$f":"IF(A834=\"\",J833,A834)","v":"2014-01-01"},{"$f":"J834+B834","v":"2014-01-01"},{"$f":"(Entries!K835-Entries!K834)*24*60","v":0}]
["",null,null,{"$f":"MATCH(C835,Categories!A:A,0)","v":{"$error":"#N/A"}},0,{"$f":"IF(OR($E835<>0,$C835=\"\"),\"\",INDEX(Categories!$A:$E,Entries!$D835,2))","v":""},{"$f":"IF(OR($E835<>0,$C835=\"\"),\"\",INDEX(Categories!$A:$E,Entries!$D835,3))","v":""},{"$f":"IF(OR($E835<>0,$C835=\"\"),\"\",INDEX(Categories!$A:$E,Entries!$D835,4))","v":""},{"$f":"IF(OR($E835<>0,$C835=\"\"),\"\",INDEX(Categories!$A:$E,Entries!$D835,5))","v":""},"2014-01-01","2014-01-01",{"$f":"(Entries!K836-Entries!K835)*24*60","v":0}]
["",null,null,{"$f":"MATCH(C836,Categories!A:A,0)","v":{"$error":"#N/A"}},0,{"$f":"IF(OR($E836<>0,$C836=\"\"),\"\",INDEX(Categories!$A:$E,Entries!$D836,2))","v":""},{"$f":"IF(OR($E836<>0,$C836=\"\"),\"\",INDEX(Categories!$A:$E,Entries!$D836,3))","v":""},{"$f":"IF(OR($E836<>0,$C836=\"\"),\"\",INDEX(Categories!$A:$E,Entries!$D836,4))","v":""},{"$f":"IF(OR($E836<>0,$C836=\"\"),\"\",INDEX(Categories!$A:$E,Entries!$D836,5))","v":""},"2014-01-01","2014-01-01",{"$f":"(Entries!K837-Entries!K836)*24*60","v":0}]
["",null,null,{"$f":"MATCH(C837,Categories!A:A,0)","v":{"$error":"#N/A"}},0,{"$f":"IF(OR($E837<>0,$C837=\"\"),\"\",INDEX(Categories!$A:$E,Entries!$D837,2))","v":""},{"$f":"IF(OR($E837<>0,$C837=\"\"),\"\",INDEX(Categories!$A:$E,Entries!$D837,3))","v":""},{"$f":"IF(OR($E837<>0,$C837=\"\"),\"\",INDEX(Categories!$A:$E,Entries!$D837,4))","v":""},{"$f":"IF(OR($E837<>0,$C837=\"\"),\"\",INDEX(Categories!$A:$E,Entries!$D837,5))","v":""},"2014-01-01","2014-01-01",{"$f":"(Entries!K838-Entries!K837)*24*60","v":0}]
["",null,null,{"$f":"MATCH(C838,Categories!A:A,0)","v":{"$error":"#N/A"}},0,{"$f":"IF(OR($E838<>0,$C838=\"\"),\"\",INDEX(Categories!$A:$E,Entries!$D838,2))","v":""},{"$f":"IF(OR($E838<>0,$C838=\"\"),\"\",INDEX(Categories!$A:$E,Entries!$D838,3))","v":""},{"$f":"IF(OR($E838<>0,$C838=\"\"),\"\",INDEX(Categories!$A:$E,Entries!$D838,4))","v":""},{"$f":"IF(OR($E838<>0,$C838=\"\"),\"\",INDEX(Categories!$A:$E,Entries!$D838,5))","v":""},"2014-01-01","2014-01-01",{"$f":"(Entries!K839-Entries!K838)*24*60","v":0}]
["",null,null,{"$f":"MATCH(C839,Categories!A:A,0)","v":{"$error":"#N/A"}},0,{"$f":"IF(OR($E839<>0,$C839=\"\"),\"\",INDEX(Categories!$A:$E,Entries!$D839,2))","v":""},{"$f":"IF(OR($E839<>0,$C839=\"\"),\"\",INDEX(Categories!$A:$E,Entries!$D839,3))","v":""},{"$f":"IF(OR($E839<>0,$C839=\"\"),\"\",INDEX(Categories!$A:$E,Entries!$D839,4))","v":""},{"$f":"IF(OR($E839<>0,$C839=\"\"),\"\",INDEX(Categories!$A:$E,Entries!$D839,5))","v":""},"2014-01-01","2014-01-01",{"$f":"(Entries!K840-Entries!K839)*24*60","v":0}]
["",null,null,{"$f":"MATCH(C840,Categories!A:A,0)","v":{"$error":"#N/A"}},0,{"$f":"IF(OR($E840<>0,$C840=\"\"),\"\",INDEX(Categories!$A:$E,Entries!$D840,2))","v":""},{"$f":"IF(OR($E840<>0,$C840=\"\"),\"\",INDEX(Categories!$A:$E,Entries!$D840,3))","v":""},{"$f":"IF(OR($E840<>0,$C840=\"\"),\"\",INDEX(Categories!$A:$E,Entries!$D840,4))","v":""},{"$f":"IF(OR($E840<>0,$C840=\"\"),\"\",INDEX(Categories!$A:$E,Entries!$D840,5))","v":""},"2014-01-01","2014-01-01",{"$f":"(Entries!K841-Entries!K840)*24*60","v":0}]
["",null,null,{"$f":"MATCH(C841,Categories!A:A,0)","v":{"$error":"#N/A"}},0,{"$f":"IF(OR($E841<>0,$C841=\"\"),\"\",INDEX(Categories!$A:$E,Entries!$D841,2))","v":""},{"$f":"IF(OR($E841<>0,$C841=\"\"),\"\",INDEX(Categories!$A:$E,Entries!$D841,3))","v":""},{"$f":"IF(OR($E841<>0,$C841=\"\"),\"\",INDEX(Categories!$A:$E,Entries!$D841,4))","v":""},{"$f":"IF(OR($E841<>0,$C841=\"\"),\"\",INDEX(Categories!$A:$E,Entries!$D841,5))","v":""},"2014-01-01","2014-01-01",{"$f":"(Entries!K842-Entries!K841)*24*60","v":0}]
["",null,null,{"$f":"MATCH(C842,Categories!A:A,0)","v":{"$error":"#N/A"}},0,{"$f":"IF(OR($E842<>0,$C842=\"\"),\"\",INDEX(Categories!$A:$E,Entries!$D842,2))","v":""},{"$f":"IF(OR($E842<>0,$C842=\"\"),\"\",INDEX(Categories!$A:$E,Entries!$D842,3))","v":""},{"$f":"IF(OR($E842<>0,$C842=\"\"),\"\",INDEX(Categories!$A:$E,Entries!$D842,4))","v":""},{"$f":"IF(OR($E842<>0,$C842=\"\"),\"\",INDEX(Categories!$A:$E,Entries!$D842,5))","v":""},"2014-01-01","2014-01-01",{"$f":"(Entries!K843-Entries!K842)*24*60","v":0}]
["",null,null,{"$f":"MATCH(C843,Categories!A:A,0)","v":{"$error":"#N/A"}},0,{"$f":"IF(OR($E843<>0,$C843=\"\"),\"\",INDEX(Categories!$A:$E,Entries!$D843,2))","v":""},{"$f":"IF(OR($E843<>0,$C843=\"\"),\"\",INDEX(Categories!$A:$E,Entries!$D843,3))","v":""},{"$f":"IF(OR($E843<>0,$C843=\"\"),\"\",INDEX(Categories!$A:$E,Entries!$D843,4))","v":""},{"$f":"IF(OR($E843<>0,$C843=\"\"),\"\",INDEX(Categories!$A:$E,Entries!$D843,5))","v":""},"2014-01-01","2014-01-01",{"$f":"(Entries!K844-Entries!K843)*24*60","v":0}]
["",null,null,{"$f":"MATCH(C844,Categories!A:A,0)","v":{"$error":"#N/A"}},0,{"$f":"IF(OR($E844<>0,$C844=\"\"),\"\",INDEX(Categories!$A:$E,Entries!$D844,2))","v":""},{"$f":"IF(OR($E844<>0,$C844=\"\"),\"\",INDEX(Categories!$A:$E,Entries!$D844,3))","v":""},{"$f":"IF(OR($E844<>0,$C844=\"\"),\"\",INDEX(Categories!$A:$E,Entries!$D844,4))","v":""},{"$f":"IF(OR($E844<>0,$C844=\"\"),\"\",INDEX(Categories!$A:$E,Entries!$D844,5))","v":""},"2014-01-01","2014-01-01",{"$f":"(Entries!K845-Entries!K844)*24*60","v":0}]
["",null,null,{"$f":"MATCH(C845,Categories!A:A,0)","v":{"$error":"#N/A"}},0,{"$f":"IF(OR($E845<>0,$C845=\"\"),\"\",INDEX(Categories!$A:$E,Entries!$D845,2))","v":""},{"$f":"IF(OR($E845<>0,$C845=\"\"),\"\",INDEX(Categories!$A:$E,Entries!$D845,3))","v":""},{"$f":"IF(OR($E845<>0,$C845=\"\"),\"\",INDEX(Categories!$A:$E,Entries!$D845,4))","v":""},{"$f":"IF(OR($E845<>0,$C845=\"\"),\"\",INDEX(Categories!$A:$E,Entries!$D845,5))","v":""},"2014-01-01","2014-01-01",{"$f":"(Entries!K846-Entries!K845)*24*60","v":0}]
["",null,null,{"$f":"MATCH(C846,Categories!A:A,0)","v":{"$error":"#N/A"}},0,{"$f":"IF(OR($E846<>0,$C846=\"\"),\"\",INDEX(Categories!$A:$E,Entries!$D846,2))","v":""},{"$f":"IF(OR($E846<>0,$C846=\"\"),\"\",INDEX(Categories!$A:$E,Entries!$D846,3))","v":""},{"$f":"IF(OR($E846<>0,$C846=\"\"),\"\",INDEX(Categories!$A:$E,Entries!$D846,4))","v":""},{"$f":"IF(OR($E846<>0,$C846=\"\"),\"\",INDEX(Categories!$A:$E,Entries!$D846,5))","v":""},"2014-01-01","2014-01-01",{"$f":"(Entries!K847-Entries!K846)*24*60","v":0}]
["",null,null,{"$f":"MATCH(C847,Categories!A:A,0)","v":{"$error":"#N/A"}},0,{"$f":"IF(OR($E847<>0,$C847=\"\"),\"\",INDEX(Categories!$A:$E,Entries!$D847,2))","v":""},{"$f":"IF(OR($E847<>0,$C847=\"\"),\"\",INDEX(Categories!$A:$E,Entries!$D847,3))","v":""},{"$f":"IF(OR($E847<>0,$C847=\"\"),\"\",INDEX(Categories!$A:$E,Entries!$D847,4))","v":""},{"$f":"IF(OR($E847<>0,$C847=\"\"),\"\",INDEX(Categories!$A:$E,Entries!$D847,5))","v":""},"2014-01-01","2014-01-01",{"$f":"(Entries!K848-Entries!K847)*24*60","v":0}]
["",null,null,{"$f":"MATCH(C848,Categories!A:A,0)","v":{"$error":"#N/A"}},0,{"$f":"IF(OR($E848<>0,$C848=\"\"),\"\",INDEX(Categories!$A:$E,Entries!$D848,2))","v":""},{"$f":"IF(OR($E848<>0,$C848=\"\"),\"\",INDEX(Categories!$A:$E,Entries!$D848,3))","v":""},{"$f":"IF(OR($E848<>0,$C848=\"\"),\"\",INDEX(Categories!$A:$E,Entries!$D848,4))","v":""},{"$f":"IF(OR($E848<>0,$C848=\"\"),\"\",INDEX(Categories!$A:$E,Entries!$D848,5))","v":""},"2014-01-01","2014-01-01",{"$f":"(Entries!K849-Entries!K848)*24*60","v":0}]
["",null,null,{"$f":"MATCH(C849,Categories!A:A,0)","v":{"$error":"#N/A"}},0,{"$f":"IF(OR($E849<>0,$C849=\"\"),\"\",INDEX(Categories!$A:$E,Entries!$D849,2))","v":""},{"$f":"IF(OR($E849<>0,$C849=\"\"),\"\",INDEX(Categories!$A:$E,Entries!$D849,3))","v":""},{"$f":"IF(OR($E849<>0,$C849=\"\"),\"\",INDEX(Categories!$A:$E,Entries!$D849,4))","v":""},{"$f":"IF(OR($E849<>0,$C849=\"\"),\"\",INDEX(Categories!$A:$E,Entries!$D849,5))","v":""},"2014-01-01","2014-01-01",{"$f":"(Entries!K850-Entries!K849)*24*60","v":0}]
["",null,null,{"$f":"MATCH(C850,Categories!A:A,0)","v":{"$error":"#N/A"}},0,{"$f":"IF(OR($E850<>0,$C850=\"\"),\"\",INDEX(Categories!$A:$E,Entries!$D850,2))","v":""},{"$f":"IF(OR($E850<>0,$C850=\"\"),\"\",INDEX(Categories!$A:$E,Entries!$D850,3))","v":""},{"$f":"IF(OR($E850<>0,$C850=\"\"),\"\",INDEX(Categories!$A:$E,Entries!$D850,4))","v":""},{"$f":"IF(OR($E850<>0,$C850=\"\"),\"\",INDEX(Categories!$A:$E,Entries!$D850,5))","v":""},"2014-01-01","2014-01-01",{"$f":"(Entries!K851-Entries!K850)*24*60","v":0}]
["",null,null,{"$f":"MATCH(C851,Categories!A:A,0)","v":{"$error":"#N/A"}},0,{"$f":"IF(OR($E851<>0,$C851=\"\"),\"\",INDEX(Categories!$A:$E,Entries!$D851,2))","v":""},{"$f":"IF(OR($E851<>0,$C851=\"\"),\"\",INDEX(Categories!$A:$E,Entries!$D851,3))","v":""},{"$f":"IF(OR($E851<>0,$C851=\"\"),\"\",INDEX(Categories!$A:$E,Entries!$D851,4))","v":""},{"$f":"IF(OR($E851<>0,$C851=\"\"),\"\",INDEX(Categories!$A:$E,Entries!$D851,5))","v":""},"2014-01-01","2014-01-01",{"$f":"(Entries!K852-Entries!K851)*24*60","v":0}]
["",null,null,{"$f":"MATCH(C852,Categories!A:A,0)","v":{"$error":"#N/A"}},0,{"$f":"IF(OR($E852<>0,$C852=\"\"),\"\",INDEX(Categories!$A:$E,Entries!$D852,2))","v":""},{"$f":"IF(OR($E852<>0,$C852=\"\"),\"\",INDEX(Categories!$A:$E,Entries!$D852,3))","v":""},{"$f":"IF(OR($E852<>0,$C852=\"\"),\"\",INDEX(Categories!$A:$E,Entries!$D852,4))","v":""},{"$f":"IF(OR($E852<>0,$C852=\"\"),\"\",INDEX(Categories!$A:$E,Entries!$D852,5))","v":""},"2014-01-01","2014-01-01",{"$f":"(Entries!K853-Entries!K852)*24*60","v":0}]
["",null,null,{"$f":"MATCH(C853,Categories!A:A,0)","v":{"$error":"#N/A"}},0,{"$f":"IF(OR($E853<>0,$C853=\"\"),\"\",INDEX(Categories!$A:$E,Entries!$D853,2))","v":""},{"$f":"IF(OR($E853<>0,$C853=\"\"),\"\",INDEX(Categories!$A:$E,Entries!$D853,3))","v":""},{"$f":"IF(OR($E853<>0,$C853=\"\"),\"\",INDEX(Categories!$A:$E,Entries!$D853,4))","v":""},{"$f":"IF(OR($E853<>0,$C853=\"\"),\"\",INDEX(Categories!$A:$E,Entries!$D853,5))","v":""},"2014-01-01","2014-01-01",{"$f":"(Entries!K854-Entries!K853)*24*60","v":0}]
["",null,null,{"$f":"MATCH(C854,Categories!A:A,0)","v":{"$error":"#N/A"}},0,{"$f":"IF(OR($E854<>0,$C854=\"\"),\"\",INDEX(Categories!$A:$E,Entries!$D854,2))","v":""},{"$f":"IF(OR($E854<>0,$C854=\"\"),\"\",INDEX(Categories!$A:$E,Entries!$D854,3))","v":""},{"$f":"IF(OR($E854<>0,$C854=\"\"),\"\",INDEX(Categories!$A:$E,Entries!$D854,4))","v":""},{"$f":"IF(OR($E854<>0,$C854=\"\"),\"\",INDEX(Categories!$A:$E,Entries!$D854,5))","v":""},"2014-01-01","2014-01-01",{"$f":"(Entries!K855-Entries!K854)*24*60","v":0}]
["",null,null,{"$f":"MATCH(C855,Categories!A:A,0)","v":{"$error":"#N/A"}},0,{"$f":"IF(OR($E855<>0,$C855=\"\"),\"\",INDEX(Categories!$A:$E,Entries!$D855,2))","v":""},{"$f":"IF(OR($E855<>0,$C855=\"\"),\"\",INDEX(Categories!$A:$E,Entries!$D855,3))","v":""},{"$f":"IF(OR($E855<>0,$C855=\"\"),\"\",INDEX(Categories!$A:$E,Entries!$D855,4))","v":""},{"$f":"IF(OR($E855<>0,$C855=\"\"),\"\",INDEX(Categories!$A:$E,Entries!$D855,5))","v":""},"2014-01-01","2014-01-01",{"$f":"(Entries!K856-Entries!K855)*24*60","v":0}]
["",null,null,{"$f":"MATCH(C856,Categories!A:A,0)","v":{"$error":"#N/A"}},0,{"$f":"IF(OR($E856<>0,$C856=\"\"),\"\",INDEX(Categories!$A:$E,Entries!$D856,2))","v":""},{"$f":"IF(OR($E856<>0,$C856=\"\"),\"\",INDEX(Categories!$A:$E,Entries!$D856,3))","v":""},{"$f":"IF(OR($E856<>0,$C856=\"\"),\"\",INDEX(Categories!$A:$E,Entries!$D856,4))","v":""},{"$f":"IF(OR($E856<>0,$C856=\"\"),\"\",INDEX(Categories!$A:$E,Entries!$D856,5))","v":""},"2014-01-01","2014-01-01",{"$f":"(Entries!K857-Entries!K856)*24*60","v":0}]
["",null,null,{"$f":"MATCH(C857,Categories!A:A,0)","v":{"$error":"#N/A"}},0,{"$f":"IF(OR($E857<>0,$C857=\"\"),\"\",INDEX(Categories!$A:$E,Entries!$D857,2))","v":""},{"$f":"IF(OR($E857<>0,$C857=\"\"),\"\",INDEX(Categories!$A:$E,Entries!$D857,3))","v":""},{"$f":"IF(OR($E857<>0,$C857=\"\"),\"\",INDEX(Categories!$A:$E,Entries!$D857,4))","v":""},{"$f":"IF(OR($E857<>0,$C857=\"\"),\"\",INDEX(Categories!$A:$E,Entries!$D857,5))","v":""},"2014-01-01","2014-01-01",{"$f":"(Entries!K858-Entries!K857)*24*60","v":0}]
["",null,null,{"$f":"MATCH(C858,Categories!A:A,0)","v":{"$error":"#N/A"}},0,{"$f":"IF(OR($E858<>0,$C858=\"\"),\"\",INDEX(Categories!$A:$E,Entries!$D858,2))","v":""},{"$f":"IF(OR($E858<>0,$C858=\"\"),\"\",INDEX(Categories!$A:$E,Entries!$D858,3))","v":""},{"$f":"IF(OR($E858<>0,$C858=\"\"),\"\",INDEX(Categories!$A:$E,Entries!$D858,4))","v":""},{"$f":"IF(OR($E858<>0,$C858=\"\"),\"\",INDEX(Categories!$A:$E,Entries!$D858,5))","v":""},"2014-01-01","2014-01-01",{"$f":"(Entries!K859-Entries!K858)*24*60","v":0}]
["",null,null,{"$f":"MATCH(C859,Categories!A:A,0)","v":{"$error":"#N/A"}},0,{"$f":"IF(OR($E859<>0,$C859=\"\"),\"\",INDEX(Categories!$A:$E,Entries!$D859,2))","v":""},{"$f":"IF(OR($E859<>0,$C859=\"\"),\"\",INDEX(Categories!$A:$E,Entries!$D859,3))","v":""},{"$f":"IF(OR($E859<>0,$C859=\"\"),\"\",INDEX(Categories!$A:$E,Entries!$D859,4))","v":""},{"$f":"IF(OR($E859<>0,$C859=\"\"),\"\",INDEX(Categories!$A:$E,Entries!$D859,5))","v":""},"2014-01-01","2014-01-01",{"$f":"(Entries!K860-Entries!K859)*24*60","v":0}]
["",null,null,{"$f":"MATCH(C860,Categories!A:A,0)","v":{"$error":"#N/A"}},0,{"$f":"IF(OR($E860<>0,$C860=\"\"),\"\",INDEX(Categories!$A:$E,Entries!$D860,2))","v":""},{"$f":"IF(OR($E860<>0,$C860=\"\"),\"\",INDEX(Categories!$A:$E,Entries!$D860,3))","v":""},{"$f":"IF(OR($E860<>0,$C860=\"\"),\"\",INDEX(Categories!$A:$E,Entries!$D860,4))","v":""},{"$f":"IF(OR($E860<>0,$C860=\"\"),\"\",INDEX(Categories!$A:$E,Entries!$D860,5))","v":""},"2014-01-01","2014-01-01",{"$f":"(Entries!K861-Entries!K860)*24*60","v":0}]
["",null,null,{"$f":"MATCH(C861,Categories!A:A,0)","v":{"$error":"#N/A"}},0,{"$f":"IF(OR($E861<>0,$C861=\"\"),\"\",INDEX(Categories!$A:$E,Entries!$D861,2))","v":""},{"$f":"IF(OR($E861<>0,$C861=\"\"),\"\",INDEX(Categories!$A:$E,Entries!$D861,3))","v":""},{"$f":"IF(OR($E861<>0,$C861=\"\"),\"\",INDEX(Categories!$A:$E,Entries!$D861,4))","v":""},{"$f":"IF(OR($E861<>0,$C861=\"\"),\"\",INDEX(Categories!$A:$E,Entries!$D861,5))","v":""},"2014-01-01","2014-01-01",{"$f":"(Entries!K862-Entries!K861)*24*60","v":0}]
["",null,null,{"$f":"MATCH(C862,Categories!A:A,0)","v":{"$error":"#N/A"}},0,{"$f":"IF(OR($E862<>0,$C862=\"\"),\"\",INDEX(Categories!$A:$E,Entries!$D862,2))","v":""},{"$f":"IF(OR($E862<>0,$C862=\"\"),\"\",INDEX(Categories!$A:$E,Entries!$D862,3))","v":""},{"$f":"IF(OR($E862<>0,$C862=\"\"),\"\",INDEX(Categories!$A:$E,Entries!$D862,4))","v":""},{"$f":"IF(OR($E862<>0,$C862=\"\"),\"\",INDEX(Categories!$A:$E,Entries!$D862,5))","v":""},"2014-01-01","2014-01-01",{"$f":"(Entries!K863-Entries!K862)*24*60","v":0}]
["",null,null,{"$f":"MATCH(C863,Categories!A:A,0)","v":{"$error":"#N/A"}},0,{"$f":"IF(OR($E863<>0,$C863=\"\"),\"\",INDEX(Categories!$A:$E,Entries!$D863,2))","v":""},{"$f":"IF(OR($E863<>0,$C863=\"\"),\"\",INDEX(Categories!$A:$E,Entries!$D863,3))","v":""},{"$f":"IF(OR($E863<>0,$C863=\"\"),\"\",INDEX(Categories!$A:$E,Entries!$D863,4))","v":""},{"$f":"IF(OR($E863<>0,$C863=\"\"),\"\",INDEX(Categories!$A:$E,Entries!$D863,5))","v":""},"2014-01-01","2014-01-01",{"$f":"(Entries!K864-Entries!K863)*24*60","v":0}]
["",null,null,{"$f":"MATCH(C864,Categories!A:A,0)","v":{"$error":"#N/A"}},0,{"$f":"IF(OR($E864<>0,$C864=\"\"),\"\",INDEX(Categories!$A:$E,Entries!$D864,2))","v":""},{"$f":"IF(OR($E864<>0,$C864=\"\"),\"\",INDEX(Categories!$A:$E,Entries!$D864,3))","v":""},{"$f":"IF(OR($E864<>0,$C864=\"\"),\"\",INDEX(Categories!$A:$E,Entries!$D864,4))","v":""},{"$f":"IF(OR($E864<>0,$C864=\"\"),\"\",INDEX(Categories!$A:$E,Entries!$D864,5))","v":""},"2014-01-01","2014-01-01",{"$f":"(Entries!K865-Entries!K864)*24*60","v":0}]
["",null,null,{"$f":"MATCH(C865,Categories!A:A,0)","v":{"$error":"#N/A"}},0,{"$f":"IF(OR($E865<>0,$C865=\"\"),\"\",INDEX(Categories!$A:$E,Entries!$D865,2))","v":""},{"$f":"IF(OR($E865<>0,$C865=\"\"),\"\",INDEX(Categories!$A:$E,Entries!$D865,3))","v":""},{"$f":"IF(OR($E865<>0,$C865=\"\"),\"\",INDEX(Categories!$A:$E,Entries!$D865,4))","v":""},{"$f":"IF(OR($E865<>0,$C865=\"\"),\"\",INDEX(Categories!$A:$E,Entries!$D865,5))","v":""},"2014-01-01","2014-01-01",{"$f":"(Entries!K866-Entries!K865)*24*60","v":0}]
["",null,null,{"$f":"MATCH(C866,Categories!A:A,0)","v":{"$error":"#N/A"}},0,{"$f":"IF(OR($E866<>0,$C866=\"\"),\"\",INDEX(Categories!$A:$E,Entries!$D866,2))","v":""},{"$f":"IF(OR($E866<>0,$C866=\"\"),\"\",INDEX(Categories!$A:$E,Entries!$D866,3))","v":""},{"$f":"IF(OR($E866<>0,$C866=\"\"),\"\",INDEX(Categories!$A:$E,Entries!$D866,4))","v":""},{"$f":"IF(OR($E866<>0,$C866=\"\"),\"\",INDEX(Categories!$A:$E,Entries!$D866,5))","v":""},"2014-01-01","2014-01-01",{"$f":"(Entries!K867-Entries!K866)*24*60","v":0}]
["",null,null,{"$f":"MATCH(C867,Categories!A:A,0)","v":{"$error":"#N/A"}},0,{"$f":"IF(OR($E867<>0,$C867=\"\"),\"\",INDEX(Categories!$A:$E,Entries!$D867,2))","v":""},{"$f":"IF(OR($E867<>0,$C867=\"\"),\"\",INDEX(Categories!$A:$E,Entries!$D867,3))","v":""},{"$f":"IF(OR($E867<>0,$C867=\"\"),\"\",INDEX(Categories!$A:$E,Entries!$D867,4))","v":""},{"$f":"IF(OR($E867<>0,$C867=\"\"),\"\",INDEX(Categories!$A:$E,Entries!$D867,5))","v":""},"2014-01-01","2014-01-01",{"$f":"(Entries!K868-Entries!K867)*24*60","v":0}]
[{"$f":"IF(OR(B868>=B867,C867=\"z\",B868=\"\"),\"\",J867+1)","v":""},null,null,{"$f":"MATCH(C868,Categories!A:A,0)","v":{"$error":"#N/A"}},0,{"$f":"IF(OR($E868<>0,$C868=\"\"),\"\",INDEX(Categories!$A:$E,Entries!$D868,2))","v":""},{"$f":"IF(OR($E868<>0,$C868=\"\"),\"\",INDEX(Categories!$A:$E,Entries!$D868,3))","v":""},{"$f":"IF(OR($E868<>0,$C868=\"\"),\"\",INDEX(Categories!$A:$E,Entries!$D868,4))","v":""},{"$f":"IF(OR($E868<>0,$C868=\"\"),\"\",INDEX(Categories!$A:$E,Entries!$D868,5))","v":""},"2014-01-01","2014-01-01",{"$f":"(Entries!K869-Entries!K868)*24*60","v":0}]
["",null,null,{"$f":"MATCH(C869,Categories!A:A,0)","v":{"$error":"#N/A"}},0,{"$f":"IF(OR($E869<>0,$C869=\"\"),\"\",INDEX(Categories!$A:$E,Entries!$D869,2))","v":""},{"$f":"IF(OR($E869<>0,$C869=\"\"),\"\",INDEX(Categories!$A:$E,Entries!$D869,3))","v":""},{"$f":"IF(OR($E869<>0,$C869=\"\"),\"\",INDEX(Categories!$A:$E,Entries!$D869,4))","v":""},{"$f":"IF(OR($E869<>0,$C869=\"\"),\"\",INDEX(Categories!$A:$E,Entries!$D869,5))","v":""},"2014-01-01","2014-01-01",{"$f":"(Entries!K870-Entries!K869)*24*60","v":0}]
["",null,null,{"$f":"MATCH(C870,Categories!A:A,0)","v":{"$error":"#N/A"}},0,{"$f":"IF(OR($E870<>0,$C870=\"\"),\"\",INDEX(Categories!$A:$E,Entries!$D870,2))","v":""},{"$f":"IF(OR($E870<>0,$C870=\"\"),\"\",INDEX(Categories!$A:$E,Entries!$D870,3))","v":""},{"$f":"IF(OR($E870<>0,$C870=\"\"),\"\",INDEX(Categories!$A:$E,Entries!$D870,4))","v":""},{"$f":"IF(OR($E870<>0,$C870=\"\"),\"\",INDEX(Categories!$A:$E,Entries!$D870,5))","v":""},"2014-01-01","2014-01-01",{"$f":"(Entries!K871-Entries!K870)*24*60","v":0}]
["",null,null,{"$f":"MATCH(C871,Categories!A:A,0)","v":{"$error":"#N/A"}},0,{"$f":"IF(OR($E871<>0,$C871=\"\"),\"\",INDEX(Categories!$A:$E,Entries!$D871,2))","v":""},{"$f":"IF(OR($E871<>0,$C871=\"\"),\"\",INDEX(Categories!$A:$E,Entries!$D871,3))","v":""},{"$f":"IF(OR($E871<>0,$C871=\"\"),\"\",INDEX(Categories!$A:$E,Entries!$D871,4))","v":""},{"$f":"IF(OR($E871<>0,$C871=\"\"),\"\",INDEX(Categories!$A:$E,Entries!$D871,5))","v":""},"2014-01-01","2014-01-01",{"$f":"(Entries!K872-Entries!K871)*24*60","v":0}]
["",null,null,{"$f":"MATCH(C872,Categories!A:A,0)","v":{"$error":"#N/A"}},0,{"$f":"IF(OR($E872<>0,$C872=\"\"),\"\",INDEX(Categories!$A:$E,Entries!$D872,2))","v":""},{"$f":"IF(OR($E872<>0,$C872=\"\"),\"\",INDEX(Categories!$A:$E,Entries!$D872,3))","v":""},{"$f":"IF(OR($E872<>0,$C872=\"\"),\"\",INDEX(Categories!$A:$E,Entries!$D872,4))","v":""},{"$f":"IF(OR($E872<>0,$C872=\"\"),\"\",INDEX(Categories!$A:$E,Entries!$D872,5))","v":""},"2014-01-01","2014-01-01",{"$f":"(Entries!K873-Entries!K872)*24*60","v":0}]
["",null,null,{"$f":"MATCH(C873,Categories!A:A,0)","v":{"$error":"#N/A"}},0,{"$f":"IF(OR($E873<>0,$C873=\"\"),\"\",INDEX(Categories!$A:$E,Entries!$D873,2))","v":""},{"$f":"IF(OR($E873<>0,$C873=\"\"),\"\",INDEX(Categories!$A:$E,Entries!$D873,3))","v":""},{"$f":"IF(OR($E873<>0,$C873=\"\"),\"\",INDEX(Categories!$A:$E,Entries!$D873,4))","v":""},{"$f":"IF(OR($E873<>0,$C873=\"\"),\"\",INDEX(Categories!$A:$E,Entries!$D873,5))","v":""},"2014-01-01","2014-01-01",{"$f":"(Entries!K874-Entries!K873)*24*60","v":0}]
["",null,null,{"$f":"MATCH(C874,Categories!A:A,0)","v":{"$error":"#N/A"}},0,{"$f":"IF(OR($E874<>0,$C874=\"\"),\"\",INDEX(Categories!$A:$E,Entries!$D874,2))","v":""},{"$f":"IF(OR($E874<>0,$C874=\"\"),\"\",INDEX(Categories!$A:$E,Entries!$D874,3))","v":""},{"$f":"IF(OR($E874<>0,$C874=\"\"),\"\",INDEX(Categories!$A:$E,Entries!$D874,4))","v":""},{"$f":"IF(OR($E874<>0,$C874=\"\"),\"\",INDEX(Categories!$A:$E,Entries!$D874,5))","v":""},"2014-01-01","2014-01-01",{"$f":"(Entries!K875-Entries!K874)*24*60","v":0}]
["",null,null,{"$f":"MATCH(C875,Categories!A:A,0)","v":{"$error":"#N/A"}},0,{"$f":"IF(OR($E875<>0,$C875=\"\"),\"\",INDEX(Categories!$A:$E,Entries!$D875,2))","v":""},{"$f":"IF(OR($E875<>0,$C875=\"\"),\"\",INDEX(Categories!$A:$E,Entries!$D875,3))","v":""},{"$f":"IF(OR($E875<>0,$C875=\"\"),\"\",INDEX(Categories!$A:$E,Entries!$D875,4))","v":""},{"$f":"IF(OR($E875<>0,$C875=\"\"),\"\",INDEX(Categories!$A:$E,Entries!$D875,5))","v":""},"2014-01-01","2014-01-01",{"$f":"(Entries!K876-Entries!K875)*24*60","v":0}]
["",null,null,{"$f":"MATCH(C876,Categories!A:A,0)","v":{"$error":"#N/A"}},0,{"$f":"IF(OR($E876<>0,$C876=\"\"),\"\",INDEX(Categories!$A:$E,Entries!$D876,2))","v":""},{"$f":"IF(OR($E876<>0,$C876=\"\"),\"\",INDEX(Categories!$A:$E,Entries!$D876,3))","v":""},{"$f":"IF(OR($E876<>0,$C876=\"\"),\"\",INDEX(Categories!$A:$E,Entries!$D876,4))","v":""},{"$f":"IF(OR($E876<>0,$C876=\"\"),\"\",INDEX(Categories!$A:$E,Entries!$D876,5))","v":""},"2014-01-01","2014-01-01",{"$f":"(Entries!K877-Entries!K876)*24*60","v":0}]
["",null,null,{"$f":"MATCH(C877,Categories!A:A,0)","v":{"$error":"#N/A"}},0,{"$f":"IF(OR($E877<>0,$C877=\"\"),\"\",INDEX(Categories!$A:$E,Entries!$D877,2))","v":""},{"$f":"IF(OR($E877<>0,$C877=\"\"),\"\",INDEX(Categories!$A:$E,Entries!$D877,3))","v":""},{"$f":"IF(OR($E877<>0,$C877=\"\"),\"\",INDEX(Categories!$A:$E,Entries!$D877,4))","v":""},{"$f":"IF(OR($E877<>0,$C877=\"\"),\"\",INDEX(Categories!$A:$E,Entries!$D877,5))","v":""},"2014-01-01","2014-01-01",{"$f":"(Entries!K878-Entries!K877)*24*60","v":0}]
["",null,null,{"$f":"MATCH(C878,Categories!A:A,0)","v":{"$error":"#N/A"}},0,{"$f":"IF(OR($E878<>0,$C878=\"\"),\"\",INDEX(Categories!$A:$E,Entries!$D878,2))","v":""},{"$f":"IF(OR($E878<>0,$C878=\"\"),\"\",INDEX(Categories!$A:$E,Entries!$D878,3))","v":""},{"$f":"IF(OR($E878<>0,$C878=\"\"),\"\",INDEX(Categories!$A:$E,Entries!$D878,4))","v":""},{"$f":"IF(OR($E878<>0,$C878=\"\"),\"\",INDEX(Categories!$A:$E,Entries!$D878,5))","v":""},"2014-01-01","2014-01-01",{"$f":"(Entries!K879-Entries!K878)*24*60","v":0}]
["",null,null,{"$f":"MATCH(C879,Categories!A:A,0)","v":{"$error":"#N/A"}},0,{"$f":"IF(OR($E879<>0,$C879=\"\"),\"\",INDEX(Categories!$A:$E,Entries!$D879,2))","v":""},{"$f":"IF(OR($E879<>0,$C879=\"\"),\"\",INDEX(Categories!$A:$E,Entries!$D879,3))","v":""},{"$f":"IF(OR($E879<>0,$C879=\"\"),\"\",INDEX(Categories!$A:$E,Entries!$D879,4))","v":""},{"$f":"IF(OR($E879<>0,$C879=\"\"),\"\",INDEX(Categories!$A:$E,Entries!$D879,5))","v":""},"2014-01-01","2014-01-01",{"$f":"(Entries!K880-Entries!K879)*24*60","v":0}]
["",null,null,{"$f":"MATCH(C880,Categories!A:A,0)","v":{"$error":"#N/A"}},0,{"$f":"IF(OR($E880<>0,$C880=\"\"),\"\",INDEX(Categories!$A:$E,Entries!$D880,2))","v":""},{"$f":"IF(OR($E880<>0,$C880=\"\"),\"\",INDEX(Categories!$A:$E,Entries!$D880,3))","v":""},{"$f":"IF(OR($E880<>0,$C880=\"\"),\"\",INDEX(Categories!$A:$E,Entries!$D880,4))","v":""},{"$f":"IF(OR($E880<>0,$C880=\"\"),\"\",INDEX(Categories!$A:$E,Entries!$D880,5))","v":""},"2014-01-01","2014-01-01",{"$f":"(Entries!K881-Entries!K880)*24*60","v":0}]
["",null,null,{"$f":"MATCH(C881,Categories!A:A,0)","v":{"$error":"#N/A"}},0,{"$f":"IF(OR($E881<>0,$C881=\"\"),\"\",INDEX(Categories!$A:$E,Entries!$D881,2))","v":""},{"$f":"IF(OR($E881<>0,$C881=\"\"),\"\",INDEX(Categories!$A:$E,Entries!$D881,3))","v":""},{"$f":"IF(OR($E881<>0,$C881=\"\"),\"\",INDEX(Categories!$A:$E,Entries!$D881,4))","v":""},{"$f":"IF(OR($E881<>0,$C881=\"\"),\"\",INDEX(Categories!$A:$E,Entries!$D881,5))","v":""},"2014-01-01","2014-01-01",{"$f":"(Entries!K882-Entries!K881)*24*60","v":0}]
["",null,null,{"$f":"MATCH(C882,Categories!A:A,0)","v":{"$error":"#N/A"}},0,{"$f":"IF(OR($E882<>0,$C882=\"\"),\"\",INDEX(Categories!$A:$E,Entries!$D882,2))","v":""},{"$f":"IF(OR($E882<>0,$C882=\"\"),\"\",INDEX(Categories!$A:$E,Entries!$D882,3))","v":""},{"$f":"IF(OR($E882<>0,$C882=\"\"),\"\",INDEX(Categories!$A:$E,Entries!$D882,4))","v":""},{"$f":"IF(OR($E882<>0,$C882=\"\"),\"\",INDEX(Categories!$A:$E,Entries!$D882,5))","v":""},"2014-01-01","2014-01-01",{"$f":"(Entries!K883-Entries!K882)*24*60","v":0}]
["",null,null,{"$f":"MATCH(C883,Categories!A:A,0)","v":{"$error":"#N/A"}},0,{"$f":"IF(OR($E883<>0,$C883=\"\"),\"\",INDEX(Categories!$A:$E,Entries!$D883,2))","v":""},{"$f":"IF(OR($E883<>0,$C883=\"\"),\"\",INDEX(Categories!$A:$E,Entries!$D883,3))","v":""},{"$f":"IF(OR($E883<>0,$C883=\"\"),\"\",INDEX(Categories!$A:$E,Entries!$D883,4))","v":""},{"$f":"IF(OR($E883<>0,$C883=\"\"),\"\",INDEX(Categories!$A:$E,Entries!$D883,5))","v":""},"2014-01-01","2014-01-01",{"$f":"(Entries!K884-Entries!K883)*24*60","v":0}]
["",null,null,{"$f":"MATCH(C884,Categories!A:A,0)","v":{"$error":"#N/A"}},0,{"$f":"IF(OR($E884<>0,$C884=\"\"),\"\",INDEX(Categories!$A:$E,Entries!$D884,2))","v":""},{"$f":"IF(OR($E884<>0,$C884=\"\"),\"\",INDEX(Categories!$A:$E,Entries!$D884,3))","v":""},{"$f":"IF(OR($E884<>0,$C884=\"\"),\"\",INDEX(Categories!$A:$E,Entries!$D884,4))","v":""},{"$f":"IF(OR($E884<>0,$C884=\"\"),\"\",INDEX(Categories!$A:$E,Entries!$D884,5))","v":""},"2014-01-01","2014-01-01",{"$f":"(Entries!K885-Entries!K884)*24*60","v":0}]
["",null,null,{"$f":"MATCH(C885,Categories!A:A,0)","v":{"$error":"#N/A"}},0,{"$f":"IF(OR($E885<>0,$C885=\"\"),\"\",INDEX(Categories!$A:$E,Entries!$D885,2))","v":""},{"$f":"IF(OR($E885<>0,$C885=\"\"),\"\",INDEX(Categories!$A:$E,Entries!$D885,3))","v":""},{"$f":"IF(OR($E885<>0,$C885=\"\"),\"\",INDEX(Categories!$A:$E,Entries!$D885,4))","v":""},{"$f":"IF(OR($E885<>0,$C885=\"\"),\"\",INDEX(Categories!$A:$E,Entries!$D885,5))","v":""},"2014-01-01","2014-01-01",{"$f":"(Entries!K886-Entries!K885)*24*60","v":0}]
["",null,null,{"$f":"MATCH(C886,Categories!A:A,0)","v":{"$error":"#N/A"}},0,{"$f":"IF(OR($E886<>0,$C886=\"\"),\"\",INDEX(Categories!$A:$E,Entries!$D886,2))","v":""},{"$f":"IF(OR($E886<>0,$C886=\"\"),\"\",INDEX(Categories!$A:$E,Entries!$D886,3))","v":""},{"$f":"IF(OR($E886<>0,$C886=\"\"),\"\",INDEX(Categories!$A:$E,Entries!$D886,4))","v":""},{"$f":"IF(OR($E886<>0,$C886=\"\"),\"\",INDEX(Categories!$A:$E,Entries!$D886,5))","v":""},"2014-01-01","2014-01-01",{"$f":"(Entries!K887-Entries!K886)*24*60","v":0}]
["",null,null,{"$f":"MATCH(C887,Categories!A:A,0)","v":{"$error":"#N/A"}},0,{"$f":"IF(OR($E887<>0,$C887=\"\"),\"\",INDEX(Categories!$A:$E,Entries!$D887,2))","v":""},{"$f":"IF(OR($E887<>0,$C887=\"\"),\"\",INDEX(Categories!$A:$E,Entries!$D887,3))","v":""},{"$f":"IF(OR($E887<>0,$C887=\"\"),\"\",INDEX(Categories!$A:$E,Entries!$D887,4))","v":""},{"$f":"IF(OR($E887<>0,$C887=\"\"),\"\",INDEX(Categories!$A:$E,Entries!$D887,5))","v":""},"2014-01-01","2014-01-01",{"$f":"(Entries!K888-Entries!K887)*24*60","v":0}]
["",null,null,{"$f":"MATCH(C888,Categories!A:A,0)","v":{"$error":"#N/A"}},0,{"$f":"IF(OR($E888<>0,$C888=\"\"),\"\",INDEX(Categories!$A:$E,Entries!$D888,2))","v":""},{"$f":"IF(OR($E888<>0,$C888=\"\"),\"\",INDEX(Categories!$A:$E,Entries!$D888,3))","v":""},{"$f":"IF(OR($E888<>0,$C888=\"\"),\"\",INDEX(Categories!$A:$E,Entries!$D888,4))","v":""},{"$f":"IF(OR($E888<>0,$C888=\"\"),\"\",INDEX(Categories!$A:$E,Entries!$D888,5))","v":""},"2014-01-01","2014-01-01",{"$f":"(Entries!K889-Entries!K888)*24*60","v":0}]
["",null,null,{"$f":"MATCH(C889,Categories!A:A,0)","v":{"$error":"#N/A"}},0,{"$f":"IF(OR($E889<>0,$C889=\"\"),\"\",INDEX(Categories!$A:$E,Entries!$D889,2))","v":""},{"$f":"IF(OR($E889<>0,$C889=\"\"),\"\",INDEX(Categories!$A:$E,Entries!$D889,3))","v":""},{"$f":"IF(OR($E889<>0,$C889=\"\"),\"\",INDEX(Categories!$A:$E,Entries!$D889,4))","v":""},{"$f":"IF(OR($E889<>0,$C889=\"\"),\"\",INDEX(Categories!$A:$E,Entries!$D889,5))","v":""},"2014-01-01","2014-01-01",{"$f":"(Entries!K890-Entries!K889)*24*60","v":0}]
["",null,null,{"$f":"MATCH(C890,Categories!A:A,0)","v":{"$error":"#N/A"}},0,{"$f":"IF(OR($E890<>0,$C890=\"\"),\"\",INDEX(Categories!$A:$E,Entries!$D890,2))","v":""},{"$f":"IF(OR($E890<>0,$C890=\"\"),\"\",INDEX(Categories!$A:$E,Entries!$D890,3))","v":""},{"$f":"IF(OR($E890<>0,$C890=\"\"),\"\",INDEX(Categories!$A:$E,Entries!$D890,4))","v":""},{"$f":"IF(OR($E890<>0,$C890=\"\"),\"\",INDEX(Categories!$A:$E,Entries!$D890,5))","v":""},"2014-01-01","2014-01-01",{"$f":"(Entries!K891-Entries!K890)*24*60","v":0}]
["",null,null,{"$f":"MATCH(C891,Categories!A:A,0)","v":{"$error":"#N/A"}},0,{"$f":"IF(OR($E891<>0,$C891=\"\"),\"\",INDEX(Categories!$A:$E,Entries!$D891,2))","v":""},{"$f":"IF(OR($E891<>0,$C891=\"\"),\"\",INDEX(Categories!$A:$E,Entries!$D891,3))","v":""},{"$f":"IF(OR($E891<>0,$C891=\"\"),\"\",INDEX(Categories!$A:$E,Entries!$D891,4))","v":""},{"$f":"IF(OR($E891<>0,$C891=\"\"),\"\",INDEX(Categories!$A:$E,Entries!$D891,5))","v":""},"2014-01-01","2014-01-01",{"$f":"(Entries!K892-Entries!K891)*24*60","v":0}]
["",null,null,{"$f":"MATCH(C892,Categories!A:A,0)","v":{"$error":"#N/A"}},0,{"$f":"IF(OR($E892<>0,$C892=\"\"),\"\",INDEX(Categories!$A:$E,Entries!$D892,2))","v":""},{"$f":"IF(OR($E892<>0,$C892=\"\"),\"\",INDEX(Categories!$A:$E,Entries!$D892,3))","v":""},{"$f":"IF(OR($E892<>0,$C892=\"\"),\"\",INDEX(Categories!$A:$E,Entries!$D892,4))","v":""},{"$f":"IF(OR($E892<>0,$C892=\"\"),\"\",INDEX(Categories!$A:$E,Entries!$D892,5))","v":""},"2014-01-01","2014-01-01",{"$f":"(Entries!K893-Entries!K892)*24*60","v":0}]
["",null,null,{"$f":"MATCH(C893,Categories!A:A,0)","v":{"$error":"#N/A"}},0,{"$f":"IF(OR($E893<>0,$C893=\"\"),\"\",INDEX(Categories!$A:$E,Entries!$D893,2))","v":""},{"$f":"IF(OR($E893<>0,$C893=\"\"),\"\",INDEX(Categories!$A:$E,Entries!$D893,3))","v":""},{"$f":"IF(OR($E893<>0,$C893=\"\"),\"\",INDEX(Categories!$A:$E,Entries!$D893,4))","v":""},{"$f":"IF(OR($E893<>0,$C893=\"\"),\"\",INDEX(Categories!$A:$E,Entries!$D893,5))","v":""},"2014-01-01","2014-01-01",{"$f":"(Entries!K894-Entries!K893)*24*60","v":0}]
["",null,null,{"$f":"MATCH(C894,Categories!A:A,0)","v":{"$error":"#N/A"}},0,{"$f":"IF(OR($E894<>0,$C894=\"\"),\"\",INDEX(Categories!$A:$E,Entries!$D894,2))","v":""},{"$f":"IF(OR($E894<>0,$C894=\"\"),\"\",INDEX(Categories!$A:$E,Entries!$D894,3))","v":""},{"$f":"IF(OR($E894<>0,$C894=\"\"),\"\",INDEX(Categories!$A:$E,Entries!$D894,4))","v":""},{"$f":"IF(OR($E894<>0,$C894=\"\"),\"\",INDEX(Categories!$A:$E,Entries!$D894,5))","v":""},"2014-01-01","2014-01-01",{"$f":"(Entries!K895-Entries!K894)*24*60","v":0}]
["",null,null,{"$f":"MATCH(C895,Categories!A:A,0)","v":{"$error":"#N/A"}},0,{"$f":"IF(OR($E895<>0,$C895=\"\"),\"\",INDEX(Categories!$A:$E,Entries!$D895,2))","v":""},{"$f":"IF(OR($E895<>0,$C895=\"\"),\"\",INDEX(Categories!$A:$E,Entries!$D895,3))","v":""},{"$f":"IF(OR($E895<>0,$C895=\"\"),\"\",INDEX(Categories!$A:$E,Entries!$D895,4))","v":""},{"$f":"IF(OR($E895<>0,$C895=\"\"),\"\",INDEX(Categories!$A:$E,Entries!$D895,5))","v":""},"2014-01-01","2014-01-01",{"$f":"(Entries!K896-Entries!K895)*24*60","v":0}]
["",null,null,{"$f":"MATCH(C896,Categories!A:A,0)","v":{"$error":"#N/A"}},0,{"$f":"IF(OR($E896<>0,$C896=\"\"),\"\",INDEX(Categories!$A:$E,Entries!$D896,2))","v":""},{"$f":"IF(OR($E896<>0,$C896=\"\"),\"\",INDEX(Categories!$A:$E,Entries!$D896,3))","v":""},{"$f":"IF(OR($E896<>0,$C896=\"\"),\"\",INDEX(Categories!$A:$E,Entries!$D896,4))","v":""},{"$f":"IF(OR($E896<>0,$C896=\"\"),\"\",INDEX(Categories!$A:$E,Entries!$D896,5))","v":""},"2014-01-01","2014-01-01",{"$f":"(Entries!K897-Entries!K896)*24*60","v":0}]
["",null,null,{"$f":"MATCH(C897,Categories!A:A,0)","v":{"$error":"#N/A"}},0,{"$f":"IF(OR($E897<>0,$C897=\"\"),\"\",INDEX(Categories!$A:$E,Entries!$D897,2))","v":""},{"$f":"IF(OR($E897<>0,$C897=\"\"),\"\",INDEX(Categories!$A:$E,Entries!$D897,3))","v":""},{"$f":"IF(OR($E897<>0,$C897=\"\"),\"\",INDEX(Categories!$A:$E,Entries!$D897,4))","v":""},{"$f":"IF(OR($E897<>0,$C897=\"\"),\"\",INDEX(Categories!$A:$E,Entries!$D897,5))","v":""},"2014-01-01","2014-01-01",{"$f":"(Entries!K898-Entries!K897)*24*60","v":0}]
["",null,null,{"$f":"MATCH(C898,Categories!A:A,0)","v":{"$error":"#N/A"}},{"$f":"IF(AND(ISERROR(D898),C898<>\"\"),ROW(D898),0)","v":0},{"$f":"IF(OR($E898<>0,$C898=\"\"),\"\",INDEX(Categories!$A:$E,Entries!$D898,2))","v":""},{"$f":"IF(OR($E898<>0,$C898=\"\"),\"\",INDEX(Categories!$A:$E,Entries!$D898,3))","v":""},{"$f":"IF(OR($E898<>0,$C898=\"\"),\"\",INDEX(Categories!$A:$E,Entries!$D898,4))","v":""},{"$f":"IF(OR($E898<>0,$C898=\"\"),\"\",INDEX(Categories!$A:$E,Entries!$D898,5))","v":""},{"$f":"IF(A898=\"\",J897,A898)","v":"2014-01-01"},{"$f":"J898+B898","v":"2014-01-01"},{"$f":"(Entries!K899-Entries!K898)*24*60","v":0}]
["",null,null,{"$f":"MATCH(C899,Categories!A:A,0)","v":{"$error":"#N/A"}},0,{"$f":"IF(OR($E899<>0,$C899=\"\"),\"\",INDEX(Categories!$A:$E,Entries!$D899,2))","v":""},{"$f":"IF(OR($E899<>0,$C899=\"\"),\"\",INDEX(Categories!$A:$E,Entries!$D899,3))","v":""},{"$f":"IF(OR($E899<>0,$C899=\"\"),\"\",INDEX(Categories!$A:$E,Entries!$D899,4))","v":""},{"$f":"IF(OR($E899<>0,$C899=\"\"),\"\",INDEX(Categories!$A:$E,Entries!$D899,5))","v":""},"2014-01-01","2014-01-01",{"$f":"(Entries!K900-Entries!K899)*24*60","v":0}]
["",null,null,{"$f":"MATCH(C900,Categories!A:A,0)","v":{"$error":"#N/A"}},0,{"$f":"IF(OR($E900<>0,$C900=\"\"),\"\",INDEX(Categories!$A:$E,Entries!$D900,2))","v":""},{"$f":"IF(OR($E900<>0,$C900=\"\"),\"\",INDEX(Categories!$A:$E,Entries!$D900,3))","v":""},{"$f":"IF(OR($E900<>0,$C900=\"\"),\"\",INDEX(Categories!$A:$E,Entries!$D900,4))","v":""},{"$f":"IF(OR($E900<>0,$C900=\"\"),\"\",INDEX(Categories!$A:$E,Entries!$D900,5))","v":""},"2014-01-01","2014-01-01",{"$f":"(Entries!K901-Entries!K900)*24*60","v":0}]
["",null,null,{"$f":"MATCH(C901,Categories!A:A,0)","v":{"$error":"#N/A"}},0,{"$f":"IF(OR($E901<>0,$C901=\"\"),\"\",INDEX(Categories!$A:$E,Entries!$D901,2))","v":""},{"$f":"IF(OR($E901<>0,$C901=\"\"),\"\",INDEX(Categories!$A:$E,Entries!$D901,3))","v":""},{"$f":"IF(OR($E901<>0,$C901=\"\"),\"\",INDEX(Categories!$A:$E,Entries!$D901,4))","v":""},{"$f":"IF(OR($E901<>0,$C901=\"\"),\"\",INDEX(Categories!$A:$E,Entries!$D901,5))","v":""},"2014-01-01","2014-01-01",{"$f":"(Entries!K902-Entries!K901)*24*60","v":0}]
["",null,null,{"$f":"MATCH(C902,Categories!A:A,0)","v":{"$error":"#N/A"}},0,{"$f":"IF(OR($E902<>0,$C902=\"\"),\"\",INDEX(Categories!$A:$E,Entries!$D902,2))","v":""},{"$f":"IF(OR($E902<>0,$C902=\"\"),\"\",INDEX(Categories!$A:$E,Entries!$D902,3))","v":""},{"$f":"IF(OR($E902<>0,$C902=\"\"),\"\",INDEX(Categories!$A:$E,Entries!$D902,4))","v":""},{"$f":"IF(OR($E902<>0,$C902=\"\"),\"\",INDEX(Categories!$A:$E,Entries!$D902,5))","v":""},"2014-01-01","2014-01-01",{"$f":"(Entries!K903-Entries!K902)*24*60","v":0}]
["",null,null,{"$f":"MATCH(C903,Categories!A:A,0)","v":{"$error":"#N/A"}},0,{"$f":"IF(OR($E903<>0,$C903=\"\"),\"\",INDEX(Categories!$A:$E,Entries!$D903,2))","v":""},{"$f":"IF(OR($E903<>0,$C903=\"\"),\"\",INDEX(Categories!$A:$E,Entries!$D903,3))","v":""},{"$f":"IF(OR($E903<>0,$C903=\"\"),\"\",INDEX(Categories!$A:$E,Entries!$D903,4))","v":""},{"$f":"IF(OR($E903<>0,$C903=\"\"),\"\",INDEX(Categories!$A:$E,Entries!$D903,5))","v":""},"2014-01-01","2014-01-01",{"$f":"(Entries!K904-Entries!K903)*24*60","v":0}]
["",null,null,{"$f":"MATCH(C904,Categories!A:A,0)","v":{"$error":"#N/A"}},0,{"$f":"IF(OR($E904<>0,$C904=\"\"),\"\",INDEX(Categories!$A:$E,Entries!$D904,2))","v":""},{"$f":"IF(OR($E904<>0,$C904=\"\"),\"\",INDEX(Categories!$A:$E,Entries!$D904,3))","v":""},{"$f":"IF(OR($E904<>0,$C904=\"\"),\"\",INDEX(Categories!$A:$E,Entries!$D904,4))","v":""},{"$f":"IF(OR($E904<>0,$C904=\"\"),\"\",INDEX(Categories!$A:$E,Entries!$D904,5))","v":""},"2014-01-01","2014-01-01",{"$f":"(Entries!K905-Entries!K904)*24*60","v":0}]
["",null,null,{"$f":"MATCH(C905,Categories!A:A,0)","v":{"$error":"#N/A"}},0,{"$f":"IF(OR($E905<>0,$C905=\"\"),\"\",INDEX(Categories!$A:$E,Entries!$D905,2))","v":""},{"$f":"IF(OR($E905<>0,$C905=\"\"),\"\",INDEX(Categories!$A:$E,Entries!$D905,3))","v":""},{"$f":"IF(OR($E905<>0,$C905=\"\"),\"\",INDEX(Categories!$A:$E,Entries!$D905,4))","v":""},{"$f":"IF(OR($E905<>0,$C905=\"\"),\"\",INDEX(Categories!$A:$E,Entries!$D905,5))","v":""},"2014-01-01","2014-01-01",{"$f":"(Entries!K906-Entries!K905)*24*60","v":0}]
["",null,null,{"$f":"MATCH(C906,Categories!A:A,0)","v":{"$error":"#N/A"}},0,{"$f":"IF(OR($E906<>0,$C906=\"\"),\"\",INDEX(Categories!$A:$E,Entries!$D906,2))","v":""},{"$f":"IF(OR($E906<>0,$C906=\"\"),\"\",INDEX(Categories!$A:$E,Entries!$D906,3))","v":""},{"$f":"IF(OR($E906<>0,$C906=\"\"),\"\",INDEX(Categories!$A:$E,Entries!$D906,4))","v":""},{"$f":"IF(OR($E906<>0,$C906=\"\"),\"\",INDEX(Categories!$A:$E,Entries!$D906,5))","v":""},"2014-01-01","2014-01-01",{"$f":"(Entries!K907-Entries!K906)*24*60","v":0}]
["",null,null,{"$f":"MATCH(C907,Categories!A:A,0)","v":{"$error":"#N/A"}},0,{"$f":"IF(OR($E907<>0,$C907=\"\"),\"\",INDEX(Categories!$A:$E,Entries!$D907,2))","v":""},{"$f":"IF(OR($E907<>0,$C907=\"\"),\"\",INDEX(Categories!$A:$E,Entries!$D907,3))","v":""},{"$f":"IF(OR($E907<>0,$C907=\"\"),\"\",INDEX(Categories!$A:$E,Entries!$D907,4))","v":""},{"$f":"IF(OR($E907<>0,$C907=\"\"),\"\",INDEX(Categories!$A:$E,Entries!$D907,5))","v":""},"2014-01-01","2014-01-01",{"$f":"(Entries!K908-Entries!K907)*24*60","v":0}]
["",null,null,{"$f":"MATCH(C908,Categories!A:A,0)","v":{"$error":"#N/A"}},0,{"$f":"IF(OR($E908<>0,$C908=\"\"),\"\",INDEX(Categories!$A:$E,Entries!$D908,2))","v":""},{"$f":"IF(OR($E908<>0,$C908=\"\"),\"\",INDEX(Categories!$A:$E,Entries!$D908,3))","v":""},{"$f":"IF(OR($E908<>0,$C908=\"\"),\"\",INDEX(Categories!$A:$E,Entries!$D908,4))","v":""},{"$f":"IF(OR($E908<>0,$C908=\"\"),\"\",INDEX(Categories!$A:$E,Entries!$D908,5))","v":""},"2014-01-01","2014-01-01",{"$f":"(Entries!K909-Entries!K908)*24*60","v":0}]
["",null,null,{"$f":"MATCH(C909,Categories!A:A,0)","v":{"$error":"#N/A"}},0,{"$f":"IF(OR($E909<>0,$C909=\"\"),\"\",INDEX(Categories!$A:$E,Entries!$D909,2))","v":""},{"$f":"IF(OR($E909<>0,$C909=\"\"),\"\",INDEX(Categories!$A:$E,Entries!$D909,3))","v":""},{"$f":"IF(OR($E909<>0,$C909=\"\"),\"\",INDEX(Categories!$A:$E,Entries!$D909,4))","v":""},{"$f":"IF(OR($E909<>0,$C909=\"\"),\"\",INDEX(Categories!$A:$E,Entries!$D909,5))","v":""},"2014-01-01","2014-01-01",{"$f":"(Entries!K910-Entries!K909)*24*60","v":0}]
["",null,null,{"$f":"MATCH(C910,Categories!A:A,0)","v":{"$error":"#N/A"}},0,{"$f":"IF(OR($E910<>0,$C910=\"\"),\"\",INDEX(Categories!$A:$E,Entries!$D910,2))","v":""},{"$f":"IF(OR($E910<>0,$C910=\"\"),\"\",INDEX(Categories!$A:$E,Entries!$D910,3))","v":""},{"$f":"IF(OR($E910<>0,$C910=\"\"),\"\",INDEX(Categories!$A:$E,Entries!$D910,4))","v":""},{"$f":"IF(OR($E910<>0,$C910=\"\"),\"\",INDEX(Categories!$A:$E,Entries!$D910,5))","v":""},"2014-01-01","2014-01-01",{"$f":"(Entries!K911-Entries!K910)*24*60","v":0}]
["",null,null,{"$f":"MATCH(C911,Categories!A:A,0)","v":{"$error":"#N/A"}},0,{"$f":"IF(OR($E911<>0,$C911=\"\"),\"\",INDEX(Categories!$A:$E,Entries!$D911,2))","v":""},{"$f":"IF(OR($E911<>0,$C911=\"\"),\"\",INDEX(Categories!$A:$E,Entries!$D911,3))","v":""},{"$f":"IF(OR($E911<>0,$C911=\"\"),\"\",INDEX(Categories!$A:$E,Entries!$D911,4))","v":""},{"$f":"IF(OR($E911<>0,$C911=\"\"),\"\",INDEX(Categories!$A:$E,Entries!$D911,5))","v":""},"2014-01-01","2014-01-01",{"$f":"(Entries!K912-Entries!K911)*24*60","v":0}]
["",null,null,{"$f":"MATCH(C912,Categories!A:A,0)","v":{"$error":"#N/A"}},0,{"$f":"IF(OR($E912<>0,$C912=\"\"),\"\",INDEX(Categories!$A:$E,Entries!$D912,2))","v":""},{"$f":"IF(OR($E912<>0,$C912=\"\"),\"\",INDEX(Categories!$A:$E,Entries!$D912,3))","v":""},{"$f":"IF(OR($E912<>0,$C912=\"\"),\"\",INDEX(Categories!$A:$E,Entries!$D912,4))","v":""},{"$f":"IF(OR($E912<>0,$C912=\"\"),\"\",INDEX(Categories!$A:$E,Entries!$D912,5))","v":""},"2014-01-01","2014-01-01",{"$f":"(Entries!K913-Entries!K912)*24*60","v":0}]
["",null,null,{"$f":"MATCH(C913,Categories!A:A,0)","v":{"$error":"#N/A"}},0,{"$f":"IF(OR($E913<>0,$C913=\"\"),\"\",INDEX(Categories!$A:$E,Entries!$D913,2))","v":""},{"$f":"IF(OR($E913<>0,$C913=\"\"),\"\",INDEX(Categories!$A:$E,Entries!$D913,3))","v":""},{"$f":"IF(OR($E913<>0,$C913=\"\"),\"\",INDEX(Categories!$A:$E,Entries!$D913,4))","v":""},{"$f":"IF(OR($E913<>0,$C913=\"\"),\"\",INDEX(Categories!$A:$E,Entries!$D913,5))","v":""},"2014-01-01","2014-01-01",{"$f":"(Entries!K914-Entries!K913)*24*60","v":0}]
["",null,null,{"$f":"MATCH(C914,Categories!A:A,0)","v":{"$error":"#N/A"}},0,{"$f":"IF(OR($E914<>0,$C914=\"\"),\"\",INDEX(Categories!$A:$E,Entries!$D914,2))","v":""},{"$f":"IF(OR($E914<>0,$C914=\"\"),\"\",INDEX(Categories!$A:$E,Entries!$D914,3))","v":""},{"$f":"IF(OR($E914<>0,$C914=\"\"),\"\",INDEX(Categories!$A:$E,Entries!$D914,4))","v":""},{"$f":"IF(OR($E914<>0,$C914=\"\"),\"\",INDEX(Categories!$A:$E,Entries!$D914,5))","v":""},"2014-01-01","2014-01-01",{"$f":"(Entries!K915-Entries!K914)*24*60","v":0}]
["",null,null,{"$f":"MATCH(C915,Categories!A:A,0)","v":{"$error":"#N/A"}},0,{"$f":"IF(OR($E915<>0,$C915=\"\"),\"\",INDEX(Categories!$A:$E,Entries!$D915,2))","v":""},{"$f":"IF(OR($E915<>0,$C915=\"\"),\"\",INDEX(Categories!$A:$E,Entries!$D915,3))","v":""},{"$f":"IF(OR($E915<>0,$C915=\"\"),\"\",INDEX(Categories!$A:$E,Entries!$D915,4))","v":""},{"$f":"IF(OR($E915<>0,$C915=\"\"),\"\",INDEX(Categories!$A:$E,Entries!$D915,5))","v":""},"2014-01-01","2014-01-01",{"$f":"(Entries!K916-Entries!K915)*24*60","v":0}]
["",null,null,{"$f":"MATCH(C916,Categories!A:A,0)","v":{"$error":"#N/A"}},0,{"$f":"IF(OR($E916<>0,$C916=\"\"),\"\",INDEX(Categories!$A:$E,Entries!$D916,2))","v":""},{"$f":"IF(OR($E916<>0,$C916=\"\"),\"\",INDEX(Categories!$A:$E,Entries!$D916,3))","v":""},{"$f":"IF(OR($E916<>0,$C916=\"\"),\"\",INDEX(Categories!$A:$E,Entries!$D916,4))","v":""},{"$f":"IF(OR($E916<>0,$C916=\"\"),\"\",INDEX(Categories!$A:$E,Entries!$D916,5))","v":""},"2014-01-01","2014-01-01",{"$f":"(Entries!K917-Entries!K916)*24*60","v":0}]
["",null,null,{"$f":"MATCH(C917,Categories!A:A,0)","v":{"$error":"#N/A"}},0,{"$f":"IF(OR($E917<>0,$C917=\"\"),\"\",INDEX(Categories!$A:$E,Entries!$D917,2))","v":""},{"$f":"IF(OR($E917<>0,$C917=\"\"),\"\",INDEX(Categories!$A:$E,Entries!$D917,3))","v":""},{"$f":"IF(OR($E917<>0,$C917=\"\"),\"\",INDEX(Categories!$A:$E,Entries!$D917,4))","v":""},{"$f":"IF(OR($E917<>0,$C917=\"\"),\"\",INDEX(Categories!$A:$E,Entries!$D917,5))","v":""},"2014-01-01","2014-01-01",{"$f":"(Entries!K918-Entries!K917)*24*60","v":0}]
["",null,null,{"$f":"MATCH(C918,Categories!A:A,0)","v":{"$error":"#N/A"}},0,{"$f":"IF(OR($E918<>0,$C918=\"\"),\"\",INDEX(Categories!$A:$E,Entries!$D918,2))","v":""},{"$f":"IF(OR($E918<>0,$C918=\"\"),\"\",INDEX(Categories!$A:$E,Entries!$D918,3))","v":""},{"$f":"IF(OR($E918<>0,$C918=\"\"),\"\",INDEX(Categories!$A:$E,Entries!$D918,4))","v":""},{"$f":"IF(OR($E918<>0,$C918=\"\"),\"\",INDEX(Categories!$A:$E,Entries!$D918,5))","v":""},"2014-01-01","2014-01-01",{"$f":"(Entries!K919-Entries!K918)*24*60","v":0}]
["",null,null,{"$f":"MATCH(C919,Categories!A:A,0)","v":{"$error":"#N/A"}},0,{"$f":"IF(OR($E919<>0,$C919=\"\"),\"\",INDEX(Categories!$A:$E,Entries!$D919,2))","v":""},{"$f":"IF(OR($E919<>0,$C919=\"\"),\"\",INDEX(Categories!$A:$E,Entries!$D919,3))","v":""},{"$f":"IF(OR($E919<>0,$C919=\"\"),\"\",INDEX(Categories!$A:$E,Entries!$D919,4))","v":""},{"$f":"IF(OR($E919<>0,$C919=\"\"),\"\",INDEX(Categories!$A:$E,Entries!$D919,5))","v":""},"2014-01-01","2014-01-01",{"$f":"(Entries!K920-Entries!K919)*24*60","v":0}]
["",null,null,{"$f":"MATCH(C920,Categories!A:A,0)","v":{"$error":"#N/A"}},0,{"$f":"IF(OR($E920<>0,$C920=\"\"),\"\",INDEX(Categories!$A:$E,Entries!$D920,2))","v":""},{"$f":"IF(OR($E920<>0,$C920=\"\"),\"\",INDEX(Categories!$A:$E,Entries!$D920,3))","v":""},{"$f":"IF(OR($E920<>0,$C920=\"\"),\"\",INDEX(Categories!$A:$E,Entries!$D920,4))","v":""},{"$f":"IF(OR($E920<>0,$C920=\"\"),\"\",INDEX(Categories!$A:$E,Entries!$D920,5))","v":""},"2014-01-01","2014-01-01",{"$f":"(Entries!K921-Entries!K920)*24*60","v":0}]
["",null,null,{"$f":"MATCH(C921,Categories!A:A,0)","v":{"$error":"#N/A"}},0,{"$f":"IF(OR($E921<>0,$C921=\"\"),\"\",INDEX(Categories!$A:$E,Entries!$D921,2))","v":""},{"$f":"IF(OR($E921<>0,$C921=\"\"),\"\",INDEX(Categories!$A:$E,Entries!$D921,3))","v":""},{"$f":"IF(OR($E921<>0,$C921=\"\"),\"\",INDEX(Categories!$A:$E,Entries!$D921,4))","v":""},{"$f":"IF(OR($E921<>0,$C921=\"\"),\"\",INDEX(Categories!$A:$E,Entries!$D921,5))","v":""},"2014-01-01","2014-01-01",{"$f":"(Entries!K922-Entries!K921)*24*60","v":0}]
["",null,null,{"$f":"MATCH(C922,Categories!A:A,0)","v":{"$error":"#N/A"}},0,{"$f":"IF(OR($E922<>0,$C922=\"\"),\"\",INDEX(Categories!$A:$E,Entries!$D922,2))","v":""},{"$f":"IF(OR($E922<>0,$C922=\"\"),\"\",INDEX(Categories!$A:$E,Entries!$D922,3))","v":""},{"$f":"IF(OR($E922<>0,$C922=\"\"),\"\",INDEX(Categories!$A:$E,Entries!$D922,4))","v":""},{"$f":"IF(OR($E922<>0,$C922=\"\"),\"\",INDEX(Categories!$A:$E,Entries!$D922,5))","v":""},"2014-01-01","2014-01-01",{"$f":"(Entries!K923-Entries!K922)*24*60","v":0}]
["",null,null,{"$f":"MATCH(C923,Categories!A:A,0)","v":{"$error":"#N/A"}},0,{"$f":"IF(OR($E923<>0,$C923=\"\"),\"\",INDEX(Categories!$A:$E,Entries!$D923,2))","v":""},{"$f":"IF(OR($E923<>0,$C923=\"\"),\"\",INDEX(Categories!$A:$E,Entries!$D923,3))","v":""},{"$f":"IF(OR($E923<>0,$C923=\"\"),\"\",INDEX(Categories!$A:$E,Entries!$D923,4))","v":""},{"$f":"IF(OR($E923<>0,$C923=\"\"),\"\",INDEX(Categories!$A:$E,Entries!$D923,5))","v":""},"2014-01-01","2014-01-01",{"$f":"(Entries!K924-Entries!K923)*24*60","v":0}]
["",null,null,{"$f":"MATCH(C924,Categories!A:A,0)","v":{"$error":"#N/A"}},0,{"$f":"IF(OR($E924<>0,$C924=\"\"),\"\",INDEX(Categories!$A:$E,Entries!$D924,2))","v":""},{"$f":"IF(OR($E924<>0,$C924=\"\"),\"\",INDEX(Categories!$A:$E,Entries!$D924,3))","v":""},{"$f":"IF(OR($E924<>0,$C924=\"\"),\"\",INDEX(Categories!$A:$E,Entries!$D924,4))","v":""},{"$f":"IF(OR($E924<>0,$C924=\"\"),\"\",INDEX(Categories!$A:$E,Entries!$D924,5))","v":""},"2014-01-01","2014-01-01",{"$f":"(Entries!K925-Entries!K924)*24*60","v":0}]
["",null,null,{"$f":"MATCH(C925,Categories!A:A,0)","v":{"$error":"#N/A"}},0,{"$f":"IF(OR($E925<>0,$C925=\"\"),\"\",INDEX(Categories!$A:$E,Entries!$D925,2))","v":""},{"$f":"IF(OR($E925<>0,$C925=\"\"),\"\",INDEX(Categories!$A:$E,Entries!$D925,3))","v":""},{"$f":"IF(OR($E925<>0,$C925=\"\"),\"\",INDEX(Categories!$A:$E,Entries!$D925,4))","v":""},{"$f":"IF(OR($E925<>0,$C925=\"\"),\"\",INDEX(Categories!$A:$E,Entries!$D925,5))","v":""},"2014-01-01","2014-01-01",{"$f":"(Entries!K926-Entries!K925)*24*60","v":0}]
["",null,null,{"$f":"MATCH(C926,Categories!A:A,0)","v":{"$error":"#N/A"}},0,{"$f":"IF(OR($E926<>0,$C926=\"\"),\"\",INDEX(Categories!$A:$E,Entries!$D926,2))","v":""},{"$f":"IF(OR($E926<>0,$C926=\"\"),\"\",INDEX(Categories!$A:$E,Entries!$D926,3))","v":""},{"$f":"IF(OR($E926<>0,$C926=\"\"),\"\",INDEX(Categories!$A:$E,Entries!$D926,4))","v":""},{"$f":"IF(OR($E926<>0,$C926=\"\"),\"\",INDEX(Categories!$A:$E,Entries!$D926,5))","v":""},"2014-01-01","2014-01-01",{"$f":"(Entries!K927-Entries!K926)*24*60","v":0}]
["",null,null,{"$f":"MATCH(C927,Categories!A:A,0)","v":{"$error":"#N/A"}},0,{"$f":"IF(OR($E927<>0,$C927=\"\"),\"\",INDEX(Categories!$A:$E,Entries!$D927,2))","v":""},{"$f":"IF(OR($E927<>0,$C927=\"\"),\"\",INDEX(Categories!$A:$E,Entries!$D927,3))","v":""},{"$f":"IF(OR($E927<>0,$C927=\"\"),\"\",INDEX(Categories!$A:$E,Entries!$D927,4))","v":""},{"$f":"IF(OR($E927<>0,$C927=\"\"),\"\",INDEX(Categories!$A:$E,Entries!$D927,5))","v":""},"2014-01-01","2014-01-01",{"$f":"(Entries!K928-Entries!K927)*24*60","v":0}]
["",null,null,{"$f":"MATCH(C928,Categories!A:A,0)","v":{"$error":"#N/A"}},0,{"$f":"IF(OR($E928<>0,$C928=\"\"),\"\",INDEX(Categories!$A:$E,Entries!$D928,2))","v":""},{"$f":"IF(OR($E928<>0,$C928=\"\"),\"\",INDEX(Categories!$A:$E,Entries!$D928,3))","v":""},{"$f":"IF(OR($E928<>0,$C928=\"\"),\"\",INDEX(Categories!$A:$E,Entries!$D928,4))","v":""},{"$f":"IF(OR($E928<>0,$C928=\"\"),\"\",INDEX(Categories!$A:$E,Entries!$D928,5))","v":""},"2014-01-01","2014-01-01",{"$f":"(Entries!K929-Entries!K928)*24*60","v":0}]
["",null,null,{"$f":"MATCH(C929,Categories!A:A,0)","v":{"$error":"#N/A"}},0,{"$f":"IF(OR($E929<>0,$C929=\"\"),\"\",INDEX(Categories!$A:$E,Entries!$D929,2))","v":""},{"$f":"IF(OR($E929<>0,$C929=\"\"),\"\",INDEX(Categories!$A:$E,Entries!$D929,3))","v":""},{"$f":"IF(OR($E929<>0,$C929=\"\"),\"\",INDEX(Categories!$A:$E,Entries!$D929,4))","v":""},{"$f":"IF(OR($E929<>0,$C929=\"\"),\"\",INDEX(Categories!$A:$E,Entries!$D929,5))","v":""},"2014-01-01","2014-01-01",{"$f":"(Entries!K930-Entries!K929)*24*60","v":0}]
["",null,null,{"$f":"MATCH(C930,Categories!A:A,0)","v":{"$error":"#N/A"}},0,{"$f":"IF(OR($E930<>0,$C930=\"\"),\"\",INDEX(Categories!$A:$E,Entries!$D930,2))","v":""},{"$f":"IF(OR($E930<>0,$C930=\"\"),\"\",INDEX(Categories!$A:$E,Entries!$D930,3))","v":""},{"$f":"IF(OR($E930<>0,$C930=\"\"),\"\",INDEX(Categories!$A:$E,Entries!$D930,4))","v":""},{"$f":"IF(OR($E930<>0,$C930=\"\"),\"\",INDEX(Categories!$A:$E,Entries!$D930,5))","v":""},"2014-01-01","2014-01-01",{"$f":"(Entries!K931-Entries!K930)*24*60","v":0}]
["",null,null,{"$f":"MATCH(C931,Categories!A:A,0)","v":{"$error":"#N/A"}},0,{"$f":"IF(OR($E931<>0,$C931=\"\"),\"\",INDEX(Categories!$A:$E,Entries!$D931,2))","v":""},{"$f":"IF(OR($E931<>0,$C931=\"\"),\"\",INDEX(Categories!$A:$E,Entries!$D931,3))","v":""},{"$f":"IF(OR($E931<>0,$C931=\"\"),\"\",INDEX(Categories!$A:$E,Entries!$D931,4))","v":""},{"$f":"IF(OR($E931<>0,$C931=\"\"),\"\",INDEX(Categories!$A:$E,Entries!$D931,5))","v":""},"2014-01-01","2014-01-01",{"$f":"(Entries!K932-Entries!K931)*24*60","v":0}]
[{"$f":"IF(OR(B932>=B931,C931=\"z\",B932=\"\"),\"\",J931+1)","v":""},null,null,{"$f":"MATCH(C932,Categories!A:A,0)","v":{"$error":"#N/A"}},0,{"$f":"IF(OR($E932<>0,$C932=\"\"),\"\",INDEX(Categories!$A:$E,Entries!$D932,2))","v":""},{"$f":"IF(OR($E932<>0,$C932=\"\"),\"\",INDEX(Categories!$A:$E,Entries!$D932,3))","v":""},{"$f":"IF(OR($E932<>0,$C932=\"\"),\"\",INDEX(Categories!$A:$E,Entries!$D932,4))","v":""},{"$f":"IF(OR($E932<>0,$C932=\"\"),\"\",INDEX(Categories!$A:$E,Entries!$D932,5))","v":""},"2014-01-01","2014-01-01",{"$f":"(Entries!K933-Entries!K932)*24*60","v":0}]
["",null,null,{"$f":"MATCH(C933,Categories!A:A,0)","v":{"$error":"#N/A"}},0,{"$f":"IF(OR($E933<>0,$C933=\"\"),\"\",INDEX(Categories!$A:$E,Entries!$D933,2))","v":""},{"$f":"IF(OR($E933<>0,$C933=\"\"),\"\",INDEX(Categories!$A:$E,Entries!$D933,3))","v":""},{"$f":"IF(OR($E933<>0,$C933=\"\"),\"\",INDEX(Categories!$A:$E,Entries!$D933,4))","v":""},{"$f":"IF(OR($E933<>0,$C933=\"\"),\"\",INDEX(Categories!$A:$E,Entries!$D933,5))","v":""},"2014-01-01","2014-01-01",{"$f":"(Entries!K934-Entries!K933)*24*60","v":0}]
["",null,null,{"$f":"MATCH(C934,Categories!A:A,0)","v":{"$error":"#N/A"}},0,{"$f":"IF(OR($E934<>0,$C934=\"\"),\"\",INDEX(Categories!$A:$E,Entries!$D934,2))","v":""},{"$f":"IF(OR($E934<>0,$C934=\"\"),\"\",INDEX(Categories!$A:$E,Entries!$D934,3))","v":""},{"$f":"IF(OR($E934<>0,$C934=\"\"),\"\",INDEX(Categories!$A:$E,Entries!$D934,4))","v":""},{"$f":"IF(OR($E934<>0,$C934=\"\"),\"\",INDEX(Categories!$A:$E,Entries!$D934,5))","v":""},"2014-01-01","2014-01-01",{"$f":"(Entries!K935-Entries!K934)*24*60","v":0}]
["",null,null,{"$f":"MATCH(C935,Categories!A:A,0)","v":{"$error":"#N/A"}},0,{"$f":"IF(OR($E935<>0,$C935=\"\"),\"\",INDEX(Categories!$A:$E,Entries!$D935,2))","v":""},{"$f":"IF(OR($E935<>0,$C935=\"\"),\"\",INDEX(Categories!$A:$E,Entries!$D935,3))","v":""},{"$f":"IF(OR($E935<>0,$C935=\"\"),\"\",INDEX(Categories!$A:$E,Entries!$D935,4))","v":""},{"$f":"IF(OR($E935<>0,$C935=\"\"),\"\",INDEX(Categories!$A:$E,Entries!$D935,5))","v":""},"2014-01-01","2014-01-01",{"$f":"(Entries!K936-Entries!K935)*24*60","v":0}]
["",null,null,{"$f":"MATCH(C936,Categories!A:A,0)","v":{"$error":"#N/A"}},0,{"$f":"IF(OR($E936<>0,$C936=\"\"),\"\",INDEX(Categories!$A:$E,Entries!$D936,2))","v":""},{"$f":"IF(OR($E936<>0,$C936=\"\"),\"\",INDEX(Categories!$A:$E,Entries!$D936,3))","v":""},{"$f":"IF(OR($E936<>0,$C936=\"\"),\"\",INDEX(Categories!$A:$E,Entries!$D936,4))","v":""},{"$f":"IF(OR($E936<>0,$C936=\"\"),\"\",INDEX(Categories!$A:$E,Entries!$D936,5))","v":""},"2014-01-01","2014-01-01",{"$f":"(Entries!K937-Entries!K936)*24*60","v":0}]
["",null,null,{"$f":"MATCH(C937,Categories!A:A,0)","v":{"$error":"#N/A"}},0,{"$f":"IF(OR($E937<>0,$C937=\"\"),\"\",INDEX(Categories!$A:$E,Entries!$D937,2))","v":""},{"$f":"IF(OR($E937<>0,$C937=\"\"),\"\",INDEX(Categories!$A:$E,Entries!$D937,3))","v":""},{"$f":"IF(OR($E937<>0,$C937=\"\"),\"\",INDEX(Categories!$A:$E,Entries!$D937,4))","v":""},{"$f":"IF(OR($E937<>0,$C937=\"\"),\"\",INDEX(Categories!$A:$E,Entries!$D937,5))","v":""},"2014-01-01","2014-01-01",{"$f":"(Entries!K938-Entries!K937)*24*60","v":0}]
["",null,null,{"$f":"MATCH(C938,Categories!A:A,0)","v":{"$error":"#N/A"}},0,{"$f":"IF(OR($E938<>0,$C938=\"\"),\"\",INDEX(Categories!$A:$E,Entries!$D938,2))","v":""},{"$f":"IF(OR($E938<>0,$C938=\"\"),\"\",INDEX(Categories!$A:$E,Entries!$D938,3))","v":""},{"$f":"IF(OR($E938<>0,$C938=\"\"),\"\",INDEX(Categories!$A:$E,Entries!$D938,4))","v":""},{"$f":"IF(OR($E938<>0,$C938=\"\"),\"\",INDEX(Categories!$A:$E,Entries!$D938,5))","v":""},"2014-01-01","2014-01-01",{"$f":"(Entries!K939-Entries!K938)*24*60","v":0}]
["",null,null,{"$f":"MATCH(C939,Categories!A:A,0)","v":{"$error":"#N/A"}},0,{"$f":"IF(OR($E939<>0,$C939=\"\"),\"\",INDEX(Categories!$A:$E,Entries!$D939,2))","v":""},{"$f":"IF(OR($E939<>0,$C939=\"\"),\"\",INDEX(Categories!$A:$E,Entries!$D939,3))","v":""},{"$f":"IF(OR($E939<>0,$C939=\"\"),\"\",INDEX(Categories!$A:$E,Entries!$D939,4))","v":""},{"$f":"IF(OR($E939<>0,$C939=\"\"),\"\",INDEX(Categories!$A:$E,Entries!$D939,5))","v":""},"2014-01-01","2014-01-01",{"$f":"(Entries!K940-Entries!K939)*24*60","v":0}]
["",null,null,{"$f":"MATCH(C940,Categories!A:A,0)","v":{"$error":"#N/A"}},0,{"$f":"IF(OR($E940<>0,$C940=\"\"),\"\",INDEX(Categories!$A:$E,Entries!$D940,2))","v":""},{"$f":"IF(OR($E940<>0,$C940=\"\"),\"\",INDEX(Categories!$A:$E,Entries!$D940,3))","v":""},{"$f":"IF(OR($E940<>0,$C940=\"\"),\"\",INDEX(Categories!$A:$E,Entries!$D940,4))","v":""},{"$f":"IF(OR($E940<>0,$C940=\"\"),\"\",INDEX(Categories!$A:$E,Entries!$D940,5))","v":""},"2014-01-01","2014-01-01",{"$f":"(Entries!K941-Entries!K940)*24*60","v":0}]
["",null,null,{"$f":"MATCH(C941,Categories!A:A,0)","v":{"$error":"#N/A"}},0,{"$f":"IF(OR($E941<>0,$C941=\"\"),\"\",INDEX(Categories!$A:$E,Entries!$D941,2))","v":""},{"$f":"IF(OR($E941<>0,$C941=\"\"),\"\",INDEX(Categories!$A:$E,Entries!$D941,3))","v":""},{"$f":"IF(OR($E941<>0,$C941=\"\"),\"\",INDEX(Categories!$A:$E,Entries!$D941,4))","v":""},{"$f":"IF(OR($E941<>0,$C941=\"\"),\"\",INDEX(Categories!$A:$E,Entries!$D941,5))","v":""},"2014-01-01","2014-01-01",{"$f":"(Entries!K942-Entries!K941)*24*60","v":0}]
["",null,null,{"$f":"MATCH(C942,Categories!A:A,0)","v":{"$error":"#N/A"}},0,{"$f":"IF(OR($E942<>0,$C942=\"\"),\"\",INDEX(Categories!$A:$E,Entries!$D942,2))","v":""},{"$f":"IF(OR($E942<>0,$C942=\"\"),\"\",INDEX(Categories!$A:$E,Entries!$D942,3))","v":""},{"$f":"IF(OR($E942<>0,$C942=\"\"),\"\",INDEX(Categories!$A:$E,Entries!$D942,4))","v":""},{"$f":"IF(OR($E942<>0,$C942=\"\"),\"\",INDEX(Categories!$A:$E,Entries!$D942,5))","v":""},"2014-01-01","2014-01-01",{"$f":"(Entries!K943-Entries!K942)*24*60","v":0}]
["",null,null,{"$f":"MATCH(C943,Categories!A:A,0)","v":{"$error":"#N/A"}},0,{"$f":"IF(OR($E943<>0,$C943=\"\"),\"\",INDEX(Categories!$A:$E,Entries!$D943,2))","v":""},{"$f":"IF(OR($E943<>0,$C943=\"\"),\"\",INDEX(Categories!$A:$E,Entries!$D943,3))","v":""},{"$f":"IF(OR($E943<>0,$C943=\"\"),\"\",INDEX(Categories!$A:$E,Entries!$D943,4))","v":""},{"$f":"IF(OR($E943<>0,$C943=\"\"),\"\",INDEX(Categories!$A:$E,Entries!$D943,5))","v":""},"2014-01-01","2014-01-01",{"$f":"(Entries!K944-Entries!K943)*24*60","v":0}]
["",null,null,{"$f":"MATCH(C944,Categories!A:A,0)","v":{"$error":"#N/A"}},0,{"$f":"IF(OR($E944<>0,$C944=\"\"),\"\",INDEX(Categories!$A:$E,Entries!$D944,2))","v":""},{"$f":"IF(OR($E944<>0,$C944=\"\"),\"\",INDEX(Categories!$A:$E,Entries!$D944,3))","v":""},{"$f":"IF(OR($E944<>0,$C944=\"\"),\"\",INDEX(Categories!$A:$E,Entries!$D944,4))","v":""},{"$f":"IF(OR($E944<>0,$C944=\"\"),\"\",INDEX(Categories!$A:$E,Entries!$D944,5))","v":""},"2014-01-01","2014-01-01",{"$f":"(Entries!K945-Entries!K944)*24*60","v":0}]
["",null,null,{"$f":"MATCH(C945,Categories!A:A,0)","v":{"$error":"#N/A"}},0,{"$f":"IF(OR($E945<>0,$C945=\"\"),\"\",INDEX(Categories!$A:$E,Entries!$D945,2))","v":""},{"$f":"IF(OR($E945<>0,$C945=\"\"),\"\",INDEX(Categories!$A:$E,Entries!$D945,3))","v":""},{"$f":"IF(OR($E945<>0,$C945=\"\"),\"\",INDEX(Categories!$A:$E,Entries!$D945,4))","v":""},{"$f":"IF(OR($E945<>0,$C945=\"\"),\"\",INDEX(Categories!$A:$E,Entries!$D945,5))","v":""},"2014-01-01","2014-01-01",{"$f":"(Entries!K946-Entries!K945)*24*60","v":0}]
["",null,null,{"$f":"MATCH(C946,Categories!A:A,0)","v":{"$error":"#N/A"}},0,{"$f":"IF(OR($E946<>0,$C946=\"\"),\"\",INDEX(Categories!$A:$E,Entries!$D946,2))","v":""},{"$f":"IF(OR($E946<>0,$C946=\"\"),\"\",INDEX(Categories!$A:$E,Entries!$D946,3))","v":""},{"$f":"IF(OR($E946<>0,$C946=\"\"),\"\",INDEX(Categories!$A:$E,Entries!$D946,4))","v":""},{"$f":"IF(OR($E946<>0,$C946=\"\"),\"\",INDEX(Categories!$A:$E,Entries!$D946,5))","v":""},"2014-01-01","2014-01-01",{"$f":"(Entries!K947-Entries!K946)*24*60","v":0}]
["",null,null,{"$f":"MATCH(C947,Categories!A:A,0)","v":{"$error":"#N/A"}},0,{"$f":"IF(OR($E947<>0,$C947=\"\"),\"\",INDEX(Categories!$A:$E,Entries!$D947,2))","v":""},{"$f":"IF(OR($E947<>0,$C947=\"\"),\"\",INDEX(Categories!$A:$E,Entries!$D947,3))","v":""},{"$f":"IF(OR($E947<>0,$C947=\"\"),\"\",INDEX(Categories!$A:$E,Entries!$D947,4))","v":""},{"$f":"IF(OR($E947<>0,$C947=\"\"),\"\",INDEX(Categories!$A:$E,Entries!$D947,5))","v":""},"2014-01-01","2014-01-01",{"$f":"(Entries!K948-Entries!K947)*24*60","v":0}]
["",null,null,{"$f":"MATCH(C948,Categories!A:A,0)","v":{"$error":"#N/A"}},0,{"$f":"IF(OR($E948<>0,$C948=\"\"),\"\",INDEX(Categories!$A:$E,Entries!$D948,2))","v":""},{"$f":"IF(OR($E948<>0,$C948=\"\"),\"\",INDEX(Categories!$A:$E,Entries!$D948,3))","v":""},{"$f":"IF(OR($E948<>0,$C948=\"\"),\"\",INDEX(Categories!$A:$E,Entries!$D948,4))","v":""},{"$f":"IF(OR($E948<>0,$C948=\"\"),\"\",INDEX(Categories!$A:$E,Entries!$D948,5))","v":""},"2014-01-01","2014-01-01",{"$f":"(Entries!K949-Entries!K948)*24*60","v":0}]
["",null,null,{"$f":"MATCH(C949,Categories!A:A,0)","v":{"$error":"#N/A"}},0,{"$f":"IF(OR($E949<>0,$C949=\"\"),\"\",INDEX(Categories!$A:$E,Entries!$D949,2))","v":""},{"$f":"IF(OR($E949<>0,$C949=\"\"),\"\",INDEX(Categories!$A:$E,Entries!$D949,3))","v":""},{"$f":"IF(OR($E949<>0,$C949=\"\"),\"\",INDEX(Categories!$A:$E,Entries!$D949,4))","v":""},{"$f":"IF(OR($E949<>0,$C949=\"\"),\"\",INDEX(Categories!$A:$E,Entries!$D949,5))","v":""},"2014-01-01","2014-01-01",{"$f":"(Entries!K950-Entries!K949)*24*60","v":0}]
["",null,null,{"$f":"MATCH(C950,Categories!A:A,0)","v":{"$error":"#N/A"}},0,{"$f":"IF(OR($E950<>0,$C950=\"\"),\"\",INDEX(Categories!$A:$E,Entries!$D950,2))","v":""},{"$f":"IF(OR($E950<>0,$C950=\"\"),\"\",INDEX(Categories!$A:$E,Entries!$D950,3))","v":""},{"$f":"IF(OR($E950<>0,$C950=\"\"),\"\",INDEX(Categories!$A:$E,Entries!$D950,4))","v":""},{"$f":"IF(OR($E950<>0,$C950=\"\"),\"\",INDEX(Categories!$A:$E,Entries!$D950,5))","v":""},"2014-01-01","2014-01-01",{"$f":"(Entries!K951-Entries!K950)*24*60","v":0}]
["",null,null,{"$f":"MATCH(C951,Categories!A:A,0)","v":{"$error":"#N/A"}},0,{"$f":"IF(OR($E951<>0,$C951=\"\"),\"\",INDEX(Categories!$A:$E,Entries!$D951,2))","v":""},{"$f":"IF(OR($E951<>0,$C951=\"\"),\"\",INDEX(Categories!$A:$E,Entries!$D951,3))","v":""},{"$f":"IF(OR($E951<>0,$C951=\"\"),\"\",INDEX(Categories!$A:$E,Entries!$D951,4))","v":""},{"$f":"IF(OR($E951<>0,$C951=\"\"),\"\",INDEX(Categories!$A:$E,Entries!$D951,5))","v":""},"2014-01-01","2014-01-01",{"$f":"(Entries!K952-Entries!K951)*24*60","v":0}]
["",null,null,{"$f":"MATCH(C952,Categories!A:A,0)","v":{"$error":"#N/A"}},0,{"$f":"IF(OR($E952<>0,$C952=\"\"),\"\",INDEX(Categories!$A:$E,Entries!$D952,2))","v":""},{"$f":"IF(OR($E952<>0,$C952=\"\"),\"\",INDEX(Categories!$A:$E,Entries!$D952,3))","v":""},{"$f":"IF(OR($E952<>0,$C952=\"\"),\"\",INDEX(Categories!$A:$E,Entries!$D952,4))","v":""},{"$f":"IF(OR($E952<>0,$C952=\"\"),\"\",INDEX(Categories!$A:$E,Entries!$D952,5))","v":""},"2014-01-01","2014-01-01",{"$f":"(Entries!K953-Entries!K952)*24*60","v":0}]
["",null,null,{"$f":"MATCH(C953,Categories!A:A,0)","v":{"$error":"#N/A"}},0,{"$f":"IF(OR($E953<>0,$C953=\"\"),\"\",INDEX(Categories!$A:$E,Entries!$D953,2))","v":""},{"$f":"IF(OR($E953<>0,$C953=\"\"),\"\",INDEX(Categories!$A:$E,Entries!$D953,3))","v":""},{"$f":"IF(OR($E953<>0,$C953=\"\"),\"\",INDEX(Categories!$A:$E,Entries!$D953,4))","v":""},{"$f":"IF(OR($E953<>0,$C953=\"\"),\"\",INDEX(Categories!$A:$E,Entries!$D953,5))","v":""},"2014-01-01","2014-01-01",{"$f":"(Entries!K954-Entries!K953)*24*60","v":0}]
["",null,null,{"$f":"MATCH(C954,Categories!A:A,0)","v":{"$error":"#N/A"}},0,{"$f":"IF(OR($E954<>0,$C954=\"\"),\"\",INDEX(Categories!$A:$E,Entries!$D954,2))","v":""},{"$f":"IF(OR($E954<>0,$C954=\"\"),\"\",INDEX(Categories!$A:$E,Entries!$D954,3))","v":""},{"$f":"IF(OR($E954<>0,$C954=\"\"),\"\",INDEX(Categories!$A:$E,Entries!$D954,4))","v":""},{"$f":"IF(OR($E954<>0,$C954=\"\"),\"\",INDEX(Categories!$A:$E,Entries!$D954,5))","v":""},"2014-01-01","2014-01-01",{"$f":"(Entries!K955-Entries!K954)*24*60","v":0}]
["",null,null,{"$f":"MATCH(C955,Categories!A:A,0)","v":{"$error":"#N/A"}},0,{"$f":"IF(OR($E955<>0,$C955=\"\"),\"\",INDEX(Categories!$A:$E,Entries!$D955,2))","v":""},{"$f":"IF(OR($E955<>0,$C955=\"\"),\"\",INDEX(Categories!$A:$E,Entries!$D955,3))","v":""},{"$f":"IF(OR($E955<>0,$C955=\"\"),\"\",INDEX(Categories!$A:$E,Entries!$D955,4))","v":""},{"$f":"IF(OR($E955<>0,$C955=\"\"),\"\",INDEX(Categories!$A:$E,Entries!$D955,5))","v":""},"2014-01-01","2014-01-01",{"$f":"(Entries!K956-Entries!K955)*24*60","v":0}]
["",null,null,{"$f":"MATCH(C956,Categories!A:A,0)","v":{"$error":"#N/A"}},0,{"$f":"IF(OR($E956<>0,$C956=\"\"),\"\",INDEX(Categories!$A:$E,Entries!$D956,2))","v":""},{"$f":"IF(OR($E956<>0,$C956=\"\"),\"\",INDEX(Categories!$A:$E,Entries!$D956,3))","v":""},{"$f":"IF(OR($E956<>0,$C956=\"\"),\"\",INDEX(Categories!$A:$E,Entries!$D956,4))","v":""},{"$f":"IF(OR($E956<>0,$C956=\"\"),\"\",INDEX(Categories!$A:$E,Entries!$D956,5))","v":""},"2014-01-01","2014-01-01",{"$f":"(Entries!K957-Entries!K956)*24*60","v":0}]
["",null,null,{"$f":"MATCH(C957,Categories!A:A,0)","v":{"$error":"#N/A"}},0,{"$f":"IF(OR($E957<>0,$C957=\"\"),\"\",INDEX(Categories!$A:$E,Entries!$D957,2))","v":""},{"$f":"IF(OR($E957<>0,$C957=\"\"),\"\",INDEX(Categories!$A:$E,Entries!$D957,3))","v":""},{"$f":"IF(OR($E957<>0,$C957=\"\"),\"\",INDEX(Categories!$A:$E,Entries!$D957,4))","v":""},{"$f":"IF(OR($E957<>0,$C957=\"\"),\"\",INDEX(Categories!$A:$E,Entries!$D957,5))","v":""},"2014-01-01","2014-01-01",{"$f":"(Entries!K958-Entries!K957)*24*60","v":0}]
["",null,null,{"$f":"MATCH(C958,Categories!A:A,0)","v":{"$error":"#N/A"}},0,{"$f":"IF(OR($E958<>0,$C958=\"\"),\"\",INDEX(Categories!$A:$E,Entries!$D958,2))","v":""},{"$f":"IF(OR($E958<>0,$C958=\"\"),\"\",INDEX(Categories!$A:$E,Entries!$D958,3))","v":""},{"$f":"IF(OR($E958<>0,$C958=\"\"),\"\",INDEX(Categories!$A:$E,Entries!$D958,4))","v":""},{"$f":"IF(OR($E958<>0,$C958=\"\"),\"\",INDEX(Categories!$A:$E,Entries!$D958,5))","v":""},"2014-01-01","2014-01-01",{"$f":"(Entries!K959-Entries!K958)*24*60","v":0}]
["",null,null,{"$f":"MATCH(C959,Categories!A:A,0)","v":{"$error":"#N/A"}},0,{"$f":"IF(OR($E959<>0,$C959=\"\"),\"\",INDEX(Categories!$A:$E,Entries!$D959,2))","v":""},{"$f":"IF(OR($E959<>0,$C959=\"\"),\"\",INDEX(Categories!$A:$E,Entries!$D959,3))","v":""},{"$f":"IF(OR($E959<>0,$C959=\"\"),\"\",INDEX(Categories!$A:$E,Entries!$D959,4))","v":""},{"$f":"IF(OR($E959<>0,$C959=\"\"),\"\",INDEX(Categories!$A:$E,Entries!$D959,5))","v":""},"2014-01-01","2014-01-01",{"$f":"(Entries!K960-Entries!K959)*24*60","v":0}]
["",null,null,{"$f":"MATCH(C960,Categories!A:A,0)","v":{"$error":"#N/A"}},0,{"$f":"IF(OR($E960<>0,$C960=\"\"),\"\",INDEX(Categories!$A:$E,Entries!$D960,2))","v":""},{"$f":"IF(OR($E960<>0,$C960=\"\"),\"\",INDEX(Categories!$A:$E,Entries!$D960,3))","v":""},{"$f":"IF(OR($E960<>0,$C960=\"\"),\"\",INDEX(Categories!$A:$E,Entries!$D960,4))","v":""},{"$f":"IF(OR($E960<>0,$C960=\"\"),\"\",INDEX(Categories!$A:$E,Entries!$D960,5))","v":""},"2014-01-01","2014-01-01",{"$f":"(Entries!K961-Entries!K960)*24*60","v":0}]
["",null,null,{"$f":"MATCH(C961,Categories!A:A,0)","v":{"$error":"#N/A"}},0,{"$f":"IF(OR($E961<>0,$C961=\"\"),\"\",INDEX(Categories!$A:$E,Entries!$D961,2))","v":""},{"$f":"IF(OR($E961<>0,$C961=\"\"),\"\",INDEX(Categories!$A:$E,Entries!$D961,3))","v":""},{"$f":"IF(OR($E961<>0,$C961=\"\"),\"\",INDEX(Categories!$A:$E,Entries!$D961,4))","v":""},{"$f":"IF(OR($E961<>0,$C961=\"\"),\"\",INDEX(Categories!$A:$E,Entries!$D961,5))","v":""},"2014-01-01","2014-01-01",{"$f":"(Entries!K962-Entries!K961)*24*60","v":0}]
["",null,null,{"$f":"MATCH(C962,Categories!A:A,0)","v":{"$error":"#N/A"}},{"$f":"IF(AND(ISERROR(D962),C962<>\"\"),ROW(D962),0)","v":0},{"$f":"IF(OR($E962<>0,$C962=\"\"),\"\",INDEX(Categories!$A:$E,Entries!$D962,2))","v":""},{"$f":"IF(OR($E962<>0,$C962=\"\"),\"\",INDEX(Categories!$A:$E,Entries!$D962,3))","v":""},{"$f":"IF(OR($E962<>0,$C962=\"\"),\"\",INDEX(Categories!$A:$E,Entries!$D962,4))","v":""},{"$f":"IF(OR($E962<>0,$C962=\"\"),\"\",INDEX(Categories!$A:$E,Entries!$D962,5))","v":""},{"$f":"IF(A962=\"\",J961,A962)","v":"2014-01-01"},{"$f":"J962+B962","v":"2014-01-01"},{"$f":"(Entries!K963-Entries!K962)*24*60","v":0}]
["",null,null,{"$f":"MATCH(C963,Categories!A:A,0)","v":{"$error":"#N/A"}},0,{"$f":"IF(OR($E963<>0,$C963=\"\"),\"\",INDEX(Categories!$A:$E,Entries!$D963,2))","v":""},{"$f":"IF(OR($E963<>0,$C963=\"\"),\"\",INDEX(Categories!$A:$E,Entries!$D963,3))","v":""},{"$f":"IF(OR($E963<>0,$C963=\"\"),\"\",INDEX(Categories!$A:$E,Entries!$D963,4))","v":""},{"$f":"IF(OR($E963<>0,$C963=\"\"),\"\",INDEX(Categories!$A:$E,Entries!$D963,5))","v":""},"2014-01-01","2014-01-01",{"$f":"(Entries!K964-Entries!K963)*24*60","v":0}]
["",null,null,{"$f":"MATCH(C964,Categories!A:A,0)","v":{"$error":"#N/A"}},0,{"$f":"IF(OR($E964<>0,$C964=\"\"),\"\",INDEX(Categories!$A:$E,Entries!$D964,2))","v":""},{"$f":"IF(OR($E964<>0,$C964=\"\"),\"\",INDEX(Categories!$A:$E,Entries!$D964,3))","v":""},{"$f":"IF(OR($E964<>0,$C964=\"\"),\"\",INDEX(Categories!$A:$E,Entries!$D964,4))","v":""},{"$f":"IF(OR($E964<>0,$C964=\"\"),\"\",INDEX(Categories!$A:$E,Entries!$D964,5))","v":""},"2014-01-01","2014-01-01",{"$f":"(Entries!K965-Entries!K964)*24*60","v":0}]
["",null,null,{"$f":"MATCH(C965,Categories!A:A,0)","v":{"$error":"#N/A"}},0,{"$f":"IF(OR($E965<>0,$C965=\"\"),\"\",INDEX(Categories!$A:$E,Entries!$D965,2))","v":""},{"$f":"IF(OR($E965<>0,$C965=\"\"),\"\",INDEX(Categories!$A:$E,Entries!$D965,3))","v":""},{"$f":"IF(OR($E965<>0,$C965=\"\"),\"\",INDEX(Categories!$A:$E,Entries!$D965,4))","v":""},{"$f":"IF(OR($E965<>0,$C965=\"\"),\"\",INDEX(Categories!$A:$E,Entries!$D965,5))","v":""},"2014-01-01","2014-01-01",{"$f":"(Entries!K966-Entries!K965)*24*60","v":0}]
["",null,null,{"$f":"MATCH(C966,Categories!A:A,0)","v":{"$error":"#N/A"}},0,{"$f":"IF(OR($E966<>0,$C966=\"\"),\"\",INDEX(Categories!$A:$E,Entries!$D966,2))","v":""},{"$f":"IF(OR($E966<>0,$C966=\"\"),\"\",INDEX(Categories!$A:$E,Entries!$D966,3))","v":""},{"$f":"IF(OR($E966<>0,$C966=\"\"),\"\",INDEX(Categories!$A:$E,Entries!$D966,4))","v":""},{"$f":"IF(OR($E966<>0,$C966=\"\"),\"\",INDEX(Categories!$A:$E,Entries!$D966,5))","v":""},"2014-01-01","2014-01-01",{"$f":"(Entries!K967-Entries!K966)*24*60","v":0}]
["",null,null,{"$f":"MATCH(C967,Categories!A:A,0)","v":{"$error":"#N/A"}},0,{"$f":"IF(OR($E967<>0,$C967=\"\"),\"\",INDEX(Categories!$A:$E,Entries!$D967,2))","v":""},{"$f":"IF(OR($E967<>0,$C967=\"\"),\"\",INDEX(Categories!$A:$E,Entries!$D967,3))","v":""},{"$f":"IF(OR($E967<>0,$C967=\"\"),\"\",INDEX(Categories!$A:$E,Entries!$D967,4))","v":""},{"$f":"IF(OR($E967<>0,$C967=\"\"),\"\",INDEX(Categories!$A:$E,Entries!$D967,5))","v":""},"2014-01-01","2014-01-01",{"$f":"(Entries!K968-Entries!K967)*24*60","v":0}]
["",null,null,{"$f":"MATCH(C968,Categories!A:A,0)","v":{"$error":"#N/A"}},0,{"$f":"IF(OR($E968<>0,$C968=\"\"),\"\",INDEX(Categories!$A:$E,Entries!$D968,2))","v":""},{"$f":"IF(OR($E968<>0,$C968=\"\"),\"\",INDEX(Categories!$A:$E,Entries!$D968,3))","v":""},{"$f":"IF(OR($E968<>0,$C968=\"\"),\"\",INDEX(Categories!$A:$E,Entries!$D968,4))","v":""},{"$f":"IF(OR($E968<>0,$C968=\"\"),\"\",INDEX(Categories!$A:$E,Entries!$D968,5))","v":""},"2014-01-01","2014-01-01",{"$f":"(Entries!K969-Entries!K968)*24*60","v":0}]
["",null,null,{"$f":"MATCH(C969,Categories!A:A,0)","v":{"$error":"#N/A"}},0,{"$f":"IF(OR($E969<>0,$C969=\"\"),\"\",INDEX(Categories!$A:$E,Entries!$D969,2))","v":""},{"$f":"IF(OR($E969<>0,$C969=\"\"),\"\",INDEX(Categories!$A:$E,Entries!$D969,3))","v":""},{"$f":"IF(OR($E969<>0,$C969=\"\"),\"\",INDEX(Categories!$A:$E,Entries!$D969,4))","v":""},{"$f":"IF(OR($E969<>0,$C969=\"\"),\"\",INDEX(Categories!$A:$E,Entries!$D969,5))","v":""},"2014-01-01","2014-01-01",{"$f":"(Entries!K970-Entries!K969)*24*60","v":0}]
["",null,null,{"$f":"MATCH(C970,Categories!A:A,0)","v":{"$error":"#N/A"}},0,{"$f":"IF(OR($E970<>0,$C970=\"\"),\"\",INDEX(Categories!$A:$E,Entries!$D970,2))","v":""},{"$f":"IF(OR($E970<>0,$C970=\"\"),\"\",INDEX(Categories!$A:$E,Entries!$D970,3))","v":""},{"$f":"IF(OR($E970<>0,$C970=\"\"),\"\",INDEX(Categories!$A:$E,Entries!$D970,4))","v":""},{"$f":"IF(OR($E970<>0,$C970=\"\"),\"\",INDEX(Categories!$A:$E,Entries!$D970,5))","v":""},"2014-01-01","2014-01-01",{"$f":"(Entries!K971-Entries!K970)*24*60","v":0}]
["",null,null,{"$f":"MATCH(C971,Categories!A:A,0)","v":{"$error":"#N/A"}},0,{"$f":"IF(OR($E971<>0,$C971=\"\"),\"\",INDEX(Categories!$A:$E,Entries!$D971,2))","v":""},{"$f":"IF(OR($E971<>0,$C971=\"\"),\"\",INDEX(Categories!$A:$E,Entries!$D971,3))","v":""},{"$f":"IF(OR($E971<>0,$C971=\"\"),\"\",INDEX(Categories!$A:$E,Entries!$D971,4))","v":""},{"$f":"IF(OR($E971<>0,$C971=\"\"),\"\",INDEX(Categories!$A:$E,Entries!$D971,5))","v":""},"2014-01-01","2014-01-01",{"$f":"(Entries!K972-Entries!K971)*24*60","v":0}]
["",null,null,{"$f":"MATCH(C972,Categories!A:A,0)","v":{"$error":"#N/A"}},0,{"$f":"IF(OR($E972<>0,$C972=\"\"),\"\",INDEX(Categories!$A:$E,Entries!$D972,2))","v":""},{"$f":"IF(OR($E972<>0,$C972=\"\"),\"\",INDEX(Categories!$A:$E,Entries!$D972,3))","v":""},{"$f":"IF(OR($E972<>0,$C972=\"\"),\"\",INDEX(Categories!$A:$E,Entries!$D972,4))","v":""},{"$f":"IF(OR($E972<>0,$C972=\"\"),\"\",INDEX(Categories!$A:$E,Entries!$D972,5))","v":""},"2014-01-01","2014-01-01",{"$f":"(Entries!K973-Entries!K972)*24*60","v":0}]
["",null,null,{"$f":"MATCH(C973,Categories!A:A,0)","v":{"$error":"#N/A"}},0,{"$f":"IF(OR($E973<>0,$C973=\"\"),\"\",INDEX(Categories!$A:$E,Entries!$D973,2))","v":""},{"$f":"IF(OR($E973<>0,$C973=\"\"),\"\",INDEX(Categories!$A:$E,Entries!$D973,3))","v":""},{"$f":"IF(OR($E973<>0,$C973=\"\"),\"\",INDEX(Categories!$A:$E,Entries!$D973,4))","v":""},{"$f":"IF(OR($E973<>0,$C973=\"\"),\"\",INDEX(Categories!$A:$E,Entries!$D973,5))","v":""},"2014-01-01","2014-01-01",{"$f":"(Entries!K974-Entries!K973)*24*60","v":0}]
["",null,null,{"$f":"MATCH(C974,Categories!A:A,0)","v":{"$error":"#N/A"}},0,{"$f":"IF(OR($E974<>0,$C974=\"\"),\"\",INDEX(Categories!$A:$E,Entries!$D974,2))","v":""},{"$f":"IF(OR($E974<>0,$C974=\"\"),\"\",INDEX(Categories!$A:$E,Entries!$D974,3))","v":""},{"$f":"IF(OR($E974<>0,$C974=\"\"),\"\",INDEX(Categories!$A:$E,Entries!$D974,4))","v":""},{"$f":"IF(OR($E974<>0,$C974=\"\"),\"\",INDEX(Categories!$A:$E,Entries!$D974,5))","v":""},"2014-01-01","2014-01-01",{"$f":"(Entries!K975-Entries!K974)*24*60","v":0}]
["",null,null,{"$f":"MATCH(C975,Categories!A:A,0)","v":{"$error":"#N/A"}},0,{"$f":"IF(OR($E975<>0,$C975=\"\"),\"\",INDEX(Categories!$A:$E,Entries!$D975,2))","v":""},{"$f":"IF(OR($E975<>0,$C975=\"\"),\"\",INDEX(Categories!$A:$E,Entries!$D975,3))","v":""},{"$f":"IF(OR($E975<>0,$C975=\"\"),\"\",INDEX(Categories!$A:$E,Entries!$D975,4))","v":""},{"$f":"IF(OR($E975<>0,$C975=\"\"),\"\",INDEX(Categories!$A:$E,Entries!$D975,5))","v":""},"2014-01-01","2014-01-01",{"$f":"(Entries!K976-Entries!K975)*24*60","v":0}]
["",null,null,{"$f":"MATCH(C976,Categories!A:A,0)","v":{"$error":"#N/A"}},0,{"$f":"IF(OR($E976<>0,$C976=\"\"),\"\",INDEX(Categories!$A:$E,Entries!$D976,2))","v":""},{"$f":"IF(OR($E976<>0,$C976=\"\"),\"\",INDEX(Categories!$A:$E,Entries!$D976,3))","v":""},{"$f":"IF(OR($E976<>0,$C976=\"\"),\"\",INDEX(Categories!$A:$E,Entries!$D976,4))","v":""},{"$f":"IF(OR($E976<>0,$C976=\"\"),\"\",INDEX(Categories!$A:$E,Entries!$D976,5))","v":""},"2014-01-01","2014-01-01",{"$f":"(Entries!K977-Entries!K976)*24*60","v":0}]
["",null,null,{"$f":"MATCH(C977,Categories!A:A,0)","v":{"$error":"#N/A"}},0,{"$f":"IF(OR($E977<>0,$C977=\"\"),\"\",INDEX(Categories!$A:$E,Entries!$D977,2))","v":""},{"$f":"IF(OR($E977<>0,$C977=\"\"),\"\",INDEX(Categories!$A:$E,Entries!$D977,3))","v":""},{"$f":"IF(OR($E977<>0,$C977=\"\"),\"\",INDEX(Categories!$A:$E,Entries!$D977,4))","v":""},{"$f":"IF(OR($E977<>0,$C977=\"\"),\"\",INDEX(Categories!$A:$E,Entries!$D977,5))","v":""},"2014-01-01","2014-01-01",{"$f":"(Entries!K978-Entries!K977)*24*60","v":0}]
["",null,null,{"$f":"MATCH(C978,Categories!A:A,0)","v":{"$error":"#N/A"}},0,{"$f":"IF(OR($E978<>0,$C978=\"\"),\"\",INDEX(Categories!$A:$E,Entries!$D978,2))","v":""},{"$f":"IF(OR($E978<>0,$C978=\"\"),\"\",INDEX(Categories!$A:$E,Entries!$D978,3))","v":""},{"$f":"IF(OR($E978<>0,$C978=\"\"),\"\",INDEX(Categories!$A:$E,Entries!$D978,4))","v":""},{"$f":"IF(OR($E978<>0,$C978=\"\"),\"\",INDEX(Categories!$A:$E,Entries!$D978,5))","v":""},"2014-01-01","2014-01-01",{"$f":"(Entries!K979-Entries!K978)*24*60","v":0}]
["",null,null,{"$f":"MATCH(C979,Categories!A:A,0)","v":{"$error":"#N/A"}},0,{"$f":"IF(OR($E979<>0,$C979=\"\"),\"\",INDEX(Categories!$A:$E,Entries!$D979,2))","v":""},{"$f":"IF(OR($E979<>0,$C979=\"\"),\"\",INDEX(Categories!$A:$E,Entries!$D979,3))","v":""},{"$f":"IF(OR($E979<>0,$C979=\"\"),\"\",INDEX(Categories!$A:$E,Entries!$D979,4))","v":""},{"$f":"IF(OR($E979<>0,$C979=\"\"),\"\",INDEX(Categories!$A:$E,Entries!$D979,5))","v":""},"2014-01-01","2014-01-01",{"$f":"(Entries!K980-Entries!K979)*24*60","v":0}]
["",null,null,{"$f":"MATCH(C980,Categories!A:A,0)","v":{"$error":"#N/A"}},0,{"$f":"IF(OR($E980<>0,$C980=\"\"),\"\",INDEX(Categories!$A:$E,Entries!$D980,2))","v":""},{"$f":"IF(OR($E980<>0,$C980=\"\"),\"\",INDEX(Categories!$A:$E,Entries!$D980,3))","v":""},{"$f":"IF(OR($E980<>0,$C980=\"\"),\"\",INDEX(Categories!$A:$E,Entries!$D980,4))","v":""},{"$f":"IF(OR($E980<>0,$C980=\"\"),\"\",INDEX(Categories!$A:$E,Entries!$D980,5))","v":""},"2014-01-01","2014-01-01",{"$f":"(Entries!K981-Entries!K980)*24*60","v":0}]
["",null,null,{"$f":"MATCH(C981,Categories!A:A,0)","v":{"$error":"#N/A"}},0,{"$f":"IF(OR($E981<>0,$C981=\"\"),\"\",INDEX(Categories!$A:$E,Entries!$D981,2))","v":""},{"$f":"IF(OR($E981<>0,$C981=\"\"),\"\",INDEX(Categories!$A:$E,Entries!$D981,3))","v":""},{"$f":"IF(OR($E981<>0,$C981=\"\"),\"\",INDEX(Categories!$A:$E,Entries!$D981,4))","v":""},{"$f":"IF(OR($E981<>0,$C981=\"\"),\"\",INDEX(Categories!$A:$E,Entries!$D981,5))","v":""},"2014-01-01","2014-01-01",{"$f":"(Entries!K982-Entries!K981)*24*60","v":0}]
["",null,null,{"$f":"MATCH(C982,Categories!A:A,0)","v":{"$error":"#N/A"}},0,{"$f":"IF(OR($E982<>0,$C982=\"\"),\"\",INDEX(Categories!$A:$E,Entries!$D982,2))","v":""},{"$f":"IF(OR($E982<>0,$C982=\"\"),\"\",INDEX(Categories!$A:$E,Entries!$D982,3))","v":""},{"$f":"IF(OR($E982<>0,$C982=\"\"),\"\",INDEX(Categories!$A:$E,Entries!$D982,4))","v":""},{"$f":"IF(OR($E982<>0,$C982=\"\"),\"\",INDEX(Categories!$A:$E,Entries!$D982,5))","v":""},"2014-01-01","2014-01-01",{"$f":"(Entries!K983-Entries!K982)*24*60","v":0}]
["",null,null,{"$f":"MATCH(C983,Categories!A:A,0)","v":{"$error":"#N/A"}},0,{"$f":"IF(OR($E983<>0,$C983=\"\"),\"\",INDEX(Categories!$A:$E,Entries!$D983,2))","v":""},{"$f":"IF(OR($E983<>0,$C983=\"\"),\"\",INDEX(Categories!$A:$E,Entries!$D983,3))","v":""},{"$f":"IF(OR($E983<>0,$C983=\"\"),\"\",INDEX(Categories!$A:$E,Entries!$D983,4))","v":""},{"$f":"IF(OR($E983<>0,$C983=\"\"),\"\",INDEX(Categories!$A:$E,Entries!$D983,5))","v":""},"2014-01-01","2014-01-01",{"$f":"(Entries!K984-Entries!K983)*24*60","v":0}]
["",null,null,{"$f":"MATCH(C984,Categories!A:A,0)","v":{"$error":"#N/A"}},0,{"$f":"IF(OR($E984<>0,$C984=\"\"),\"\",INDEX(Categories!$A:$E,Entries!$D984,2))","v":""},{"$f":"IF(OR($E984<>0,$C984=\"\"),\"\",INDEX(Categories!$A:$E,Entries!$D984,3))","v":""},{"$f":"IF(OR($E984<>0,$C984=\"\"),\"\",INDEX(Categories!$A:$E,Entries!$D984,4))","v":""},{"$f":"IF(OR($E984<>0,$C984=\"\"),\"\",INDEX(Categories!$A:$E,Entries!$D984,5))","v":""},"2014-01-01","2014-01-01",{"$f":"(Entries!K985-Entries!K984)*24*60","v":0}]
["",null,null,{"$f":"MATCH(C985,Categories!A:A,0)","v":{"$error":"#N/A"}},0,{"$f":"IF(OR($E985<>0,$C985=\"\"),\"\",INDEX(Categories!$A:$E,Entries!$D985,2))","v":""},{"$f":"IF(OR($E985<>0,$C985=\"\"),\"\",INDEX(Categories!$A:$E,Entries!$D985,3))","v":""},{"$f":"IF(OR($E985<>0,$C985=\"\"),\"\",INDEX(Categories!$A:$E,Entries!$D985,4))","v":""},{"$f":"IF(OR($E985<>0,$C985=\"\"),\"\",INDEX(Categories!$A:$E,Entries!$D985,5))","v":""},"2014-01-01","2014-01-01",{"$f":"(Entries!K986-Entries!K985)*24*60","v":0}]
["",null,null,{"$f":"MATCH(C986,Categories!A:A,0)","v":{"$error":"#N/A"}},0,{"$f":"IF(OR($E986<>0,$C986=\"\"),\"\",INDEX(Categories!$A:$E,Entries!$D986,2))","v":""},{"$f":"IF(OR($E986<>0,$C986=\"\"),\"\",INDEX(Categories!$A:$E,Entries!$D986,3))","v":""},{"$f":"IF(OR($E986<>0,$C986=\"\"),\"\",INDEX(Categories!$A:$E,Entries!$D986,4))","v":""},{"$f":"IF(OR($E986<>0,$C986=\"\"),\"\",INDEX(Categories!$A:$E,Entries!$D986,5))","v":""},"2014-01-01","2014-01-01",{"$f":"(Entries!K987-Entries!K986)*24*60","v":0}]
["",null,null,{"$f":"MATCH(C987,Categories!A:A,0)","v":{"$error":"#N/A"}},0,{"$f":"IF(OR($E987<>0,$C987=\"\"),\"\",INDEX(Categories!$A:$E,Entries!$D987,2))","v":""},{"$f":"IF(OR($E987<>0,$C987=\"\"),\"\",INDEX(Categories!$A:$E,Entries!$D987,3))","v":""},{"$f":"IF(OR($E987<>0,$C987=\"\"),\"\",INDEX(Categories!$A:$E,Entries!$D987,4))","v":""},{"$f":"IF(OR($E987<>0,$C987=\"\"),\"\",INDEX(Categories!$A:$E,Entries!$D987,5))","v":""},"2014-01-01","2014-01-01",{"$f":"(Entries!K988-Entries!K987)*24*60","v":0}]
["",null,null,{"$f":"MATCH(C988,Categories!A:A,0)","v":{"$error":"#N/A"}},0,{"$f":"IF(OR($E988<>0,$C988=\"\"),\"\",INDEX(Categories!$A:$E,Entries!$D988,2))","v":""},{"$f":"IF(OR($E988<>0,$C988=\"\"),\"\",INDEX(Categories!$A:$E,Entries!$D988,3))","v":""},{"$f":"IF(OR($E988<>0,$C988=\"\"),\"\",INDEX(Categories!$A:$E,Entries!$D988,4))","v":""},{"$f":"IF(OR($E988<>0,$C988=\"\"),\"\",INDEX(Categories!$A:$E,Entries!$D988,5))","v":""},"2014-01-01","2014-01-01",{"$f":"(Entries!K989-Entries!K988)*24*60","v":0}]
["",null,null,{"$f":"MATCH(C989,Categories!A:A,0)","v":{"$error":"#N/A"}},0,{"$f":"IF(OR($E989<>0,$C989=\"\"),\"\",INDEX(Categories!$A:$E,Entries!$D989,2))","v":""},{"$f":"IF(OR($E989<>0,$C989=\"\"),\"\",INDEX(Categories!$A:$E,Entries!$D989,3))","v":""},{"$f":"IF(OR($E989<>0,$C989=\"\"),\"\",INDEX(Categories!$A:$E,Entries!$D989,4))","v":""},{"$f":"IF(OR($E989<>0,$C989=\"\"),\"\",INDEX(Categories!$A:$E,Entries!$D989,5))","v":""},"2014-01-01","2014-01-01",{"$f":"(Entries!K990-Entries!K989)*24*60","v":0}]
["",null,null,{"$f":"MATCH(C990,Categories!A:A,0)","v":{"$error":"#N/A"}},0,{"$f":"IF(OR($E990<>0,$C990=\"\"),\"\",INDEX(Categories!$A:$E,Entries!$D990,2))","v":""},{"$f":"IF(OR($E990<>0,$C990=\"\"),\"\",INDEX(Categories!$A:$E,Entries!$D990,3))","v":""},{"$f":"IF(OR($E990<>0,$C990=\"\"),\"\",INDEX(Categories!$A:$E,Entries!$D990,4))","v":""},{"$f":"IF(OR($E990<>0,$C990=\"\"),\"\",INDEX(Categories!$A:$E,Entries!$D990,5))","v":""},"2014-01-01","2014-01-01",{"$f":"(Entries!K991-Entries!K990)*24*60","v":0}]
["",null,null,{"$f":"MATCH(C991,Categories!A:A,0)","v":{"$error":"#N/A"}},0,{"$f":"IF(OR($E991<>0,$C991=\"\"),\"\",INDEX(Categories!$A:$E,Entries!$D991,2))","v":""},{"$f":"IF(OR($E991<>0,$C991=\"\"),\"\",INDEX(Categories!$A:$E,Entries!$D991,3))","v":""},{"$f":"IF(OR($E991<>0,$C991=\"\"),\"\",INDEX(Categories!$A:$E,Entries!$D991,4))","v":""},{"$f":"IF(OR($E991<>0,$C991=\"\"),\"\",INDEX(Categories!$A:$E,Entries!$D991,5))","v":""},"2014-01-01","2014-01-01",{"$f":"(Entries!K992-Entries!K991)*24*60","v":0}]
["",null,null,{"$f":"MATCH(C992,Categories!A:A,0)","v":{"$error":"#N/A"}},0,{"$f":"IF(OR($E992<>0,$C992=\"\"),\"\",INDEX(Categories!$A:$E,Entries!$D992,2))","v":""},{"$f":"IF(OR($E992<>0,$C992=\"\"),\"\",INDEX(Categories!$A:$E,Entries!$D992,3))","v":""},{"$f":"IF(OR($E992<>0,$C992=\"\"),\"\",INDEX(Categories!$A:$E,Entries!$D992,4))","v":""},{"$f":"IF(OR($E992<>0,$C992=\"\"),\"\",INDEX(Categories!$A:$E,Entries!$D992,5))","v":""},"2014-01-01","2014-01-01",{"$f":"(Entries!K993-Entries!K992)*24*60","v":0}]
["",null,null,{"$f":"MATCH(C993,Categories!A:A,0)","v":{"$error":"#N/A"}},0,{"$f":"IF(OR($E993<>0,$C993=\"\"),\"\",INDEX(Categories!$A:$E,Entries!$D993,2))","v":""},{"$f":"IF(OR($E993<>0,$C993=\"\"),\"\",INDEX(Categories!$A:$E,Entries!$D993,3))","v":""},{"$f":"IF(OR($E993<>0,$C993=\"\"),\"\",INDEX(Categories!$A:$E,Entries!$D993,4))","v":""},{"$f":"IF(OR($E993<>0,$C993=\"\"),\"\",INDEX(Categories!$A:$E,Entries!$D993,5))","v":""},"2014-01-01","2014-01-01",{"$f":"(Entries!K994-Entries!K993)*24*60","v":0}]
["",null,null,{"$f":"MATCH(C994,Categories!A:A,0)","v":{"$error":"#N/A"}},0,{"$f":"IF(OR($E994<>0,$C994=\"\"),\"\",INDEX(Categories!$A:$E,Entries!$D994,2))","v":""},{"$f":"IF(OR($E994<>0,$C994=\"\"),\"\",INDEX(Categories!$A:$E,Entries!$D994,3))","v":""},{"$f":"IF(OR($E994<>0,$C994=\"\"),\"\",INDEX(Categories!$A:$E,Entries!$D994,4))","v":""},{"$f":"IF(OR($E994<>0,$C994=\"\"),\"\",INDEX(Categories!$A:$E,Entries!$D994,5))","v":""},"2014-01-01","2014-01-01",{"$f":"(Entries!K995-Entries!K994)*24*60","v":0}]
["",null,null,{"$f":"MATCH(C995,Categories!A:A,0)","v":{"$error":"#N/A"}},0,{"$f":"IF(OR($E995<>0,$C995=\"\"),\"\",INDEX(Categories!$A:$E,Entries!$D995,2))","v":""},{"$f":"IF(OR($E995<>0,$C995=\"\"),\"\",INDEX(Categories!$A:$E,Entries!$D995,3))","v":""},{"$f":"IF(OR($E995<>0,$C995=\"\"),\"\",INDEX(Categories!$A:$E,Entries!$D995,4))","v":""},{"$f":"IF(OR($E995<>0,$C995=\"\"),\"\",INDEX(Categories!$A:$E,Entries!$D995,5))","v":""},"2014-01-01","2014-01-01",{"$f":"(Entries!K996-Entries!K995)*24*60","v":0}]
[{"$f":"IF(OR(B996>=B995,C995=\"z\",B996=\"\"),\"\",J995+1)","v":""},null,null,{"$f":"MATCH(C996,Categories!A:A,0)","v":{"$error":"#N/A"}},0,{"$f":"IF(OR($E996<>0,$C996=\"\"),\"\",INDEX(Categories!$A:$E,Entries!$D996,2))","v":""},{"$f":"IF(OR($E996<>0,$C996=\"\"),\"\",INDEX(Categories!$A:$E,Entries!$D996,3))","v":""},{"$f":"IF(OR($E996<>0,$C996=\"\"),\"\",INDEX(Categories!$A:$E,Entries!$D996,4))","v":""},{"$f":"IF(OR($E996<>0,$C996=\"\"),\"\",INDEX(Categories!$A:$E,Entries!$D996,5))","v":""},"2014-01-01","2014-01-01",{"$f":"(Entries!K997-Entries!K996)*24*60","v":0}]
["",null,null,{"$f":"MATCH(C997,Categories!A:A,0)","v":{"$error":"#N/A"}},0,{"$f":"IF(OR($E997<>0,$C997=\"\"),\"\",INDEX(Categories!$A:$E,Entries!$D997,2))","v":""},{"$f":"IF(OR($E997<>0,$C997=\"\"),\"\",INDEX(Categories!$A:$E,Entries!$D997,3))","v":""},{"$f":"IF(OR($E997<>0,$C997=\"\"),\"\",INDEX(Categories!$A:$E,Entries!$D997,4))","v":""},{"$f":"IF(OR($E997<>0,$C997=\"\"),\"\",INDEX(Categories!$A:$E,Entries!$D997,5))","v":""},"2014-01-01","2014-01-01",{"$f":"(Entries!K998-Entries!K997)*24*60","v":0}]
["",null,null,{"$f":"MATCH(C998,Categories!A:A,0)","v":{"$error":"#N/A"}},0,{"$f":"IF(OR($E998<>0,$C998=\"\"),\"\",INDEX(Categories!$A:$E,Entries!$D998,2))","v":""},{"$f":"IF(OR($E998<>0,$C998=\"\"),\"\",INDEX(Categories!$A:$E,Entries!$D998,3))","v":""},{"$f":"IF(OR($E998<>0,$C998=\"\"),\"\",INDEX(Categories!$A:$E,Entries!$D998,4))","v":""},{"$f":"IF(OR($E998<>0,$C998=\"\"),\"\",INDEX(Categories!$A:$E,Entries!$D998,5))","v":""},"2014-01-01","2014-01-01",{"$f":"(Entries!K999-Entries!K998)*24*60","v":0}]
["",null,null,{"$f":"MATCH(C999,Categories!A:A,0)","v":{"$error":"#N/A"}},0,{"$f":"IF(OR($E999<>0,$C999=\"\"),\"\",INDEX(Categories!$A:$E,Entries!$D999,2))","v":""},{"$f":"IF(OR($E999<>0,$C999=\"\"),\"\",INDEX(Categories!$A:$E,Entries!$D999,3))","v":""},{"$f":"IF(OR($E999<>0,$C999=\"\"),\"\",INDEX(Categories!$A:$E,Entries!$D999,4))","v":""},{"$f":"IF(OR($E999<>0,$C999=\"\"),\"\",INDEX(Categories!$A:$E,Entries!$D999,5))","v":""},"2014-01-01","2014-01-01",{"$f":"(Entries!K1000-Entries!K999)*24*60","v":0}]
["",null,null,{"$f":"MATCH(C1000,Categories!A:A,0)","v":{"$error":"#N/A"}},0,{"$f":"IF(OR($E1000<>0,$C1000=\"\"),\"\",INDEX(Categories!$A:$E,Entries!$D1000,2))","v":""},{"$f":"IF(OR($E1000<>0,$C1000=\"\"),\"\",INDEX(Categories!$A:$E,Entries!$D1000,3))","v":""},{"$f":"IF(OR($E1000<>0,$C1000=\"\"),\"\",INDEX(Categories!$A:$E,Entries!$D1000,4))","v":""},{"$f":"IF(OR($E1000<>0,$C1000=\"\"),\"\",INDEX(Categories!$A:$E,Entries!$D1000,5))","v":""},"2014-01-01","2014-01-01",{"$f":"(Entries!K1001-Entries!K1000)*24*60","v":0}]
["",null,null,{"$f":"MATCH(C1001,Categories!A:A,0)","v":{"$error":"#N/A"}},0,{"$f":"IF(OR($E1001<>0,$C1001=\"\"),\"\",INDEX(Categories!$A:$E,Entries!$D1001,2))","v":""},{"$f":"IF(OR($E1001<>0,$C1001=\"\"),\"\",INDEX(Categories!$A:$E,Entries!$D1001,3))","v":""},{"$f":"IF(OR($E1001<>0,$C1001=\"\"),\"\",INDEX(Categories!$A:$E,Entries!$D1001,4))","v":""},{"$f":"IF(OR($E1001<>0,$C1001=\"\"),\"\",INDEX(Categories!$A:$E,Entries!$D1001,5))","v":""},"2014-01-01","2014-01-01",{"$f":"(Entries!K1002-Entries!K1001)*24*60","v":0}]
["",null,null,{"$f":"MATCH(C1002,Categories!A:A,0)","v":{"$error":"#N/A"}},0,{"$f":"IF(OR($E1002<>0,$C1002=\"\"),\"\",INDEX(Categories!$A:$E,Entries!$D1002,2))","v":""},{"$f":"IF(OR($E1002<>0,$C1002=\"\"),\"\",INDEX(Categories!$A:$E,Entries!$D1002,3))","v":""},{"$f":"IF(OR($E1002<>0,$C1002=\"\"),\"\",INDEX(Categories!$A:$E,Entries!$D1002,4))","v":""},{"$f":"IF(OR($E1002<>0,$C1002=\"\"),\"\",INDEX(Categories!$A:$E,Entries!$D1002,5))","v":""},"2014-01-01","2014-01-01",{"$f":"(Entries!K1003-Entries!K1002)*24*60","v":0}]
["",null,null,{"$f":"MATCH(C1003,Categories!A:A,0)","v":{"$error":"#N/A"}},0,{"$f":"IF(OR($E1003<>0,$C1003=\"\"),\"\",INDEX(Categories!$A:$E,Entries!$D1003,2))","v":""},{"$f":"IF(OR($E1003<>0,$C1003=\"\"),\"\",INDEX(Categories!$A:$E,Entries!$D1003,3))","v":""},{"$f":"IF(OR($E1003<>0,$C1003=\"\"),\"\",INDEX(Categories!$A:$E,Entries!$D1003,4))","v":""},{"$f":"IF(OR($E1003<>0,$C1003=\"\"),\"\",INDEX(Categories!$A:$E,Entries!$D1003,5))","v":""},"2014-01-01","2014-01-01",{"$f":"(Entries!K1004-Entries!K1003)*24*60","v":0}]
["",null,null,{"$f":"MATCH(C1004,Categories!A:A,0)","v":{"$error":"#N/A"}},0,{"$f":"IF(OR($E1004<>0,$C1004=\"\"),\"\",INDEX(Categories!$A:$E,Entries!$D1004,2))","v":""},{"$f":"IF(OR($E1004<>0,$C1004=\"\"),\"\",INDEX(Categories!$A:$E,Entries!$D1004,3))","v":""},{"$f":"IF(OR($E1004<>0,$C1004=\"\"),\"\",INDEX(Categories!$A:$E,Entries!$D1004,4))","v":""},{"$f":"IF(OR($E1004<>0,$C1004=\"\"),\"\",INDEX(Categories!$A:$E,Entries!$D1004,5))","v":""},"2014-01-01","2014-01-01",{"$f":"(Entries!K1005-Entries!K1004)*24*60","v":0}]
["",null,null,{"$f":"MATCH(C1005,Categories!A:A,0)","v":{"$error":"#N/A"}},0,{"$f":"IF(OR($E1005<>0,$C1005=\"\"),\"\",INDEX(Categories!$A:$E,Entries!$D1005,2))","v":""},{"$f":"IF(OR($E1005<>0,$C1005=\"\"),\"\",INDEX(Categories!$A:$E,Entries!$D1005,3))","v":""},{"$f":"IF(OR($E1005<>0,$C1005=\"\"),\"\",INDEX(Categories!$A:$E,Entries!$D1005,4))","v":""},{"$f":"IF(OR($E1005<>0,$C1005=\"\"),\"\",INDEX(Categories!$A:$E,Entries!$D1005,5))","v":""},"2014-01-01","2014-01-01",{"$f":"(Entries!K1006-Entries!K1005)*24*60","v":0}]
["",null,null,{"$f":"MATCH(C1006,Categories!A:A,0)","v":{"$error":"#N/A"}},0,{"$f":"IF(OR($E1006<>0,$C1006=\"\"),\"\",INDEX(Categories!$A:$E,Entries!$D1006,2))","v":""},{"$f":"IF(OR($E1006<>0,$C1006=\"\"),\"\",INDEX(Categories!$A:$E,Entries!$D1006,3))","v":""},{"$f":"IF(OR($E1006<>0,$C1006=\"\"),\"\",INDEX(Categories!$A:$E,Entries!$D1006,4))","v":""},{"$f":"IF(OR($E1006<>0,$C1006=\"\"),\"\",INDEX(Categories!$A:$E,Entries!$D1006,5))","v":""},"2014-01-01","2014-01-01",{"$f":"(Entries!K1007-Entries!K1006)*24*60","v":0}]
["",null,null,{"$f":"MATCH(C1007,Categories!A:A,0)","v":{"$error":"#N/A"}},0,{"$f":"IF(OR($E1007<>0,$C1007=\"\"),\"\",INDEX(Categories!$A:$E,Entries!$D1007,2))","v":""},{"$f":"IF(OR($E1007<>0,$C1007=\"\"),\"\",INDEX(Categories!$A:$E,Entries!$D1007,3))","v":""},{"$f":"IF(OR($E1007<>0,$C1007=\"\"),\"\",INDEX(Categories!$A:$E,Entries!$D1007,4))","v":""},{"$f":"IF(OR($E1007<>0,$C1007=\"\"),\"\",INDEX(Categories!$A:$E,Entries!$D1007,5))","v":""},"2014-01-01","2014-01-01",{"$f":"(Entries!K1008-Entries!K1007)*24*60","v":0}]
["",null,null,{"$f":"MATCH(C1008,Categories!A:A,0)","v":{"$error":"#N/A"}},0,{"$f":"IF(OR($E1008<>0,$C1008=\"\"),\"\",INDEX(Categories!$A:$E,Entries!$D1008,2))","v":""},{"$f":"IF(OR($E1008<>0,$C1008=\"\"),\"\",INDEX(Categories!$A:$E,Entries!$D1008,3))","v":""},{"$f":"IF(OR($E1008<>0,$C1008=\"\"),\"\",INDEX(Categories!$A:$E,Entries!$D1008,4))","v":""},{"$f":"IF(OR($E1008<>0,$C1008=\"\"),\"\",INDEX(Categories!$A:$E,Entries!$D1008,5))","v":""},"2014-01-01","2014-01-01",{"$f":"(Entries!K1009-Entries!K1008)*24*60","v":0}]
["",null,null,{"$f":"MATCH(C1009,Categories!A:A,0)","v":{"$error":"#N/A"}},0,{"$f":"IF(OR($E1009<>0,$C1009=\"\"),\"\",INDEX(Categories!$A:$E,Entries!$D1009,2))","v":""},{"$f":"IF(OR($E1009<>0,$C1009=\"\"),\"\",INDEX(Categories!$A:$E,Entries!$D1009,3))","v":""},{"$f":"IF(OR($E1009<>0,$C1009=\"\"),\"\",INDEX(Categories!$A:$E,Entries!$D1009,4))","v":""},{"$f":"IF(OR($E1009<>0,$C1009=\"\"),\"\",INDEX(Categories!$A:$E,Entries!$D1009,5))","v":""},"2014-01-01","2014-01-01",{"$f":"(Entries!K1010-Entries!K1009)*24*60","v":0}]
["",null,null,{"$f":"MATCH(C1010,Categories!A:A,0)","v":{"$error":"#N/A"}},0,{"$f":"IF(OR($E1010<>0,$C1010=\"\"),\"\",INDEX(Categories!$A:$E,Entries!$D1010,2))","v":""},{"$f":"IF(OR($E1010<>0,$C1010=\"\"),\"\",INDEX(Categories!$A:$E,Entries!$D1010,3))","v":""},{"$f":"IF(OR($E1010<>0,$C1010=\"\"),\"\",INDEX(Categories!$A:$E,Entries!$D1010,4))","v":""},{"$f":"IF(OR($E1010<>0,$C1010=\"\"),\"\",INDEX(Categories!$A:$E,Entries!$D1010,5))","v":""},"2014-01-01","2014-01-01",{"$f":"(Entries!K1011-Entries!K1010)*24*60","v":0}]
["",null,null,{"$f":"MATCH(C1011,Categories!A:A,0)","v":{"$error":"#N/A"}},0,{"$f":"IF(OR($E1011<>0,$C1011=\"\"),\"\",INDEX(Categories!$A:$E,Entries!$D1011,2))","v":""},{"$f":"IF(OR($E1011<>0,$C1011=\"\"),\"\",INDEX(Categories!$A:$E,Entries!$D1011,3))","v":""},{"$f":"IF(OR($E1011<>0,$C1011=\"\"),\"\",INDEX(Categories!$A:$E,Entries!$D1011,4))","v":""},{"$f":"IF(OR($E1011<>0,$C1011=\"\"),\"\",INDEX(Categories!$A:$E,Entries!$D1011,5))","v":""},"2014-01-01","2014-01-01",{"$f":"(Entries!K1012-Entries!K1011)*24*60","v":0}]
["",null,null,{"$f":"MATCH(C1012,Categories!A:A,0)","v":{"$error":"#N/A"}},0,{"$f":"IF(OR($E1012<>0,$C1012=\"\"),\"\",INDEX(Categories!$A:$E,Entries!$D1012,2))","v":""},{"$f":"IF(OR($E1012<>0,$C1012=\"\"),\"\",INDEX(Categories!$A:$E,Entries!$D1012,3))","v":""},{"$f":"IF(OR($E1012<>0,$C1012=\"\"),\"\",INDEX(Categories!$A:$E,Entries!$D1012,4))","v":""},{"$f":"IF(OR($E1012<>0,$C1012=\"\"),\"\",INDEX(Categories!$A:$E,Entries!$D1012,5))","v":""},"2014-01-01","2014-01-01",{"$f":"(Entries!K1013-Entries!K1012)*24*60","v":0}]
["",null,null,{"$f":"MATCH(C1013,Categories!A:A,0)","v":{"$error":"#N/A"}},0,{"$f":"IF(OR($E1013<>0,$C1013=\"\"),\"\",INDEX(Categories!$A:$E,Entries!$D1013,2))","v":""},{"$f":"IF(OR($E1013<>0,$C1013=\"\"),\"\",INDEX(Categories!$A:$E,Entries!$D1013,3))","v":""},{"$f":"IF(OR($E1013<>0,$C1013=\"\"),\"\",INDEX(Categories!$A:$E,Entries!$D1013,4))","v":""},{"$f":"IF(OR($E1013<>0,$C1013=\"\"),\"\",INDEX(Categories!$A:$E,Entries!$D1013,5))","v":""},"2014-01-01","2014-01-01",{"$f":"(Entries!K1014-Entries!K1013)*24*60","v":0}]
["",null,null,{"$f":"MATCH(C1014,Categories!A:A,0)","v":{"$error":"#N/A"}},0,{"$f":"IF(OR($E1014<>0,$C1014=\"\"),\"\",INDEX(Categories!$A:$E,Entries!$D1014,2))","v":""},{"$f":"IF(OR($E1014<>0,$C1014=\"\"),\"\",INDEX(Categories!$A:$E,Entries!$D1014,3))","v":""},{"$f":"IF(OR($E1014<>0,$C1014=\"\"),\"\",INDEX(Categories!$A:$E,Entries!$D1014,4))","v":""},{"$f":"IF(OR($E1014<>0,$C1014=\"\"),\"\",INDEX(Categories!$A:$E,Entries!$D1014,5))","v":""},"2014-01-01","2014-01-01",{"$f":"(Entries!K1015-Entries!K1014)*24*60","v":0}]
["",null,null,{"$f":"MATCH(C1015,Categories!A:A,0)","v":{"$error":"#N/A"}},0,{"$f":"IF(OR($E1015<>0,$C1015=\"\"),\"\",INDEX(Categories!$A:$E,Entries!$D1015,2))","v":""},{"$f":"IF(OR($E1015<>0,$C1015=\"\"),\"\",INDEX(Categories!$A:$E,Entries!$D1015,3))","v":""},{"$f":"IF(OR($E1015<>0,$C1015=\"\"),\"\",INDEX(Categories!$A:$E,Entries!$D1015,4))","v":""},{"$f":"IF(OR($E1015<>0,$C1015=\"\"),\"\",INDEX(Categories!$A:$E,Entries!$D1015,5))","v":""},"2014-01-01","2014-01-01",{"$f":"(Entries!K1016-Entries!K1015)*24*60","v":0}]
["",null,null,{"$f":"MATCH(C1016,Categories!A:A,0)","v":{"$error":"#N/A"}},0,{"$f":"IF(OR($E1016<>0,$C1016=\"\"),\"\",INDEX(Categories!$A:$E,Entries!$D1016,2))","v":""},{"$f":"IF(OR($E1016<>0,$C1016=\"\"),\"\",INDEX(Categories!$A:$E,Entries!$D1016,3))","v":""},{"$f":"IF(OR($E1016<>0,$C1016=\"\"),\"\",INDEX(Categories!$A:$E,Entries!$D1016,4))","v":""},{"$f":"IF(OR($E1016<>0,$C1016=\"\"),\"\",INDEX(Categories!$A:$E,Entries!$D1016,5))","v":""},"2014-01-01","2014-01-01",{"$f":"(Entries!K1017-Entries!K1016)*24*60","v":0}]
["",null,null,{"$f":"MATCH(C1017,Categories!A:A,0)","v":{"$error":"#N/A"}},0,{"$f":"IF(OR($E1017<>0,$C1017=\"\"),\"\",INDEX(Categories!$A:$E,Entries!$D1017,2))","v":""},{"$f":"IF(OR($E1017<>0,$C1017=\"\"),\"\",INDEX(Categories!$A:$E,Entries!$D1017,3))","v":""},{"$f":"IF(OR($E1017<>0,$C1017=\"\"),\"\",INDEX(Categories!$A:$E,Entries!$D1017,4))","v":""},{"$f":"IF(OR($E1017<>0,$C1017=\"\"),\"\",INDEX(Categories!$A:$E,Entries!$D1017,5))","v":""},"2014-01-01","2014-01-01",{"$f":"(Entries!K1018-Entries!K1017)*24*60","v":0}]
["",null,null,{"$f":"MATCH(C1018,Categories!A:A,0)","v":{"$error":"#N/A"}},0,{"$f":"IF(OR($E1018<>0,$C1018=\"\"),\"\",INDEX(Categories!$A:$E,Entries!$D1018,2))","v":""},{"$f":"IF(OR($E1018<>0,$C1018=\"\"),\"\",INDEX(Categories!$A:$E,Entries!$D1018,3))","v":""},{"$f":"IF(OR($E1018<>0,$C1018=\"\"),\"\",INDEX(Categories!$A:$E,Entries!$D1018,4))","v":""},{"$f":"IF(OR($E1018<>0,$C1018=\"\"),\"\",INDEX(Categories!$A:$E,Entries!$D1018,5))","v":""},"2014-01-01","2014-01-01",{"$f":"(Entries!K1019-Entries!K1018)*24*60","v":0}]
["",null,null,{"$f":"MATCH(C1019,Categories!A:A,0)","v":{"$error":"#N/A"}},0,{"$f":"IF(OR($E1019<>0,$C1019=\"\"),\"\",INDEX(Categories!$A:$E,Entries!$D1019,2))","v":""},{"$f":"IF(OR($E1019<>0,$C1019=\"\"),\"\",INDEX(Categories!$A:$E,Entries!$D1019,3))","v":""},{"$f":"IF(OR($E1019<>0,$C1019=\"\"),\"\",INDEX(Categories!$A:$E,Entries!$D1019,4))","v":""},{"$f":"IF(OR($E1019<>0,$C1019=\"\"),\"\",INDEX(Categories!$A:$E,Entries!$D1019,5))","v":""},"2014-01-01","2014-01-01",{"$f":"(Entries!K1020-Entries!K1019)*24*60","v":0}]
["",null,null,{"$f":"MATCH(C1020,Categories!A:A,0)","v":{"$error":"#N/A"}},0,{"$f":"IF(OR($E1020<>0,$C1020=\"\"),\"\",INDEX(Categories!$A:$E,Entries!$D1020,2))","v":""},{"$f":"IF(OR($E1020<>0,$C1020=\"\"),\"\",INDEX(Categories!$A:$E,Entries!$D1020,3))","v":""},{"$f":"IF(OR($E1020<>0,$C1020=\"\"),\"\",INDEX(Categories!$A:$E,Entries!$D1020,4))","v":""},{"$f":"IF(OR($E1020<>0,$C1020=\"\"),\"\",INDEX(Categories!$A:$E,Entries!$D1020,5))","v":""},"2014-01-01","2014-01-01",{"$f":"(Entries!K1021-Entries!K1020)*24*60","v":0}]
["",null,null,{"$f":"MATCH(C1021,Categories!A:A,0)","v":{"$error":"#N/A"}},0,{"$f":"IF(OR($E1021<>0,$C1021=\"\"),\"\",INDEX(Categories!$A:$E,Entries!$D1021,2))","v":""},{"$f":"IF(OR($E1021<>0,$C1021=\"\"),\"\",INDEX(Categories!$A:$E,Entries!$D1021,3))","v":""},{"$f":"IF(OR($E1021<>0,$C1021=\"\"),\"\",INDEX(Categories!$A:$E,Entries!$D1021,4))","v":""},{"$f":"IF(OR($E1021<>0,$C1021=\"\"),\"\",INDEX(Categories!$A:$E,Entries!$D1021,5))","v":""},"2014-01-01","2014-01-01",{"$f":"(Entries!K1022-Entries!K1021)*24*60","v":0}]
["",null,null,{"$f":"MATCH(C1022,Categories!A:A,0)","v":{"$error":"#N/A"}},0,{"$f":"IF(OR($E1022<>0,$C1022=\"\"),\"\",INDEX(Categories!$A:$E,Entries!$D1022,2))","v":""},{"$f":"IF(OR($E1022<>0,$C1022=\"\"),\"\",INDEX(Categories!$A:$E,Entries!$D1022,3))","v":""},{"$f":"IF(OR($E1022<>0,$C1022=\"\"),\"\",INDEX(Categories!$A:$E,Entries!$D1022,4))","v":""},{"$f":"IF(OR($E1022<>0,$C1022=\"\"),\"\",INDEX(Categories!$A:$E,Entries!$D1022,5))","v":""},"2014-01-01","2014-01-01",{"$f":"(Entries!K1023-Entries!K1022)*24*60","v":0}]
["",null,null,{"$f":"MATCH(C1023,Categories!A:A,0)","v":{"$error":"#N/A"}},0,{"$f":"IF(OR($E1023<>0,$C1023=\"\"),\"\",INDEX(Categories!$A:$E,Entries!$D1023,2))","v":""},{"$f":"IF(OR($E1023<>0,$C1023=\"\"),\"\",INDEX(Categories!$A:$E,Entries!$D1023,3))","v":""},{"$f":"IF(OR($E1023<>0,$C1023=\"\"),\"\",INDEX(Categories!$A:$E,Entries!$D1023,4))","v":""},{"$f":"IF(OR($E1023<>0,$C1023=\"\"),\"\",INDEX(Categories!$A:$E,Entries!$D1023,5))","v":""},"2014-01-01","2014-01-01",{"$f":"(Entries!K1024-Entries!K1023)*24*60","v":0}]
["",null,null,{"$f":"MATCH(C1024,Categories!A:A,0)","v":{"$error":"#N/A"}},0,{"$f":"IF(OR($E1024<>0,$C1024=\"\"),\"\",INDEX(Categories!$A:$E,Entries!$D1024,2))","v":""},{"$f":"IF(OR($E1024<>0,$C1024=\"\"),\"\",INDEX(Categories!$A:$E,Entries!$D1024,3))","v":""},{"$f":"IF(OR($E1024<>0,$C1024=\"\"),\"\",INDEX(Categories!$A:$E,Entries!$D1024,4))","v":""},{"$f":"IF(OR($E1024<>0,$C1024=\"\"),\"\",INDEX(Categories!$A:$E,Entries!$D1024,5))","v":""},"2014-01-01","2014-01-01",{"$f":"(Entries!K1025-Entries!K1024)*24*60","v":0}]
["",null,null,{"$f":"MATCH(C1025,Categories!A:A,0)","v":{"$error":"#N/A"}},0,{"$f":"IF(OR($E1025<>0,$C1025=\"\"),\"\",INDEX(Categories!$A:$E,Entries!$D1025,2))","v":""},{"$f":"IF(OR($E1025<>0,$C1025=\"\"),\"\",INDEX(Categories!$A:$E,Entries!$D1025,3))","v":""},{"$f":"IF(OR($E1025<>0,$C1025=\"\"),\"\",INDEX(Categories!$A:$E,Entries!$D1025,4))","v":""},{"$f":"IF(OR($E1025<>0,$C1025=\"\"),\"\",INDEX(Categories!$A:$E,Entries!$D1025,5))","v":""},"2014-01-01","2014-01-01",{"$f":"(Entries!K1026-Entries!K1025)*24*60","v":0}]
["",null,null,{"$f":"MATCH(C1026,Categories!A:A,0)","v":{"$error":"#N/A"}},{"$f":"IF(AND(ISERROR(D1026),C1026<>\"\"),ROW(D1026),0)","v":0},{"$f":"IF(OR($E1026<>0,$C1026=\"\"),\"\",INDEX(Categories!$A:$E,Entries!$D1026,2))","v":""},{"$f":"IF(OR($E1026<>0,$C1026=\"\"),\"\",INDEX(Categories!$A:$E,Entries!$D1026,3))","v":""},{"$f":"IF(OR($E1026<>0,$C1026=\"\"),\"\",INDEX(Categories!$A:$E,Entries!$D1026,4))","v":""},{"$f":"IF(OR($E1026<>0,$C1026=\"\"),\"\",INDEX(Categories!$A:$E,Entries!$D1026,5))","v":""},{"$f":"IF(A1026=\"\",J1025,A1026)","v":"2014-01-01"},{"$f":"J1026+B1026","v":"2014-01-01"},{"$f":"(Entries!K1027-Entries!K1026)*24*60","v":0}]
["",null,null,{"$f":"MATCH(C1027,Categories!A:A,0)","v":{"$error":"#N/A"}},0,{"$f":"IF(OR($E1027<>0,$C1027=\"\"),\"\",INDEX(Categories!$A:$E,Entries!$D1027,2))","v":""},{"$f":"IF(OR($E1027<>0,$C1027=\"\"),\"\",INDEX(Categories!$A:$E,Entries!$D1027,3))","v":""},{"$f":"IF(OR($E1027<>0,$C1027=\"\"),\"\",INDEX(Categories!$A:$E,Entries!$D1027,4))","v":""},{"$f":"IF(OR($E1027<>0,$C1027=\"\"),\"\",INDEX(Categories!$A:$E,Entries!$D1027,5))","v":""},"2014-01-01","2014-01-01",{"$f":"(Entries!K1028-Entries!K1027)*24*60","v":0}]
["",null,null,{"$f":"MATCH(C1028,Categories!A:A,0)","v":{"$error":"#N/A"}},0,{"$f":"IF(OR($E1028<>0,$C1028=\"\"),\"\",INDEX(Categories!$A:$E,Entries!$D1028,2))","v":""},{"$f":"IF(OR($E1028<>0,$C1028=\"\"),\"\",INDEX(Categories!$A:$E,Entries!$D1028,3))","v":""},{"$f":"IF(OR($E1028<>0,$C1028=\"\"),\"\",INDEX(Categories!$A:$E,Entries!$D1028,4))","v":""},{"$f":"IF(OR($E1028<>0,$C1028=\"\"),\"\",INDEX(Categories!$A:$E,Entries!$D1028,5))","v":""},"2014-01-01","2014-01-01",{"$f":"(Entries!K1029-Entries!K1028)*24*60","v":0}]
["",null,null,{"$f":"MATCH(C1029,Categories!A:A,0)","v":{"$error":"#N/A"}},0,{"$f":"IF(OR($E1029<>0,$C1029=\"\"),\"\",INDEX(Categories!$A:$E,Entries!$D1029,2))","v":""},{"$f":"IF(OR($E1029<>0,$C1029=\"\"),\"\",INDEX(Categories!$A:$E,Entries!$D1029,3))","v":""},{"$f":"IF(OR($E1029<>0,$C1029=\"\"),\"\",INDEX(Categories!$A:$E,Entries!$D1029,4))","v":""},{"$f":"IF(OR($E1029<>0,$C1029=\"\"),\"\",INDEX(Categories!$A:$E,Entries!$D1029,5))","v":""},"2014-01-01","2014-01-01",{"$f":"(Entries!K1030-Entries!K1029)*24*60","v":0}]
["",null,null,{"$f":"MATCH(C1030,Categories!A:A,0)","v":{"$error":"#N/A"}},0,{"$f":"IF(OR($E1030<>0,$C1030=\"\"),\"\",INDEX(Categories!$A:$E,Entries!$D1030,2))","v":""},{"$f":"IF(OR($E1030<>0,$C1030=\"\"),\"\",INDEX(Categories!$A:$E,Entries!$D1030,3))","v":""},{"$f":"IF(OR($E1030<>0,$C1030=\"\"),\"\",INDEX(Categories!$A:$E,Entries!$D1030,4))","v":""},{"$f":"IF(OR($E1030<>0,$C1030=\"\"),\"\",INDEX(Categories!$A:$E,Entries!$D1030,5))","v":""},"2014-01-01","2014-01-01",{"$f":"(Entries!K1031-Entries!K1030)*24*60","v":0}]
["",null,null,{"$f":"MATCH(C1031,Categories!A:A,0)","v":{"$error":"#N/A"}},0,{"$f":"IF(OR($E1031<>0,$C1031=\"\"),\"\",INDEX(Categories!$A:$E,Entries!$D1031,2))","v":""},{"$f":"IF(OR($E1031<>0,$C1031=\"\"),\"\",INDEX(Categories!$A:$E,Entries!$D1031,3))","v":""},{"$f":"IF(OR($E1031<>0,$C1031=\"\"),\"\",INDEX(Categories!$A:$E,Entries!$D1031,4))","v":""},{"$f":"IF(OR($E1031<>0,$C1031=\"\"),\"\",INDEX(Categories!$A:$E,Entries!$D1031,5))","v":""},"2014-01-01","2014-01-01",{"$f":"(Entries!K1032-Entries!K1031)*24*60","v":0}]
["",null,null,{"$f":"MATCH(C1032,Categories!A:A,0)","v":{"$error":"#N/A"}},0,{"$f":"IF(OR($E1032<>0,$C1032=\"\"),\"\",INDEX(Categories!$A:$E,Entries!$D1032,2))","v":""},{"$f":"IF(OR($E1032<>0,$C1032=\"\"),\"\",INDEX(Categories!$A:$E,Entries!$D1032,3))","v":""},{"$f":"IF(OR($E1032<>0,$C1032=\"\"),\"\",INDEX(Categories!$A:$E,Entries!$D1032,4))","v":""},{"$f":"IF(OR($E1032<>0,$C1032=\"\"),\"\",INDEX(Categories!$A:$E,Entries!$D1032,5))","v":""},"2014-01-01","2014-01-01",{"$f":"(Entries!K1033-Entries!K1032)*24*60","v":0}]
["",null,null,{"$f":"MATCH(C1033,Categories!A:A,0)","v":{"$error":"#N/A"}},0,{"$f":"IF(OR($E1033<>0,$C1033=\"\"),\"\",INDEX(Categories!$A:$E,Entries!$D1033,2))","v":""},{"$f":"IF(OR($E1033<>0,$C1033=\"\"),\"\",INDEX(Categories!$A:$E,Entries!$D1033,3))","v":""},{"$f":"IF(OR($E1033<>0,$C1033=\"\"),\"\",INDEX(Categories!$A:$E,Entries!$D1033,4))","v":""},{"$f":"IF(OR($E1033<>0,$C1033=\"\"),\"\",INDEX(Categories!$A:$E,Entries!$D1033,5))","v":""},"2014-01-01","2014-01-01",{"$f":"(Entries!K1034-Entries!K1033)*24*60","v":0}]
["",null,null,{"$f":"MATCH(C1034,Categories!A:A,0)","v":{"$error":"#N/A"}},0,{"$f":"IF(OR($E1034<>0,$C1034=\"\"),\"\",INDEX(Categories!$A:$E,Entries!$D1034,2))","v":""},{"$f":"IF(OR($E1034<>0,$C1034=\"\"),\"\",INDEX(Categories!$A:$E,Entries!$D1034,3))","v":""},{"$f":"IF(OR($E1034<>0,$C1034=\"\"),\"\",INDEX(Categories!$A:$E,Entries!$D1034,4))","v":""},{"$f":"IF(OR($E1034<>0,$C1034=\"\"),\"\",INDEX(Categories!$A:$E,Entries!$D1034,5))","v":""},"2014-01-01","2014-01-01",{"$f":"(Entries!K1035-Entries!K1034)*24*60","v":0}]
["",null,null,{"$f":"MATCH(C1035,Categories!A:A,0)","v":{"$error":"#N/A"}},0,{"$f":"IF(OR($E1035<>0,$C1035=\"\"),\"\",INDEX(Categories!$A:$E,Entries!$D1035,2))","v":""},{"$f":"IF(OR($E1035<>0,$C1035=\"\"),\"\",INDEX(Categories!$A:$E,Entries!$D1035,3))","v":""},{"$f":"IF(OR($E1035<>0,$C1035=\"\"),\"\",INDEX(Categories!$A:$E,Entries!$D1035,4))","v":""},{"$f":"IF(OR($E1035<>0,$C1035=\"\"),\"\",INDEX(Categories!$A:$E,Entries!$D1035,5))","v":""},"2014-01-01","2014-01-01",{"$f":"(Entries!K1036-Entries!K1035)*24*60","v":0}]
["",null,null,{"$f":"MATCH(C1036,Categories!A:A,0)","v":{"$error":"#N/A"}},0,{"$f":"IF(OR($E1036<>0,$C1036=\"\"),\"\",INDEX(Categories!$A:$E,Entries!$D1036,2))","v":""},{"$f":"IF(OR($E1036<>0,$C1036=\"\"),\"\",INDEX(Categories!$A:$E,Entries!$D1036,3))","v":""},{"$f":"IF(OR($E1036<>0,$C1036=\"\"),\"\",INDEX(Categories!$A:$E,Entries!$D1036,4))","v":""},{"$f":"IF(OR($E1036<>0,$C1036=\"\"),\"\",INDEX(Categories!$A:$E,Entries!$D1036,5))","v":""},"2014-01-01","2014-01-01",{"$f":"(Entries!K1037-Entries!K1036)*24*60","v":0}]
["",null,null,{"$f":"MATCH(C1037,Categories!A:A,0)","v":{"$error":"#N/A"}},0,{"$f":"IF(OR($E1037<>0,$C1037=\"\"),\"\",INDEX(Categories!$A:$E,Entries!$D1037,2))","v":""},{"$f":"IF(OR($E1037<>0,$C1037=\"\"),\"\",INDEX(Categories!$A:$E,Entries!$D1037,3))","v":""},{"$f":"IF(OR($E1037<>0,$C1037=\"\"),\"\",INDEX(Categories!$A:$E,Entries!$D1037,4))","v":""},{"$f":"IF(OR($E1037<>0,$C1037=\"\"),\"\",INDEX(Categories!$A:$E,Entries!$D1037,5))","v":""},"2014-01-01","2014-01-01",{"$f":"(Entries!K1038-Entries!K1037)*24*60","v":0}]
["",null,null,{"$f":"MATCH(C1038,Categories!A:A,0)","v":{"$error":"#N/A"}},0,{"$f":"IF(OR($E1038<>0,$C1038=\"\"),\"\",INDEX(Categories!$A:$E,Entries!$D1038,2))","v":""},{"$f":"IF(OR($E1038<>0,$C1038=\"\"),\"\",INDEX(Categories!$A:$E,Entries!$D1038,3))","v":""},{"$f":"IF(OR($E1038<>0,$C1038=\"\"),\"\",INDEX(Categories!$A:$E,Entries!$D1038,4))","v":""},{"$f":"IF(OR($E1038<>0,$C1038=\"\"),\"\",INDEX(Categories!$A:$E,Entries!$D1038,5))","v":""},"2014-01-01","2014-01-01",{"$f":"(Entries!K1039-Entries!K1038)*24*60","v":0}]
["",null,null,{"$f":"MATCH(C1039,Categories!A:A,0)","v":{"$error":"#N/A"}},0,{"$f":"IF(OR($E1039<>0,$C1039=\"\"),\"\",INDEX(Categories!$A:$E,Entries!$D1039,2))","v":""},{"$f":"IF(OR($E1039<>0,$C1039=\"\"),\"\",INDEX(Categories!$A:$E,Entries!$D1039,3))","v":""},{"$f":"IF(OR($E1039<>0,$C1039=\"\"),\"\",INDEX(Categories!$A:$E,Entries!$D1039,4))","v":""},{"$f":"IF(OR($E1039<>0,$C1039=\"\"),\"\",INDEX(Categories!$A:$E,Entries!$D1039,5))","v":""},"2014-01-01","2014-01-01",{"$f":"(Entries!K1040-Entries!K1039)*24*60","v":0}]
["",null,null,{"$f":"MATCH(C1040,Categories!A:A,0)","v":{"$error":"#N/A"}},0,{"$f":"IF(OR($E1040<>0,$C1040=\"\"),\"\",INDEX(Categories!$A:$E,Entries!$D1040,2))","v":""},{"$f":"IF(OR($E1040<>0,$C1040=\"\"),\"\",INDEX(Categories!$A:$E,Entries!$D1040,3))","v":""},{"$f":"IF(OR($E1040<>0,$C1040=\"\"),\"\",INDEX(Categories!$A:$E,Entries!$D1040,4))","v":""},{"$f":"IF(OR($E1040<>0,$C1040=\"\"),\"\",INDEX(Categories!$A:$E,Entries!$D1040,5))","v":""},"2014-01-01","2014-01-01",{"$f":"(Entries!K1041-Entries!K1040)*24*60","v":0}]
["",null,null,{"$f":"MATCH(C1041,Categories!A:A,0)","v":{"$error":"#N/A"}},0,{"$f":"IF(OR($E1041<>0,$C1041=\"\"),\"\",INDEX(Categories!$A:$E,Entries!$D1041,2))","v":""},{"$f":"IF(OR($E1041<>0,$C1041=\"\"),\"\",INDEX(Categories!$A:$E,Entries!$D1041,3))","v":""},{"$f":"IF(OR($E1041<>0,$C1041=\"\"),\"\",INDEX(Categories!$A:$E,Entries!$D1041,4))","v":""},{"$f":"IF(OR($E1041<>0,$C1041=\"\"),\"\",INDEX(Categories!$A:$E,Entries!$D1041,5))","v":""},"2014-01-01","2014-01-01",{"$f":"(Entries!K1042-Entries!K1041)*24*60","v":0}]
["",null,null,{"$f":"MATCH(C1042,Categories!A:A,0)","v":{"$error":"#N/A"}},0,{"$f":"IF(OR($E1042<>0,$C1042=\"\"),\"\",INDEX(Categories!$A:$E,Entries!$D1042,2))","v":""},{"$f":"IF(OR($E1042<>0,$C1042=\"\"),\"\",INDEX(Categories!$A:$E,Entries!$D1042,3))","v":""},{"$f":"IF(OR($E1042<>0,$C1042=\"\"),\"\",INDEX(Categories!$A:$E,Entries!$D1042,4))","v":""},{"$f":"IF(OR($E1042<>0,$C1042=\"\"),\"\",INDEX(Categories!$A:$E,Entries!$D1042,5))","v":""},"2014-01-01","2014-01-01",{"$f":"(Entries!K1043-Entries!K1042)*24*60","v":0}]
["",null,null,{"$f":"MATCH(C1043,Categories!A:A,0)","v":{"$error":"#N/A"}},0,{"$f":"IF(OR($E1043<>0,$C1043=\"\"),\"\",INDEX(Categories!$A:$E,Entries!$D1043,2))","v":""},{"$f":"IF(OR($E1043<>0,$C1043=\"\"),\"\",INDEX(Categories!$A:$E,Entries!$D1043,3))","v":""},{"$f":"IF(OR($E1043<>0,$C1043=\"\"),\"\",INDEX(Categories!$A:$E,Entries!$D1043,4))","v":""},{"$f":"IF(OR($E1043<>0,$C1043=\"\"),\"\",INDEX(Categories!$A:$E,Entries!$D1043,5))","v":""},"2014-01-01","2014-01-01",{"$f":"(Entries!K1044-Entries!K1043)*24*60","v":0}]
["",null,null,{"$f":"MATCH(C1044,Categories!A:A,0)","v":{"$error":"#N/A"}},0,{"$f":"IF(OR($E1044<>0,$C1044=\"\"),\"\",INDEX(Categories!$A:$E,Entries!$D1044,2))","v":""},{"$f":"IF(OR($E1044<>0,$C1044=\"\"),\"\",INDEX(Categories!$A:$E,Entries!$D1044,3))","v":""},{"$f":"IF(OR($E1044<>0,$C1044=\"\"),\"\",INDEX(Categories!$A:$E,Entries!$D1044,4))","v":""},{"$f":"IF(OR($E1044<>0,$C1044=\"\"),\"\",INDEX(Categories!$A:$E,Entries!$D1044,5))","v":""},"2014-01-01","2014-01-01",{"$f":"(Entries!K1045-Entries!K1044)*24*60","v":0}]
["",null,null,{"$f":"MATCH(C1045,Categories!A:A,0)","v":{"$error":"#N/A"}},0,{"$f":"IF(OR($E1045<>0,$C1045=\"\"),\"\",INDEX(Categories!$A:$E,Entries!$D1045,2))","v":""},{"$f":"IF(OR($E1045<>0,$C1045=\"\"),\"\",INDEX(Categories!$A:$E,Entries!$D1045,3))","v":""},{"$f":"IF(OR($E1045<>0,$C1045=\"\"),\"\",INDEX(Categories!$A:$E,Entries!$D1045,4))","v":""},{"$f":"IF(OR($E1045<>0,$C1045=\"\"),\"\",INDEX(Categories!$A:$E,Entries!$D1045,5))","v":""},"2014-01-01","2014-01-01",{"$f":"(Entries!K1046-Entries!K1045)*24*60","v":0}]
["",null,null,{"$f":"MATCH(C1046,Categories!A:A,0)","v":{"$error":"#N/A"}},0,{"$f":"IF(OR($E1046<>0,$C1046=\"\"),\"\",INDEX(Categories!$A:$E,Entries!$D1046,2))","v":""},{"$f":"IF(OR($E1046<>0,$C1046=\"\"),\"\",INDEX(Categories!$A:$E,Entries!$D1046,3))","v":""},{"$f":"IF(OR($E1046<>0,$C1046=\"\"),\"\",INDEX(Categories!$A:$E,Entries!$D1046,4))","v":""},{"$f":"IF(OR($E1046<>0,$C1046=\"\"),\"\",INDEX(Categories!$A:$E,Entries!$D1046,5))","v":""},"2014-01-01","2014-01-01",{"$f":"(Entries!K1047-Entries!K1046)*24*60","v":0}]
["",null,null,{"$f":"MATCH(C1047,Categories!A:A,0)","v":{"$error":"#N/A"}},0,{"$f":"IF(OR($E1047<>0,$C1047=\"\"),\"\",INDEX(Categories!$A:$E,Entries!$D1047,2))","v":""},{"$f":"IF(OR($E1047<>0,$C1047=\"\"),\"\",INDEX(Categories!$A:$E,Entries!$D1047,3))","v":""},{"$f":"IF(OR($E1047<>0,$C1047=\"\"),\"\",INDEX(Categories!$A:$E,Entries!$D1047,4))","v":""},{"$f":"IF(OR($E1047<>0,$C1047=\"\"),\"\",INDEX(Categories!$A:$E,Entries!$D1047,5))","v":""},"2014-01-01","2014-01-01",{"$f":"(Entries!K1048-Entries!K1047)*24*60","v":0}]
["",null,null,{"$f":"MATCH(C1048,Categories!A:A,0)","v":{"$error":"#N/A"}},0,{"$f":"IF(OR($E1048<>0,$C1048=\"\"),\"\",INDEX(Categories!$A:$E,Entries!$D1048,2))","v":""},{"$f":"IF(OR($E1048<>0,$C1048=\"\"),\"\",INDEX(Categories!$A:$E,Entries!$D1048,3))","v":""},{"$f":"IF(OR($E1048<>0,$C1048=\"\"),\"\",INDEX(Categories!$A:$E,Entries!$D1048,4))","v":""},{"$f":"IF(OR($E1048<>0,$C1048=\"\"),\"\",INDEX(Categories!$A:$E,Entries!$D1048,5))","v":""},"2014-01-01","2014-01-01",{"$f":"(Entries!K1049-Entries!K1048)*24*60","v":0}]
["",null,null,{"$f":"MATCH(C1049,Categories!A:A,0)","v":{"$error":"#N/A"}},0,{"$f":"IF(OR($E1049<>0,$C1049=\"\"),\"\",INDEX(Categories!$A:$E,Entries!$D1049,2))","v":""},{"$f":"IF(OR($E1049<>0,$C1049=\"\"),\"\",INDEX(Categories!$A:$E,Entries!$D1049,3))","v":""},{"$f":"IF(OR($E1049<>0,$C1049=\"\"),\"\",INDEX(Categories!$A:$E,Entries!$D1049,4))","v":""},{"$f":"IF(OR($E1049<>0,$C1049=\"\"),\"\",INDEX(Categories!$A:$E,Entries!$D1049,5))","v":""},"2014-01-01","2014-01-01",{"$f":"(Entries!K1050-Entries!K1049)*24*60","v":0}]
["",null,null,{"$f":"MATCH(C1050,Categories!A:A,0)","v":{"$error":"#N/A"}},0,{"$f":"IF(OR($E1050<>0,$C1050=\"\"),\"\",INDEX(Categories!$A:$E,Entries!$D1050,2))","v":""},{"$f":"IF(OR($E1050<>0,$C1050=\"\"),\"\",INDEX(Categories!$A:$E,Entries!$D1050,3))","v":""},{"$f":"IF(OR($E1050<>0,$C1050=\"\"),\"\",INDEX(Categories!$A:$E,Entries!$D1050,4))","v":""},{"$f":"IF(OR($E1050<>0,$C1050=\"\"),\"\",INDEX(Categories!$A:$E,Entries!$D1050,5))","v":""},"2014-01-01","2014-01-01",{"$f":"(Entries!K1051-Entries!K1050)*24*60","v":0}]
["",null,null,{"$f":"MATCH(C1051,Categories!A:A,0)","v":{"$error":"#N/A"}},0,{"$f":"IF(OR($E1051<>0,$C1051=\"\"),\"\",INDEX(Categories!$A:$E,Entries!$D1051,2))","v":""},{"$f":"IF(OR($E1051<>0,$C1051=\"\"),\"\",INDEX(Categories!$A:$E,Entries!$D1051,3))","v":""},{"$f":"IF(OR($E1051<>0,$C1051=\"\"),\"\",INDEX(Categories!$A:$E,Entries!$D1051,4))","v":""},{"$f":"IF(OR($E1051<>0,$C1051=\"\"),\"\",INDEX(Categories!$A:$E,Entries!$D1051,5))","v":""},"2014-01-01","2014-01-01",{"$f":"(Entries!K1052-Entries!K1051)*24*60","v":0}]
["",null,null,{"$f":"MATCH(C1052,Categories!A:A,0)","v":{"$error":"#N/A"}},0,{"$f":"IF(OR($E1052<>0,$C1052=\"\"),\"\",INDEX(Categories!$A:$E,Entries!$D1052,2))","v":""},{"$f":"IF(OR($E1052<>0,$C1052=\"\"),\"\",INDEX(Categories!$A:$E,Entries!$D1052,3))","v":""},{"$f":"IF(OR($E1052<>0,$C1052=\"\"),\"\",INDEX(Categories!$A:$E,Entries!$D1052,4))","v":""},{"$f":"IF(OR($E1052<>0,$C1052=\"\"),\"\",INDEX(Categories!$A:$E,Entries!$D1052,5))","v":""},"2014-01-01","2014-01-01",{"$f":"(Entries!K1053-Entries!K1052)*24*60","v":0}]
["",null,null,{"$f":"MATCH(C1053,Categories!A:A,0)","v":{"$error":"#N/A"}},0,{"$f":"IF(OR($E1053<>0,$C1053=\"\"),\"\",INDEX(Categories!$A:$E,Entries!$D1053,2))","v":""},{"$f":"IF(OR($E1053<>0,$C1053=\"\"),\"\",INDEX(Categories!$A:$E,Entries!$D1053,3))","v":""},{"$f":"IF(OR($E1053<>0,$C1053=\"\"),\"\",INDEX(Categories!$A:$E,Entries!$D1053,4))","v":""},{"$f":"IF(OR($E1053<>0,$C1053=\"\"),\"\",INDEX(Categories!$A:$E,Entries!$D1053,5))","v":""},"2014-01-01","2014-01-01",{"$f":"(Entries!K1054-Entries!K1053)*24*60","v":0}]
["",null,null,{"$f":"MATCH(C1054,Categories!A:A,0)","v":{"$error":"#N/A"}},0,{"$f":"IF(OR($E1054<>0,$C1054=\"\"),\"\",INDEX(Categories!$A:$E,Entries!$D1054,2))","v":""},{"$f":"IF(OR($E1054<>0,$C1054=\"\"),\"\",INDEX(Categories!$A:$E,Entries!$D1054,3))","v":""},{"$f":"IF(OR($E1054<>0,$C1054=\"\"),\"\",INDEX(Categories!$A:$E,Entries!$D1054,4))","v":""},{"$f":"IF(OR($E1054<>0,$C1054=\"\"),\"\",INDEX(Categories!$A:$E,Entries!$D1054,5))","v":""},"2014-01-01","2014-01-01",{"$f":"(Entries!K1055-Entries!K1054)*24*60","v":0}]
["",null,null,{"$f":"MATCH(C1055,Categories!A:A,0)","v":{"$error":"#N/A"}},0,{"$f":"IF(OR($E1055<>0,$C1055=\"\"),\"\",INDEX(Categories!$A:$E,Entries!$D1055,2))","v":""},{"$f":"IF(OR($E1055<>0,$C1055=\"\"),\"\",INDEX(Categories!$A:$E,Entries!$D1055,3))","v":""},{"$f":"IF(OR($E1055<>0,$C1055=\"\"),\"\",INDEX(Categories!$A:$E,Entries!$D1055,4))","v":""},{"$f":"IF(OR($E1055<>0,$C1055=\"\"),\"\",INDEX(Categories!$A:$E,Entries!$D1055,5))","v":""},"2014-01-01","2014-01-01",{"$f":"(Entries!K1056-Entries!K1055)*24*60","v":0}]
["",null,null,{"$f":"MATCH(C1056,Categories!A:A,0)","v":{"$error":"#N/A"}},0,{"$f":"IF(OR($E1056<>0,$C1056=\"\"),\"\",INDEX(Categories!$A:$E,Entries!$D1056,2))","v":""},{"$f":"IF(OR($E1056<>0,$C1056=\"\"),\"\",INDEX(Categories!$A:$E,Entries!$D1056,3))","v":""},{"$f":"IF(OR($E1056<>0,$C1056=\"\"),\"\",INDEX(Categories!$A:$E,Entries!$D1056,4))","v":""},{"$f":"IF(OR($E1056<>0,$C1056=\"\"),\"\",INDEX(Categories!$A:$E,Entries!$D1056,5))","v":""},"2014-01-01","2014-01-01",{"$f":"(Entries!K1057-Entries!K1056)*24*60","v":0}]
["",null,null,{"$f":"MATCH(C1057,Categories!A:A,0)","v":{"$error":"#N/A"}},0,{"$f":"IF(OR($E1057<>0,$C1057=\"\"),\"\",INDEX(Categories!$A:$E,Entries!$D1057,2))","v":""},{"$f":"IF(OR($E1057<>0,$C1057=\"\"),\"\",INDEX(Categories!$A:$E,Entries!$D1057,3))","v":""},{"$f":"IF(OR($E1057<>0,$C1057=\"\"),\"\",INDEX(Categories!$A:$E,Entries!$D1057,4))","v":""},{"$f":"IF(OR($E1057<>0,$C1057=\"\"),\"\",INDEX(Categories!$A:$E,Entries!$D1057,5))","v":""},"2014-01-01","2014-01-01",{"$f":"(Entries!K1058-Entries!K1057)*24*60","v":0}]
["",null,null,{"$f":"MATCH(C1058,Categories!A:A,0)","v":{"$error":"#N/A"}},0,{"$f":"IF(OR($E1058<>0,$C1058=\"\"),\"\",INDEX(Categories!$A:$E,Entries!$D1058,2))","v":""},{"$f":"IF(OR($E1058<>0,$C1058=\"\"),\"\",INDEX(Categories!$A:$E,Entries!$D1058,3))","v":""},{"$f":"IF(OR($E1058<>0,$C1058=\"\"),\"\",INDEX(Categories!$A:$E,Entries!$D1058,4))","v":""},{"$f":"IF(OR($E1058<>0,$C1058=\"\"),\"\",INDEX(Categories!$A:$E,Entries!$D1058,5))","v":""},"2014-01-01","2014-01-01",{"$f":"(Entries!K1059-Entries!K1058)*24*60","v":0}]
["",null,null,{"$f":"MATCH(C1059,Categories!A:A,0)","v":{"$error":"#N/A"}},0,{"$f":"IF(OR($E1059<>0,$C1059=\"\"),\"\",INDEX(Categories!$A:$E,Entries!$D1059,2))","v":""},{"$f":"IF(OR($E1059<>0,$C1059=\"\"),\"\",INDEX(Categories!$A:$E,Entries!$D1059,3))","v":""},{"$f":"IF(OR($E1059<>0,$C1059=\"\"),\"\",INDEX(Categories!$A:$E,Entries!$D1059,4))","v":""},{"$f":"IF(OR($E1059<>0,$C1059=\"\"),\"\",INDEX(Categories!$A:$E,Entries!$D1059,5))","v":""},"2014-01-01","2014-01-01",{"$f":"(Entries!K1060-Entries!K1059)*24*60","v":0}]
[{"$f":"IF(OR(B1060>=B1059,C1059=\"z\",B1060=\"\"),\"\",J1059+1)","v":""},null,null,{"$f":"MATCH(C1060,Categories!A:A,0)","v":{"$error":"#N/A"}},0,{"$f":"IF(OR($E1060<>0,$C1060=\"\"),\"\",INDEX(Categories!$A:$E,Entries!$D1060,2))","v":""},{"$f":"IF(OR($E1060<>0,$C1060=\"\"),\"\",INDEX(Categories!$A:$E,Entries!$D1060,3))","v":""},{"$f":"IF(OR($E1060<>0,$C1060=\"\"),\"\",INDEX(Categories!$A:$E,Entries!$D1060,4))","v":""},{"$f":"IF(OR($E1060<>0,$C1060=\"\"),\"\",INDEX(Categories!$A:$E,Entries!$D1060,5))","v":""},"2014-01-01","2014-01-01",{"$f":"(Entries!K1061-Entries!K1060)*24*60","v":0}]
["",null,null,{"$f":"MATCH(C1061,Categories!A:A,0)","v":{"$error":"#N/A"}},0,{"$f":"IF(OR($E1061<>0,$C1061=\"\"),\"\",INDEX(Categories!$A:$E,Entries!$D1061,2))","v":""},{"$f":"IF(OR($E1061<>0,$C1061=\"\"),\"\",INDEX(Categories!$A:$E,Entries!$D1061,3))","v":""},{"$f":"IF(OR($E1061<>0,$C1061=\"\"),\"\",INDEX(Categories!$A:$E,Entries!$D1061,4))","v":""},{"$f":"IF(OR($E1061<>0,$C1061=\"\"),\"\",INDEX(Categories!$A:$E,Entries!$D1061,5))","v":""},"2014-01-01","2014-01-01",{"$f":"(Entries!K1062-Entries!K1061)*24*60","v":0}]
["",null,null,{"$f":"MATCH(C1062,Categories!A:A,0)","v":{"$error":"#N/A"}},0,{"$f":"IF(OR($E1062<>0,$C1062=\"\"),\"\",INDEX(Categories!$A:$E,Entries!$D1062,2))","v":""},{"$f":"IF(OR($E1062<>0,$C1062=\"\"),\"\",INDEX(Categories!$A:$E,Entries!$D1062,3))","v":""},{"$f":"IF(OR($E1062<>0,$C1062=\"\"),\"\",INDEX(Categories!$A:$E,Entries!$D1062,4))","v":""},{"$f":"IF(OR($E1062<>0,$C1062=\"\"),\"\",INDEX(Categories!$A:$E,Entries!$D1062,5))","v":""},"2014-01-01","2014-01-01",{"$f":"(Entries!K1063-Entries!K1062)*24*60","v":0}]
["",null,null,{"$f":"MATCH(C1063,Categories!A:A,0)","v":{"$error":"#N/A"}},0,{"$f":"IF(OR($E1063<>0,$C1063=\"\"),\"\",INDEX(Categories!$A:$E,Entries!$D1063,2))","v":""},{"$f":"IF(OR($E1063<>0,$C1063=\"\"),\"\",INDEX(Categories!$A:$E,Entries!$D1063,3))","v":""},{"$f":"IF(OR($E1063<>0,$C1063=\"\"),\"\",INDEX(Categories!$A:$E,Entries!$D1063,4))","v":""},{"$f":"IF(OR($E1063<>0,$C1063=\"\"),\"\",INDEX(Categories!$A:$E,Entries!$D1063,5))","v":""},"2014-01-01","2014-01-01",{"$f":"(Entries!K1064-Entries!K1063)*24*60","v":0}]
["",null,null,{"$f":"MATCH(C1064,Categories!A:A,0)","v":{"$error":"#N/A"}},0,{"$f":"IF(OR($E1064<>0,$C1064=\"\"),\"\",INDEX(Categories!$A:$E,Entries!$D1064,2))","v":""},{"$f":"IF(OR($E1064<>0,$C1064=\"\"),\"\",INDEX(Categories!$A:$E,Entries!$D1064,3))","v":""},{"$f":"IF(OR($E1064<>0,$C1064=\"\"),\"\",INDEX(Categories!$A:$E,Entries!$D1064,4))","v":""},{"$f":"IF(OR($E1064<>0,$C1064=\"\"),\"\",INDEX(Categories!$A:$E,Entries!$D1064,5))","v":""},"2014-01-01","2014-01-01",{"$f":"(Entries!K1065-Entries!K1064)*24*60","v":0}]
["",null,null,{"$f":"MATCH(C1065,Categories!A:A,0)","v":{"$error":"#N/A"}},0,{"$f":"IF(OR($E1065<>0,$C1065=\"\"),\"\",INDEX(Categories!$A:$E,Entries!$D1065,2))","v":""},{"$f":"IF(OR($E1065<>0,$C1065=\"\"),\"\",INDEX(Categories!$A:$E,Entries!$D1065,3))","v":""},{"$f":"IF(OR($E1065<>0,$C1065=\"\"),\"\",INDEX(Categories!$A:$E,Entries!$D1065,4))","v":""},{"$f":"IF(OR($E1065<>0,$C1065=\"\"),\"\",INDEX(Categories!$A:$E,Entries!$D1065,5))","v":""},"2014-01-01","2014-01-01",{"$f":"(Entries!K1066-Entries!K1065)*24*60","v":0}]
["",null,null,{"$f":"MATCH(C1066,Categories!A:A,0)","v":{"$error":"#N/A"}},0,{"$f":"IF(OR($E1066<>0,$C1066=\"\"),\"\",INDEX(Categories!$A:$E,Entries!$D1066,2))","v":""},{"$f":"IF(OR($E1066<>0,$C1066=\"\"),\"\",INDEX(Categories!$A:$E,Entries!$D1066,3))","v":""},{"$f":"IF(OR($E1066<>0,$C1066=\"\"),\"\",INDEX(Categories!$A:$E,Entries!$D1066,4))","v":""},{"$f":"IF(OR($E1066<>0,$C1066=\"\"),\"\",INDEX(Categories!$A:$E,Entries!$D1066,5))","v":""},"2014-01-01","2014-01-01",{"$f":"(Entries!K1067-Entries!K1066)*24*60","v":0}]
["",null,null,{"$f":"MATCH(C1067,Categories!A:A,0)","v":{"$error":"#N/A"}},0,{"$f":"IF(OR($E1067<>0,$C1067=\"\"),\"\",INDEX(Categories!$A:$E,Entries!$D1067,2))","v":""},{"$f":"IF(OR($E1067<>0,$C1067=\"\"),\"\",INDEX(Categories!$A:$E,Entries!$D1067,3))","v":""},{"$f":"IF(OR($E1067<>0,$C1067=\"\"),\"\",INDEX(Categories!$A:$E,Entries!$D1067,4))","v":""},{"$f":"IF(OR($E1067<>0,$C1067=\"\"),\"\",INDEX(Categories!$A:$E,Entries!$D1067,5))","v":""},"2014-01-01","2014-01-01",{"$f":"(Entries!K1068-Entries!K1067)*24*60","v":0}]
["",null,null,{"$f":"MATCH(C1068,Categories!A:A,0)","v":{"$error":"#N/A"}},0,{"$f":"IF(OR($E1068<>0,$C1068=\"\"),\"\",INDEX(Categories!$A:$E,Entries!$D1068,2))","v":""},{"$f":"IF(OR($E1068<>0,$C1068=\"\"),\"\",INDEX(Categories!$A:$E,Entries!$D1068,3))","v":""},{"$f":"IF(OR($E1068<>0,$C1068=\"\"),\"\",INDEX(Categories!$A:$E,Entries!$D1068,4))","v":""},{"$f":"IF(OR($E1068<>0,$C1068=\"\"),\"\",INDEX(Categories!$A:$E,Entries!$D1068,5))","v":""},"2014-01-01","2014-01-01",{"$f":"(Entries!K1069-Entries!K1068)*24*60","v":0}]
["",null,null,{"$f":"MATCH(C1069,Categories!A:A,0)","v":{"$error":"#N/A"}},0,{"$f":"IF(OR($E1069<>0,$C1069=\"\"),\"\",INDEX(Categories!$A:$E,Entries!$D1069,2))","v":""},{"$f":"IF(OR($E1069<>0,$C1069=\"\"),\"\",INDEX(Categories!$A:$E,Entries!$D1069,3))","v":""},{"$f":"IF(OR($E1069<>0,$C1069=\"\"),\"\",INDEX(Categories!$A:$E,Entries!$D1069,4))","v":""},{"$f":"IF(OR($E1069<>0,$C1069=\"\"),\"\",INDEX(Categories!$A:$E,Entries!$D1069,5))","v":""},"2014-01-01","2014-01-01",{"$f":"(Entries!K1070-Entries!K1069)*24*60","v":0}]
["",null,null,{"$f":"MATCH(C1070,Categories!A:A,0)","v":{"$error":"#N/A"}},0,{"$f":"IF(OR($E1070<>0,$C1070=\"\"),\"\",INDEX(Categories!$A:$E,Entries!$D1070,2))","v":""},{"$f":"IF(OR($E1070<>0,$C1070=\"\"),\"\",INDEX(Categories!$A:$E,Entries!$D1070,3))","v":""},{"$f":"IF(OR($E1070<>0,$C1070=\"\"),\"\",INDEX(Categories!$A:$E,Entries!$D1070,4))","v":""},{"$f":"IF(OR($E1070<>0,$C1070=\"\"),\"\",INDEX(Categories!$A:$E,Entries!$D1070,5))","v":""},"2014-01-01","2014-01-01",{"$f":"(Entries!K1071-Entries!K1070)*24*60","v":0}]
["",null,null,{"$f":"MATCH(C1071,Categories!A:A,0)","v":{"$error":"#N/A"}},0,{"$f":"IF(OR($E1071<>0,$C1071=\"\"),\"\",INDEX(Categories!$A:$E,Entries!$D1071,2))","v":""},{"$f":"IF(OR($E1071<>0,$C1071=\"\"),\"\",INDEX(Categories!$A:$E,Entries!$D1071,3))","v":""},{"$f":"IF(OR($E1071<>0,$C1071=\"\"),\"\",INDEX(Categories!$A:$E,Entries!$D1071,4))","v":""},{"$f":"IF(OR($E1071<>0,$C1071=\"\"),\"\",INDEX(Categories!$A:$E,Entries!$D1071,5))","v":""},"2014-01-01","2014-01-01",{"$f":"(Entries!K1072-Entries!K1071)*24*60","v":0}]
["",null,null,{"$f":"MATCH(C1072,Categories!A:A,0)","v":{"$error":"#N/A"}},0,{"$f":"IF(OR($E1072<>0,$C1072=\"\"),\"\",INDEX(Categories!$A:$E,Entries!$D1072,2))","v":""},{"$f":"IF(OR($E1072<>0,$C1072=\"\"),\"\",INDEX(Categories!$A:$E,Entries!$D1072,3))","v":""},{"$f":"IF(OR($E1072<>0,$C1072=\"\"),\"\",INDEX(Categories!$A:$E,Entries!$D1072,4))","v":""},{"$f":"IF(OR($E1072<>0,$C1072=\"\"),\"\",INDEX(Categories!$A:$E,Entries!$D1072,5))","v":""},"2014-01-01","2014-01-01",{"$f":"(Entries!K1073-Entries!K1072)*24*60","v":0}]
["",null,null,{"$f":"MATCH(C1073,Categories!A:A,0)","v":{"$error":"#N/A"}},0,{"$f":"IF(OR($E1073<>0,$C1073=\"\"),\"\",INDEX(Categories!$A:$E,Entries!$D1073,2))","v":""},{"$f":"IF(OR($E1073<>0,$C1073=\"\"),\"\",INDEX(Categories!$A:$E,Entries!$D1073,3))","v":""},{"$f":"IF(OR($E1073<>0,$C1073=\"\"),\"\",INDEX(Categories!$A:$E,Entries!$D1073,4))","v":""},{"$f":"IF(OR($E1073<>0,$C1073=\"\"),\"\",INDEX(Categories!$A:$E,Entries!$D1073,5))","v":""},"2014-01-01","2014-01-01",{"$f":"(Entries!K1074-Entries!K1073)*24*60","v":0}]
["",null,null,{"$f":"MATCH(C1074,Categories!A:A,0)","v":{"$error":"#N/A"}},0,{"$f":"IF(OR($E1074<>0,$C1074=\"\"),\"\",INDEX(Categories!$A:$E,Entries!$D1074,2))","v":""},{"$f":"IF(OR($E1074<>0,$C1074=\"\"),\"\",INDEX(Categories!$A:$E,Entries!$D1074,3))","v":""},{"$f":"IF(OR($E1074<>0,$C1074=\"\"),\"\",INDEX(Categories!$A:$E,Entries!$D1074,4))","v":""},{"$f":"IF(OR($E1074<>0,$C1074=\"\"),\"\",INDEX(Categories!$A:$E,Entries!$D1074,5))","v":""},"2014-01-01","2014-01-01",{"$f":"(Entries!K1075-Entries!K1074)*24*60","v":0}]
["",null,null,{"$f":"MATCH(C1075,Categories!A:A,0)","v":{"$error":"#N/A"}},0,{"$f":"IF(OR($E1075<>0,$C1075=\"\"),\"\",INDEX(Categories!$A:$E,Entries!$D1075,2))","v":""},{"$f":"IF(OR($E1075<>0,$C1075=\"\"),\"\",INDEX(Categories!$A:$E,Entries!$D1075,3))","v":""},{"$f":"IF(OR($E1075<>0,$C1075=\"\"),\"\",INDEX(Categories!$A:$E,Entries!$D1075,4))","v":""},{"$f":"IF(OR($E1075<>0,$C1075=\"\"),\"\",INDEX(Categories!$A:$E,Entries!$D1075,5))","v":""},"2014-01-01","2014-01-01",{"$f":"(Entries!K1076-Entries!K1075)*24*60","v":0}]
["",null,null,{"$f":"MATCH(C1076,Categories!A:A,0)","v":{"$error":"#N/A"}},0,{"$f":"IF(OR($E1076<>0,$C1076=\"\"),\"\",INDEX(Categories!$A:$E,Entries!$D1076,2))","v":""},{"$f":"IF(OR($E1076<>0,$C1076=\"\"),\"\",INDEX(Categories!$A:$E,Entries!$D1076,3))","v":""},{"$f":"IF(OR($E1076<>0,$C1076=\"\"),\"\",INDEX(Categories!$A:$E,Entries!$D1076,4))","v":""},{"$f":"IF(OR($E1076<>0,$C1076=\"\"),\"\",INDEX(Categories!$A:$E,Entries!$D1076,5))","v":""},"2014-01-01","2014-01-01",{"$f":"(Entries!K1077-Entries!K1076)*24*60","v":0}]
["",null,null,{"$f":"MATCH(C1077,Categories!A:A,0)","v":{"$error":"#N/A"}},0,{"$f":"IF(OR($E1077<>0,$C1077=\"\"),\"\",INDEX(Categories!$A:$E,Entries!$D1077,2))","v":""},{"$f":"IF(OR($E1077<>0,$C1077=\"\"),\"\",INDEX(Categories!$A:$E,Entries!$D1077,3))","v":""},{"$f":"IF(OR($E1077<>0,$C1077=\"\"),\"\",INDEX(Categories!$A:$E,Entries!$D1077,4))","v":""},{"$f":"IF(OR($E1077<>0,$C1077=\"\"),\"\",INDEX(Categories!$A:$E,Entries!$D1077,5))","v":""},"2014-01-01","2014-01-01",{"$f":"(Entries!K1078-Entries!K1077)*24*60","v":0}]
["",null,null,{"$f":"MATCH(C1078,Categories!A:A,0)","v":{"$error":"#N/A"}},0,{"$f":"IF(OR($E1078<>0,$C1078=\"\"),\"\",INDEX(Categories!$A:$E,Entries!$D1078,2))","v":""},{"$f":"IF(OR($E1078<>0,$C1078=\"\"),\"\",INDEX(Categories!$A:$E,Entries!$D1078,3))","v":""},{"$f":"IF(OR($E1078<>0,$C1078=\"\"),\"\",INDEX(Categories!$A:$E,Entries!$D1078,4))","v":""},{"$f":"IF(OR($E1078<>0,$C1078=\"\"),\"\",INDEX(Categories!$A:$E,Entries!$D1078,5))","v":""},"2014-01-01","2014-01-01",{"$f":"(Entries!K1079-Entries!K1078)*24*60","v":0}]
["",null,null,{"$f":"MATCH(C1079,Categories!A:A,0)","v":{"$error":"#N/A"}},0,{"$f":"IF(OR($E1079<>0,$C1079=\"\"),\"\",INDEX(Categories!$A:$E,Entries!$D1079,2))","v":""},{"$f":"IF(OR($E1079<>0,$C1079=\"\"),\"\",INDEX(Categories!$A:$E,Entries!$D1079,3))","v":""},{"$f":"IF(OR($E1079<>0,$C1079=\"\"),\"\",INDEX(Categories!$A:$E,Entries!$D1079,4))","v":""},{"$f":"IF(OR($E1079<>0,$C1079=\"\"),\"\",INDEX(Categories!$A:$E,Entries!$D1079,5))","v":""},"2014-01-01","2014-01-01",{"$f":"(Entries!K1080-Entries!K1079)*24*60","v":0}]
["",null,null,{"$f":"MATCH(C1080,Categories!A:A,0)","v":{"$error":"#N/A"}},0,{"$f":"IF(OR($E1080<>0,$C1080=\"\"),\"\",INDEX(Categories!$A:$E,Entries!$D1080,2))","v":""},{"$f":"IF(OR($E1080<>0,$C1080=\"\"),\"\",INDEX(Categories!$A:$E,Entries!$D1080,3))","v":""},{"$f":"IF(OR($E1080<>0,$C1080=\"\"),\"\",INDEX(Categories!$A:$E,Entries!$D1080,4))","v":""},{"$f":"IF(OR($E1080<>0,$C1080=\"\"),\"\",INDEX(Categories!$A:$E,Entries!$D1080,5))","v":""},"2014-01-01","2014-01-01",{"$f":"(Entries!K1081-Entries!K1080)*24*60","v":0}]
["",null,null,{"$f":"MATCH(C1081,Categories!A:A,0)","v":{"$error":"#N/A"}},0,{"$f":"IF(OR($E1081<>0,$C1081=\"\"),\"\",INDEX(Categories!$A:$E,Entries!$D1081,2))","v":""},{"$f":"IF(OR($E1081<>0,$C1081=\"\"),\"\",INDEX(Categories!$A:$E,Entries!$D1081,3))","v":""},{"$f":"IF(OR($E1081<>0,$C1081=\"\"),\"\",INDEX(Categories!$A:$E,Entries!$D1081,4))","v":""},{"$f":"IF(OR($E1081<>0,$C1081=\"\"),\"\",INDEX(Categories!$A:$E,Entries!$D1081,5))","v":""},"2014-01-01","2014-01-01",{"$f":"(Entries!K1082-Entries!K1081)*24*60","v":0}]
["",null,null,{"$f":"MATCH(C1082,Categories!A:A,0)","v":{"$error":"#N/A"}},0,{"$f":"IF(OR($E1082<>0,$C1082=\"\"),\"\",INDEX(Categories!$A:$E,Entries!$D1082,2))","v":""},{"$f":"IF(OR($E1082<>0,$C1082=\"\"),\"\",INDEX(Categories!$A:$E,Entries!$D1082,3))","v":""},{"$f":"IF(OR($E1082<>0,$C1082=\"\"),\"\",INDEX(Categories!$A:$E,Entries!$D1082,4))","v":""},{"$f":"IF(OR($E1082<>0,$C1082=\"\"),\"\",INDEX(Categories!$A:$E,Entries!$D1082,5))","v":""},"2014-01-01","2014-01-01",{"$f":"(Entries!K1083-Entries!K1082)*24*60","v":0}]
["",null,null,{"$f":"MATCH(C1083,Categories!A:A,0)","v":{"$error":"#N/A"}},0,{"$f":"IF(OR($E1083<>0,$C1083=\"\"),\"\",INDEX(Categories!$A:$E,Entries!$D1083,2))","v":""},{"$f":"IF(OR($E1083<>0,$C1083=\"\"),\"\",INDEX(Categories!$A:$E,Entries!$D1083,3))","v":""},{"$f":"IF(OR($E1083<>0,$C1083=\"\"),\"\",INDEX(Categories!$A:$E,Entries!$D1083,4))","v":""},{"$f":"IF(OR($E1083<>0,$C1083=\"\"),\"\",INDEX(Categories!$A:$E,Entries!$D1083,5))","v":""},"2014-01-01","2014-01-01",{"$f":"(Entries!K1084-Entries!K1083)*24*60","v":0}]
["",null,null,{"$f":"MATCH(C1084,Categories!A:A,0)","v":{"$error":"#N/A"}},0,{"$f":"IF(OR($E1084<>0,$C1084=\"\"),\"\",INDEX(Categories!$A:$E,Entries!$D1084,2))","v":""},{"$f":"IF(OR($E1084<>0,$C1084=\"\"),\"\",INDEX(Categories!$A:$E,Entries!$D1084,3))","v":""},{"$f":"IF(OR($E1084<>0,$C1084=\"\"),\"\",INDEX(Categories!$A:$E,Entries!$D1084,4))","v":""},{"$f":"IF(OR($E1084<>0,$C1084=\"\"),\"\",INDEX(Categories!$A:$E,Entries!$D1084,5))","v":""},"2014-01-01","2014-01-01",{"$f":"(Entries!K1085-Entries!K1084)*24*60","v":0}]
["",null,null,{"$f":"MATCH(C1085,Categories!A:A,0)","v":{"$error":"#N/A"}},0,{"$f":"IF(OR($E1085<>0,$C1085=\"\"),\"\",INDEX(Categories!$A:$E,Entries!$D1085,2))","v":""},{"$f":"IF(OR($E1085<>0,$C1085=\"\"),\"\",INDEX(Categories!$A:$E,Entries!$D1085,3))","v":""},{"$f":"IF(OR($E1085<>0,$C1085=\"\"),\"\",INDEX(Categories!$A:$E,Entries!$D1085,4))","v":""},{"$f":"IF(OR($E1085<>0,$C1085=\"\"),\"\",INDEX(Categories!$A:$E,Entries!$D1085,5))","v":""},"2014-01-01","2014-01-01",{"$f":"(Entries!K1086-Entries!K1085)*24*60","v":0}]
["",null,null,{"$f":"MATCH(C1086,Categories!A:A,0)","v":{"$error":"#N/A"}},0,{"$f":"IF(OR($E1086<>0,$C1086=\"\"),\"\",INDEX(Categories!$A:$E,Entries!$D1086,2))","v":""},{"$f":"IF(OR($E1086<>0,$C1086=\"\"),\"\",INDEX(Categories!$A:$E,Entries!$D1086,3))","v":""},{"$f":"IF(OR($E1086<>0,$C1086=\"\"),\"\",INDEX(Categories!$A:$E,Entries!$D1086,4))","v":""},{"$f":"IF(OR($E1086<>0,$C1086=\"\"),\"\",INDEX(Categories!$A:$E,Entries!$D1086,5))","v":""},"2014-01-01","2014-01-01",{"$f":"(Entries!K1087-Entries!K1086)*24*60","v":0}]
["",null,null,{"$f":"MATCH(C1087,Categories!A:A,0)","v":{"$error":"#N/A"}},0,{"$f":"IF(OR($E1087<>0,$C1087=\"\"),\"\",INDEX(Categories!$A:$E,Entries!$D1087,2))","v":""},{"$f":"IF(OR($E1087<>0,$C1087=\"\"),\"\",INDEX(Categories!$A:$E,Entries!$D1087,3))","v":""},{"$f":"IF(OR($E1087<>0,$C1087=\"\"),\"\",INDEX(Categories!$A:$E,Entries!$D1087,4))","v":""},{"$f":"IF(OR($E1087<>0,$C1087=\"\"),\"\",INDEX(Categories!$A:$E,Entries!$D1087,5))","v":""},"2014-01-01","2014-01-01",{"$f":"(Entries!K1088-Entries!K1087)*24*60","v":0}]
["",null,null,{"$f":"MATCH(C1088,Categories!A:A,0)","v":{"$error":"#N/A"}},0,{"$f":"IF(OR($E1088<>0,$C1088=\"\"),\"\",INDEX(Categories!$A:$E,Entries!$D1088,2))","v":""},{"$f":"IF(OR($E1088<>0,$C1088=\"\"),\"\",INDEX(Categories!$A:$E,Entries!$D1088,3))","v":""},{"$f":"IF(OR($E1088<>0,$C1088=\"\"),\"\",INDEX(Categories!$A:$E,Entries!$D1088,4))","v":""},{"$f":"IF(OR($E1088<>0,$C1088=\"\"),\"\",INDEX(Categories!$A:$E,Entries!$D1088,5))","v":""},"2014-01-01","2014-01-01",{"$f":"(Entries!K1089-Entries!K1088)*24*60","v":0}]
["",null,null,{"$f":"MATCH(C1089,Categories!A:A,0)","v":{"$error":"#N/A"}},0,{"$f":"IF(OR($E1089<>0,$C1089=\"\"),\"\",INDEX(Categories!$A:$E,Entries!$D1089,2))","v":""},{"$f":"IF(OR($E1089<>0,$C1089=\"\"),\"\",INDEX(Categories!$A:$E,Entries!$D1089,3))","v":""},{"$f":"IF(OR($E1089<>0,$C1089=\"\"),\"\",INDEX(Categories!$A:$E,Entries!$D1089,4))","v":""},{"$f":"IF(OR($E1089<>0,$C1089=\"\"),\"\",INDEX(Categories!$A:$E,Entries!$D1089,5))","v":""},"2014-01-01","2014-01-01",{"$f":"(Entries!K1090-Entries!K1089)*24*60","v":0}]
["",null,null,{"$f":"MATCH(C1090,Categories!A:A,0)","v":{"$error":"#N/A"}},{"$f":"IF(AND(ISERROR(D1090),C1090<>\"\"),ROW(D1090),0)","v":0},{"$f":"IF(OR($E1090<>0,$C1090=\"\"),\"\",INDEX(Categories!$A:$E,Entries!$D1090,2))","v":""},{"$f":"IF(OR($E1090<>0,$C1090=\"\"),\"\",INDEX(Categories!$A:$E,Entries!$D1090,3))","v":""},{"$f":"IF(OR($E1090<>0,$C1090=\"\"),\"\",INDEX(Categories!$A:$E,Entries!$D1090,4))","v":""},{"$f":"IF(OR($E1090<>0,$C1090=\"\"),\"\",INDEX(Categories!$A:$E,Entries!$D1090,5))","v":""},{"$f":"IF(A1090=\"\",J1089,A1090)","v":"2014-01-01"},{"$f":"J1090+B1090","v":"2014-01-01"},{"$f":"(Entries!K1091-Entries!K1090)*24*60","v":0}]
["",null,null,{"$f":"MATCH(C1091,Categories!A:A,0)","v":{"$error":"#N/A"}},0,{"$f":"IF(OR($E1091<>0,$C1091=\"\"),\"\",INDEX(Categories!$A:$E,Entries!$D1091,2))","v":""},{"$f":"IF(OR($E1091<>0,$C1091=\"\"),\"\",INDEX(Categories!$A:$E,Entries!$D1091,3))","v":""},{"$f":"IF(OR($E1091<>0,$C1091=\"\"),\"\",INDEX(Categories!$A:$E,Entries!$D1091,4))","v":""},{"$f":"IF(OR($E1091<>0,$C1091=\"\"),\"\",INDEX(Categories!$A:$E,Entries!$D1091,5))","v":""},"2014-01-01","2014-01-01",{"$f":"(Entries!K1092-Entries!K1091)*24*60","v":0}]
["",null,null,{"$f":"MATCH(C1092,Categories!A:A,0)","v":{"$error":"#N/A"}},0,{"$f":"IF(OR($E1092<>0,$C1092=\"\"),\"\",INDEX(Categories!$A:$E,Entries!$D1092,2))","v":""},{"$f":"IF(OR($E1092<>0,$C1092=\"\"),\"\",INDEX(Categories!$A:$E,Entries!$D1092,3))","v":""},{"$f":"IF(OR($E1092<>0,$C1092=\"\"),\"\",INDEX(Categories!$A:$E,Entries!$D1092,4))","v":""},{"$f":"IF(OR($E1092<>0,$C1092=\"\"),\"\",INDEX(Categories!$A:$E,Entries!$D1092,5))","v":""},"2014-01-01","2014-01-01",{"$f":"(Entries!K1093-Entries!K1092)*24*60","v":0}]
["",null,null,{"$f":"MATCH(C1093,Categories!A:A,0)","v":{"$error":"#N/A"}},0,{"$f":"IF(OR($E1093<>0,$C1093=\"\"),\"\",INDEX(Categories!$A:$E,Entries!$D1093,2))","v":""},{"$f":"IF(OR($E1093<>0,$C1093=\"\"),\"\",INDEX(Categories!$A:$E,Entries!$D1093,3))","v":""},{"$f":"IF(OR($E1093<>0,$C1093=\"\"),\"\",INDEX(Categories!$A:$E,Entries!$D1093,4))","v":""},{"$f":"IF(OR($E1093<>0,$C1093=\"\"),\"\",INDEX(Categories!$A:$E,Entries!$D1093,5))","v":""},"2014-01-01","2014-01-01",{"$f":"(Entries!K1094-Entries!K1093)*24*60","v":0}]
["",null,null,{"$f":"MATCH(C1094,Categories!A:A,0)","v":{"$error":"#N/A"}},0,{"$f":"IF(OR($E1094<>0,$C1094=\"\"),\"\",INDEX(Categories!$A:$E,Entries!$D1094,2))","v":""},{"$f":"IF(OR($E1094<>0,$C1094=\"\"),\"\",INDEX(Categories!$A:$E,Entries!$D1094,3))","v":""},{"$f":"IF(OR($E1094<>0,$C1094=\"\"),\"\",INDEX(Categories!$A:$E,Entries!$D1094,4))","v":""},{"$f":"IF(OR($E1094<>0,$C1094=\"\"),\"\",INDEX(Categories!$A:$E,Entries!$D1094,5))","v":""},"2014-01-01","2014-01-01",{"$f":"(Entries!K1095-Entries!K1094)*24*60","v":0}]
["",null,null,{"$f":"MATCH(C1095,Categories!A:A,0)","v":{"$error":"#N/A"}},0,{"$f":"IF(OR($E1095<>0,$C1095=\"\"),\"\",INDEX(Categories!$A:$E,Entries!$D1095,2))","v":""},{"$f":"IF(OR($E1095<>0,$C1095=\"\"),\"\",INDEX(Categories!$A:$E,Entries!$D1095,3))","v":""},{"$f":"IF(OR($E1095<>0,$C1095=\"\"),\"\",INDEX(Categories!$A:$E,Entries!$D1095,4))","v":""},{"$f":"IF(OR($E1095<>0,$C1095=\"\"),\"\",INDEX(Categories!$A:$E,Entries!$D1095,5))","v":""},"2014-01-01","2014-01-01",{"$f":"(Entries!K1096-Entries!K1095)*24*60","v":0}]
["",null,null,{"$f":"MATCH(C1096,Categories!A:A,0)","v":{"$error":"#N/A"}},0,{"$f":"IF(OR($E1096<>0,$C1096=\"\"),\"\",INDEX(Categories!$A:$E,Entries!$D1096,2))","v":""},{"$f":"IF(OR($E1096<>0,$C1096=\"\"),\"\",INDEX(Categories!$A:$E,Entries!$D1096,3))","v":""},{"$f":"IF(OR($E1096<>0,$C1096=\"\"),\"\",INDEX(Categories!$A:$E,Entries!$D1096,4))","v":""},{"$f":"IF(OR($E1096<>0,$C1096=\"\"),\"\",INDEX(Categories!$A:$E,Entries!$D1096,5))","v":""},"2014-01-01","2014-01-01",{"$f":"(Entries!K1097-Entries!K1096)*24*60","v":0}]
["",null,null,{"$f":"MATCH(C1097,Categories!A:A,0)","v":{"$error":"#N/A"}},0,{"$f":"IF(OR($E1097<>0,$C1097=\"\"),\"\",INDEX(Categories!$A:$E,Entries!$D1097,2))","v":""},{"$f":"IF(OR($E1097<>0,$C1097=\"\"),\"\",INDEX(Categories!$A:$E,Entries!$D1097,3))","v":""},{"$f":"IF(OR($E1097<>0,$C1097=\"\"),\"\",INDEX(Categories!$A:$E,Entries!$D1097,4))","v":""},{"$f":"IF(OR($E1097<>0,$C1097=\"\"),\"\",INDEX(Categories!$A:$E,Entries!$D1097,5))","v":""},"2014-01-01","2014-01-01",{"$f":"(Entries!K1098-Entries!K1097)*24*60","v":0}]
["",null,null,{"$f":"MATCH(C1098,Categories!A:A,0)","v":{"$error":"#N/A"}},0,{"$f":"IF(OR($E1098<>0,$C1098=\"\"),\"\",INDEX(Categories!$A:$E,Entries!$D1098,2))","v":""},{"$f":"IF(OR($E1098<>0,$C1098=\"\"),\"\",INDEX(Categories!$A:$E,Entries!$D1098,3))","v":""},{"$f":"IF(OR($E1098<>0,$C1098=\"\"),\"\",INDEX(Categories!$A:$E,Entries!$D1098,4))","v":""},{"$f":"IF(OR($E1098<>0,$C1098=\"\"),\"\",INDEX(Categories!$A:$E,Entries!$D1098,5))","v":""},"2014-01-01","2014-01-01",{"$f":"(Entries!K1099-Entries!K1098)*24*60","v":0}]
["",null,null,{"$f":"MATCH(C1099,Categories!A:A,0)","v":{"$error":"#N/A"}},0,{"$f":"IF(OR($E1099<>0,$C1099=\"\"),\"\",INDEX(Categories!$A:$E,Entries!$D1099,2))","v":""},{"$f":"IF(OR($E1099<>0,$C1099=\"\"),\"\",INDEX(Categories!$A:$E,Entries!$D1099,3))","v":""},{"$f":"IF(OR($E1099<>0,$C1099=\"\"),\"\",INDEX(Categories!$A:$E,Entries!$D1099,4))","v":""},{"$f":"IF(OR($E1099<>0,$C1099=\"\"),\"\",INDEX(Categories!$A:$E,Entries!$D1099,5))","v":""},"2014-01-01","2014-01-01",{"$f":"(Entries!K1100-Entries!K1099)*24*60","v":0}]
["",null,null,{"$f":"MATCH(C1100,Categories!A:A,0)","v":{"$error":"#N/A"}},0,{"$f":"IF(OR($E1100<>0,$C1100=\"\"),\"\",INDEX(Categories!$A:$E,Entries!$D1100,2))","v":""},{"$f":"IF(OR($E1100<>0,$C1100=\"\"),\"\",INDEX(Categories!$A:$E,Entries!$D1100,3))","v":""},{"$f":"IF(OR($E1100<>0,$C1100=\"\"),\"\",INDEX(Categories!$A:$E,Entries!$D1100,4))","v":""},{"$f":"IF(OR($E1100<>0,$C1100=\"\"),\"\",INDEX(Categories!$A:$E,Entries!$D1100,5))","v":""},"2014-01-01","2014-01-01",{"$f":"(Entries!K1101-Entries!K1100)*24*60","v":0}]
["",null,null,{"$f":"MATCH(C1101,Categories!A:A,0)","v":{"$error":"#N/A"}},0,{"$f":"IF(OR($E1101<>0,$C1101=\"\"),\"\",INDEX(Categories!$A:$E,Entries!$D1101,2))","v":""},{"$f":"IF(OR($E1101<>0,$C1101=\"\"),\"\",INDEX(Categories!$A:$E,Entries!$D1101,3))","v":""},{"$f":"IF(OR($E1101<>0,$C1101=\"\"),\"\",INDEX(Categories!$A:$E,Entries!$D1101,4))","v":""},{"$f":"IF(OR($E1101<>0,$C1101=\"\"),\"\",INDEX(Categories!$A:$E,Entries!$D1101,5))","v":""},"2014-01-01","2014-01-01",{"$f":"(Entries!K1102-Entries!K1101)*24*60","v":0}]
["",null,null,{"$f":"MATCH(C1102,Categories!A:A,0)","v":{"$error":"#N/A"}},0,{"$f":"IF(OR($E1102<>0,$C1102=\"\"),\"\",INDEX(Categories!$A:$E,Entries!$D1102,2))","v":""},{"$f":"IF(OR($E1102<>0,$C1102=\"\"),\"\",INDEX(Categories!$A:$E,Entries!$D1102,3))","v":""},{"$f":"IF(OR($E1102<>0,$C1102=\"\"),\"\",INDEX(Categories!$A:$E,Entries!$D1102,4))","v":""},{"$f":"IF(OR($E1102<>0,$C1102=\"\"),\"\",INDEX(Categories!$A:$E,Entries!$D1102,5))","v":""},"2014-01-01","2014-01-01",{"$f":"(Entries!K1103-Entries!K1102)*24*60","v":0}]
["",null,null,{"$f":"MATCH(C1103,Categories!A:A,0)","v":{"$error":"#N/A"}},0,{"$f":"IF(OR($E1103<>0,$C1103=\"\"),\"\",INDEX(Categories!$A:$E,Entries!$D1103,2))","v":""},{"$f":"IF(OR($E1103<>0,$C1103=\"\"),\"\",INDEX(Categories!$A:$E,Entries!$D1103,3))","v":""},{"$f":"IF(OR($E1103<>0,$C1103=\"\"),\"\",INDEX(Categories!$A:$E,Entries!$D1103,4))","v":""},{"$f":"IF(OR($E1103<>0,$C1103=\"\"),\"\",INDEX(Categories!$A:$E,Entries!$D1103,5))","v":""},"2014-01-01","2014-01-01",{"$f":"(Entries!K1104-Entries!K1103)*24*60","v":0}]
["",null,null,{"$f":"MATCH(C1104,Categories!A:A,0)","v":{"$error":"#N/A"}},0,{"$f":"IF(OR($E1104<>0,$C1104=\"\"),\"\",INDEX(Categories!$A:$E,Entries!$D1104,2))","v":""},{"$f":"IF(OR($E1104<>0,$C1104=\"\"),\"\",INDEX(Categories!$A:$E,Entries!$D1104,3))","v":""},{"$f":"IF(OR($E1104<>0,$C1104=\"\"),\"\",INDEX(Categories!$A:$E,Entries!$D1104,4))","v":""},{"$f":"IF(OR($E1104<>0,$C1104=\"\"),\"\",INDEX(Categories!$A:$E,Entries!$D1104,5))","v":""},"2014-01-01","2014-01-01",{"$f":"(Entries!K1105-Entries!K1104)*24*60","v":0}]
["",null,null,{"$f":"MATCH(C1105,Categories!A:A,0)","v":{"$error":"#N/A"}},0,{"$f":"IF(OR($E1105<>0,$C1105=\"\"),\"\",INDEX(Categories!$A:$E,Entries!$D1105,2))","v":""},{"$f":"IF(OR($E1105<>0,$C1105=\"\"),\"\",INDEX(Categories!$A:$E,Entries!$D1105,3))","v":""},{"$f":"IF(OR($E1105<>0,$C1105=\"\"),\"\",INDEX(Categories!$A:$E,Entries!$D1105,4))","v":""},{"$f":"IF(OR($E1105<>0,$C1105=\"\"),\"\",INDEX(Categories!$A:$E,Entries!$D1105,5))","v":""},"2014-01-01","2014-01-01",{"$f":"(Entries!K1106-Entries!K1105)*24*60","v":0}]
["",null,null,{"$f":"MATCH(C1106,Categories!A:A,0)","v":{"$error":"#N/A"}},0,{"$f":"IF(OR($E1106<>0,$C1106=\"\"),\"\",INDEX(Categories!$A:$E,Entries!$D1106,2))","v":""},{"$f":"IF(OR($E1106<>0,$C1106=\"\"),\"\",INDEX(Categories!$A:$E,Entries!$D1106,3))","v":""},{"$f":"IF(OR($E1106<>0,$C1106=\"\"),\"\",INDEX(Categories!$A:$E,Entries!$D1106,4))","v":""},{"$f":"IF(OR($E1106<>0,$C1106=\"\"),\"\",INDEX(Categories!$A:$E,Entries!$D1106,5))","v":""},"2014-01-01","2014-01-01",{"$f":"(Entries!K1107-Entries!K1106)*24*60","v":0}]
["",null,null,{"$f":"MATCH(C1107,Categories!A:A,0)","v":{"$error":"#N/A"}},0,{"$f":"IF(OR($E1107<>0,$C1107=\"\"),\"\",INDEX(Categories!$A:$E,Entries!$D1107,2))","v":""},{"$f":"IF(OR($E1107<>0,$C1107=\"\"),\"\",INDEX(Categories!$A:$E,Entries!$D1107,3))","v":""},{"$f":"IF(OR($E1107<>0,$C1107=\"\"),\"\",INDEX(Categories!$A:$E,Entries!$D1107,4))","v":""},{"$f":"IF(OR($E1107<>0,$C1107=\"\"),\"\",INDEX(Categories!$A:$E,Entries!$D1107,5))","v":""},"2014-01-01","2014-01-01",{"$f":"(Entries!K1108-Entries!K1107)*24*60","v":0}]
["",null,null,{"$f":"MATCH(C1108,Categories!A:A,0)","v":{"$error":"#N/A"}},0,{"$f":"IF(OR($E1108<>0,$C1108=\"\"),\"\",INDEX(Categories!$A:$E,Entries!$D1108,2))","v":""},{"$f":"IF(OR($E1108<>0,$C1108=\"\"),\"\",INDEX(Categories!$A:$E,Entries!$D1108,3))","v":""},{"$f":"IF(OR($E1108<>0,$C1108=\"\"),\"\",INDEX(Categories!$A:$E,Entries!$D1108,4))","v":""},{"$f":"IF(OR($E1108<>0,$C1108=\"\"),\"\",INDEX(Categories!$A:$E,Entries!$D1108,5))","v":""},"2014-01-01","2014-01-01",{"$f":"(Entries!K1109-Entries!K1108)*24*60","v":0}]
["",null,null,{"$f":"MATCH(C1109,Categories!A:A,0)","v":{"$error":"#N/A"}},0,{"$f":"IF(OR($E1109<>0,$C1109=\"\"),\"\",INDEX(Categories!$A:$E,Entries!$D1109,2))","v":""},{"$f":"IF(OR($E1109<>0,$C1109=\"\"),\"\",INDEX(Categories!$A:$E,Entries!$D1109,3))","v":""},{"$f":"IF(OR($E1109<>0,$C1109=\"\"),\"\",INDEX(Categories!$A:$E,Entries!$D1109,4))","v":""},{"$f":"IF(OR($E1109<>0,$C1109=\"\"),\"\",INDEX(Categories!$A:$E,Entries!$D1109,5))","v":""},"2014-01-01","2014-01-01",{"$f":"(Entries!K1110-Entries!K1109)*24*60","v":0}]
["",null,null,{"$f":"MATCH(C1110,Categories!A:A,0)","v":{"$error":"#N/A"}},0,{"$f":"IF(OR($E1110<>0,$C1110=\"\"),\"\",INDEX(Categories!$A:$E,Entries!$D1110,2))","v":""},{"$f":"IF(OR($E1110<>0,$C1110=\"\"),\"\",INDEX(Categories!$A:$E,Entries!$D1110,3))","v":""},{"$f":"IF(OR($E1110<>0,$C1110=\"\"),\"\",INDEX(Categories!$A:$E,Entries!$D1110,4))","v":""},{"$f":"IF(OR($E1110<>0,$C1110=\"\"),\"\",INDEX(Categories!$A:$E,Entries!$D1110,5))","v":""},"2014-01-01","2014-01-01",{"$f":"(Entries!K1111-Entries!K1110)*24*60","v":0}]
["",null,null,{"$f":"MATCH(C1111,Categories!A:A,0)","v":{"$error":"#N/A"}},0,{"$f":"IF(OR($E1111<>0,$C1111=\"\"),\"\",INDEX(Categories!$A:$E,Entries!$D1111,2))","v":""},{"$f":"IF(OR($E1111<>0,$C1111=\"\"),\"\",INDEX(Categories!$A:$E,Entries!$D1111,3))","v":""},{"$f":"IF(OR($E1111<>0,$C1111=\"\"),\"\",INDEX(Categories!$A:$E,Entries!$D1111,4))","v":""},{"$f":"IF(OR($E1111<>0,$C1111=\"\"),\"\",INDEX(Categories!$A:$E,Entries!$D1111,5))","v":""},"2014-01-01","2014-01-01",{"$f":"(Entries!K1112-Entries!K1111)*24*60","v":0}]
["",null,null,{"$f":"MATCH(C1112,Categories!A:A,0)","v":{"$error":"#N/A"}},0,{"$f":"IF(OR($E1112<>0,$C1112=\"\"),\"\",INDEX(Categories!$A:$E,Entries!$D1112,2))","v":""},{"$f":"IF(OR($E1112<>0,$C1112=\"\"),\"\",INDEX(Categories!$A:$E,Entries!$D1112,3))","v":""},{"$f":"IF(OR($E1112<>0,$C1112=\"\"),\"\",INDEX(Categories!$A:$E,Entries!$D1112,4))","v":""},{"$f":"IF(OR($E1112<>0,$C1112=\"\"),\"\",INDEX(Categories!$A:$E,Entries!$D1112,5))","v":""},"2014-01-01","2014-01-01",{"$f":"(Entries!K1113-Entries!K1112)*24*60","v":0}]
["",null,null,{"$f":"MATCH(C1113,Categories!A:A,0)","v":{"$error":"#N/A"}},0,{"$f":"IF(OR($E1113<>0,$C1113=\"\"),\"\",INDEX(Categories!$A:$E,Entries!$D1113,2))","v":""},{"$f":"IF(OR($E1113<>0,$C1113=\"\"),\"\",INDEX(Categories!$A:$E,Entries!$D1113,3))","v":""},{"$f":"IF(OR($E1113<>0,$C1113=\"\"),\"\",INDEX(Categories!$A:$E,Entries!$D1113,4))","v":""},{"$f":"IF(OR($E1113<>0,$C1113=\"\"),\"\",INDEX(Categories!$A:$E,Entries!$D1113,5))","v":""},"2014-01-01","2014-01-01",{"$f":"(Entries!K1114-Entries!K1113)*24*60","v":0}]
["",null,null,{"$f":"MATCH(C1114,Categories!A:A,0)","v":{"$error":"#N/A"}},0,{"$f":"IF(OR($E1114<>0,$C1114=\"\"),\"\",INDEX(Categories!$A:$E,Entries!$D1114,2))","v":""},{"$f":"IF(OR($E1114<>0,$C1114=\"\"),\"\",INDEX(Categories!$A:$E,Entries!$D1114,3))","v":""},{"$f":"IF(OR($E1114<>0,$C1114=\"\"),\"\",INDEX(Categories!$A:$E,Entries!$D1114,4))","v":""},{"$f":"IF(OR($E1114<>0,$C1114=\"\"),\"\",INDEX(Categories!$A:$E,Entries!$D1114,5))","v":""},"2014-01-01","2014-01-01",{"$f":"(Entries!K1115-Entries!K1114)*24*60","v":0}]
["",null,null,{"$f":"MATCH(C1115,Categories!A:A,0)","v":{"$error":"#N/A"}},0,{"$f":"IF(OR($E1115<>0,$C1115=\"\"),\"\",INDEX(Categories!$A:$E,Entries!$D1115,2))","v":""},{"$f":"IF(OR($E1115<>0,$C1115=\"\"),\"\",INDEX(Categories!$A:$E,Entries!$D1115,3))","v":""},{"$f":"IF(OR($E1115<>0,$C1115=\"\"),\"\",INDEX(Categories!$A:$E,Entries!$D1115,4))","v":""},{"$f":"IF(OR($E1115<>0,$C1115=\"\"),\"\",INDEX(Categories!$A:$E,Entries!$D1115,5))","v":""},"2014-01-01","2014-01-01",{"$f":"(Entries!K1116-Entries!K1115)*24*60","v":0}]
["",null,null,{"$f":"MATCH(C1116,Categories!A:A,0)","v":{"$error":"#N/A"}},0,{"$f":"IF(OR($E1116<>0,$C1116=\"\"),\"\",INDEX(Categories!$A:$E,Entries!$D1116,2))","v":""},{"$f":"IF(OR($E1116<>0,$C1116=\"\"),\"\",INDEX(Categories!$A:$E,Entries!$D1116,3))","v":""},{"$f":"IF(OR($E1116<>0,$C1116=\"\"),\"\",INDEX(Categories!$A:$E,Entries!$D1116,4))","v":""},{"$f":"IF(OR($E1116<>0,$C1116=\"\"),\"\",INDEX(Categories!$A:$E,Entries!$D1116,5))","v":""},"2014-01-01","2014-01-01",{"$f":"(Entries!K1117-Entries!K1116)*24*60","v":0}]
["",null,null,{"$f":"MATCH(C1117,Categories!A:A,0)","v":{"$error":"#N/A"}},0,{"$f":"IF(OR($E1117<>0,$C1117=\"\"),\"\",INDEX(Categories!$A:$E,Entries!$D1117,2))","v":""},{"$f":"IF(OR($E1117<>0,$C1117=\"\"),\"\",INDEX(Categories!$A:$E,Entries!$D1117,3))","v":""},{"$f":"IF(OR($E1117<>0,$C1117=\"\"),\"\",INDEX(Categories!$A:$E,Entries!$D1117,4))","v":""},{"$f":"IF(OR($E1117<>0,$C1117=\"\"),\"\",INDEX(Categories!$A:$E,Entries!$D1117,5))","v":""},"2014-01-01","2014-01-01",{"$f":"(Entries!K1118-Entries!K1117)*24*60","v":0}]
["",null,null,{"$f":"MATCH(C1118,Categories!A:A,0)","v":{"$error":"#N/A"}},0,{"$f":"IF(OR($E1118<>0,$C1118=\"\"),\"\",INDEX(Categories!$A:$E,Entries!$D1118,2))","v":""},{"$f":"IF(OR($E1118<>0,$C1118=\"\"),\"\",INDEX(Categories!$A:$E,Entries!$D1118,3))","v":""},{"$f":"IF(OR($E1118<>0,$C1118=\"\"),\"\",INDEX(Categories!$A:$E,Entries!$D1118,4))","v":""},{"$f":"IF(OR($E1118<>0,$C1118=\"\"),\"\",INDEX(Categories!$A:$E,Entries!$D1118,5))","v":""},"2014-01-01","2014-01-01",{"$f":"(Entries!K1119-Entries!K1118)*24*60","v":0}]
["",null,null,{"$f":"MATCH(C1119,Categories!A:A,0)","v":{"$error":"#N/A"}},0,{"$f":"IF(OR($E1119<>0,$C1119=\"\"),\"\",INDEX(Categories!$A:$E,Entries!$D1119,2))","v":""},{"$f":"IF(OR($E1119<>0,$C1119=\"\"),\"\",INDEX(Categories!$A:$E,Entries!$D1119,3))","v":""},{"$f":"IF(OR($E1119<>0,$C1119=\"\"),\"\",INDEX(Categories!$A:$E,Entries!$D1119,4))","v":""},{"$f":"IF(OR($E1119<>0,$C1119=\"\"),\"\",INDEX(Categories!$A:$E,Entries!$D1119,5))","v":""},"2014-01-01","2014-01-01",{"$f":"(Entries!K1120-Entries!K1119)*24*60","v":0}]
["",null,null,{"$f":"MATCH(C1120,Categories!A:A,0)","v":{"$error":"#N/A"}},0,{"$f":"IF(OR($E1120<>0,$C1120=\"\"),\"\",INDEX(Categories!$A:$E,Entries!$D1120,2))","v":""},{"$f":"IF(OR($E1120<>0,$C1120=\"\"),\"\",INDEX(Categories!$A:$E,Entries!$D1120,3))","v":""},{"$f":"IF(OR($E1120<>0,$C1120=\"\"),\"\",INDEX(Categories!$A:$E,Entries!$D1120,4))","v":""},{"$f":"IF(OR($E1120<>0,$C1120=\"\"),\"\",INDEX(Categories!$A:$E,Entries!$D1120,5))","v":""},"2014-01-01","2014-01-01",{"$f":"(Entries!K1121-Entries!K1120)*24*60","v":0}]
["",null,null,{"$f":"MATCH(C1121,Categories!A:A,0)","v":{"$error":"#N/A"}},0,{"$f":"IF(OR($E1121<>0,$C1121=\"\"),\"\",INDEX(Categories!$A:$E,Entries!$D1121,2))","v":""},{"$f":"IF(OR($E1121<>0,$C1121=\"\"),\"\",INDEX(Categories!$A:$E,Entries!$D1121,3))","v":""},{"$f":"IF(OR($E1121<>0,$C1121=\"\"),\"\",INDEX(Categories!$A:$E,Entries!$D1121,4))","v":""},{"$f":"IF(OR($E1121<>0,$C1121=\"\"),\"\",INDEX(Categories!$A:$E,Entries!$D1121,5))","v":""},"2014-01-01","2014-01-01",{"$f":"(Entries!K1122-Entries!K1121)*24*60","v":0}]
["",null,null,{"$f":"MATCH(C1122,Categories!A:A,0)","v":{"$error":"#N/A"}},0,{"$f":"IF(OR($E1122<>0,$C1122=\"\"),\"\",INDEX(Categories!$A:$E,Entries!$D1122,2))","v":""},{"$f":"IF(OR($E1122<>0,$C1122=\"\"),\"\",INDEX(Categories!$A:$E,Entries!$D1122,3))","v":""},{"$f":"IF(OR($E1122<>0,$C1122=\"\"),\"\",INDEX(Categories!$A:$E,Entries!$D1122,4))","v":""},{"$f":"IF(OR($E1122<>0,$C1122=\"\"),\"\",INDEX(Categories!$A:$E,Entries!$D1122,5))","v":""},"2014-01-01","2014-01-01",{"$f":"(Entries!K1123-Entries!K1122)*24*60","v":0}]
["",null,null,{"$f":"MATCH(C1123,Categories!A:A,0)","v":{"$error":"#N/A"}},0,{"$f":"IF(OR($E1123<>0,$C1123=\"\"),\"\",INDEX(Categories!$A:$E,Entries!$D1123,2))","v":""},{"$f":"IF(OR($E1123<>0,$C1123=\"\"),\"\",INDEX(Categories!$A:$E,Entries!$D1123,3))","v":""},{"$f":"IF(OR($E1123<>0,$C1123=\"\"),\"\",INDEX(Categories!$A:$E,Entries!$D1123,4))","v":""},{"$f":"IF(OR($E1123<>0,$C1123=\"\"),\"\",INDEX(Categories!$A:$E,Entries!$D1123,5))","v":""},"2014-01-01","2014-01-01",{"$f":"(Entries!K1124-Entries!K1123)*24*60","v":0}]
[{"$f":"IF(OR(B1124>=B1123,C1123=\"z\",B1124=\"\"),\"\",J1123+1)","v":""},null,null,{"$f":"MATCH(C1124,Categories!A:A,0)","v":{"$error":"#N/A"}},0,{"$f":"IF(OR($E1124<>0,$C1124=\"\"),\"\",INDEX(Categories!$A:$E,Entries!$D1124,2))","v":""},{"$f":"IF(OR($E1124<>0,$C1124=\"\"),\"\",INDEX(Categories!$A:$E,Entries!$D1124,3))","v":""},{"$f":"IF(OR($E1124<>0,$C1124=\"\"),\"\",INDEX(Categories!$A:$E,Entries!$D1124,4))","v":""},{"$f":"IF(OR($E1124<>0,$C1124=\"\"),\"\",INDEX(Categories!$A:$E,Entries!$D1124,5))","v":""},"2014-01-01","2014-01-01",{"$f":"(Entries!K1125-Entries!K1124)*24*60","v":0}]
["",null,null,{"$f":"MATCH(C1125,Categories!A:A,0)","v":{"$error":"#N/A"}},0,{"$f":"IF(OR($E1125<>0,$C1125=\"\"),\"\",INDEX(Categories!$A:$E,Entries!$D1125,2))","v":""},{"$f":"IF(OR($E1125<>0,$C1125=\"\"),\"\",INDEX(Categories!$A:$E,Entries!$D1125,3))","v":""},{"$f":"IF(OR($E1125<>0,$C1125=\"\"),\"\",INDEX(Categories!$A:$E,Entries!$D1125,4))","v":""},{"$f":"IF(OR($E1125<>0,$C1125=\"\"),\"\",INDEX(Categories!$A:$E,Entries!$D1125,5))","v":""},"2014-01-01","2014-01-01",{"$f":"(Entries!K1126-Entries!K1125)*24*60","v":0}]
["",null,null,{"$f":"MATCH(C1126,Categories!A:A,0)","v":{"$error":"#N/A"}},0,{"$f":"IF(OR($E1126<>0,$C1126=\"\"),\"\",INDEX(Categories!$A:$E,Entries!$D1126,2))","v":""},{"$f":"IF(OR($E1126<>0,$C1126=\"\"),\"\",INDEX(Categories!$A:$E,Entries!$D1126,3))","v":""},{"$f":"IF(OR($E1126<>0,$C1126=\"\"),\"\",INDEX(Categories!$A:$E,Entries!$D1126,4))","v":""},{"$f":"IF(OR($E1126<>0,$C1126=\"\"),\"\",INDEX(Categories!$A:$E,Entries!$D1126,5))","v":""},"2014-01-01","2014-01-01",{"$f":"(Entries!K1127-Entries!K1126)*24*60","v":0}]
["",null,null,{"$f":"MATCH(C1127,Categories!A:A,0)","v":{"$error":"#N/A"}},0,{"$f":"IF(OR($E1127<>0,$C1127=\"\"),\"\",INDEX(Categories!$A:$E,Entries!$D1127,2))","v":""},{"$f":"IF(OR($E1127<>0,$C1127=\"\"),\"\",INDEX(Categories!$A:$E,Entries!$D1127,3))","v":""},{"$f":"IF(OR($E1127<>0,$C1127=\"\"),\"\",INDEX(Categories!$A:$E,Entries!$D1127,4))","v":""},{"$f":"IF(OR($E1127<>0,$C1127=\"\"),\"\",INDEX(Categories!$A:$E,Entries!$D1127,5))","v":""},"2014-01-01","2014-01-01",{"$f":"(Entries!K1128-Entries!K1127)*24*60","v":0}]
["",null,null,{"$f":"MATCH(C1128,Categories!A:A,0)","v":{"$error":"#N/A"}},0,{"$f":"IF(OR($E1128<>0,$C1128=\"\"),\"\",INDEX(Categories!$A:$E,Entries!$D1128,2))","v":""},{"$f":"IF(OR($E1128<>0,$C1128=\"\"),\"\",INDEX(Categories!$A:$E,Entries!$D1128,3))","v":""},{"$f":"IF(OR($E1128<>0,$C1128=\"\"),\"\",INDEX(Categories!$A:$E,Entries!$D1128,4))","v":""},{"$f":"IF(OR($E1128<>0,$C1128=\"\"),\"\",INDEX(Categories!$A:$E,Entries!$D1128,5))","v":""},"2014-01-01","2014-01-01",{"$f":"(Entries!K1129-Entries!K1128)*24*60","v":0}]
["",null,null,{"$f":"MATCH(C1129,Categories!A:A,0)","v":{"$error":"#N/A"}},0,{"$f":"IF(OR($E1129<>0,$C1129=\"\"),\"\",INDEX(Categories!$A:$E,Entries!$D1129,2))","v":""},{"$f":"IF(OR($E1129<>0,$C1129=\"\"),\"\",INDEX(Categories!$A:$E,Entries!$D1129,3))","v":""},{"$f":"IF(OR($E1129<>0,$C1129=\"\"),\"\",INDEX(Categories!$A:$E,Entries!$D1129,4))","v":""},{"$f":"IF(OR($E1129<>0,$C1129=\"\"),\"\",INDEX(Categories!$A:$E,Entries!$D1129,5))","v":""},"2014-01-01","2014-01-01",{"$f":"(Entries!K1130-Entries!K1129)*24*60","v":0}]
["",null,null,{"$f":"MATCH(C1130,Categories!A:A,0)","v":{"$error":"#N/A"}},0,{"$f":"IF(OR($E1130<>0,$C1130=\"\"),\"\",INDEX(Categories!$A:$E,Entries!$D1130,2))","v":""},{"$f":"IF(OR($E1130<>0,$C1130=\"\"),\"\",INDEX(Categories!$A:$E,Entries!$D1130,3))","v":""},{"$f":"IF(OR($E1130<>0,$C1130=\"\"),\"\",INDEX(Categories!$A:$E,Entries!$D1130,4))","v":""},{"$f":"IF(OR($E1130<>0,$C1130=\"\"),\"\",INDEX(Categories!$A:$E,Entries!$D1130,5))","v":""},"2014-01-01","2014-01-01",{"$f":"(Entries!K1131-Entries!K1130)*24*60","v":0}]
["",null,null,{"$f":"MATCH(C1131,Categories!A:A,0)","v":{"$error":"#N/A"}},0,{"$f":"IF(OR($E1131<>0,$C1131=\"\"),\"\",INDEX(Categories!$A:$E,Entries!$D1131,2))","v":""},{"$f":"IF(OR($E1131<>0,$C1131=\"\"),\"\",INDEX(Categories!$A:$E,Entries!$D1131,3))","v":""},{"$f":"IF(OR($E1131<>0,$C1131=\"\"),\"\",INDEX(Categories!$A:$E,Entries!$D1131,4))","v":""},{"$f":"IF(OR($E1131<>0,$C1131=\"\"),\"\",INDEX(Categories!$A:$E,Entries!$D1131,5))","v":""},"2014-01-01","2014-01-01",{"$f":"(Entries!K1132-Entries!K1131)*24*60","v":0}]
["",null,null,{"$f":"MATCH(C1132,Categories!A:A,0)","v":{"$error":"#N/A"}},0,{"$f":"IF(OR($E1132<>0,$C1132=\"\"),\"\",INDEX(Categories!$A:$E,Entries!$D1132,2))","v":""},{"$f":"IF(OR($E1132<>0,$C1132=\"\"),\"\",INDEX(Categories!$A:$E,Entries!$D1132,3))","v":""},{"$f":"IF(OR($E1132<>0,$C1132=\"\"),\"\",INDEX(Categories!$A:$E,Entries!$D1132,4))","v":""},{"$f":"IF(OR($E1132<>0,$C1132=\"\"),\"\",INDEX(Categories!$A:$E,Entries!$D1132,5))","v":""},"2014-01-01","2014-01-01",{"$f":"(Entries!K1133-Entries!K1132)*24*60","v":0}]
["",null,null,{"$f":"MATCH(C1133,Categories!A:A,0)","v":{"$error":"#N/A"}},0,{"$f":"IF(OR($E1133<>0,$C1133=\"\"),\"\",INDEX(Categories!$A:$E,Entries!$D1133,2))","v":""},{"$f":"IF(OR($E1133<>0,$C1133=\"\"),\"\",INDEX(Categories!$A:$E,Entries!$D1133,3))","v":""},{"$f":"IF(OR($E1133<>0,$C1133=\"\"),\"\",INDEX(Categories!$A:$E,Entries!$D1133,4))","v":""},{"$f":"IF(OR($E1133<>0,$C1133=\"\"),\"\",INDEX(Categories!$A:$E,Entries!$D1133,5))","v":""},"2014-01-01","2014-01-01",{"$f":"(Entries!K1134-Entries!K1133)*24*60","v":0}]
["",null,null,{"$f":"MATCH(C1134,Categories!A:A,0)","v":{"$error":"#N/A"}},0,{"$f":"IF(OR($E1134<>0,$C1134=\"\"),\"\",INDEX(Categories!$A:$E,Entries!$D1134,2))","v":""},{"$f":"IF(OR($E1134<>0,$C1134=\"\"),\"\",INDEX(Categories!$A:$E,Entries!$D1134,3))","v":""},{"$f":"IF(OR($E1134<>0,$C1134=\"\"),\"\",INDEX(Categories!$A:$E,Entries!$D1134,4))","v":""},{"$f":"IF(OR($E1134<>0,$C1134=\"\"),\"\",INDEX(Categories!$A:$E,Entries!$D1134,5))","v":""},"2014-01-01","2014-01-01",{"$f":"(Entries!K1135-Entries!K1134)*24*60","v":0}]
["",null,null,{"$f":"MATCH(C1135,Categories!A:A,0)","v":{"$error":"#N/A"}},0,{"$f":"IF(OR($E1135<>0,$C1135=\"\"),\"\",INDEX(Categories!$A:$E,Entries!$D1135,2))","v":""},{"$f":"IF(OR($E1135<>0,$C1135=\"\"),\"\",INDEX(Categories!$A:$E,Entries!$D1135,3))","v":""},{"$f":"IF(OR($E1135<>0,$C1135=\"\"),\"\",INDEX(Categories!$A:$E,Entries!$D1135,4))","v":""},{"$f":"IF(OR($E1135<>0,$C1135=\"\"),\"\",INDEX(Categories!$A:$E,Entries!$D1135,5))","v":""},"2014-01-01","2014-01-01",{"$f":"(Entries!K1136-Entries!K1135)*24*60","v":0}]
["",null,null,{"$f":"MATCH(C1136,Categories!A:A,0)","v":{"$error":"#N/A"}},0,{"$f":"IF(OR($E1136<>0,$C1136=\"\"),\"\",INDEX(Categories!$A:$E,Entries!$D1136,2))","v":""},{"$f":"IF(OR($E1136<>0,$C1136=\"\"),\"\",INDEX(Categories!$A:$E,Entries!$D1136,3))","v":""},{"$f":"IF(OR($E1136<>0,$C1136=\"\"),\"\",INDEX(Categories!$A:$E,Entries!$D1136,4))","v":""},{"$f":"IF(OR($E1136<>0,$C1136=\"\"),\"\",INDEX(Categories!$A:$E,Entries!$D1136,5))","v":""},"2014-01-01","2014-01-01",{"$f":"(Entries!K1137-Entries!K1136)*24*60","v":0}]
["",null,null,{"$f":"MATCH(C1137,Categories!A:A,0)","v":{"$error":"#N/A"}},0,{"$f":"IF(OR($E1137<>0,$C1137=\"\"),\"\",INDEX(Categories!$A:$E,Entries!$D1137,2))","v":""},{"$f":"IF(OR($E1137<>0,$C1137=\"\"),\"\",INDEX(Categories!$A:$E,Entries!$D1137,3))","v":""},{"$f":"IF(OR($E1137<>0,$C1137=\"\"),\"\",INDEX(Categories!$A:$E,Entries!$D1137,4))","v":""},{"$f":"IF(OR($E1137<>0,$C1137=\"\"),\"\",INDEX(Categories!$A:$E,Entries!$D1137,5))","v":""},"2014-01-01","2014-01-01",{"$f":"(Entries!K1138-Entries!K1137)*24*60","v":0}]
["",null,null,{"$f":"MATCH(C1138,Categories!A:A,0)","v":{"$error":"#N/A"}},0,{"$f":"IF(OR($E1138<>0,$C1138=\"\"),\"\",INDEX(Categories!$A:$E,Entries!$D1138,2))","v":""},{"$f":"IF(OR($E1138<>0,$C1138=\"\"),\"\",INDEX(Categories!$A:$E,Entries!$D1138,3))","v":""},{"$f":"IF(OR($E1138<>0,$C1138=\"\"),\"\",INDEX(Categories!$A:$E,Entries!$D1138,4))","v":""},{"$f":"IF(OR($E1138<>0,$C1138=\"\"),\"\",INDEX(Categories!$A:$E,Entries!$D1138,5))","v":""},"2014-01-01","2014-01-01",{"$f":"(Entries!K1139-Entries!K1138)*24*60","v":0}]
["",null,null,{"$f":"MATCH(C1139,Categories!A:A,0)","v":{"$error":"#N/A"}},0,{"$f":"IF(OR($E1139<>0,$C1139=\"\"),\"\",INDEX(Categories!$A:$E,Entries!$D1139,2))","v":""},{"$f":"IF(OR($E1139<>0,$C1139=\"\"),\"\",INDEX(Categories!$A:$E,Entries!$D1139,3))","v":""},{"$f":"IF(OR($E1139<>0,$C1139=\"\"),\"\",INDEX(Categories!$A:$E,Entries!$D1139,4))","v":""},{"$f":"IF(OR($E1139<>0,$C1139=\"\"),\"\",INDEX(Categories!$A:$E,Entries!$D1139,5))","v":""},"2014-01-01","2014-01-01",{"$f":"(Entries!K1140-Entries!K1139)*24*60","v":0}]
["",null,null,{"$f":"MATCH(C1140,Categories!A:A,0)","v":{"$error":"#N/A"}},0,{"$f":"IF(OR($E1140<>0,$C1140=\"\"),\"\",INDEX(Categories!$A:$E,Entries!$D1140,2))","v":""},{"$f":"IF(OR($E1140<>0,$C1140=\"\"),\"\",INDEX(Categories!$A:$E,Entries!$D1140,3))","v":""},{"$f":"IF(OR($E1140<>0,$C1140=\"\"),\"\",INDEX(Categories!$A:$E,Entries!$D1140,4))","v":""},{"$f":"IF(OR($E1140<>0,$C1140=\"\"),\"\",INDEX(Categories!$A:$E,Entries!$D1140,5))","v":""},"2014-01-01","2014-01-01",{"$f":"(Entries!K1141-Entries!K1140)*24*60","v":0}]
["",null,null,{"$f":"MATCH(C1141,Categories!A:A,0)","v":{"$error":"#N/A"}},0,{"$f":"IF(OR($E1141<>0,$C1141=\"\"),\"\",INDEX(Categories!$A:$E,Entries!$D1141,2))","v":""},{"$f":"IF(OR($E1141<>0,$C1141=\"\"),\"\",INDEX(Categories!$A:$E,Entries!$D1141,3))","v":""},{"$f":"IF(OR($E1141<>0,$C1141=\"\"),\"\",INDEX(Categories!$A:$E,Entries!$D1141,4))","v":""},{"$f":"IF(OR($E1141<>0,$C1141=\"\"),\"\",INDEX(Categories!$A:$E,Entries!$D1141,5))","v":""},"2014-01-01","2014-01-01",{"$f":"(Entries!K1142-Entries!K1141)*24*60","v":0}]
["",null,null,{"$f":"MATCH(C1142,Categories!A:A,0)","v":{"$error":"#N/A"}},0,{"$f":"IF(OR($E1142<>0,$C1142=\"\"),\"\",INDEX(Categories!$A:$E,Entries!$D1142,2))","v":""},{"$f":"IF(OR($E1142<>0,$C1142=\"\"),\"\",INDEX(Categories!$A:$E,Entries!$D1142,3))","v":""},{"$f":"IF(OR($E1142<>0,$C1142=\"\"),\"\",INDEX(Categories!$A:$E,Entries!$D1142,4))","v":""},{"$f":"IF(OR($E1142<>0,$C1142=\"\"),\"\",INDEX(Categories!$A:$E,Entries!$D1142,5))","v":""},"2014-01-01","2014-01-01",{"$f":"(Entries!K1143-Entries!K1142)*24*60","v":0}]
["",null,null,{"$f":"MATCH(C1143,Categories!A:A,0)","v":{"$error":"#N/A"}},0,{"$f":"IF(OR($E1143<>0,$C1143=\"\"),\"\",INDEX(Categories!$A:$E,Entries!$D1143,2))","v":""},{"$f":"IF(OR($E1143<>0,$C1143=\"\"),\"\",INDEX(Categories!$A:$E,Entries!$D1143,3))","v":""},{"$f":"IF(OR($E1143<>0,$C1143=\"\"),\"\",INDEX(Categories!$A:$E,Entries!$D1143,4))","v":""},{"$f":"IF(OR($E1143<>0,$C1143=\"\"),\"\",INDEX(Categories!$A:$E,Entries!$D1143,5))","v":""},"2014-01-01","2014-01-01",{"$f":"(Entries!K1144-Entries!K1143)*24*60","v":0}]
["",null,null,{"$f":"MATCH(C1144,Categories!A:A,0)","v":{"$error":"#N/A"}},0,{"$f":"IF(OR($E1144<>0,$C1144=\"\"),\"\",INDEX(Categories!$A:$E,Entries!$D1144,2))","v":""},{"$f":"IF(OR($E1144<>0,$C1144=\"\"),\"\",INDEX(Categories!$A:$E,Entries!$D1144,3))","v":""},{"$f":"IF(OR($E1144<>0,$C1144=\"\"),\"\",INDEX(Categories!$A:$E,Entries!$D1144,4))","v":""},{"$f":"IF(OR($E1144<>0,$C1144=\"\"),\"\",INDEX(Categories!$A:$E,Entries!$D1144,5))","v":""},"2014-01-01","2014-01-01",{"$f":"(Entries!K1145-Entries!K1144)*24*60","v":0}]
["",null,null,{"$f":"MATCH(C1145,Categories!A:A,0)","v":{"$error":"#N/A"}},0,{"$f":"IF(OR($E1145<>0,$C1145=\"\"),\"\",INDEX(Categories!$A:$E,Entries!$D1145,2))","v":""},{"$f":"IF(OR($E1145<>0,$C1145=\"\"),\"\",INDEX(Categories!$A:$E,Entries!$D1145,3))","v":""},{"$f":"IF(OR($E1145<>0,$C1145=\"\"),\"\",INDEX(Categories!$A:$E,Entries!$D1145,4))","v":""},{"$f":"IF(OR($E1145<>0,$C1145=\"\"),\"\",INDEX(Categories!$A:$E,Entries!$D1145,5))","v":""},"2014-01-01","2014-01-01",{"$f":"(Entries!K1146-Entries!K1145)*24*60","v":0}]
["",null,null,{"$f":"MATCH(C1146,Categories!A:A,0)","v":{"$error":"#N/A"}},0,{"$f":"IF(OR($E1146<>0,$C1146=\"\"),\"\",INDEX(Categories!$A:$E,Entries!$D1146,2))","v":""},{"$f":"IF(OR($E1146<>0,$C1146=\"\"),\"\",INDEX(Categories!$A:$E,Entries!$D1146,3))","v":""},{"$f":"IF(OR($E1146<>0,$C1146=\"\"),\"\",INDEX(Categories!$A:$E,Entries!$D1146,4))","v":""},{"$f":"IF(OR($E1146<>0,$C1146=\"\"),\"\",INDEX(Categories!$A:$E,Entries!$D1146,5))","v":""},"2014-01-01","2014-01-01",{"$f":"(Entries!K1147-Entries!K1146)*24*60","v":0}]
["",null,null,{"$f":"MATCH(C1147,Categories!A:A,0)","v":{"$error":"#N/A"}},0,{"$f":"IF(OR($E1147<>0,$C1147=\"\"),\"\",INDEX(Categories!$A:$E,Entries!$D1147,2))","v":""},{"$f":"IF(OR($E1147<>0,$C1147=\"\"),\"\",INDEX(Categories!$A:$E,Entries!$D1147,3))","v":""},{"$f":"IF(OR($E1147<>0,$C1147=\"\"),\"\",INDEX(Categories!$A:$E,Entries!$D1147,4))","v":""},{"$f":"IF(OR($E1147<>0,$C1147=\"\"),\"\",INDEX(Categories!$A:$E,Entries!$D1147,5))","v":""},"2014-01-01","2014-01-01",{"$f":"(Entries!K1148-Entries!K1147)*24*60","v":0}]
["",null,null,{"$f":"MATCH(C1148,Categories!A:A,0)","v":{"$error":"#N/A"}},0,{"$f":"IF(OR($E1148<>0,$C1148=\"\"),\"\",INDEX(Categories!$A:$E,Entries!$D1148,2))","v":""},{"$f":"IF(OR($E1148<>0,$C1148=\"\"),\"\",INDEX(Categories!$A:$E,Entries!$D1148,3))","v":""},{"$f":"IF(OR($E1148<>0,$C1148=\"\"),\"\",INDEX(Categories!$A:$E,Entries!$D1148,4))","v":""},{"$f":"IF(OR($E1148<>0,$C1148=\"\"),\"\",INDEX(Categories!$A:$E,Entries!$D1148,5))","v":""},"2014-01-01","2014-01-01",{"$f":"(Entries!K1149-Entries!K1148)*24*60","v":0}]
["",null,null,{"$f":"MATCH(C1149,Categories!A:A,0)","v":{"$error":"#N/A"}},0,{"$f":"IF(OR($E1149<>0,$C1149=\"\"),\"\",INDEX(Categories!$A:$E,Entries!$D1149,2))","v":""},{"$f":"IF(OR($E1149<>0,$C1149=\"\"),\"\",INDEX(Categories!$A:$E,Entries!$D1149,3))","v":""},{"$f":"IF(OR($E1149<>0,$C1149=\"\"),\"\",INDEX(Categories!$A:$E,Entries!$D1149,4))","v":""},{"$f":"IF(OR($E1149<>0,$C1149=\"\"),\"\",INDEX(Categories!$A:$E,Entries!$D1149,5))","v":""},"2014-01-01","2014-01-01",{"$f":"(Entries!K1150-Entries!K1149)*24*60","v":0}]
["",null,null,{"$f":"MATCH(C1150,Categories!A:A,0)","v":{"$error":"#N/A"}},0,{"$f":"IF(OR($E1150<>0,$C1150=\"\"),\"\",INDEX(Categories!$A:$E,Entries!$D1150,2))","v":""},{"$f":"IF(OR($E1150<>0,$C1150=\"\"),\"\",INDEX(Categories!$A:$E,Entries!$D1150,3))","v":""},{"$f":"IF(OR($E1150<>0,$C1150=\"\"),\"\",INDEX(Categories!$A:$E,Entries!$D1150,4))","v":""},{"$f":"IF(OR($E1150<>0,$C1150=\"\"),\"\",INDEX(Categories!$A:$E,Entries!$D1150,5))","v":""},"2014-01-01","2014-01-01",{"$f":"(Entries!K1151-Entries!K1150)*24*60","v":0}]
["",null,null,{"$f":"MATCH(C1151,Categories!A:A,0)","v":{"$error":"#N/A"}},0,{"$f":"IF(OR($E1151<>0,$C1151=\"\"),\"\",INDEX(Categories!$A:$E,Entries!$D1151,2))","v":""},{"$f":"IF(OR($E1151<>0,$C1151=\"\"),\"\",INDEX(Categories!$A:$E,Entries!$D1151,3))","v":""},{"$f":"IF(OR($E1151<>0,$C1151=\"\"),\"\",INDEX(Categories!$A:$E,Entries!$D1151,4))","v":""},{"$f":"IF(OR($E1151<>0,$C1151=\"\"),\"\",INDEX(Categories!$A:$E,Entries!$D1151,5))","v":""},"2014-01-01","2014-01-01",{"$f":"(Entries!K1152-Entries!K1151)*24*60","v":0}]
["",null,null,{"$f":"MATCH(C1152,Categories!A:A,0)","v":{"$error":"#N/A"}},0,{"$f":"IF(OR($E1152<>0,$C1152=\"\"),\"\",INDEX(Categories!$A:$E,Entries!$D1152,2))","v":""},{"$f":"IF(OR($E1152<>0,$C1152=\"\"),\"\",INDEX(Categories!$A:$E,Entries!$D1152,3))","v":""},{"$f":"IF(OR($E1152<>0,$C1152=\"\"),\"\",INDEX(Categories!$A:$E,Entries!$D1152,4))","v":""},{"$f":"IF(OR($E1152<>0,$C1152=\"\"),\"\",INDEX(Categories!$A:$E,Entries!$D1152,5))","v":""},"2014-01-01","2014-01-01",{"$f":"(Entries!K1153-Entries!K1152)*24*60","v":0}]
["",null,null,{"$f":"MATCH(C1153,Categories!A:A,0)","v":{"$error":"#N/A"}},0,{"$f":"IF(OR($E1153<>0,$C1153=\"\"),\"\",INDEX(Categories!$A:$E,Entries!$D1153,2))","v":""},{"$f":"IF(OR($E1153<>0,$C1153=\"\"),\"\",INDEX(Categories!$A:$E,Entries!$D1153,3))","v":""},{"$f":"IF(OR($E1153<>0,$C1153=\"\"),\"\",INDEX(Categories!$A:$E,Entries!$D1153,4))","v":""},{"$f":"IF(OR($E1153<>0,$C1153=\"\"),\"\",INDEX(Categories!$A:$E,Entries!$D1153,5))","v":""},"2014-01-01","2014-01-01",{"$f":"(Entries!K1154-Entries!K1153)*24*60","v":0}]
["",null,null,{"$f":"MATCH(C1154,Categories!A:A,0)","v":{"$error":"#N/A"}},{"$f":"IF(AND(ISERROR(D1154),C1154<>\"\"),ROW(D1154),0)","v":0},{"$f":"IF(OR($E1154<>0,$C1154=\"\"),\"\",INDEX(Categories!$A:$E,Entries!$D1154,2))","v":""},{"$f":"IF(OR($E1154<>0,$C1154=\"\"),\"\",INDEX(Categories!$A:$E,Entries!$D1154,3))","v":""},{"$f":"IF(OR($E1154<>0,$C1154=\"\"),\"\",INDEX(Categories!$A:$E,Entries!$D1154,4))","v":""},{"$f":"IF(OR($E1154<>0,$C1154=\"\"),\"\",INDEX(Categories!$A:$E,Entries!$D1154,5))","v":""},{"$f":"IF(A1154=\"\",J1153,A1154)","v":"2014-01-01"},{"$f":"J1154+B1154","v":"2014-01-01"},{"$f":"(Entries!K1155-Entries!K1154)*24*60","v":0}]
["",null,null,{"$f":"MATCH(C1155,Categories!A:A,0)","v":{"$error":"#N/A"}},0,{"$f":"IF(OR($E1155<>0,$C1155=\"\"),\"\",INDEX(Categories!$A:$E,Entries!$D1155,2))","v":""},{"$f":"IF(OR($E1155<>0,$C1155=\"\"),\"\",INDEX(Categories!$A:$E,Entries!$D1155,3))","v":""},{"$f":"IF(OR($E1155<>0,$C1155=\"\"),\"\",INDEX(Categories!$A:$E,Entries!$D1155,4))","v":""},{"$f":"IF(OR($E1155<>0,$C1155=\"\"),\"\",INDEX(Categories!$A:$E,Entries!$D1155,5))","v":""},"2014-01-01","2014-01-01",{"$f":"(Entries!K1156-Entries!K1155)*24*60","v":0}]
["",null,null,{"$f":"MATCH(C1156,Categories!A:A,0)","v":{"$error":"#N/A"}},0,{"$f":"IF(OR($E1156<>0,$C1156=\"\"),\"\",INDEX(Categories!$A:$E,Entries!$D1156,2))","v":""},{"$f":"IF(OR($E1156<>0,$C1156=\"\"),\"\",INDEX(Categories!$A:$E,Entries!$D1156,3))","v":""},{"$f":"IF(OR($E1156<>0,$C1156=\"\"),\"\",INDEX(Categories!$A:$E,Entries!$D1156,4))","v":""},{"$f":"IF(OR($E1156<>0,$C1156=\"\"),\"\",INDEX(Categories!$A:$E,Entries!$D1156,5))","v":""},"2014-01-01","2014-01-01",{"$f":"(Entries!K1157-Entries!K1156)*24*60","v":0}]
["",null,null,{"$f":"MATCH(C1157,Categories!A:A,0)","v":{"$error":"#N/A"}},0,{"$f":"IF(OR($E1157<>0,$C1157=\"\"),\"\",INDEX(Categories!$A:$E,Entries!$D1157,2))","v":""},{"$f":"IF(OR($E1157<>0,$C1157=\"\"),\"\",INDEX(Categories!$A:$E,Entries!$D1157,3))","v":""},{"$f":"IF(OR($E1157<>0,$C1157=\"\"),\"\",INDEX(Categories!$A:$E,Entries!$D1157,4))","v":""},{"$f":"IF(OR($E1157<>0,$C1157=\"\"),\"\",INDEX(Categories!$A:$E,Entries!$D1157,5))","v":""},"2014-01-01","2014-01-01",{"$f":"(Entries!K1158-Entries!K1157)*24*60","v":0}]
["",null,null,{"$f":"MATCH(C1158,Categories!A:A,0)","v":{"$error":"#N/A"}},0,{"$f":"IF(OR($E1158<>0,$C1158=\"\"),\"\",INDEX(Categories!$A:$E,Entries!$D1158,2))","v":""},{"$f":"IF(OR($E1158<>0,$C1158=\"\"),\"\",INDEX(Categories!$A:$E,Entries!$D1158,3))","v":""},{"$f":"IF(OR($E1158<>0,$C1158=\"\"),\"\",INDEX(Categories!$A:$E,Entries!$D1158,4))","v":""},{"$f":"IF(OR($E1158<>0,$C1158=\"\"),\"\",INDEX(Categories!$A:$E,Entries!$D1158,5))","v":""},"2014-01-01","2014-01-01",{"$f":"(Entries!K1159-Entries!K1158)*24*60","v":0}]
["",null,null,{"$f":"MATCH(C1159,Categories!A:A,0)","v":{"$error":"#N/A"}},0,{"$f":"IF(OR($E1159<>0,$C1159=\"\"),\"\",INDEX(Categories!$A:$E,Entries!$D1159,2))","v":""},{"$f":"IF(OR($E1159<>0,$C1159=\"\"),\"\",INDEX(Categories!$A:$E,Entries!$D1159,3))","v":""},{"$f":"IF(OR($E1159<>0,$C1159=\"\"),\"\",INDEX(Categories!$A:$E,Entries!$D1159,4))","v":""},{"$f":"IF(OR($E1159<>0,$C1159=\"\"),\"\",INDEX(Categories!$A:$E,Entries!$D1159,5))","v":""},"2014-01-01","2014-01-01",{"$f":"(Entries!K1160-Entries!K1159)*24*60","v":0}]
["",null,null,{"$f":"MATCH(C1160,Categories!A:A,0)","v":{"$error":"#N/A"}},0,{"$f":"IF(OR($E1160<>0,$C1160=\"\"),\"\",INDEX(Categories!$A:$E,Entries!$D1160,2))","v":""},{"$f":"IF(OR($E1160<>0,$C1160=\"\"),\"\",INDEX(Categories!$A:$E,Entries!$D1160,3))","v":""},{"$f":"IF(OR($E1160<>0,$C1160=\"\"),\"\",INDEX(Categories!$A:$E,Entries!$D1160,4))","v":""},{"$f":"IF(OR($E1160<>0,$C1160=\"\"),\"\",INDEX(Categories!$A:$E,Entries!$D1160,5))","v":""},"2014-01-01","2014-01-01",{"$f":"(Entries!K1161-Entries!K1160)*24*60","v":0}]
["",null,null,{"$f":"MATCH(C1161,Categories!A:A,0)","v":{"$error":"#N/A"}},0,{"$f":"IF(OR($E1161<>0,$C1161=\"\"),\"\",INDEX(Categories!$A:$E,Entries!$D1161,2))","v":""},{"$f":"IF(OR($E1161<>0,$C1161=\"\"),\"\",INDEX(Categories!$A:$E,Entries!$D1161,3))","v":""},{"$f":"IF(OR($E1161<>0,$C1161=\"\"),\"\",INDEX(Categories!$A:$E,Entries!$D1161,4))","v":""},{"$f":"IF(OR($E1161<>0,$C1161=\"\"),\"\",INDEX(Categories!$A:$E,Entries!$D1161,5))","v":""},"2014-01-01","2014-01-01",{"$f":"(Entries!K1162-Entries!K1161)*24*60","v":0}]
["",null,null,{"$f":"MATCH(C1162,Categories!A:A,0)","v":{"$error":"#N/A"}},0,{"$f":"IF(OR($E1162<>0,$C1162=\"\"),\"\",INDEX(Categories!$A:$E,Entries!$D1162,2))","v":""},{"$f":"IF(OR($E1162<>0,$C1162=\"\"),\"\",INDEX(Categories!$A:$E,Entries!$D1162,3))","v":""},{"$f":"IF(OR($E1162<>0,$C1162=\"\"),\"\",INDEX(Categories!$A:$E,Entries!$D1162,4))","v":""},{"$f":"IF(OR($E1162<>0,$C1162=\"\"),\"\",INDEX(Categories!$A:$E,Entries!$D1162,5))","v":""},"2014-01-01","2014-01-01",{"$f":"(Entries!K1163-Entries!K1162)*24*60","v":0}]
["",null,null,{"$f":"MATCH(C1163,Categories!A:A,0)","v":{"$error":"#N/A"}},0,{"$f":"IF(OR($E1163<>0,$C1163=\"\"),\"\",INDEX(Categories!$A:$E,Entries!$D1163,2))","v":""},{"$f":"IF(OR($E1163<>0,$C1163=\"\"),\"\",INDEX(Categories!$A:$E,Entries!$D1163,3))","v":""},{"$f":"IF(OR($E1163<>0,$C1163=\"\"),\"\",INDEX(Categories!$A:$E,Entries!$D1163,4))","v":""},{"$f":"IF(OR($E1163<>0,$C1163=\"\"),\"\",INDEX(Categories!$A:$E,Entries!$D1163,5))","v":""},"2014-01-01","2014-01-01",{"$f":"(Entries!K1164-Entries!K1163)*24*60","v":0}]
["",null,null,{"$f":"MATCH(C1164,Categories!A:A,0)","v":{"$error":"#N/A"}},0,{"$f":"IF(OR($E1164<>0,$C1164=\"\"),\"\",INDEX(Categories!$A:$E,Entries!$D1164,2))","v":""},{"$f":"IF(OR($E1164<>0,$C1164=\"\"),\"\",INDEX(Categories!$A:$E,Entries!$D1164,3))","v":""},{"$f":"IF(OR($E1164<>0,$C1164=\"\"),\"\",INDEX(Categories!$A:$E,Entries!$D1164,4))","v":""},{"$f":"IF(OR($E1164<>0,$C1164=\"\"),\"\",INDEX(Categories!$A:$E,Entries!$D1164,5))","v":""},"2014-01-01","2014-01-01",{"$f":"(Entries!K1165-Entries!K1164)*24*60","v":0}]
["",null,null,{"$f":"MATCH(C1165,Categories!A:A,0)","v":{"$error":"#N/A"}},0,{"$f":"IF(OR($E1165<>0,$C1165=\"\"),\"\",INDEX(Categories!$A:$E,Entries!$D1165,2))","v":""},{"$f":"IF(OR($E1165<>0,$C1165=\"\"),\"\",INDEX(Categories!$A:$E,Entries!$D1165,3))","v":""},{"$f":"IF(OR($E1165<>0,$C1165=\"\"),\"\",INDEX(Categories!$A:$E,Entries!$D1165,4))","v":""},{"$f":"IF(OR($E1165<>0,$C1165=\"\"),\"\",INDEX(Categories!$A:$E,Entries!$D1165,5))","v":""},"2014-01-01","2014-01-01",{"$f":"(Entries!K1166-Entries!K1165)*24*60","v":0}]
["",null,null,{"$f":"MATCH(C1166,Categories!A:A,0)","v":{"$error":"#N/A"}},0,{"$f":"IF(OR($E1166<>0,$C1166=\"\"),\"\",INDEX(Categories!$A:$E,Entries!$D1166,2))","v":""},{"$f":"IF(OR($E1166<>0,$C1166=\"\"),\"\",INDEX(Categories!$A:$E,Entries!$D1166,3))","v":""},{"$f":"IF(OR($E1166<>0,$C1166=\"\"),\"\",INDEX(Categories!$A:$E,Entries!$D1166,4))","v":""},{"$f":"IF(OR($E1166<>0,$C1166=\"\"),\"\",INDEX(Categories!$A:$E,Entries!$D1166,5))","v":""},"2014-01-01","2014-01-01",{"$f":"(Entries!K1167-Entries!K1166)*24*60","v":0}]
["",null,null,{"$f":"MATCH(C1167,Categories!A:A,0)","v":{"$error":"#N/A"}},0,{"$f":"IF(OR($E1167<>0,$C1167=\"\"),\"\",INDEX(Categories!$A:$E,Entries!$D1167,2))","v":""},{"$f":"IF(OR($E1167<>0,$C1167=\"\"),\"\",INDEX(Categories!$A:$E,Entries!$D1167,3))","v":""},{"$f":"IF(OR($E1167<>0,$C1167=\"\"),\"\",INDEX(Categories!$A:$E,Entries!$D1167,4))","v":""},{"$f":"IF(OR($E1167<>0,$C1167=\"\"),\"\",INDEX(Categories!$A:$E,Entries!$D1167,5))","v":""},"2014-01-01","2014-01-01",{"$f":"(Entries!K1168-Entries!K1167)*24*60","v":0}]
["",null,null,{"$f":"MATCH(C1168,Categories!A:A,0)","v":{"$error":"#N/A"}},0,{"$f":"IF(OR($E1168<>0,$C1168=\"\"),\"\",INDEX(Categories!$A:$E,Entries!$D1168,2))","v":""},{"$f":"IF(OR($E1168<>0,$C1168=\"\"),\"\",INDEX(Categories!$A:$E,Entries!$D1168,3))","v":""},{"$f":"IF(OR($E1168<>0,$C1168=\"\"),\"\",INDEX(Categories!$A:$E,Entries!$D1168,4))","v":""},{"$f":"IF(OR($E1168<>0,$C1168=\"\"),\"\",INDEX(Categories!$A:$E,Entries!$D1168,5))","v":""},"2014-01-01","2014-01-01",{"$f":"(Entries!K1169-Entries!K1168)*24*60","v":0}]
["",null,null,{"$f":"MATCH(C1169,Categories!A:A,0)","v":{"$error":"#N/A"}},0,{"$f":"IF(OR($E1169<>0,$C1169=\"\"),\"\",INDEX(Categories!$A:$E,Entries!$D1169,2))","v":""},{"$f":"IF(OR($E1169<>0,$C1169=\"\"),\"\",INDEX(Categories!$A:$E,Entries!$D1169,3))","v":""},{"$f":"IF(OR($E1169<>0,$C1169=\"\"),\"\",INDEX(Categories!$A:$E,Entries!$D1169,4))","v":""},{"$f":"IF(OR($E1169<>0,$C1169=\"\"),\"\",INDEX(Categories!$A:$E,Entries!$D1169,5))","v":""},"2014-01-01","2014-01-01",{"$f":"(Entries!K1170-Entries!K1169)*24*60","v":0}]
["",null,null,{"$f":"MATCH(C1170,Categories!A:A,0)","v":{"$error":"#N/A"}},0,{"$f":"IF(OR($E1170<>0,$C1170=\"\"),\"\",INDEX(Categories!$A:$E,Entries!$D1170,2))","v":""},{"$f":"IF(OR($E1170<>0,$C1170=\"\"),\"\",INDEX(Categories!$A:$E,Entries!$D1170,3))","v":""},{"$f":"IF(OR($E1170<>0,$C1170=\"\"),\"\",INDEX(Categories!$A:$E,Entries!$D1170,4))","v":""},{"$f":"IF(OR($E1170<>0,$C1170=\"\"),\"\",INDEX(Categories!$A:$E,Entries!$D1170,5))","v":""},"2014-01-01","2014-01-01",{"$f":"(Entries!K1171-Entries!K1170)*24*60","v":0}]
["",null,null,{"$f":"MATCH(C1171,Categories!A:A,0)","v":{"$error":"#N/A"}},0,{"$f":"IF(OR($E1171<>0,$C1171=\"\"),\"\",INDEX(Categories!$A:$E,Entries!$D1171,2))","v":""},{"$f":"IF(OR($E1171<>0,$C1171=\"\"),\"\",INDEX(Categories!$A:$E,Entries!$D1171,3))","v":""},{"$f":"IF(OR($E1171<>0,$C1171=\"\"),\"\",INDEX(Categories!$A:$E,Entries!$D1171,4))","v":""},{"$f":"IF(OR($E1171<>0,$C1171=\"\"),\"\",INDEX(Categories!$A:$E,Entries!$D1171,5))","v":""},"2014-01-01","2014-01-01",{"$f":"(Entries!K1172-Entries!K1171)*24*60","v":0}]
["",null,null,{"$f":"MATCH(C1172,Categories!A:A,0)","v":{"$error":"#N/A"}},0,{"$f":"IF(OR($E1172<>0,$C1172=\"\"),\"\",INDEX(Categories!$A:$E,Entries!$D1172,2))","v":""},{"$f":"IF(OR($E1172<>0,$C1172=\"\"),\"\",INDEX(Categories!$A:$E,Entries!$D1172,3))","v":""},{"$f":"IF(OR($E1172<>0,$C1172=\"\"),\"\",INDEX(Categories!$A:$E,Entries!$D1172,4))","v":""},{"$f":"IF(OR($E1172<>0,$C1172=\"\"),\"\",INDEX(Categories!$A:$E,Entries!$D1172,5))","v":""},"2014-01-01","2014-01-01",{"$f":"(Entries!K1173-Entries!K1172)*24*60","v":0}]
["",null,null,{"$f":"MATCH(C1173,Categories!A:A,0)","v":{"$error":"#N/A"}},0,{"$f":"IF(OR($E1173<>0,$C1173=\"\"),\"\",INDEX(Categories!$A:$E,Entries!$D1173,2))","v":""},{"$f":"IF(OR($E1173<>0,$C1173=\"\"),\"\",INDEX(Categories!$A:$E,Entries!$D1173,3))","v":""},{"$f":"IF(OR($E1173<>0,$C1173=\"\"),\"\",INDEX(Categories!$A:$E,Entries!$D1173,4))","v":""},{"$f":"IF(OR($E1173<>0,$C1173=\"\"),\"\",INDEX(Categories!$A:$E,Entries!$D1173,5))","v":""},"2014-01-01","2014-01-01",{"$f":"(Entries!K1174-Entries!K1173)*24*60","v":0}]
["",null,null,{"$f":"MATCH(C1174,Categories!A:A,0)","v":{"$error":"#N/A"}},0,{"$f":"IF(OR($E1174<>0,$C1174=\"\"),\"\",INDEX(Categories!$A:$E,Entries!$D1174,2))","v":""},{"$f":"IF(OR($E1174<>0,$C1174=\"\"),\"\",INDEX(Categories!$A:$E,Entries!$D1174,3))","v":""},{"$f":"IF(OR($E1174<>0,$C1174=\"\"),\"\",INDEX(Categories!$A:$E,Entries!$D1174,4))","v":""},{"$f":"IF(OR($E1174<>0,$C1174=\"\"),\"\",INDEX(Categories!$A:$E,Entries!$D1174,5))","v":""},"2014-01-01","2014-01-01",{"$f":"(Entries!K1175-Entries!K1174)*24*60","v":0}]
["",null,null,{"$f":"MATCH(C1175,Categories!A:A,0)","v":{"$error":"#N/A"}},0,{"$f":"IF(OR($E1175<>0,$C1175=\"\"),\"\",INDEX(Categories!$A:$E,Entries!$D1175,2))","v":""},{"$f":"IF(OR($E1175<>0,$C1175=\"\"),\"\",INDEX(Categories!$A:$E,Entries!$D1175,3))","v":""},{"$f":"IF(OR($E1175<>0,$C1175=\"\"),\"\",INDEX(Categories!$A:$E,Entries!$D1175,4))","v":""},{"$f":"IF(OR($E1175<>0,$C1175=\"\"),\"\",INDEX(Categories!$A:$E,Entries!$D1175,5))","v":""},"2014-01-01","2014-01-01",{"$f":"(Entries!K1176-Entries!K1175)*24*60","v":0}]
["",null,null,{"$f":"MATCH(C1176,Categories!A:A,0)","v":{"$error":"#N/A"}},0,{"$f":"IF(OR($E1176<>0,$C1176=\"\"),\"\",INDEX(Categories!$A:$E,Entries!$D1176,2))","v":""},{"$f":"IF(OR($E1176<>0,$C1176=\"\"),\"\",INDEX(Categories!$A:$E,Entries!$D1176,3))","v":""},{"$f":"IF(OR($E1176<>0,$C1176=\"\"),\"\",INDEX(Categories!$A:$E,Entries!$D1176,4))","v":""},{"$f":"IF(OR($E1176<>0,$C1176=\"\"),\"\",INDEX(Categories!$A:$E,Entries!$D1176,5))","v":""},"2014-01-01","2014-01-01",{"$f":"(Entries!K1177-Entries!K1176)*24*60","v":0}]
["",null,null,{"$f":"MATCH(C1177,Categories!A:A,0)","v":{"$error":"#N/A"}},0,{"$f":"IF(OR($E1177<>0,$C1177=\"\"),\"\",INDEX(Categories!$A:$E,Entries!$D1177,2))","v":""},{"$f":"IF(OR($E1177<>0,$C1177=\"\"),\"\",INDEX(Categories!$A:$E,Entries!$D1177,3))","v":""},{"$f":"IF(OR($E1177<>0,$C1177=\"\"),\"\",INDEX(Categories!$A:$E,Entries!$D1177,4))","v":""},{"$f":"IF(OR($E1177<>0,$C1177=\"\"),\"\",INDEX(Categories!$A:$E,Entries!$D1177,5))","v":""},"2014-01-01","2014-01-01",{"$f":"(Entries!K1178-Entries!K1177)*24*60","v":0}]
["",null,null,{"$f":"MATCH(C1178,Categories!A:A,0)","v":{"$error":"#N/A"}},0,{"$f":"IF(OR($E1178<>0,$C1178=\"\"),\"\",INDEX(Categories!$A:$E,Entries!$D1178,2))","v":""},{"$f":"IF(OR($E1178<>0,$C1178=\"\"),\"\",INDEX(Categories!$A:$E,Entries!$D1178,3))","v":""},{"$f":"IF(OR($E1178<>0,$C1178=\"\"),\"\",INDEX(Categories!$A:$E,Entries!$D1178,4))","v":""},{"$f":"IF(OR($E1178<>0,$C1178=\"\"),\"\",INDEX(Categories!$A:$E,Entries!$D1178,5))","v":""},"2014-01-01","2014-01-01",{"$f":"(Entries!K1179-Entries!K1178)*24*60","v":0}]
["",null,null,{"$f":"MATCH(C1179,Categories!A:A,0)","v":{"$error":"#N/A"}},0,{"$f":"IF(OR($E1179<>0,$C1179=\"\"),\"\",INDEX(Categories!$A:$E,Entries!$D1179,2))","v":""},{"$f":"IF(OR($E1179<>0,$C1179=\"\"),\"\",INDEX(Categories!$A:$E,Entries!$D1179,3))","v":""},{"$f":"IF(OR($E1179<>0,$C1179=\"\"),\"\",INDEX(Categories!$A:$E,Entries!$D1179,4))","v":""},{"$f":"IF(OR($E1179<>0,$C1179=\"\"),\"\",INDEX(Categories!$A:$E,Entries!$D1179,5))","v":""},"2014-01-01","2014-01-01",{"$f":"(Entries!K1180-Entries!K1179)*24*60","v":0}]
["",null,null,{"$f":"MATCH(C1180,Categories!A:A,0)","v":{"$error":"#N/A"}},0,{"$f":"IF(OR($E1180<>0,$C1180=\"\"),\"\",INDEX(Categories!$A:$E,Entries!$D1180,2))","v":""},{"$f":"IF(OR($E1180<>0,$C1180=\"\"),\"\",INDEX(Categories!$A:$E,Entries!$D1180,3))","v":""},{"$f":"IF(OR($E1180<>0,$C1180=\"\"),\"\",INDEX(Categories!$A:$E,Entries!$D1180,4))","v":""},{"$f":"IF(OR($E1180<>0,$C1180=\"\"),\"\",INDEX(Categories!$A:$E,Entries!$D1180,5))","v":""},"2014-01-01","2014-01-01",{"$f":"(Entries!K1181-Entries!K1180)*24*60","v":0}]
["",null,null,{"$f":"MATCH(C1181,Categories!A:A,0)","v":{"$error":"#N/A"}},0,{"$f":"IF(OR($E1181<>0,$C1181=\"\"),\"\",INDEX(Categories!$A:$E,Entries!$D1181,2))","v":""},{"$f":"IF(OR($E1181<>0,$C1181=\"\"),\"\",INDEX(Categories!$A:$E,Entries!$D1181,3))","v":""},{"$f":"IF(OR($E1181<>0,$C1181=\"\"),\"\",INDEX(Categories!$A:$E,Entries!$D1181,4))","v":""},{"$f":"IF(OR($E1181<>0,$C1181=\"\"),\"\",INDEX(Categories!$A:$E,Entries!$D1181,5))","v":""},"2014-01-01","2014-01-01",{"$f":"(Entries!K1182-Entries!K1181)*24*60","v":0}]
["",null,null,{"$f":"MATCH(C1182,Categories!A:A,0)","v":{"$error":"#N/A"}},0,{"$f":"IF(OR($E1182<>0,$C1182=\"\"),\"\",INDEX(Categories!$A:$E,Entries!$D1182,2))","v":""},{"$f":"IF(OR($E1182<>0,$C1182=\"\"),\"\",INDEX(Categories!$A:$E,Entries!$D1182,3))","v":""},{"$f":"IF(OR($E1182<>0,$C1182=\"\"),\"\",INDEX(Categories!$A:$E,Entries!$D1182,4))","v":""},{"$f":"IF(OR($E1182<>0,$C1182=\"\"),\"\",INDEX(Categories!$A:$E,Entries!$D1182,5))","v":""},"2014-01-01","2014-01-01",{"$f":"(Entries!K1183-Entries!K1182)*24*60","v":0}]
["",null,null,{"$f":"MATCH(C1183,Categories!A:A,0)","v":{"$error":"#N/A"}},0,{"$f":"IF(OR($E1183<>0,$C1183=\"\"),\"\",INDEX(Categories!$A:$E,Entries!$D1183,2))","v":""},{"$f":"IF(OR($E1183<>0,$C1183=\"\"),\"\",INDEX(Categories!$A:$E,Entries!$D1183,3))","v":""},{"$f":"IF(OR($E1183<>0,$C1183=\"\"),\"\",INDEX(Categories!$A:$E,Entries!$D1183,4))","v":""},{"$f":"IF(OR($E1183<>0,$C1183=\"\"),\"\",INDEX(Categories!$A:$E,Entries!$D1183,5))","v":""},"2014-01-01","2014-01-01",{"$f":"(Entries!K1184-Entries!K1183)*24*60","v":0}]
["",null,null,{"$f":"MATCH(C1184,Categories!A:A,0)","v":{"$error":"#N/A"}},0,{"$f":"IF(OR($E1184<>0,$C1184=\"\"),\"\",INDEX(Categories!$A:$E,Entries!$D1184,2))","v":""},{"$f":"IF(OR($E1184<>0,$C1184=\"\"),\"\",INDEX(Categories!$A:$E,Entries!$D1184,3))","v":""},{"$f":"IF(OR($E1184<>0,$C1184=\"\"),\"\",INDEX(Categories!$A:$E,Entries!$D1184,4))","v":""},{"$f":"IF(OR($E1184<>0,$C1184=\"\"),\"\",INDEX(Categories!$A:$E,Entries!$D1184,5))","v":""},"2014-01-01","2014-01-01",{"$f":"(Entries!K1185-Entries!K1184)*24*60","v":0}]
["",null,null,{"$f":"MATCH(C1185,Categories!A:A,0)","v":{"$error":"#N/A"}},0,{"$f":"IF(OR($E1185<>0,$C1185=\"\"),\"\",INDEX(Categories!$A:$E,Entries!$D1185,2))","v":""},{"$f":"IF(OR($E1185<>0,$C1185=\"\"),\"\",INDEX(Categories!$A:$E,Entries!$D1185,3))","v":""},{"$f":"IF(OR($E1185<>0,$C1185=\"\"),\"\",INDEX(Categories!$A:$E,Entries!$D1185,4))","v":""},{"$f":"IF(OR($E1185<>0,$C1185=\"\"),\"\",INDEX(Categories!$A:$E,Entries!$D1185,5))","v":""},"2014-01-01","2014-01-01",{"$f":"(Entries!K1186-Entries!K1185)*24*60","v":0}]
["",null,null,{"$f":"MATCH(C1186,Categories!A:A,0)","v":{"$error":"#N/A"}},0,{"$f":"IF(OR($E1186<>0,$C1186=\"\"),\"\",INDEX(Categories!$A:$E,Entries!$D1186,2))","v":""},{"$f":"IF(OR($E1186<>0,$C1186=\"\"),\"\",INDEX(Categories!$A:$E,Entries!$D1186,3))","v":""},{"$f":"IF(OR($E1186<>0,$C1186=\"\"),\"\",INDEX(Categories!$A:$E,Entries!$D1186,4))","v":""},{"$f":"IF(OR($E1186<>0,$C1186=\"\"),\"\",INDEX(Categories!$A:$E,Entries!$D1186,5))","v":""},"2014-01-01","2014-01-01",{"$f":"(Entries!K1187-Entries!K1186)*24*60","v":0}]
["",null,null,{"$f":"MATCH(C1187,Categories!A:A,0)","v":{"$error":"#N/A"}},0,{"$f":"IF(OR($E1187<>0,$C1187=\"\"),\"\",INDEX(Categories!$A:$E,Entries!$D1187,2))","v":""},{"$f":"IF(OR($E1187<>0,$C1187=\"\"),\"\",INDEX(Categories!$A:$E,Entries!$D1187,3))","v":""},{"$f":"IF(OR($E1187<>0,$C1187=\"\"),\"\",INDEX(Categories!$A:$E,Entries!$D1187,4))","v":""},{"$f":"IF(OR($E1187<>0,$C1187=\"\"),\"\",INDEX(Categories!$A:$E,Entries!$D1187,5))","v":""},"2014-01-01","2014-01-01",{"$f":"(Entries!K1188-Entries!K1187)*24*60","v":0}]
[{"$f":"IF(OR(B1188>=B1187,C1187=\"z\",B1188=\"\"),\"\",J1187+1)","v":""},null,null,{"$f":"MATCH(C1188,Categories!A:A,0)","v":{"$error":"#N/A"}},0,{"$f":"IF(OR($E1188<>0,$C1188=\"\"),\"\",INDEX(Categories!$A:$E,Entries!$D1188,2))","v":""},{"$f":"IF(OR($E1188<>0,$C1188=\"\"),\"\",INDEX(Categories!$A:$E,Entries!$D1188,3))","v":""},{"$f":"IF(OR($E1188<>0,$C1188=\"\"),\"\",INDEX(Categories!$A:$E,Entries!$D1188,4))","v":""},{"$f":"IF(OR($E1188<>0,$C1188=\"\"),\"\",INDEX(Categories!$A:$E,Entries!$D1188,5))","v":""},"2014-01-01","2014-01-01",{"$f":"(Entries!K1189-Entries!K1188)*24*60","v":0}]
["",null,null,{"$f":"MATCH(C1189,Categories!A:A,0)","v":{"$error":"#N/A"}},0,{"$f":"IF(OR($E1189<>0,$C1189=\"\"),\"\",INDEX(Categories!$A:$E,Entries!$D1189,2))","v":""},{"$f":"IF(OR($E1189<>0,$C1189=\"\"),\"\",INDEX(Categories!$A:$E,Entries!$D1189,3))","v":""},{"$f":"IF(OR($E1189<>0,$C1189=\"\"),\"\",INDEX(Categories!$A:$E,Entries!$D1189,4))","v":""},{"$f":"IF(OR($E1189<>0,$C1189=\"\"),\"\",INDEX(Categories!$A:$E,Entries!$D1189,5))","v":""},"2014-01-01","2014-01-01",{"$f":"(Entries!K1190-Entries!K1189)*24*60","v":0}]
["",null,null,{"$f":"MATCH(C1190,Categories!A:A,0)","v":{"$error":"#N/A"}},0,{"$f":"IF(OR($E1190<>0,$C1190=\"\"),\"\",INDEX(Categories!$A:$E,Entries!$D1190,2))","v":""},{"$f":"IF(OR($E1190<>0,$C1190=\"\"),\"\",INDEX(Categories!$A:$E,Entries!$D1190,3))","v":""},{"$f":"IF(OR($E1190<>0,$C1190=\"\"),\"\",INDEX(Categories!$A:$E,Entries!$D1190,4))","v":""},{"$f":"IF(OR($E1190<>0,$C1190=\"\"),\"\",INDEX(Categories!$A:$E,Entries!$D1190,5))","v":""},"2014-01-01","2014-01-01",{"$f":"(Entries!K1191-Entries!K1190)*24*60","v":0}]
["",null,null,{"$f":"MATCH(C1191,Categories!A:A,0)","v":{"$error":"#N/A"}},0,{"$f":"IF(OR($E1191<>0,$C1191=\"\"),\"\",INDEX(Categories!$A:$E,Entries!$D1191,2))","v":""},{"$f":"IF(OR($E1191<>0,$C1191=\"\"),\"\",INDEX(Categories!$A:$E,Entries!$D1191,3))","v":""},{"$f":"IF(OR($E1191<>0,$C1191=\"\"),\"\",INDEX(Categories!$A:$E,Entries!$D1191,4))","v":""},{"$f":"IF(OR($E1191<>0,$C1191=\"\"),\"\",INDEX(Categories!$A:$E,Entries!$D1191,5))","v":""},"2014-01-01","2014-01-01",{"$f":"(Entries!K1192-Entries!K1191)*24*60","v":0}]
["",null,null,{"$f":"MATCH(C1192,Categories!A:A,0)","v":{"$error":"#N/A"}},0,{"$f":"IF(OR($E1192<>0,$C1192=\"\"),\"\",INDEX(Categories!$A:$E,Entries!$D1192,2))","v":""},{"$f":"IF(OR($E1192<>0,$C1192=\"\"),\"\",INDEX(Categories!$A:$E,Entries!$D1192,3))","v":""},{"$f":"IF(OR($E1192<>0,$C1192=\"\"),\"\",INDEX(Categories!$A:$E,Entries!$D1192,4))","v":""},{"$f":"IF(OR($E1192<>0,$C1192=\"\"),\"\",INDEX(Categories!$A:$E,Entries!$D1192,5))","v":""},"2014-01-01","2014-01-01",{"$f":"(Entries!K1193-Entries!K1192)*24*60","v":0}]
["",null,null,{"$f":"MATCH(C1193,Categories!A:A,0)","v":{"$error":"#N/A"}},0,{"$f":"IF(OR($E1193<>0,$C1193=\"\"),\"\",INDEX(Categories!$A:$E,Entries!$D1193,2))","v":""},{"$f":"IF(OR($E1193<>0,$C1193=\"\"),\"\",INDEX(Categories!$A:$E,Entries!$D1193,3))","v":""},{"$f":"IF(OR($E1193<>0,$C1193=\"\"),\"\",INDEX(Categories!$A:$E,Entries!$D1193,4))","v":""},{"$f":"IF(OR($E1193<>0,$C1193=\"\"),\"\",INDEX(Categories!$A:$E,Entries!$D1193,5))","v":""},"2014-01-01","2014-01-01",{"$f":"(Entries!K1194-Entries!K1193)*24*60","v":0}]
["",null,null,{"$f":"MATCH(C1194,Categories!A:A,0)","v":{"$error":"#N/A"}},0,{"$f":"IF(OR($E1194<>0,$C1194=\"\"),\"\",INDEX(Categories!$A:$E,Entries!$D1194,2))","v":""},{"$f":"IF(OR($E1194<>0,$C1194=\"\"),\"\",INDEX(Categories!$A:$E,Entries!$D1194,3))","v":""},{"$f":"IF(OR($E1194<>0,$C1194=\"\"),\"\",INDEX(Categories!$A:$E,Entries!$D1194,4))","v":""},{"$f":"IF(OR($E1194<>0,$C1194=\"\"),\"\",INDEX(Categories!$A:$E,Entries!$D1194,5))","v":""},"2014-01-01","2014-01-01",{"$f":"(Entries!K1195-Entries!K1194)*24*60","v":0}]
["",null,null,{"$f":"MATCH(C1195,Categories!A:A,0)","v":{"$error":"#N/A"}},0,{"$f":"IF(OR($E1195<>0,$C1195=\"\"),\"\",INDEX(Categories!$A:$E,Entries!$D1195,2))","v":""},{"$f":"IF(OR($E1195<>0,$C1195=\"\"),\"\",INDEX(Categories!$A:$E,Entries!$D1195,3))","v":""},{"$f":"IF(OR($E1195<>0,$C1195=\"\"),\"\",INDEX(Categories!$A:$E,Entries!$D1195,4))","v":""},{"$f":"IF(OR($E1195<>0,$C1195=\"\"),\"\",INDEX(Categories!$A:$E,Entries!$D1195,5))","v":""},"2014-01-01","2014-01-01",{"$f":"(Entries!K1196-Entries!K1195)*24*60","v":0}]
["",null,null,{"$f":"MATCH(C1196,Categories!A:A,0)","v":{"$error":"#N/A"}},0,{"$f":"IF(OR($E1196<>0,$C1196=\"\"),\"\",INDEX(Categories!$A:$E,Entries!$D1196,2))","v":""},{"$f":"IF(OR($E1196<>0,$C1196=\"\"),\"\",INDEX(Categories!$A:$E,Entries!$D1196,3))","v":""},{"$f":"IF(OR($E1196<>0,$C1196=\"\"),\"\",INDEX(Categories!$A:$E,Entries!$D1196,4))","v":""},{"$f":"IF(OR($E1196<>0,$C1196=\"\"),\"\",INDEX(Categories!$A:$E,Entries!$D1196,5))","v":""},"2014-01-01","2014-01-01",{"$f":"(Entries!K1197-Entries!K1196)*24*60","v":0}]
["",null,null,{"$f":"MATCH(C1197,Categories!A:A,0)","v":{"$error":"#N/A"}},0,{"$f":"IF(OR($E1197<>0,$C1197=\"\"),\"\",INDEX(Categories!$A:$E,Entries!$D1197,2))","v":""},{"$f":"IF(OR($E1197<>0,$C1197=\"\"),\"\",INDEX(Categories!$A:$E,Entries!$D1197,3))","v":""},{"$f":"IF(OR($E1197<>0,$C1197=\"\"),\"\",INDEX(Categories!$A:$E,Entries!$D1197,4))","v":""},{"$f":"IF(OR($E1197<>0,$C1197=\"\"),\"\",INDEX(Categories!$A:$E,Entries!$D1197,5))","v":""},"2014-01-01","2014-01-01",{"$f":"(Entries!K1198-Entries!K1197)*24*60","v":0}]
["",null,null,{"$f":"MATCH(C1198,Categories!A:A,0)","v":{"$error":"#N/A"}},0,{"$f":"IF(OR($E1198<>0,$C1198=\"\"),\"\",INDEX(Categories!$A:$E,Entries!$D1198,2))","v":""},{"$f":"IF(OR($E1198<>0,$C1198=\"\"),\"\",INDEX(Categories!$A:$E,Entries!$D1198,3))","v":""},{"$f":"IF(OR($E1198<>0,$C1198=\"\"),\"\",INDEX(Categories!$A:$E,Entries!$D1198,4))","v":""},{"$f":"IF(OR($E1198<>0,$C1198=\"\"),\"\",INDEX(Categories!$A:$E,Entries!$D1198,5))","v":""},"2014-01-01","2014-01-01",{"$f":"(Entries!K1199-Entries!K1198)*24*60","v":0}]
["",null,null,{"$f":"MATCH(C1199,Categories!A:A,0)","v":{"$error":"#N/A"}},0,{"$f":"IF(OR($E1199<>0,$C1199=\"\"),\"\",INDEX(Categories!$A:$E,Entries!$D1199,2))","v":""},{"$f":"IF(OR($E1199<>0,$C1199=\"\"),\"\",INDEX(Categories!$A:$E,Entries!$D1199,3))","v":""},{"$f":"IF(OR($E1199<>0,$C1199=\"\"),\"\",INDEX(Categories!$A:$E,Entries!$D1199,4))","v":""},{"$f":"IF(OR($E1199<>0,$C1199=\"\"),\"\",INDEX(Categories!$A:$E,Entries!$D1199,5))","v":""},"2014-01-01","2014-01-01",{"$f":"(Entries!K1200-Entries!K1199)*24*60","v":0}]
["",null,null,{"$f":"MATCH(C1200,Categories!A:A,0)","v":{"$error":"#N/A"}},0,{"$f":"IF(OR($E1200<>0,$C1200=\"\"),\"\",INDEX(Categories!$A:$E,Entries!$D1200,2))","v":""},{"$f":"IF(OR($E1200<>0,$C1200=\"\"),\"\",INDEX(Categories!$A:$E,Entries!$D1200,3))","v":""},{"$f":"IF(OR($E1200<>0,$C1200=\"\"),\"\",INDEX(Categories!$A:$E,Entries!$D1200,4))","v":""},{"$f":"IF(OR($E1200<>0,$C1200=\"\"),\"\",INDEX(Categories!$A:$E,Entries!$D1200,5))","v":""},"2014-01-01","2014-01-01",{"$f":"(Entries!K1201-Entries!K1200)*24*60","v":0}]
["",null,null,{"$f":"MATCH(C1201,Categories!A:A,0)","v":{"$error":"#N/A"}},0,{"$f":"IF(OR($E1201<>0,$C1201=\"\"),\"\",INDEX(Categories!$A:$E,Entries!$D1201,2))","v":""},{"$f":"IF(OR($E1201<>0,$C1201=\"\"),\"\",INDEX(Categories!$A:$E,Entries!$D1201,3))","v":""},{"$f":"IF(OR($E1201<>0,$C1201=\"\"),\"\",INDEX(Categories!$A:$E,Entries!$D1201,4))","v":""},{"$f":"IF(OR($E1201<>0,$C1201=\"\"),\"\",INDEX(Categories!$A:$E,Entries!$D1201,5))","v":""},"2014-01-01","2014-01-01",{"$f":"(Entries!K1202-Entries!K1201)*24*60","v":0}]
["",null,null,{"$f":"MATCH(C1202,Categories!A:A,0)","v":{"$error":"#N/A"}},0,{"$f":"IF(OR($E1202<>0,$C1202=\"\"),\"\",INDEX(Categories!$A:$E,Entries!$D1202,2))","v":""},{"$f":"IF(OR($E1202<>0,$C1202=\"\"),\"\",INDEX(Categories!$A:$E,Entries!$D1202,3))","v":""},{"$f":"IF(OR($E1202<>0,$C1202=\"\"),\"\",INDEX(Categories!$A:$E,Entries!$D1202,4))","v":""},{"$f":"IF(OR($E1202<>0,$C1202=\"\"),\"\",INDEX(Categories!$A:$E,Entries!$D1202,5))","v":""},"2014-01-01","2014-01-01",{"$f":"(Entries!K1203-Entries!K1202)*24*60","v":0}]
["",null,null,{"$f":"MATCH(C1203,Categories!A:A,0)","v":{"$error":"#N/A"}},0,{"$f":"IF(OR($E1203<>0,$C1203=\"\"),\"\",INDEX(Categories!$A:$E,Entries!$D1203,2))","v":""},{"$f":"IF(OR($E1203<>0,$C1203=\"\"),\"\",INDEX(Categories!$A:$E,Entries!$D1203,3))","v":""},{"$f":"IF(OR($E1203<>0,$C1203=\"\"),\"\",INDEX(Categories!$A:$E,Entries!$D1203,4))","v":""},{"$f":"IF(OR($E1203<>0,$C1203=\"\"),\"\",INDEX(Categories!$A:$E,Entries!$D1203,5))","v":""},"2014-01-01","2014-01-01",{"$f":"(Entries!K1204-Entries!K1203)*24*60","v":0}]
["",null,null,{"$f":"MATCH(C1204,Categories!A:A,0)","v":{"$error":"#N/A"}},0,{"$f":"IF(OR($E1204<>0,$C1204=\"\"),\"\",INDEX(Categories!$A:$E,Entries!$D1204,2))","v":""},{"$f":"IF(OR($E1204<>0,$C1204=\"\"),\"\",INDEX(Categories!$A:$E,Entries!$D1204,3))","v":""},{"$f":"IF(OR($E1204<>0,$C1204=\"\"),\"\",INDEX(Categories!$A:$E,Entries!$D1204,4))","v":""},{"$f":"IF(OR($E1204<>0,$C1204=\"\"),\"\",INDEX(Categories!$A:$E,Entries!$D1204,5))","v":""},"2014-01-01","2014-01-01",{"$f":"(Entries!K1205-Entries!K1204)*24*60","v":0}]
["",null,null,{"$f":"MATCH(C1205,Categories!A:A,0)","v":{"$error":"#N/A"}},0,{"$f":"IF(OR($E1205<>0,$C1205=\"\"),\"\",INDEX(Categories!$A:$E,Entries!$D1205,2))","v":""},{"$f":"IF(OR($E1205<>0,$C1205=\"\"),\"\",INDEX(Categories!$A:$E,Entries!$D1205,3))","v":""},{"$f":"IF(OR($E1205<>0,$C1205=\"\"),\"\",INDEX(Categories!$A:$E,Entries!$D1205,4))","v":""},{"$f":"IF(OR($E1205<>0,$C1205=\"\"),\"\",INDEX(Categories!$A:$E,Entries!$D1205,5))","v":""},"2014-01-01","2014-01-01",{"$f":"(Entries!K1206-Entries!K1205)*24*60","v":0}]
["",null,null,{"$f":"MATCH(C1206,Categories!A:A,0)","v":{"$error":"#N/A"}},0,{"$f":"IF(OR($E1206<>0,$C1206=\"\"),\"\",INDEX(Categories!$A:$E,Entries!$D1206,2))","v":""},{"$f":"IF(OR($E1206<>0,$C1206=\"\"),\"\",INDEX(Categories!$A:$E,Entries!$D1206,3))","v":""},{"$f":"IF(OR($E1206<>0,$C1206=\"\"),\"\",INDEX(Categories!$A:$E,Entries!$D1206,4))","v":""},{"$f":"IF(OR($E1206<>0,$C1206=\"\"),\"\",INDEX(Categories!$A:$E,Entries!$D1206,5))","v":""},"2014-01-01","2014-01-01",{"$f":"(Entries!K1207-Entries!K1206)*24*60","v":0}]
["",null,null,{"$f":"MATCH(C1207,Categories!A:A,0)","v":{"$error":"#N/A"}},0,{"$f":"IF(OR($E1207<>0,$C1207=\"\"),\"\",INDEX(Categories!$A:$E,Entries!$D1207,2))","v":""},{"$f":"IF(OR($E1207<>0,$C1207=\"\"),\"\",INDEX(Categories!$A:$E,Entries!$D1207,3))","v":""},{"$f":"IF(OR($E1207<>0,$C1207=\"\"),\"\",INDEX(Categories!$A:$E,Entries!$D1207,4))","v":""},{"$f":"IF(OR($E1207<>0,$C1207=\"\"),\"\",INDEX(Categories!$A:$E,Entries!$D1207,5))","v":""},"2014-01-01","2014-01-01",{"$f":"(Entries!K1208-Entries!K1207)*24*60","v":0}]
["",null,null,{"$f":"MATCH(C1208,Categories!A:A,0)","v":{"$error":"#N/A"}},0,{"$f":"IF(OR($E1208<>0,$C1208=\"\"),\"\",INDEX(Categories!$A:$E,Entries!$D1208,2))","v":""},{"$f":"IF(OR($E1208<>0,$C1208=\"\"),\"\",INDEX(Categories!$A:$E,Entries!$D1208,3))","v":""},{"$f":"IF(OR($E1208<>0,$C1208=\"\"),\"\",INDEX(Categories!$A:$E,Entries!$D1208,4))","v":""},{"$f":"IF(OR($E1208<>0,$C1208=\"\"),\"\",INDEX(Categories!$A:$E,Entries!$D1208,5))","v":""},"2014-01-01","2014-01-01",{"$f":"(Entries!K1209-Entries!K1208)*24*60","v":0}]
["",null,null,{"$f":"MATCH(C1209,Categories!A:A,0)","v":{"$error":"#N/A"}},0,{"$f":"IF(OR($E1209<>0,$C1209=\"\"),\"\",INDEX(Categories!$A:$E,Entries!$D1209,2))","v":""},{"$f":"IF(OR($E1209<>0,$C1209=\"\"),\"\",INDEX(Categories!$A:$E,Entries!$D1209,3))","v":""},{"$f":"IF(OR($E1209<>0,$C1209=\"\"),\"\",INDEX(Categories!$A:$E,Entries!$D1209,4))","v":""},{"$f":"IF(OR($E1209<>0,$C1209=\"\"),\"\",INDEX(Categories!$A:$E,Entries!$D1209,5))","v":""},"2014-01-01","2014-01-01",{"$f":"(Entries!K1210-Entries!K1209)*24*60","v":0}]
["",null,null,{"$f":"MATCH(C1210,Categories!A:A,0)","v":{"$error":"#N/A"}},0,{"$f":"IF(OR($E1210<>0,$C1210=\"\"),\"\",INDEX(Categories!$A:$E,Entries!$D1210,2))","v":""},{"$f":"IF(OR($E1210<>0,$C1210=\"\"),\"\",INDEX(Categories!$A:$E,Entries!$D1210,3))","v":""},{"$f":"IF(OR($E1210<>0,$C1210=\"\"),\"\",INDEX(Categories!$A:$E,Entries!$D1210,4))","v":""},{"$f":"IF(OR($E1210<>0,$C1210=\"\"),\"\",INDEX(Categories!$A:$E,Entries!$D1210,5))","v":""},"2014-01-01","2014-01-01",{"$f":"(Entries!K1211-Entries!K1210)*24*60","v":0}]
["",null,null,{"$f":"MATCH(C1211,Categories!A:A,0)","v":{"$error":"#N/A"}},0,{"$f":"IF(OR($E1211<>0,$C1211=\"\"),\"\",INDEX(Categories!$A:$E,Entries!$D1211,2))","v":""},{"$f":"IF(OR($E1211<>0,$C1211=\"\"),\"\",INDEX(Categories!$A:$E,Entries!$D1211,3))","v":""},{"$f":"IF(OR($E1211<>0,$C1211=\"\"),\"\",INDEX(Categories!$A:$E,Entries!$D1211,4))","v":""},{"$f":"IF(OR($E1211<>0,$C1211=\"\"),\"\",INDEX(Categories!$A:$E,Entries!$D1211,5))","v":""},"2014-01-01","2014-01-01",{"$f":"(Entries!K1212-Entries!K1211)*24*60","v":0}]
["",null,null,{"$f":"MATCH(C1212,Categories!A:A,0)","v":{"$error":"#N/A"}},0,{"$f":"IF(OR($E1212<>0,$C1212=\"\"),\"\",INDEX(Categories!$A:$E,Entries!$D1212,2))","v":""},{"$f":"IF(OR($E1212<>0,$C1212=\"\"),\"\",INDEX(Categories!$A:$E,Entries!$D1212,3))","v":""},{"$f":"IF(OR($E1212<>0,$C1212=\"\"),\"\",INDEX(Categories!$A:$E,Entries!$D1212,4))","v":""},{"$f":"IF(OR($E1212<>0,$C1212=\"\"),\"\",INDEX(Categories!$A:$E,Entries!$D1212,5))","v":""},"2014-01-01","2014-01-01",{"$f":"(Entries!K1213-Entries!K1212)*24*60","v":0}]
["",null,null,{"$f":"MATCH(C1213,Categories!A:A,0)","v":{"$error":"#N/A"}},0,{"$f":"IF(OR($E1213<>0,$C1213=\"\"),\"\",INDEX(Categories!$A:$E,Entries!$D1213,2))","v":""},{"$f":"IF(OR($E1213<>0,$C1213=\"\"),\"\",INDEX(Categories!$A:$E,Entries!$D1213,3))","v":""},{"$f":"IF(OR($E1213<>0,$C1213=\"\"),\"\",INDEX(Categories!$A:$E,Entries!$D1213,4))","v":""},{"$f":"IF(OR($E1213<>0,$C1213=\"\"),\"\",INDEX(Categories!$A:$E,Entries!$D1213,5))","v":""},"2014-01-01","2014-01-01",{"$f":"(Entries!K1214-Entries!K1213)*24*60","v":0}]
["",null,null,{"$f":"MATCH(C1214,Categories!A:A,0)","v":{"$error":"#N/A"}},0,{"$f":"IF(OR($E1214<>0,$C1214=\"\"),\"\",INDEX(Categories!$A:$E,Entries!$D1214,2))","v":""},{"$f":"IF(OR($E1214<>0,$C1214=\"\"),\"\",INDEX(Categories!$A:$E,Entries!$D1214,3))","v":""},{"$f":"IF(OR($E1214<>0,$C1214=\"\"),\"\",INDEX(Categories!$A:$E,Entries!$D1214,4))","v":""},{"$f":"IF(OR($E1214<>0,$C1214=\"\"),\"\",INDEX(Categories!$A:$E,Entries!$D1214,5))","v":""},"2014-01-01","2014-01-01",{"$f":"(Entries!K1215-Entries!K1214)*24*60","v":0}]
["",null,null,{"$f":"MATCH(C1215,Categories!A:A,0)","v":{"$error":"#N/A"}},0,{"$f":"IF(OR($E1215<>0,$C1215=\"\"),\"\",INDEX(Categories!$A:$E,Entries!$D1215,2))","v":""},{"$f":"IF(OR($E1215<>0,$C1215=\"\"),\"\",INDEX(Categories!$A:$E,Entries!$D1215,3))","v":""},{"$f":"IF(OR($E1215<>0,$C1215=\"\"),\"\",INDEX(Categories!$A:$E,Entries!$D1215,4))","v":""},{"$f":"IF(OR($E1215<>0,$C1215=\"\"),\"\",INDEX(Categories!$A:$E,Entries!$D1215,5))","v":""},"2014-01-01","2014-01-01",{"$f":"(Entries!K1216-Entries!K1215)*24*60","v":0}]
["",null,null,{"$f":"MATCH(C1216,Categories!A:A,0)","v":{"$error":"#N/A"}},0,{"$f":"IF(OR($E1216<>0,$C1216=\"\"),\"\",INDEX(Categories!$A:$E,Entries!$D1216,2))","v":""},{"$f":"IF(OR($E1216<>0,$C1216=\"\"),\"\",INDEX(Categories!$A:$E,Entries!$D1216,3))","v":""},{"$f":"IF(OR($E1216<>0,$C1216=\"\"),\"\",INDEX(Categories!$A:$E,Entries!$D1216,4))","v":""},{"$f":"IF(OR($E1216<>0,$C1216=\"\"),\"\",INDEX(Categories!$A:$E,Entries!$D1216,5))","v":""},"2014-01-01","2014-01-01",{"$f":"(Entries!K1217-Entries!K1216)*24*60","v":0}]
["",null,null,{"$f":"MATCH(C1217,Categories!A:A,0)","v":{"$error":"#N/A"}},0,{"$f":"IF(OR($E1217<>0,$C1217=\"\"),\"\",INDEX(Categories!$A:$E,Entries!$D1217,2))","v":""},{"$f":"IF(OR($E1217<>0,$C1217=\"\"),\"\",INDEX(Categories!$A:$E,Entries!$D1217,3))","v":""},{"$f":"IF(OR($E1217<>0,$C1217=\"\"),\"\",INDEX(Categories!$A:$E,Entries!$D1217,4))","v":""},{"$f":"IF(OR($E1217<>0,$C1217=\"\"),\"\",INDEX(Categories!$A:$E,Entries!$D1217,5))","v":""},"2014-01-01","2014-01-01",{"$f":"(Entries!K1218-Entries!K1217)*24*60","v":0}]
["",null,null,{"$f":"MATCH(C1218,Categories!A:A,0)","v":{"$error":"#N/A"}},{"$f":"IF(AND(ISERROR(D1218),C1218<>\"\"),ROW(D1218),0)","v":0},{"$f":"IF(OR($E1218<>0,$C1218=\"\"),\"\",INDEX(Categories!$A:$E,Entries!$D1218,2))","v":""},{"$f":"IF(OR($E1218<>0,$C1218=\"\"),\"\",INDEX(Categories!$A:$E,Entries!$D1218,3))","v":""},{"$f":"IF(OR($E1218<>0,$C1218=\"\"),\"\",INDEX(Categories!$A:$E,Entries!$D1218,4))","v":""},{"$f":"IF(OR($E1218<>0,$C1218=\"\"),\"\",INDEX(Categories!$A:$E,Entries!$D1218,5))","v":""},{"$f":"IF(A1218=\"\",J1217,A1218)","v":"2014-01-01"},{"$f":"J1218+B1218","v":"2014-01-01"},{"$f":"(Entries!K1219-Entries!K1218)*24*60","v":0}]
["",null,null,{"$f":"MATCH(C1219,Categories!A:A,0)","v":{"$error":"#N/A"}},0,{"$f":"IF(OR($E1219<>0,$C1219=\"\"),\"\",INDEX(Categories!$A:$E,Entries!$D1219,2))","v":""},{"$f":"IF(OR($E1219<>0,$C1219=\"\"),\"\",INDEX(Categories!$A:$E,Entries!$D1219,3))","v":""},{"$f":"IF(OR($E1219<>0,$C1219=\"\"),\"\",INDEX(Categories!$A:$E,Entries!$D1219,4))","v":""},{"$f":"IF(OR($E1219<>0,$C1219=\"\"),\"\",INDEX(Categories!$A:$E,Entries!$D1219,5))","v":""},"2014-01-01","2014-01-01",{"$f":"(Entries!K1220-Entries!K1219)*24*60","v":0}]
["",null,null,{"$f":"MATCH(C1220,Categories!A:A,0)","v":{"$error":"#N/A"}},0,{"$f":"IF(OR($E1220<>0,$C1220=\"\"),\"\",INDEX(Categories!$A:$E,Entries!$D1220,2))","v":""},{"$f":"IF(OR($E1220<>0,$C1220=\"\"),\"\",INDEX(Categories!$A:$E,Entries!$D1220,3))","v":""},{"$f":"IF(OR($E1220<>0,$C1220=\"\"),\"\",INDEX(Categories!$A:$E,Entries!$D1220,4))","v":""},{"$f":"IF(OR($E1220<>0,$C1220=\"\"),\"\",INDEX(Categories!$A:$E,Entries!$D1220,5))","v":""},"2014-01-01","2014-01-01",{"$f":"(Entries!K1221-Entries!K1220)*24*60","v":0}]
["",null,null,{"$f":"MATCH(C1221,Categories!A:A,0)","v":{"$error":"#N/A"}},0,{"$f":"IF(OR($E1221<>0,$C1221=\"\"),\"\",INDEX(Categories!$A:$E,Entries!$D1221,2))","v":""},{"$f":"IF(OR($E1221<>0,$C1221=\"\"),\"\",INDEX(Categories!$A:$E,Entries!$D1221,3))","v":""},{"$f":"IF(OR($E1221<>0,$C1221=\"\"),\"\",INDEX(Categories!$A:$E,Entries!$D1221,4))","v":""},{"$f":"IF(OR($E1221<>0,$C1221=\"\"),\"\",INDEX(Categories!$A:$E,Entries!$D1221,5))","v":""},"2014-01-01","2014-01-01",{"$f":"(Entries!K1222-Entries!K1221)*24*60","v":0}]
["",null,null,{"$f":"MATCH(C1222,Categories!A:A,0)","v":{"$error":"#N/A"}},0,{"$f":"IF(OR($E1222<>0,$C1222=\"\"),\"\",INDEX(Categories!$A:$E,Entries!$D1222,2))","v":""},{"$f":"IF(OR($E1222<>0,$C1222=\"\"),\"\",INDEX(Categories!$A:$E,Entries!$D1222,3))","v":""},{"$f":"IF(OR($E1222<>0,$C1222=\"\"),\"\",INDEX(Categories!$A:$E,Entries!$D1222,4))","v":""},{"$f":"IF(OR($E1222<>0,$C1222=\"\"),\"\",INDEX(Categories!$A:$E,Entries!$D1222,5))","v":""},"2014-01-01","2014-01-01",{"$f":"(Entries!K1223-Entries!K1222)*24*60","v":0}]
["",null,null,{"$f":"MATCH(C1223,Categories!A:A,0)","v":{"$error":"#N/A"}},0,{"$f":"IF(OR($E1223<>0,$C1223=\"\"),\"\",INDEX(Categories!$A:$E,Entries!$D1223,2))","v":""},{"$f":"IF(OR($E1223<>0,$C1223=\"\"),\"\",INDEX(Categories!$A:$E,Entries!$D1223,3))","v":""},{"$f":"IF(OR($E1223<>0,$C1223=\"\"),\"\",INDEX(Categories!$A:$E,Entries!$D1223,4))","v":""},{"$f":"IF(OR($E1223<>0,$C1223=\"\"),\"\",INDEX(Categories!$A:$E,Entries!$D1223,5))","v":""},"2014-01-01","2014-01-01",{"$f":"(Entries!K1224-Entries!K1223)*24*60","v":0}]
["",null,null,{"$f":"MATCH(C1224,Categories!A:A,0)","v":{"$error":"#N/A"}},0,{"$f":"IF(OR($E1224<>0,$C1224=\"\"),\"\",INDEX(Categories!$A:$E,Entries!$D1224,2))","v":""},{"$f":"IF(OR($E1224<>0,$C1224=\"\"),\"\",INDEX(Categories!$A:$E,Entries!$D1224,3))","v":""},{"$f":"IF(OR($E1224<>0,$C1224=\"\"),\"\",INDEX(Categories!$A:$E,Entries!$D1224,4))","v":""},{"$f":"IF(OR($E1224<>0,$C1224=\"\"),\"\",INDEX(Categories!$A:$E,Entries!$D1224,5))","v":""},"2014-01-01","2014-01-01",{"$f":"(Entries!K1225-Entries!K1224)*24*60","v":0}]
["",null,null,{"$f":"MATCH(C1225,Categories!A:A,0)","v":{"$error":"#N/A"}},0,{"$f":"IF(OR($E1225<>0,$C1225=\"\"),\"\",INDEX(Categories!$A:$E,Entries!$D1225,2))","v":""},{"$f":"IF(OR($E1225<>0,$C1225=\"\"),\"\",INDEX(Categories!$A:$E,Entries!$D1225,3))","v":""},{"$f":"IF(OR($E1225<>0,$C1225=\"\"),\"\",INDEX(Categories!$A:$E,Entries!$D1225,4))","v":""},{"$f":"IF(OR($E1225<>0,$C1225=\"\"),\"\",INDEX(Categories!$A:$E,Entries!$D1225,5))","v":""},"2014-01-01","2014-01-01",{"$f":"(Entries!K1226-Entries!K1225)*24*60","v":0}]
["",null,null,{"$f":"MATCH(C1226,Categories!A:A,0)","v":{"$error":"#N/A"}},0,{"$f":"IF(OR($E1226<>0,$C1226=\"\"),\"\",INDEX(Categories!$A:$E,Entries!$D1226,2))","v":""},{"$f":"IF(OR($E1226<>0,$C1226=\"\"),\"\",INDEX(Categories!$A:$E,Entries!$D1226,3))","v":""},{"$f":"IF(OR($E1226<>0,$C1226=\"\"),\"\",INDEX(Categories!$A:$E,Entries!$D1226,4))","v":""},{"$f":"IF(OR($E1226<>0,$C1226=\"\"),\"\",INDEX(Categories!$A:$E,Entries!$D1226,5))","v":""},"2014-01-01","2014-01-01",{"$f":"(Entries!K1227-Entries!K1226)*24*60","v":0}]
["",null,null,{"$f":"MATCH(C1227,Categories!A:A,0)","v":{"$error":"#N/A"}},0,{"$f":"IF(OR($E1227<>0,$C1227=\"\"),\"\",INDEX(Categories!$A:$E,Entries!$D1227,2))","v":""},{"$f":"IF(OR($E1227<>0,$C1227=\"\"),\"\",INDEX(Categories!$A:$E,Entries!$D1227,3))","v":""},{"$f":"IF(OR($E1227<>0,$C1227=\"\"),\"\",INDEX(Categories!$A:$E,Entries!$D1227,4))","v":""},{"$f":"IF(OR($E1227<>0,$C1227=\"\"),\"\",INDEX(Categories!$A:$E,Entries!$D1227,5))","v":""},"2014-01-01","2014-01-01",{"$f":"(Entries!K1228-Entries!K1227)*24*60","v":0}]
["",null,null,{"$f":"MATCH(C1228,Categories!A:A,0)","v":{"$error":"#N/A"}},0,{"$f":"IF(OR($E1228<>0,$C1228=\"\"),\"\",INDEX(Categories!$A:$E,Entries!$D1228,2))","v":""},{"$f":"IF(OR($E1228<>0,$C1228=\"\"),\"\",INDEX(Categories!$A:$E,Entries!$D1228,3))","v":""},{"$f":"IF(OR($E1228<>0,$C1228=\"\"),\"\",INDEX(Categories!$A:$E,Entries!$D1228,4))","v":""},{"$f":"IF(OR($E1228<>0,$C1228=\"\"),\"\",INDEX(Categories!$A:$E,Entries!$D1228,5))","v":""},"2014-01-01","2014-01-01",{"$f":"(Entries!K1229-Entries!K1228)*24*60","v":0}]
["",null,null,{"$f":"MATCH(C1229,Categories!A:A,0)","v":{"$error":"#N/A"}},0,{"$f":"IF(OR($E1229<>0,$C1229=\"\"),\"\",INDEX(Categories!$A:$E,Entries!$D1229,2))","v":""},{"$f":"IF(OR($E1229<>0,$C1229=\"\"),\"\",INDEX(Categories!$A:$E,Entries!$D1229,3))","v":""},{"$f":"IF(OR($E1229<>0,$C1229=\"\"),\"\",INDEX(Categories!$A:$E,Entries!$D1229,4))","v":""},{"$f":"IF(OR($E1229<>0,$C1229=\"\"),\"\",INDEX(Categories!$A:$E,Entries!$D1229,5))","v":""},"2014-01-01","2014-01-01",{"$f":"(Entries!K1230-Entries!K1229)*24*60","v":0}]
["",null,null,{"$f":"MATCH(C1230,Categories!A:A,0)","v":{"$error":"#N/A"}},0,{"$f":"IF(OR($E1230<>0,$C1230=\"\"),\"\",INDEX(Categories!$A:$E,Entries!$D1230,2))","v":""},{"$f":"IF(OR($E1230<>0,$C1230=\"\"),\"\",INDEX(Categories!$A:$E,Entries!$D1230,3))","v":""},{"$f":"IF(OR($E1230<>0,$C1230=\"\"),\"\",INDEX(Categories!$A:$E,Entries!$D1230,4))","v":""},{"$f":"IF(OR($E1230<>0,$C1230=\"\"),\"\",INDEX(Categories!$A:$E,Entries!$D1230,5))","v":""},"2014-01-01","2014-01-01",{"$f":"(Entries!K1231-Entries!K1230)*24*60","v":0}]
["",null,null,{"$f":"MATCH(C1231,Categories!A:A,0)","v":{"$error":"#N/A"}},0,{"$f":"IF(OR($E1231<>0,$C1231=\"\"),\"\",INDEX(Categories!$A:$E,Entries!$D1231,2))","v":""},{"$f":"IF(OR($E1231<>0,$C1231=\"\"),\"\",INDEX(Categories!$A:$E,Entries!$D1231,3))","v":""},{"$f":"IF(OR($E1231<>0,$C1231=\"\"),\"\",INDEX(Categories!$A:$E,Entries!$D1231,4))","v":""},{"$f":"IF(OR($E1231<>0,$C1231=\"\"),\"\",INDEX(Categories!$A:$E,Entries!$D1231,5))","v":""},"2014-01-01","2014-01-01",{"$f":"(Entries!K1232-Entries!K1231)*24*60","v":0}]
["",null,null,{"$f":"MATCH(C1232,Categories!A:A,0)","v":{"$error":"#N/A"}},0,{"$f":"IF(OR($E1232<>0,$C1232=\"\"),\"\",INDEX(Categories!$A:$E,Entries!$D1232,2))","v":""},{"$f":"IF(OR($E1232<>0,$C1232=\"\"),\"\",INDEX(Categories!$A:$E,Entries!$D1232,3))","v":""},{"$f":"IF(OR($E1232<>0,$C1232=\"\"),\"\",INDEX(Categories!$A:$E,Entries!$D1232,4))","v":""},{"$f":"IF(OR($E1232<>0,$C1232=\"\"),\"\",INDEX(Categories!$A:$E,Entries!$D1232,5))","v":""},"2014-01-01","2014-01-01",{"$f":"(Entries!K1233-Entries!K1232)*24*60","v":0}]
["",null,null,{"$f":"MATCH(C1233,Categories!A:A,0)","v":{"$error":"#N/A"}},0,{"$f":"IF(OR($E1233<>0,$C1233=\"\"),\"\",INDEX(Categories!$A:$E,Entries!$D1233,2))","v":""},{"$f":"IF(OR($E1233<>0,$C1233=\"\"),\"\",INDEX(Categories!$A:$E,Entries!$D1233,3))","v":""},{"$f":"IF(OR($E1233<>0,$C1233=\"\"),\"\",INDEX(Categories!$A:$E,Entries!$D1233,4))","v":""},{"$f":"IF(OR($E1233<>0,$C1233=\"\"),\"\",INDEX(Categories!$A:$E,Entries!$D1233,5))","v":""},"2014-01-01","2014-01-01",{"$f":"(Entries!K1234-Entries!K1233)*24*60","v":0}]
["",null,null,{"$f":"MATCH(C1234,Categories!A:A,0)","v":{"$error":"#N/A"}},0,{"$f":"IF(OR($E1234<>0,$C1234=\"\"),\"\",INDEX(Categories!$A:$E,Entries!$D1234,2))","v":""},{"$f":"IF(OR($E1234<>0,$C1234=\"\"),\"\",INDEX(Categories!$A:$E,Entries!$D1234,3))","v":""},{"$f":"IF(OR($E1234<>0,$C1234=\"\"),\"\",INDEX(Categories!$A:$E,Entries!$D1234,4))","v":""},{"$f":"IF(OR($E1234<>0,$C1234=\"\"),\"\",INDEX(Categories!$A:$E,Entries!$D1234,5))","v":""},"2014-01-01","2014-01-01",{"$f":"(Entries!K1235-Entries!K1234)*24*60","v":0}]
["",null,null,{"$f":"MATCH(C1235,Categories!A:A,0)","v":{"$error":"#N/A"}},0,{"$f":"IF(OR($E1235<>0,$C1235=\"\"),\"\",INDEX(Categories!$A:$E,Entries!$D1235,2))","v":""},{"$f":"IF(OR($E1235<>0,$C1235=\"\"),\"\",INDEX(Categories!$A:$E,Entries!$D1235,3))","v":""},{"$f":"IF(OR($E1235<>0,$C1235=\"\"),\"\",INDEX(Categories!$A:$E,Entries!$D1235,4))","v":""},{"$f":"IF(OR($E1235<>0,$C1235=\"\"),\"\",INDEX(Categories!$A:$E,Entries!$D1235,5))","v":""},"2014-01-01","2014-01-01",{"$f":"(Entries!K1236-Entries!K1235)*24*60","v":0}]
["",null,null,{"$f":"MATCH(C1236,Categories!A:A,0)","v":{"$error":"#N/A"}},0,{"$f":"IF(OR($E1236<>0,$C1236=\"\"),\"\",INDEX(Categories!$A:$E,Entries!$D1236,2))","v":""},{"$f":"IF(OR($E1236<>0,$C1236=\"\"),\"\",INDEX(Categories!$A:$E,Entries!$D1236,3))","v":""},{"$f":"IF(OR($E1236<>0,$C1236=\"\"),\"\",INDEX(Categories!$A:$E,Entries!$D1236,4))","v":""},{"$f":"IF(OR($E1236<>0,$C1236=\"\"),\"\",INDEX(Categories!$A:$E,Entries!$D1236,5))","v":""},"2014-01-01","2014-01-01",{"$f":"(Entries!K1237-Entries!K1236)*24*60","v":0}]
["",null,null,{"$f":"MATCH(C1237,Categories!A:A,0)","v":{"$error":"#N/A"}},0,{"$f":"IF(OR($E1237<>0,$C1237=\"\"),\"\",INDEX(Categories!$A:$E,Entries!$D1237,2))","v":""},{"$f":"IF(OR($E1237<>0,$C1237=\"\"),\"\",INDEX(Categories!$A:$E,Entries!$D1237,3))","v":""},{"$f":"IF(OR($E1237<>0,$C1237=\"\"),\"\",INDEX(Categories!$A:$E,Entries!$D1237,4))","v":""},{"$f":"IF(OR($E1237<>0,$C1237=\"\"),\"\",INDEX(Categories!$A:$E,Entries!$D1237,5))","v":""},"2014-01-01","2014-01-01",{"$f":"(Entries!K1238-Entries!K1237)*24*60","v":0}]
["",null,null,{"$f":"MATCH(C1238,Categories!A:A,0)","v":{"$error":"#N/A"}},0,{"$f":"IF(OR($E1238<>0,$C1238=\"\"),\"\",INDEX(Categories!$A:$E,Entries!$D1238,2))","v":""},{"$f":"IF(OR($E1238<>0,$C1238=\"\"),\"\",INDEX(Categories!$A:$E,Entries!$D1238,3))","v":""},{"$f":"IF(OR($E1238<>0,$C1238=\"\"),\"\",INDEX(Categories!$A:$E,Entries!$D1238,4))","v":""},{"$f":"IF(OR($E1238<>0,$C1238=\"\"),\"\",INDEX(Categories!$A:$E,Entries!$D1238,5))","v":""},"2014-01-01","2014-01-01",{"$f":"(Entries!K1239-Entries!K1238)*24*60","v":0}]
["",null,null,{"$f":"MATCH(C1239,Categories!A:A,0)","v":{"$error":"#N/A"}},0,{"$f":"IF(OR($E1239<>0,$C1239=\"\"),\"\",INDEX(Categories!$A:$E,Entries!$D1239,2))","v":""},{"$f":"IF(OR($E1239<>0,$C1239=\"\"),\"\",INDEX(Categories!$A:$E,Entries!$D1239,3))","v":""},{"$f":"IF(OR($E1239<>0,$C1239=\"\"),\"\",INDEX(Categories!$A:$E,Entries!$D1239,4))","v":""},{"$f":"IF(OR($E1239<>0,$C1239=\"\"),\"\",INDEX(Categories!$A:$E,Entries!$D1239,5))","v":""},"2014-01-01","2014-01-01",{"$f":"(Entries!K1240-Entries!K1239)*24*60","v":0}]
["",null,null,{"$f":"MATCH(C1240,Categories!A:A,0)","v":{"$error":"#N/A"}},0,{"$f":"IF(OR($E1240<>0,$C1240=\"\"),\"\",INDEX(Categories!$A:$E,Entries!$D1240,2))","v":""},{"$f":"IF(OR($E1240<>0,$C1240=\"\"),\"\",INDEX(Categories!$A:$E,Entries!$D1240,3))","v":""},{"$f":"IF(OR($E1240<>0,$C1240=\"\"),\"\",INDEX(Categories!$A:$E,Entries!$D1240,4))","v":""},{"$f":"IF(OR($E1240<>0,$C1240=\"\"),\"\",INDEX(Categories!$A:$E,Entries!$D1240,5))","v":""},"2014-01-01","2014-01-01",{"$f":"(Entries!K1241-Entries!K1240)*24*60","v":0}]
["",null,null,{"$f":"MATCH(C1241,Categories!A:A,0)","v":{"$error":"#N/A"}},0,{"$f":"IF(OR($E1241<>0,$C1241=\"\"),\"\",INDEX(Categories!$A:$E,Entries!$D1241,2))","v":""},{"$f":"IF(OR($E1241<>0,$C1241=\"\"),\"\",INDEX(Categories!$A:$E,Entries!$D1241,3))","v":""},{"$f":"IF(OR($E1241<>0,$C1241=\"\"),\"\",INDEX(Categories!$A:$E,Entries!$D1241,4))","v":""},{"$f":"IF(OR($E1241<>0,$C1241=\"\"),\"\",INDEX(Categories!$A:$E,Entries!$D1241,5))","v":""},"2014-01-01","2014-01-01",{"$f":"(Entries!K1242-Entries!K1241)*24*60","v":0}]
["",null,null,{"$f":"MATCH(C1242,Categories!A:A,0)","v":{"$error":"#N/A"}},0,{"$f":"IF(OR($E1242<>0,$C1242=\"\"),\"\",INDEX(Categories!$A:$E,Entries!$D1242,2))","v":""},{"$f":"IF(OR($E1242<>0,$C1242=\"\"),\"\",INDEX(Categories!$A:$E,Entries!$D1242,3))","v":""},{"$f":"IF(OR($E1242<>0,$C1242=\"\"),\"\",INDEX(Categories!$A:$E,Entries!$D1242,4))","v":""},{"$f":"IF(OR($E1242<>0,$C1242=\"\"),\"\",INDEX(Categories!$A:$E,Entries!$D1242,5))","v":""},"2014-01-01","2014-01-01",{"$f":"(Entries!K1243-Entries!K1242)*24*60","v":0}]
["",null,null,{"$f":"MATCH(C1243,Categories!A:A,0)","v":{"$error":"#N/A"}},0,{"$f":"IF(OR($E1243<>0,$C1243=\"\"),\"\",INDEX(Categories!$A:$E,Entries!$D1243,2))","v":""},{"$f":"IF(OR($E1243<>0,$C1243=\"\"),\"\",INDEX(Categories!$A:$E,Entries!$D1243,3))","v":""},{"$f":"IF(OR($E1243<>0,$C1243=\"\"),\"\",INDEX(Categories!$A:$E,Entries!$D1243,4))","v":""},{"$f":"IF(OR($E1243<>0,$C1243=\"\"),\"\",INDEX(Categories!$A:$E,Entries!$D1243,5))","v":""},"2014-01-01","2014-01-01",{"$f":"(Entries!K1244-Entries!K1243)*24*60","v":0}]
["",null,null,{"$f":"MATCH(C1244,Categories!A:A,0)","v":{"$error":"#N/A"}},0,{"$f":"IF(OR($E1244<>0,$C1244=\"\"),\"\",INDEX(Categories!$A:$E,Entries!$D1244,2))","v":""},{"$f":"IF(OR($E1244<>0,$C1244=\"\"),\"\",INDEX(Categories!$A:$E,Entries!$D1244,3))","v":""},{"$f":"IF(OR($E1244<>0,$C1244=\"\"),\"\",INDEX(Categories!$A:$E,Entries!$D1244,4))","v":""},{"$f":"IF(OR($E1244<>0,$C1244=\"\"),\"\",INDEX(Categories!$A:$E,Entries!$D1244,5))","v":""},"2014-01-01","2014-01-01",{"$f":"(Entries!K1245-Entries!K1244)*24*60","v":0}]
["",null,null,{"$f":"MATCH(C1245,Categories!A:A,0)","v":{"$error":"#N/A"}},0,{"$f":"IF(OR($E1245<>0,$C1245=\"\"),\"\",INDEX(Categories!$A:$E,Entries!$D1245,2))","v":""},{"$f":"IF(OR($E1245<>0,$C1245=\"\"),\"\",INDEX(Categories!$A:$E,Entries!$D1245,3))","v":""},{"$f":"IF(OR($E1245<>0,$C1245=\"\"),\"\",INDEX(Categories!$A:$E,Entries!$D1245,4))","v":""},{"$f":"IF(OR($E1245<>0,$C1245=\"\"),\"\",INDEX(Categories!$A:$E,Entries!$D1245,5))","v":""},"2014-01-01","2014-01-01",{"$f":"(Entries!K1246-Entries!K1245)*24*60","v":0}]
["",null,null,{"$f":"MATCH(C1246,Categories!A:A,0)","v":{"$error":"#N/A"}},0,{"$f":"IF(OR($E1246<>0,$C1246=\"\"),\"\",INDEX(Categories!$A:$E,Entries!$D1246,2))","v":""},{"$f":"IF(OR($E1246<>0,$C1246=\"\"),\"\",INDEX(Categories!$A:$E,Entries!$D1246,3))","v":""},{"$f":"IF(OR($E1246<>0,$C1246=\"\"),\"\",INDEX(Categories!$A:$E,Entries!$D1246,4))","v":""},{"$f":"IF(OR($E1246<>0,$C1246=\"\"),\"\",INDEX(Categories!$A:$E,Entries!$D1246,5))","v":""},"2014-01-01","2014-01-01",{"$f":"(Entries!K1247-Entries!K1246)*24*60","v":0}]
["",null,null,{"$f":"MATCH(C1247,Categories!A:A,0)","v":{"$error":"#N/A"}},0,{"$f":"IF(OR($E1247<>0,$C1247=\"\"),\"\",INDEX(Categories!$A:$E,Entries!$D1247,2))","v":""},{"$f":"IF(OR($E1247<>0,$C1247=\"\"),\"\",INDEX(Categories!$A:$E,Entries!$D1247,3))","v":""},{"$f":"IF(OR($E1247<>0,$C1247=\"\"),\"\",INDEX(Categories!$A:$E,Entries!$D1247,4))","v":""},{"$f":"IF(OR($E1247<>0,$C1247=\"\"),\"\",INDEX(Categories!$A:$E,Entries!$D1247,5))","v":""},"2014-01-01","2014-01-01",{"$f":"(Entries!K1248-Entries!K1247)*24*60","v":0}]
["",null,null,{"$f":"MATCH(C1248,Categories!A:A,0)","v":{"$error":"#N/A"}},0,{"$f":"IF(OR($E1248<>0,$C1248=\"\"),\"\",INDEX(Categories!$A:$E,Entries!$D1248,2))","v":""},{"$f":"IF(OR($E1248<>0,$C1248=\"\"),\"\",INDEX(Categories!$A:$E,Entries!$D1248,3))","v":""},{"$f":"IF(OR($E1248<>0,$C1248=\"\"),\"\",INDEX(Categories!$A:$E,Entries!$D1248,4))","v":""},{"$f":"IF(OR($E1248<>0,$C1248=\"\"),\"\",INDEX(Categories!$A:$E,Entries!$D1248,5))","v":""},"2014-01-01","2014-01-01",{"$f":"(Entries!K1249-Entries!K1248)*24*60","v":0}]
["",null,null,{"$f":"MATCH(C1249,Categories!A:A,0)","v":{"$error":"#N/A"}},0,{"$f":"IF(OR($E1249<>0,$C1249=\"\"),\"\",INDEX(Categories!$A:$E,Entries!$D1249,2))","v":""},{"$f":"IF(OR($E1249<>0,$C1249=\"\"),\"\",INDEX(Categories!$A:$E,Entries!$D1249,3))","v":""},{"$f":"IF(OR($E1249<>0,$C1249=\"\"),\"\",INDEX(Categories!$A:$E,Entries!$D1249,4))","v":""},{"$f":"IF(OR($E1249<>0,$C1249=\"\"),\"\",INDEX(Categories!$A:$E,Entries!$D1249,5))","v":""},"2014-01-01","2014-01-01",{"$f":"(Entries!K1250-Entries!K1249)*24*60","v":0}]
["",null,null,{"$f":"MATCH(C1250,Categories!A:A,0)","v":{"$error":"#N/A"}},0,{"$f":"IF(OR($E1250<>0,$C1250=\"\"),\"\",INDEX(Categories!$A:$E,Entries!$D1250,2))","v":""},{"$f":"IF(OR($E1250<>0,$C1250=\"\"),\"\",INDEX(Categories!$A:$E,Entries!$D1250,3))","v":""},{"$f":"IF(OR($E1250<>0,$C1250=\"\"),\"\",INDEX(Categories!$A:$E,Entries!$D1250,4))","v":""},{"$f":"IF(OR($E1250<>0,$C1250=\"\"),\"\",INDEX(Categories!$A:$E,Entries!$D1250,5))","v":""},"2014-01-01","2014-01-01",{"$f":"(Entries!K1251-Entries!K1250)*24*60","v":0}]
["",null,null,{"$f":"MATCH(C1251,Categories!A:A,0)","v":{"$error":"#N/A"}},0,{"$f":"IF(OR($E1251<>0,$C1251=\"\"),\"\",INDEX(Categories!$A:$E,Entries!$D1251,2))","v":""},{"$f":"IF(OR($E1251<>0,$C1251=\"\"),\"\",INDEX(Categories!$A:$E,Entries!$D1251,3))","v":""},{"$f":"IF(OR($E1251<>0,$C1251=\"\"),\"\",INDEX(Categories!$A:$E,Entries!$D1251,4))","v":""},{"$f":"IF(OR($E1251<>0,$C1251=\"\"),\"\",INDEX(Categories!$A:$E,Entries!$D1251,5))","v":""},"2014-01-01","2014-01-01",{"$f":"(Entries!K1252-Entries!K1251)*24*60","v":0}]
[{"$f":"IF(OR(B1252>=B1251,C1251=\"z\",B1252=\"\"),\"\",J1251+1)","v":""},null,null,{"$f":"MATCH(C1252,Categories!A:A,0)","v":{"$error":"#N/A"}},0,{"$f":"IF(OR($E1252<>0,$C1252=\"\"),\"\",INDEX(Categories!$A:$E,Entries!$D1252,2))","v":""},{"$f":"IF(OR($E1252<>0,$C1252=\"\"),\"\",INDEX(Categories!$A:$E,Entries!$D1252,3))","v":""},{"$f":"IF(OR($E1252<>0,$C1252=\"\"),\"\",INDEX(Categories!$A:$E,Entries!$D1252,4))","v":""},{"$f":"IF(OR($E1252<>0,$C1252=\"\"),\"\",INDEX(Categories!$A:$E,Entries!$D1252,5))","v":""},"2014-01-01","2014-01-01",{"$f":"(Entries!K1253-Entries!K1252)*24*60","v":0}]
["",null,null,{"$f":"MATCH(C1253,Categories!A:A,0)","v":{"$error":"#N/A"}},0,{"$f":"IF(OR($E1253<>0,$C1253=\"\"),\"\",INDEX(Categories!$A:$E,Entries!$D1253,2))","v":""},{"$f":"IF(OR($E1253<>0,$C1253=\"\"),\"\",INDEX(Categories!$A:$E,Entries!$D1253,3))","v":""},{"$f":"IF(OR($E1253<>0,$C1253=\"\"),\"\",INDEX(Categories!$A:$E,Entries!$D1253,4))","v":""},{"$f":"IF(OR($E1253<>0,$C1253=\"\"),\"\",INDEX(Categories!$A:$E,Entries!$D1253,5))","v":""},"2014-01-01","2014-01-01",{"$f":"(Entries!K1254-Entries!K1253)*24*60","v":0}]
["",null,null,{"$f":"MATCH(C1254,Categories!A:A,0)","v":{"$error":"#N/A"}},0,{"$f":"IF(OR($E1254<>0,$C1254=\"\"),\"\",INDEX(Categories!$A:$E,Entries!$D1254,2))","v":""},{"$f":"IF(OR($E1254<>0,$C1254=\"\"),\"\",INDEX(Categories!$A:$E,Entries!$D1254,3))","v":""},{"$f":"IF(OR($E1254<>0,$C1254=\"\"),\"\",INDEX(Categories!$A:$E,Entries!$D1254,4))","v":""},{"$f":"IF(OR($E1254<>0,$C1254=\"\"),\"\",INDEX(Categories!$A:$E,Entries!$D1254,5))","v":""},"2014-01-01","2014-01-01",{"$f":"(Entries!K1255-Entries!K1254)*24*60","v":0}]
["",null,null,{"$f":"MATCH(C1255,Categories!A:A,0)","v":{"$error":"#N/A"}},0,{"$f":"IF(OR($E1255<>0,$C1255=\"\"),\"\",INDEX(Categories!$A:$E,Entries!$D1255,2))","v":""},{"$f":"IF(OR($E1255<>0,$C1255=\"\"),\"\",INDEX(Categories!$A:$E,Entries!$D1255,3))","v":""},{"$f":"IF(OR($E1255<>0,$C1255=\"\"),\"\",INDEX(Categories!$A:$E,Entries!$D1255,4))","v":""},{"$f":"IF(OR($E1255<>0,$C1255=\"\"),\"\",INDEX(Categories!$A:$E,Entries!$D1255,5))","v":""},"2014-01-01","2014-01-01",{"$f":"(Entries!K1256-Entries!K1255)*24*60","v":0}]
["",null,null,{"$f":"MATCH(C1256,Categories!A:A,0)","v":{"$error":"#N/A"}},0,{"$f":"IF(OR($E1256<>0,$C1256=\"\"),\"\",INDEX(Categories!$A:$E,Entries!$D1256,2))","v":""},{"$f":"IF(OR($E1256<>0,$C1256=\"\"),\"\",INDEX(Categories!$A:$E,Entries!$D1256,3))","v":""},{"$f":"IF(OR($E1256<>0,$C1256=\"\"),\"\",INDEX(Categories!$A:$E,Entries!$D1256,4))","v":""},{"$f":"IF(OR($E1256<>0,$C1256=\"\"),\"\",INDEX(Categories!$A:$E,Entries!$D1256,5))","v":""},"2014-01-01","2014-01-01",{"$f":"(Entries!K1257-Entries!K1256)*24*60","v":0}]
["",null,null,{"$f":"MATCH(C1257,Categories!A:A,0)","v":{"$error":"#N/A"}},0,{"$f":"IF(OR($E1257<>0,$C1257=\"\"),\"\",INDEX(Categories!$A:$E,Entries!$D1257,2))","v":""},{"$f":"IF(OR($E1257<>0,$C1257=\"\"),\"\",INDEX(Categories!$A:$E,Entries!$D1257,3))","v":""},{"$f":"IF(OR($E1257<>0,$C1257=\"\"),\"\",INDEX(Categories!$A:$E,Entries!$D1257,4))","v":""},{"$f":"IF(OR($E1257<>0,$C1257=\"\"),\"\",INDEX(Categories!$A:$E,Entries!$D1257,5))","v":""},"2014-01-01","2014-01-01",{"$f":"(Entries!K1258-Entries!K1257)*24*60","v":0}]
["",null,null,{"$f":"MATCH(C1258,Categories!A:A,0)","v":{"$error":"#N/A"}},0,{"$f":"IF(OR($E1258<>0,$C1258=\"\"),\"\",INDEX(Categories!$A:$E,Entries!$D1258,2))","v":""},{"$f":"IF(OR($E1258<>0,$C1258=\"\"),\"\",INDEX(Categories!$A:$E,Entries!$D1258,3))","v":""},{"$f":"IF(OR($E1258<>0,$C1258=\"\"),\"\",INDEX(Categories!$A:$E,Entries!$D1258,4))","v":""},{"$f":"IF(OR($E1258<>0,$C1258=\"\"),\"\",INDEX(Categories!$A:$E,Entries!$D1258,5))","v":""},"2014-01-01","2014-01-01",{"$f":"(Entries!K1259-Entries!K1258)*24*60","v":0}]
["",null,null,{"$f":"MATCH(C1259,Categories!A:A,0)","v":{"$error":"#N/A"}},0,{"$f":"IF(OR($E1259<>0,$C1259=\"\"),\"\",INDEX(Categories!$A:$E,Entries!$D1259,2))","v":""},{"$f":"IF(OR($E1259<>0,$C1259=\"\"),\"\",INDEX(Categories!$A:$E,Entries!$D1259,3))","v":""},{"$f":"IF(OR($E1259<>0,$C1259=\"\"),\"\",INDEX(Categories!$A:$E,Entries!$D1259,4))","v":""},{"$f":"IF(OR($E1259<>0,$C1259=\"\"),\"\",INDEX(Categories!$A:$E,Entries!$D1259,5))","v":""},"2014-01-01","2014-01-01",{"$f":"(Entries!K1260-Entries!K1259)*24*60","v":0}]
["",null,null,{"$f":"MATCH(C1260,Categories!A:A,0)","v":{"$error":"#N/A"}},0,{"$f":"IF(OR($E1260<>0,$C1260=\"\"),\"\",INDEX(Categories!$A:$E,Entries!$D1260,2))","v":""},{"$f":"IF(OR($E1260<>0,$C1260=\"\"),\"\",INDEX(Categories!$A:$E,Entries!$D1260,3))","v":""},{"$f":"IF(OR($E1260<>0,$C1260=\"\"),\"\",INDEX(Categories!$A:$E,Entries!$D1260,4))","v":""},{"$f":"IF(OR($E1260<>0,$C1260=\"\"),\"\",INDEX(Categories!$A:$E,Entries!$D1260,5))","v":""},"2014-01-01","2014-01-01",{"$f":"(Entries!K1261-Entries!K1260)*24*60","v":0}]
["",null,null,{"$f":"MATCH(C1261,Categories!A:A,0)","v":{"$error":"#N/A"}},0,{"$f":"IF(OR($E1261<>0,$C1261=\"\"),\"\",INDEX(Categories!$A:$E,Entries!$D1261,2))","v":""},{"$f":"IF(OR($E1261<>0,$C1261=\"\"),\"\",INDEX(Categories!$A:$E,Entries!$D1261,3))","v":""},{"$f":"IF(OR($E1261<>0,$C1261=\"\"),\"\",INDEX(Categories!$A:$E,Entries!$D1261,4))","v":""},{"$f":"IF(OR($E1261<>0,$C1261=\"\"),\"\",INDEX(Categories!$A:$E,Entries!$D1261,5))","v":""},"2014-01-01","2014-01-01",{"$f":"(Entries!K1262-Entries!K1261)*24*60","v":0}]
["",null,null,{"$f":"MATCH(C1262,Categories!A:A,0)","v":{"$error":"#N/A"}},0,{"$f":"IF(OR($E1262<>0,$C1262=\"\"),\"\",INDEX(Categories!$A:$E,Entries!$D1262,2))","v":""},{"$f":"IF(OR($E1262<>0,$C1262=\"\"),\"\",INDEX(Categories!$A:$E,Entries!$D1262,3))","v":""},{"$f":"IF(OR($E1262<>0,$C1262=\"\"),\"\",INDEX(Categories!$A:$E,Entries!$D1262,4))","v":""},{"$f":"IF(OR($E1262<>0,$C1262=\"\"),\"\",INDEX(Categories!$A:$E,Entries!$D1262,5))","v":""},"2014-01-01","2014-01-01",{"$f":"(Entries!K1263-Entries!K1262)*24*60","v":0}]
["",null,null,{"$f":"MATCH(C1263,Categories!A:A,0)","v":{"$error":"#N/A"}},0,{"$f":"IF(OR($E1263<>0,$C1263=\"\"),\"\",INDEX(Categories!$A:$E,Entries!$D1263,2))","v":""},{"$f":"IF(OR($E1263<>0,$C1263=\"\"),\"\",INDEX(Categories!$A:$E,Entries!$D1263,3))","v":""},{"$f":"IF(OR($E1263<>0,$C1263=\"\"),\"\",INDEX(Categories!$A:$E,Entries!$D1263,4))","v":""},{"$f":"IF(OR($E1263<>0,$C1263=\"\"),\"\",INDEX(Categories!$A:$E,Entries!$D1263,5))","v":""},"2014-01-01","2014-01-01",{"$f":"(Entries!K1264-Entries!K1263)*24*60","v":0}]
["",null,null,{"$f":"MATCH(C1264,Categories!A:A,0)","v":{"$error":"#N/A"}},0,{"$f":"IF(OR($E1264<>0,$C1264=\"\"),\"\",INDEX(Categories!$A:$E,Entries!$D1264,2))","v":""},{"$f":"IF(OR($E1264<>0,$C1264=\"\"),\"\",INDEX(Categories!$A:$E,Entries!$D1264,3))","v":""},{"$f":"IF(OR($E1264<>0,$C1264=\"\"),\"\",INDEX(Categories!$A:$E,Entries!$D1264,4))","v":""},{"$f":"IF(OR($E1264<>0,$C1264=\"\"),\"\",INDEX(Categories!$A:$E,Entries!$D1264,5))","v":""},"2014-01-01","2014-01-01",{"$f":"(Entries!K1265-Entries!K1264)*24*60","v":0}]
["",null,null,{"$f":"MATCH(C1265,Categories!A:A,0)","v":{"$error":"#N/A"}},0,{"$f":"IF(OR($E1265<>0,$C1265=\"\"),\"\",INDEX(Categories!$A:$E,Entries!$D1265,2))","v":""},{"$f":"IF(OR($E1265<>0,$C1265=\"\"),\"\",INDEX(Categories!$A:$E,Entries!$D1265,3))","v":""},{"$f":"IF(OR($E1265<>0,$C1265=\"\"),\"\",INDEX(Categories!$A:$E,Entries!$D1265,4))","v":""},{"$f":"IF(OR($E1265<>0,$C1265=\"\"),\"\",INDEX(Categories!$A:$E,Entries!$D1265,5))","v":""},"2014-01-01","2014-01-01",{"$f":"(Entries!K1266-Entries!K1265)*24*60","v":0}]
["",null,null,{"$f":"MATCH(C1266,Categories!A:A,0)","v":{"$error":"#N/A"}},0,{"$f":"IF(OR($E1266<>0,$C1266=\"\"),\"\",INDEX(Categories!$A:$E,Entries!$D1266,2))","v":""},{"$f":"IF(OR($E1266<>0,$C1266=\"\"),\"\",INDEX(Categories!$A:$E,Entries!$D1266,3))","v":""},{"$f":"IF(OR($E1266<>0,$C1266=\"\"),\"\",INDEX(Categories!$A:$E,Entries!$D1266,4))","v":""},{"$f":"IF(OR($E1266<>0,$C1266=\"\"),\"\",INDEX(Categories!$A:$E,Entries!$D1266,5))","v":""},"2014-01-01","2014-01-01",{"$f":"(Entries!K1267-Entries!K1266)*24*60","v":0}]
["",null,null,{"$f":"MATCH(C1267,Categories!A:A,0)","v":{"$error":"#N/A"}},0,{"$f":"IF(OR($E1267<>0,$C1267=\"\"),\"\",INDEX(Categories!$A:$E,Entries!$D1267,2))","v":""},{"$f":"IF(OR($E1267<>0,$C1267=\"\"),\"\",INDEX(Categories!$A:$E,Entries!$D1267,3))","v":""},{"$f":"IF(OR($E1267<>0,$C1267=\"\"),\"\",INDEX(Categories!$A:$E,Entries!$D1267,4))","v":""},{"$f":"IF(OR($E1267<>0,$C1267=\"\"),\"\",INDEX(Categories!$A:$E,Entries!$D1267,5))","v":""},"2014-01-01","2014-01-01",{"$f":"(Entries!K1268-Entries!K1267)*24*60","v":0}]
["",null,null,{"$f":"MATCH(C1268,Categories!A:A,0)","v":{"$error":"#N/A"}},0,{"$f":"IF(OR($E1268<>0,$C1268=\"\"),\"\",INDEX(Categories!$A:$E,Entries!$D1268,2))","v":""},{"$f":"IF(OR($E1268<>0,$C1268=\"\"),\"\",INDEX(Categories!$A:$E,Entries!$D1268,3))","v":""},{"$f":"IF(OR($E1268<>0,$C1268=\"\"),\"\",INDEX(Categories!$A:$E,Entries!$D1268,4))","v":""},{"$f":"IF(OR($E1268<>0,$C1268=\"\"),\"\",INDEX(Categories!$A:$E,Entries!$D1268,5))","v":""},"2014-01-01","2014-01-01",{"$f":"(Entries!K1269-Entries!K1268)*24*60","v":0}]
["",null,null,{"$f":"MATCH(C1269,Categories!A:A,0)","v":{"$error":"#N/A"}},0,{"$f":"IF(OR($E1269<>0,$C1269=\"\"),\"\",INDEX(Categories!$A:$E,Entries!$D1269,2))","v":""},{"$f":"IF(OR($E1269<>0,$C1269=\"\"),\"\",INDEX(Categories!$A:$E,Entries!$D1269,3))","v":""},{"$f":"IF(OR($E1269<>0,$C1269=\"\"),\"\",INDEX(Categories!$A:$E,Entries!$D1269,4))","v":""},{"$f":"IF(OR($E1269<>0,$C1269=\"\"),\"\",INDEX(Categories!$A:$E,Entries!$D1269,5))","v":""},"2014-01-01","2014-01-01",{"$f":"(Entries!K1270-Entries!K1269)*24*60","v":0}]
["",null,null,{"$f":"MATCH(C1270,Categories!A:A,0)","v":{"$error":"#N/A"}},0,{"$f":"IF(OR($E1270<>0,$C1270=\"\"),\"\",INDEX(Categories!$A:$E,Entries!$D1270,2))","v":""},{"$f":"IF(OR($E1270<>0,$C1270=\"\"),\"\",INDEX(Categories!$A:$E,Entries!$D1270,3))","v":""},{"$f":"IF(OR($E1270<>0,$C1270=\"\"),\"\",INDEX(Categories!$A:$E,Entries!$D1270,4))","v":""},{"$f":"IF(OR($E1270<>0,$C1270=\"\"),\"\",INDEX(Categories!$A:$E,Entries!$D1270,5))","v":""},"2014-01-01","2014-01-01",{"$f":"(Entries!K1271-Entries!K1270)*24*60","v":0}]
["",null,null,{"$f":"MATCH(C1271,Categories!A:A,0)","v":{"$error":"#N/A"}},0,{"$f":"IF(OR($E1271<>0,$C1271=\"\"),\"\",INDEX(Categories!$A:$E,Entries!$D1271,2))","v":""},{"$f":"IF(OR($E1271<>0,$C1271=\"\"),\"\",INDEX(Categories!$A:$E,Entries!$D1271,3))","v":""},{"$f":"IF(OR($E1271<>0,$C1271=\"\"),\"\",INDEX(Categories!$A:$E,Entries!$D1271,4))","v":""},{"$f":"IF(OR($E1271<>0,$C1271=\"\"),\"\",INDEX(Categories!$A:$E,Entries!$D1271,5))","v":""},"2014-01-01","2014-01-01",{"$f":"(Entries!K1272-Entries!K1271)*24*60","v":0}]
["",null,null,{"$f":"MATCH(C1272,Categories!A:A,0)","v":{"$error":"#N/A"}},0,{"$f":"IF(OR($E1272<>0,$C1272=\"\"),\"\",INDEX(Categories!$A:$E,Entries!$D1272,2))","v":""},{"$f":"IF(OR($E1272<>0,$C1272=\"\"),\"\",INDEX(Categories!$A:$E,Entries!$D1272,3))","v":""},{"$f":"IF(OR($E1272<>0,$C1272=\"\"),\"\",INDEX(Categories!$A:$E,Entries!$D1272,4))","v":""},{"$f":"IF(OR($E1272<>0,$C1272=\"\"),\"\",INDEX(Categories!$A:$E,Entries!$D1272,5))","v":""},"2014-01-01","2014-01-01",{"$f":"(Entries!K1273-Entries!K1272)*24*60","v":0}]
["",null,null,{"$f":"MATCH(C1273,Categories!A:A,0)","v":{"$error":"#N/A"}},0,{"$f":"IF(OR($E1273<>0,$C1273=\"\"),\"\",INDEX(Categories!$A:$E,Entries!$D1273,2))","v":""},{"$f":"IF(OR($E1273<>0,$C1273=\"\"),\"\",INDEX(Categories!$A:$E,Entries!$D1273,3))","v":""},{"$f":"IF(OR($E1273<>0,$C1273=\"\"),\"\",INDEX(Categories!$A:$E,Entries!$D1273,4))","v":""},{"$f":"IF(OR($E1273<>0,$C1273=\"\"),\"\",INDEX(Categories!$A:$E,Entries!$D1273,5))","v":""},"2014-01-01","2014-01-01",{"$f":"(Entries!K1274-Entries!K1273)*24*60","v":0}]
["",null,null,{"$f":"MATCH(C1274,Categories!A:A,0)","v":{"$error":"#N/A"}},0,{"$f":"IF(OR($E1274<>0,$C1274=\"\"),\"\",INDEX(Categories!$A:$E,Entries!$D1274,2))","v":""},{"$f":"IF(OR($E1274<>0,$C1274=\"\"),\"\",INDEX(Categories!$A:$E,Entries!$D1274,3))","v":""},{"$f":"IF(OR($E1274<>0,$C1274=\"\"),\"\",INDEX(Categories!$A:$E,Entries!$D1274,4))","v":""},{"$f":"IF(OR($E1274<>0,$C1274=\"\"),\"\",INDEX(Categories!$A:$E,Entries!$D1274,5))","v":""},"2014-01-01","2014-01-01",{"$f":"(Entries!K1275-Entries!K1274)*24*60","v":0}]
["",null,null,{"$f":"MATCH(C1275,Categories!A:A,0)","v":{"$error":"#N/A"}},0,{"$f":"IF(OR($E1275<>0,$C1275=\"\"),\"\",INDEX(Categories!$A:$E,Entries!$D1275,2))","v":""},{"$f":"IF(OR($E1275<>0,$C1275=\"\"),\"\",INDEX(Categories!$A:$E,Entries!$D1275,3))","v":""},{"$f":"IF(OR($E1275<>0,$C1275=\"\"),\"\",INDEX(Categories!$A:$E,Entries!$D1275,4))","v":""},{"$f":"IF(OR($E1275<>0,$C1275=\"\"),\"\",INDEX(Categories!$A:$E,Entries!$D1275,5))","v":""},"2014-01-01","2014-01-01",{"$f":"(Entries!K1276-Entries!K1275)*24*60","v":0}]
["",null,null,{"$f":"MATCH(C1276,Categories!A:A,0)","v":{"$error":"#N/A"}},0,{"$f":"IF(OR($E1276<>0,$C1276=\"\"),\"\",INDEX(Categories!$A:$E,Entries!$D1276,2))","v":""},{"$f":"IF(OR($E1276<>0,$C1276=\"\"),\"\",INDEX(Categories!$A:$E,Entries!$D1276,3))","v":""},{"$f":"IF(OR($E1276<>0,$C1276=\"\"),\"\",INDEX(Categories!$A:$E,Entries!$D1276,4))","v":""},{"$f":"IF(OR($E1276<>0,$C1276=\"\"),\"\",INDEX(Categories!$A:$E,Entries!$D1276,5))","v":""},"2014-01-01","2014-01-01",{"$f":"(Entries!K1277-Entries!K1276)*24*60","v":0}]
["",null,null,{"$f":"MATCH(C1277,Categories!A:A,0)","v":{"$error":"#N/A"}},0,{"$f":"IF(OR($E1277<>0,$C1277=\"\"),\"\",INDEX(Categories!$A:$E,Entries!$D1277,2))","v":""},{"$f":"IF(OR($E1277<>0,$C1277=\"\"),\"\",INDEX(Categories!$A:$E,Entries!$D1277,3))","v":""},{"$f":"IF(OR($E1277<>0,$C1277=\"\"),\"\",INDEX(Categories!$A:$E,Entries!$D1277,4))","v":""},{"$f":"IF(OR($E1277<>0,$C1277=\"\"),\"\",INDEX(Categories!$A:$E,Entries!$D1277,5))","v":""},"2014-01-01","2014-01-01",{"$f":"(Entries!K1278-Entries!K1277)*24*60","v":0}]
["",null,null,{"$f":"MATCH(C1278,Categories!A:A,0)","v":{"$error":"#N/A"}},0,{"$f":"IF(OR($E1278<>0,$C1278=\"\"),\"\",INDEX(Categories!$A:$E,Entries!$D1278,2))","v":""},{"$f":"IF(OR($E1278<>0,$C1278=\"\"),\"\",INDEX(Categories!$A:$E,Entries!$D1278,3))","v":""},{"$f":"IF(OR($E1278<>0,$C1278=\"\"),\"\",INDEX(Categories!$A:$E,Entries!$D1278,4))","v":""},{"$f":"IF(OR($E1278<>0,$C1278=\"\"),\"\",INDEX(Categories!$A:$E,Entries!$D1278,5))","v":""},"2014-01-01","2014-01-01",{"$f":"(Entries!K1279-Entries!K1278)*24*60","v":0}]
["",null,null,{"$f":"MATCH(C1279,Categories!A:A,0)","v":{"$error":"#N/A"}},0,{"$f":"IF(OR($E1279<>0,$C1279=\"\"),\"\",INDEX(Categories!$A:$E,Entries!$D1279,2))","v":""},{"$f":"IF(OR($E1279<>0,$C1279=\"\"),\"\",INDEX(Categories!$A:$E,Entries!$D1279,3))","v":""},{"$f":"IF(OR($E1279<>0,$C1279=\"\"),\"\",INDEX(Categories!$A:$E,Entries!$D1279,4))","v":""},{"$f":"IF(OR($E1279<>0,$C1279=\"\"),\"\",INDEX(Categories!$A:$E,Entries!$D1279,5))","v":""},"2014-01-01","2014-01-01",{"$f":"(Entries!K1280-Entries!K1279)*24*60","v":0}]
["",null,null,{"$f":"MATCH(C1280,Categories!A:A,0)","v":{"$error":"#N/A"}},0,{"$f":"IF(OR($E1280<>0,$C1280=\"\"),\"\",INDEX(Categories!$A:$E,Entries!$D1280,2))","v":""},{"$f":"IF(OR($E1280<>0,$C1280=\"\"),\"\",INDEX(Categories!$A:$E,Entries!$D1280,3))","v":""},{"$f":"IF(OR($E1280<>0,$C1280=\"\"),\"\",INDEX(Categories!$A:$E,Entries!$D1280,4))","v":""},{"$f":"IF(OR($E1280<>0,$C1280=\"\"),\"\",INDEX(Categories!$A:$E,Entries!$D1280,5))","v":""},"2014-01-01","2014-01-01",{"$f":"(Entries!K1281-Entries!K1280)*24*60","v":0}]
["",null,null,{"$f":"MATCH(C1281,Categories!A:A,0)","v":{"$error":"#N/A"}},0,{"$f":"IF(OR($E1281<>0,$C1281=\"\"),\"\",INDEX(Categories!$A:$E,Entries!$D1281,2))","v":""},{"$f":"IF(OR($E1281<>0,$C1281=\"\"),\"\",INDEX(Categories!$A:$E,Entries!$D1281,3))","v":""},{"$f":"IF(OR($E1281<>0,$C1281=\"\"),\"\",INDEX(Categories!$A:$E,Entries!$D1281,4))","v":""},{"$f":"IF(OR($E1281<>0,$C1281=\"\"),\"\",INDEX(Categories!$A:$E,Entries!$D1281,5))","v":""},"2014-01-01","2014-01-01",{"$f":"(Entries!K1282-Entries!K1281)*24*60","v":0}]
["",null,null,{"$f":"MATCH(C1282,Categories!A:A,0)","v":{"$error":"#N/A"}},{"$f":"IF(AND(ISERROR(D1282),C1282<>\"\"),ROW(D1282),0)","v":0},{"$f":"IF(OR($E1282<>0,$C1282=\"\"),\"\",INDEX(Categories!$A:$E,Entries!$D1282,2))","v":""},{"$f":"IF(OR($E1282<>0,$C1282=\"\"),\"\",INDEX(Categories!$A:$E,Entries!$D1282,3))","v":""},{"$f":"IF(OR($E1282<>0,$C1282=\"\"),\"\",INDEX(Categories!$A:$E,Entries!$D1282,4))","v":""},{"$f":"IF(OR($E1282<>0,$C1282=\"\"),\"\",INDEX(Categories!$A:$E,Entries!$D1282,5))","v":""},{"$f":"IF(A1282=\"\",J1281,A1282)","v":"2014-01-01"},{"$f":"J1282+B1282","v":"2014-01-01"},{"$f":"(Entries!K1283-Entries!K1282)*24*60","v":0}]
["",null,null,{"$f":"MATCH(C1283,Categories!A:A,0)","v":{"$error":"#N/A"}},0,{"$f":"IF(OR($E1283<>0,$C1283=\"\"),\"\",INDEX(Categories!$A:$E,Entries!$D1283,2))","v":""},{"$f":"IF(OR($E1283<>0,$C1283=\"\"),\"\",INDEX(Categories!$A:$E,Entries!$D1283,3))","v":""},{"$f":"IF(OR($E1283<>0,$C1283=\"\"),\"\",INDEX(Categories!$A:$E,Entries!$D1283,4))","v":""},{"$f":"IF(OR($E1283<>0,$C1283=\"\"),\"\",INDEX(Categories!$A:$E,Entries!$D1283,5))","v":""},"2014-01-01","2014-01-01",{"$f":"(Entries!K1284-Entries!K1283)*24*60","v":0}]
["",null,null,{"$f":"MATCH(C1284,Categories!A:A,0)","v":{"$error":"#N/A"}},0,{"$f":"IF(OR($E1284<>0,$C1284=\"\"),\"\",INDEX(Categories!$A:$E,Entries!$D1284,2))","v":""},{"$f":"IF(OR($E1284<>0,$C1284=\"\"),\"\",INDEX(Categories!$A:$E,Entries!$D1284,3))","v":""},{"$f":"IF(OR($E1284<>0,$C1284=\"\"),\"\",INDEX(Categories!$A:$E,Entries!$D1284,4))","v":""},{"$f":"IF(OR($E1284<>0,$C1284=\"\"),\"\",INDEX(Categories!$A:$E,Entries!$D1284,5))","v":""},"2014-01-01","2014-01-01",{"$f":"(Entries!K1285-Entries!K1284)*24*60","v":0}]
["",null,null,{"$f":"MATCH(C1285,Categories!A:A,0)","v":{"$error":"#N/A"}},0,{"$f":"IF(OR($E1285<>0,$C1285=\"\"),\"\",INDEX(Categories!$A:$E,Entries!$D1285,2))","v":""},{"$f":"IF(OR($E1285<>0,$C1285=\"\"),\"\",INDEX(Categories!$A:$E,Entries!$D1285,3))","v":""},{"$f":"IF(OR($E1285<>0,$C1285=\"\"),\"\",INDEX(Categories!$A:$E,Entries!$D1285,4))","v":""},{"$f":"IF(OR($E1285<>0,$C1285=\"\"),\"\",INDEX(Categories!$A:$E,Entries!$D1285,5))","v":""},"2014-01-01","2014-01-01",{"$f":"(Entries!K1286-Entries!K1285)*24*60","v":0}]
["",null,null,{"$f":"MATCH(C1286,Categories!A:A,0)","v":{"$error":"#N/A"}},0,{"$f":"IF(OR($E1286<>0,$C1286=\"\"),\"\",INDEX(Categories!$A:$E,Entries!$D1286,2))","v":""},{"$f":"IF(OR($E1286<>0,$C1286=\"\"),\"\",INDEX(Categories!$A:$E,Entries!$D1286,3))","v":""},{"$f":"IF(OR($E1286<>0,$C1286=\"\"),\"\",INDEX(Categories!$A:$E,Entries!$D1286,4))","v":""},{"$f":"IF(OR($E1286<>0,$C1286=\"\"),\"\",INDEX(Categories!$A:$E,Entries!$D1286,5))","v":""},"2014-01-01","2014-01-01",{"$f":"(Entries!K1287-Entries!K1286)*24*60","v":0}]
["",null,null,{"$f":"MATCH(C1287,Categories!A:A,0)","v":{"$error":"#N/A"}},0,{"$f":"IF(OR($E1287<>0,$C1287=\"\"),\"\",INDEX(Categories!$A:$E,Entries!$D1287,2))","v":""},{"$f":"IF(OR($E1287<>0,$C1287=\"\"),\"\",INDEX(Categories!$A:$E,Entries!$D1287,3))","v":""},{"$f":"IF(OR($E1287<>0,$C1287=\"\"),\"\",INDEX(Categories!$A:$E,Entries!$D1287,4))","v":""},{"$f":"IF(OR($E1287<>0,$C1287=\"\"),\"\",INDEX(Categories!$A:$E,Entries!$D1287,5))","v":""},"2014-01-01","2014-01-01",{"$f":"(Entries!K1288-Entries!K1287)*24*60","v":0}]
["",null,null,{"$f":"MATCH(C1288,Categories!A:A,0)","v":{"$error":"#N/A"}},0,{"$f":"IF(OR($E1288<>0,$C1288=\"\"),\"\",INDEX(Categories!$A:$E,Entries!$D1288,2))","v":""},{"$f":"IF(OR($E1288<>0,$C1288=\"\"),\"\",INDEX(Categories!$A:$E,Entries!$D1288,3))","v":""},{"$f":"IF(OR($E1288<>0,$C1288=\"\"),\"\",INDEX(Categories!$A:$E,Entries!$D1288,4))","v":""},{"$f":"IF(OR($E1288<>0,$C1288=\"\"),\"\",INDEX(Categories!$A:$E,Entries!$D1288,5))","v":""},"2014-01-01","2014-01-01",{"$f":"(Entries!K1289-Entries!K1288)*24*60","v":0}]
["",null,null,{"$f":"MATCH(C1289,Categories!A:A,0)","v":{"$error":"#N/A"}},0,{"$f":"IF(OR($E1289<>0,$C1289=\"\"),\"\",INDEX(Categories!$A:$E,Entries!$D1289,2))","v":""},{"$f":"IF(OR($E1289<>0,$C1289=\"\"),\"\",INDEX(Categories!$A:$E,Entries!$D1289,3))","v":""},{"$f":"IF(OR($E1289<>0,$C1289=\"\"),\"\",INDEX(Categories!$A:$E,Entries!$D1289,4))","v":""},{"$f":"IF(OR($E1289<>0,$C1289=\"\"),\"\",INDEX(Categories!$A:$E,Entries!$D1289,5))","v":""},"2014-01-01","2014-01-01",{"$f":"(Entries!K1290-Entries!K1289)*24*60","v":0}]
["",null,null,{"$f":"MATCH(C1290,Categories!A:A,0)","v":{"$error":"#N/A"}},0,{"$f":"IF(OR($E1290<>0,$C1290=\"\"),\"\",INDEX(Categories!$A:$E,Entries!$D1290,2))","v":""},{"$f":"IF(OR($E1290<>0,$C1290=\"\"),\"\",INDEX(Categories!$A:$E,Entries!$D1290,3))","v":""},{"$f":"IF(OR($E1290<>0,$C1290=\"\"),\"\",INDEX(Categories!$A:$E,Entries!$D1290,4))","v":""},{"$f":"IF(OR($E1290<>0,$C1290=\"\"),\"\",INDEX(Categories!$A:$E,Entries!$D1290,5))","v":""},"2014-01-01","2014-01-01",{"$f":"(Entries!K1291-Entries!K1290)*24*60","v":0}]
["",null,null,{"$f":"MATCH(C1291,Categories!A:A,0)","v":{"$error":"#N/A"}},0,{"$f":"IF(OR($E1291<>0,$C1291=\"\"),\"\",INDEX(Categories!$A:$E,Entries!$D1291,2))","v":""},{"$f":"IF(OR($E1291<>0,$C1291=\"\"),\"\",INDEX(Categories!$A:$E,Entries!$D1291,3))","v":""},{"$f":"IF(OR($E1291<>0,$C1291=\"\"),\"\",INDEX(Categories!$A:$E,Entries!$D1291,4))","v":""},{"$f":"IF(OR($E1291<>0,$C1291=\"\"),\"\",INDEX(Categories!$A:$E,Entries!$D1291,5))","v":""},"2014-01-01","2014-01-01",{"$f":"(Entries!K1292-Entries!K1291)*24*60","v":0}]
["",null,null,{"$f":"MATCH(C1292,Categories!A:A,0)","v":{"$error":"#N/A"}},0,{"$f":"IF(OR($E1292<>0,$C1292=\"\"),\"\",INDEX(Categories!$A:$E,Entries!$D1292,2))","v":""},{"$f":"IF(OR($E1292<>0,$C1292=\"\"),\"\",INDEX(Categories!$A:$E,Entries!$D1292,3))","v":""},{"$f":"IF(OR($E1292<>0,$C1292=\"\"),\"\",INDEX(Categories!$A:$E,Entries!$D1292,4))","v":""},{"$f":"IF(OR($E1292<>0,$C1292=\"\"),\"\",INDEX(Categories!$A:$E,Entries!$D1292,5))","v":""},"2014-01-01","2014-01-01",{"$f":"(Entries!K1293-Entries!K1292)*24*60","v":0}]
["",null,null,{"$f":"MATCH(C1293,Categories!A:A,0)","v":{"$error":"#N/A"}},0,{"$f":"IF(OR($E1293<>0,$C1293=\"\"),\"\",INDEX(Categories!$A:$E,Entries!$D1293,2))","v":""},{"$f":"IF(OR($E1293<>0,$C1293=\"\"),\"\",INDEX(Categories!$A:$E,Entries!$D1293,3))","v":""},{"$f":"IF(OR($E1293<>0,$C1293=\"\"),\"\",INDEX(Categories!$A:$E,Entries!$D1293,4))","v":""},{"$f":"IF(OR($E1293<>0,$C1293=\"\"),\"\",INDEX(Categories!$A:$E,Entries!$D1293,5))","v":""},"2014-01-01","2014-01-01",{"$f":"(Entries!K1294-Entries!K1293)*24*60","v":0}]
["",null,null,{"$f":"MATCH(C1294,Categories!A:A,0)","v":{"$error":"#N/A"}},0,{"$f":"IF(OR($E1294<>0,$C1294=\"\"),\"\",INDEX(Categories!$A:$E,Entries!$D1294,2))","v":""},{"$f":"IF(OR($E1294<>0,$C1294=\"\"),\"\",INDEX(Categories!$A:$E,Entries!$D1294,3))","v":""},{"$f":"IF(OR($E1294<>0,$C1294=\"\"),\"\",INDEX(Categories!$A:$E,Entries!$D1294,4))","v":""},{"$f":"IF(OR($E1294<>0,$C1294=\"\"),\"\",INDEX(Categories!$A:$E,Entries!$D1294,5))","v":""},"2014-01-01","2014-01-01",{"$f":"(Entries!K1295-Entries!K1294)*24*60","v":0}]
["",null,null,{"$f":"MATCH(C1295,Categories!A:A,0)","v":{"$error":"#N/A"}},0,{"$f":"IF(OR($E1295<>0,$C1295=\"\"),\"\",INDEX(Categories!$A:$E,Entries!$D1295,2))","v":""},{"$f":"IF(OR($E1295<>0,$C1295=\"\"),\"\",INDEX(Categories!$A:$E,Entries!$D1295,3))","v":""},{"$f":"IF(OR($E1295<>0,$C1295=\"\"),\"\",INDEX(Categories!$A:$E,Entries!$D1295,4))","v":""},{"$f":"IF(OR($E1295<>0,$C1295=\"\"),\"\",INDEX(Categories!$A:$E,Entries!$D1295,5))","v":""},"2014-01-01","2014-01-01",{"$f":"(Entries!K1296-Entries!K1295)*24*60","v":0}]
["",null,null,{"$f":"MATCH(C1296,Categories!A:A,0)","v":{"$error":"#N/A"}},0,{"$f":"IF(OR($E1296<>0,$C1296=\"\"),\"\",INDEX(Categories!$A:$E,Entries!$D1296,2))","v":""},{"$f":"IF(OR($E1296<>0,$C1296=\"\"),\"\",INDEX(Categories!$A:$E,Entries!$D1296,3))","v":""},{"$f":"IF(OR($E1296<>0,$C1296=\"\"),\"\",INDEX(Categories!$A:$E,Entries!$D1296,4))","v":""},{"$f":"IF(OR($E1296<>0,$C1296=\"\"),\"\",INDEX(Categories!$A:$E,Entries!$D1296,5))","v":""},"2014-01-01","2014-01-01",{"$f":"(Entries!K1297-Entries!K1296)*24*60","v":0}]
["",null,null,{"$f":"MATCH(C1297,Categories!A:A,0)","v":{"$error":"#N/A"}},0,{"$f":"IF(OR($E1297<>0,$C1297=\"\"),\"\",INDEX(Categories!$A:$E,Entries!$D1297,2))","v":""},{"$f":"IF(OR($E1297<>0,$C1297=\"\"),\"\",INDEX(Categories!$A:$E,Entries!$D1297,3))","v":""},{"$f":"IF(OR($E1297<>0,$C1297=\"\"),\"\",INDEX(Categories!$A:$E,Entries!$D1297,4))","v":""},{"$f":"IF(OR($E1297<>0,$C1297=\"\"),\"\",INDEX(Categories!$A:$E,Entries!$D1297,5))","v":""},"2014-01-01","2014-01-01",{"$f":"(Entries!K1298-Entries!K1297)*24*60","v":0}]
["",null,null,{"$f":"MATCH(C1298,Categories!A:A,0)","v":{"$error":"#N/A"}},0,{"$f":"IF(OR($E1298<>0,$C1298=\"\"),\"\",INDEX(Categories!$A:$E,Entries!$D1298,2))","v":""},{"$f":"IF(OR($E1298<>0,$C1298=\"\"),\"\",INDEX(Categories!$A:$E,Entries!$D1298,3))","v":""},{"$f":"IF(OR($E1298<>0,$C1298=\"\"),\"\",INDEX(Categories!$A:$E,Entries!$D1298,4))","v":""},{"$f":"IF(OR($E1298<>0,$C1298=\"\"),\"\",INDEX(Categories!$A:$E,Entries!$D1298,5))","v":""},"2014-01-01","2014-01-01",{"$f":"(Entries!K1299-Entries!K1298)*24*60","v":0}]
["",null,null,{"$f":"MATCH(C1299,Categories!A:A,0)","v":{"$error":"#N/A"}},0,{"$f":"IF(OR($E1299<>0,$C1299=\"\"),\"\",INDEX(Categories!$A:$E,Entries!$D1299,2))","v":""},{"$f":"IF(OR($E1299<>0,$C1299=\"\"),\"\",INDEX(Categories!$A:$E,Entries!$D1299,3))","v":""},{"$f":"IF(OR($E1299<>0,$C1299=\"\"),\"\",INDEX(Categories!$A:$E,Entries!$D1299,4))","v":""},{"$f":"IF(OR($E1299<>0,$C1299=\"\"),\"\",INDEX(Categories!$A:$E,Entries!$D1299,5))","v":""},"2014-01-01","2014-01-01",{"$f":"(Entries!K1300-Entries!K1299)*24*60","v":0}]
["",null,null,{"$f":"MATCH(C1300,Categories!A:A,0)","v":{"$error":"#N/A"}},0,{"$f":"IF(OR($E1300<>0,$C1300=\"\"),\"\",INDEX(Categories!$A:$E,Entries!$D1300,2))","v":""},{"$f":"IF(OR($E1300<>0,$C1300=\"\"),\"\",INDEX(Categories!$A:$E,Entries!$D1300,3))","v":""},{"$f":"IF(OR($E1300<>0,$C1300=\"\"),\"\",INDEX(Categories!$A:$E,Entries!$D1300,4))","v":""},{"$f":"IF(OR($E1300<>0,$C1300=\"\"),\"\",INDEX(Categories!$A:$E,Entries!$D1300,5))","v":""},"2014-01-01","2014-01-01",{"$f":"(Entries!K1301-Entries!K1300)*24*60","v":0}]
["",null,null,{"$f":"MATCH(C1301,Categories!A:A,0)","v":{"$error":"#N/A"}},0,{"$f":"IF(OR($E1301<>0,$C1301=\"\"),\"\",INDEX(Categories!$A:$E,Entries!$D1301,2))","v":""},{"$f":"IF(OR($E1301<>0,$C1301=\"\"),\"\",INDEX(Categories!$A:$E,Entries!$D1301,3))","v":""},{"$f":"IF(OR($E1301<>0,$C1301=\"\"),\"\",INDEX(Categories!$A:$E,Entries!$D1301,4))","v":""},{"$f":"IF(OR($E1301<>0,$C1301=\"\"),\"\",INDEX(Categories!$A:$E,Entries!$D1301,5))","v":""},"2014-01-01","2014-01-01",{"$f":"(Entries!K1302-Entries!K1301)*24*60","v":0}]
["",null,null,{"$f":"MATCH(C1302,Categories!A:A,0)","v":{"$error":"#N/A"}},0,{"$f":"IF(OR($E1302<>0,$C1302=\"\"),\"\",INDEX(Categories!$A:$E,Entries!$D1302,2))","v":""},{"$f":"IF(OR($E1302<>0,$C1302=\"\"),\"\",INDEX(Categories!$A:$E,Entries!$D1302,3))","v":""},{"$f":"IF(OR($E1302<>0,$C1302=\"\"),\"\",INDEX(Categories!$A:$E,Entries!$D1302,4))","v":""},{"$f":"IF(OR($E1302<>0,$C1302=\"\"),\"\",INDEX(Categories!$A:$E,Entries!$D1302,5))","v":""},"2014-01-01","2014-01-01",{"$f":"(Entries!K1303-Entries!K1302)*24*60","v":0}]
["",null,null,{"$f":"MATCH(C1303,Categories!A:A,0)","v":{"$error":"#N/A"}},0,{"$f":"IF(OR($E1303<>0,$C1303=\"\"),\"\",INDEX(Categories!$A:$E,Entries!$D1303,2))","v":""},{"$f":"IF(OR($E1303<>0,$C1303=\"\"),\"\",INDEX(Categories!$A:$E,Entries!$D1303,3))","v":""},{"$f":"IF(OR($E1303<>0,$C1303=\"\"),\"\",INDEX(Categories!$A:$E,Entries!$D1303,4))","v":""},{"$f":"IF(OR($E1303<>0,$C1303=\"\"),\"\",INDEX(Categories!$A:$E,Entries!$D1303,5))","v":""},"2014-01-01","2014-01-01",{"$f":"(Entries!K1304-Entries!K1303)*24*60","v":0}]
["",null,null,{"$f":"MATCH(C1304,Categories!A:A,0)","v":{"$error":"#N/A"}},0,{"$f":"IF(OR($E1304<>0,$C1304=\"\"),\"\",INDEX(Categories!$A:$E,Entries!$D1304,2))","v":""},{"$f":"IF(OR($E1304<>0,$C1304=\"\"),\"\",INDEX(Categories!$A:$E,Entries!$D1304,3))","v":""},{"$f":"IF(OR($E1304<>0,$C1304=\"\"),\"\",INDEX(Categories!$A:$E,Entries!$D1304,4))","v":""},{"$f":"IF(OR($E1304<>0,$C1304=\"\"),\"\",INDEX(Categories!$A:$E,Entries!$D1304,5))","v":""},"2014-01-01","2014-01-01",{"$f":"(Entries!K1305-Entries!K1304)*24*60","v":0}]
["",null,null,{"$f":"MATCH(C1305,Categories!A:A,0)","v":{"$error":"#N/A"}},0,{"$f":"IF(OR($E1305<>0,$C1305=\"\"),\"\",INDEX(Categories!$A:$E,Entries!$D1305,2))","v":""},{"$f":"IF(OR($E1305<>0,$C1305=\"\"),\"\",INDEX(Categories!$A:$E,Entries!$D1305,3))","v":""},{"$f":"IF(OR($E1305<>0,$C1305=\"\"),\"\",INDEX(Categories!$A:$E,Entries!$D1305,4))","v":""},{"$f":"IF(OR($E1305<>0,$C1305=\"\"),\"\",INDEX(Categories!$A:$E,Entries!$D1305,5))","v":""},"2014-01-01","2014-01-01",{"$f":"(Entries!K1306-Entries!K1305)*24*60","v":0}]
["",null,null,{"$f":"MATCH(C1306,Categories!A:A,0)","v":{"$error":"#N/A"}},0,{"$f":"IF(OR($E1306<>0,$C1306=\"\"),\"\",INDEX(Categories!$A:$E,Entries!$D1306,2))","v":""},{"$f":"IF(OR($E1306<>0,$C1306=\"\"),\"\",INDEX(Categories!$A:$E,Entries!$D1306,3))","v":""},{"$f":"IF(OR($E1306<>0,$C1306=\"\"),\"\",INDEX(Categories!$A:$E,Entries!$D1306,4))","v":""},{"$f":"IF(OR($E1306<>0,$C1306=\"\"),\"\",INDEX(Categories!$A:$E,Entries!$D1306,5))","v":""},"2014-01-01","2014-01-01",{"$f":"(Entries!K1307-Entries!K1306)*24*60","v":0}]
["",null,null,{"$f":"MATCH(C1307,Categories!A:A,0)","v":{"$error":"#N/A"}},0,{"$f":"IF(OR($E1307<>0,$C1307=\"\"),\"\",INDEX(Categories!$A:$E,Entries!$D1307,2))","v":""},{"$f":"IF(OR($E1307<>0,$C1307=\"\"),\"\",INDEX(Categories!$A:$E,Entries!$D1307,3))","v":""},{"$f":"IF(OR($E1307<>0,$C1307=\"\"),\"\",INDEX(Categories!$A:$E,Entries!$D1307,4))","v":""},{"$f":"IF(OR($E1307<>0,$C1307=\"\"),\"\",INDEX(Categories!$A:$E,Entries!$D1307,5))","v":""},"2014-01-01","2014-01-01",{"$f":"(Entries!K1308-Entries!K1307)*24*60","v":0}]
["",null,null,{"$f":"MATCH(C1308,Categories!A:A,0)","v":{"$error":"#N/A"}},0,{"$f":"IF(OR($E1308<>0,$C1308=\"\"),\"\",INDEX(Categories!$A:$E,Entries!$D1308,2))","v":""},{"$f":"IF(OR($E1308<>0,$C1308=\"\"),\"\",INDEX(Categories!$A:$E,Entries!$D1308,3))","v":""},{"$f":"IF(OR($E1308<>0,$C1308=\"\"),\"\",INDEX(Categories!$A:$E,Entries!$D1308,4))","v":""},{"$f":"IF(OR($E1308<>0,$C1308=\"\"),\"\",INDEX(Categories!$A:$E,Entries!$D1308,5))","v":""},"2014-01-01","2014-01-01",{"$f":"(Entries!K1309-Entries!K1308)*24*60","v":0}]
["",null,null,{"$f":"MATCH(C1309,Categories!A:A,0)","v":{"$error":"#N/A"}},0,{"$f":"IF(OR($E1309<>0,$C1309=\"\"),\"\",INDEX(Categories!$A:$E,Entries!$D1309,2))","v":""},{"$f":"IF(OR($E1309<>0,$C1309=\"\"),\"\",INDEX(Categories!$A:$E,Entries!$D1309,3))","v":""},{"$f":"IF(OR($E1309<>0,$C1309=\"\"),\"\",INDEX(Categories!$A:$E,Entries!$D1309,4))","v":""},{"$f":"IF(OR($E1309<>0,$C1309=\"\"),\"\",INDEX(Categories!$A:$E,Entries!$D1309,5))","v":""},"2014-01-01","2014-01-01",{"$f":"(Entries!K1310-Entries!K1309)*24*60","v":0}]
["",null,null,{"$f":"MATCH(C1310,Categories!A:A,0)","v":{"$error":"#N/A"}},0,{"$f":"IF(OR($E1310<>0,$C1310=\"\"),\"\",INDEX(Categories!$A:$E,Entries!$D1310,2))","v":""},{"$f":"IF(OR($E1310<>0,$C1310=\"\"),\"\",INDEX(Categories!$A:$E,Entries!$D1310,3))","v":""},{"$f":"IF(OR($E1310<>0,$C1310=\"\"),\"\",INDEX(Categories!$A:$E,Entries!$D1310,4))","v":""},{"$f":"IF(OR($E1310<>0,$C1310=\"\"),\"\",INDEX(Categories!$A:$E,Entries!$D1310,5))","v":""},"2014-01-01","2014-01-01",{"$f":"(Entries!K1311-Entries!K1310)*24*60","v":0}]
["",null,null,{"$f":"MATCH(C1311,Categories!A:A,0)","v":{"$error":"#N/A"}},0,{"$f":"IF(OR($E1311<>0,$C1311=\"\"),\"\",INDEX(Categories!$A:$E,Entries!$D1311,2))","v":""},{"$f":"IF(OR($E1311<>0,$C1311=\"\"),\"\",INDEX(Categories!$A:$E,Entries!$D1311,3))","v":""},{"$f":"IF(OR($E1311<>0,$C1311=\"\"),\"\",INDEX(Categories!$A:$E,Entries!$D1311,4))","v":""},{"$f":"IF(OR($E1311<>0,$C1311=\"\"),\"\",INDEX(Categories!$A:$E,Entries!$D1311,5))","v":""},"2014-01-01","2014-01-01",{"$f":"(Entries!K1312-Entries!K1311)*24*60","v":0}]
["",null,null,{"$f":"MATCH(C1312,Categories!A:A,0)","v":{"$error":"#N/A"}},0,{"$f":"IF(OR($E1312<>0,$C1312=\"\"),\"\",INDEX(Categories!$A:$E,Entries!$D1312,2))","v":""},{"$f":"IF(OR($E1312<>0,$C1312=\"\"),\"\",INDEX(Categories!$A:$E,Entries!$D1312,3))","v":""},{"$f":"IF(OR($E1312<>0,$C1312=\"\"),\"\",INDEX(Categories!$A:$E,Entries!$D1312,4))","v":""},{"$f":"IF(OR($E1312<>0,$C1312=\"\"),\"\",INDEX(Categories!$A:$E,Entries!$D1312,5))","v":""},"2014-01-01","2014-01-01",{"$f":"(Entries!K1313-Entries!K1312)*24*60","v":0}]
["",null,null,{"$f":"MATCH(C1313,Categories!A:A,0)","v":{"$error":"#N/A"}},0,{"$f":"IF(OR($E1313<>0,$C1313=\"\"),\"\",INDEX(Categories!$A:$E,Entries!$D1313,2))","v":""},{"$f":"IF(OR($E1313<>0,$C1313=\"\"),\"\",INDEX(Categories!$A:$E,Entries!$D1313,3))","v":""},{"$f":"IF(OR($E1313<>0,$C1313=\"\"),\"\",INDEX(Categories!$A:$E,Entries!$D1313,4))","v":""},{"$f":"IF(OR($E1313<>0,$C1313=\"\"),\"\",INDEX(Categories!$A:$E,Entries!$D1313,5))","v":""},"2014-01-01","2014-01-01",{"$f":"(Entries!K1314-Entries!K1313)*24*60","v":0}]
["",null,null,{"$f":"MATCH(C1314,Categories!A:A,0)","v":{"$error":"#N/A"}},0,{"$f":"IF(OR($E1314<>0,$C1314=\"\"),\"\",INDEX(Categories!$A:$E,Entries!$D1314,2))","v":""},{"$f":"IF(OR($E1314<>0,$C1314=\"\"),\"\",INDEX(Categories!$A:$E,Entries!$D1314,3))","v":""},{"$f":"IF(OR($E1314<>0,$C1314=\"\"),\"\",INDEX(Categories!$A:$E,Entries!$D1314,4))","v":""},{"$f":"IF(OR($E1314<>0,$C1314=\"\"),\"\",INDEX(Categories!$A:$E,Entries!$D1314,5))","v":""},"2014-01-01","2014-01-01",{"$f":"(Entries!K1315-Entries!K1314)*24*60","v":0}]
["",null,null,{"$f":"MATCH(C1315,Categories!A:A,0)","v":{"$error":"#N/A"}},0,{"$f":"IF(OR($E1315<>0,$C1315=\"\"),\"\",INDEX(Categories!$A:$E,Entries!$D1315,2))","v":""},{"$f":"IF(OR($E1315<>0,$C1315=\"\"),\"\",INDEX(Categories!$A:$E,Entries!$D1315,3))","v":""},{"$f":"IF(OR($E1315<>0,$C1315=\"\"),\"\",INDEX(Categories!$A:$E,Entries!$D1315,4))","v":""},{"$f":"IF(OR($E1315<>0,$C1315=\"\"),\"\",INDEX(Categories!$A:$E,Entries!$D1315,5))","v":""},"2014-01-01","2014-01-01",{"$f":"(Entries!K1316-Entries!K1315)*24*60","v":0}]
[{"$f":"IF(OR(B1316>=B1315,C1315=\"z\",B1316=\"\"),\"\",J1315+1)","v":""},null,null,{"$f":"MATCH(C1316,Categories!A:A,0)","v":{"$error":"#N/A"}},0,{"$f":"IF(OR($E1316<>0,$C1316=\"\"),\"\",INDEX(Categories!$A:$E,Entries!$D1316,2))","v":""},{"$f":"IF(OR($E1316<>0,$C1316=\"\"),\"\",INDEX(Categories!$A:$E,Entries!$D1316,3))","v":""},{"$f":"IF(OR($E1316<>0,$C1316=\"\"),\"\",INDEX(Categories!$A:$E,Entries!$D1316,4))","v":""},{"$f":"IF(OR($E1316<>0,$C1316=\"\"),\"\",INDEX(Categories!$A:$E,Entries!$D1316,5))","v":""},"2014-01-01","2014-01-01",{"$f":"(Entries!K1317-Entries!K1316)*24*60","v":0}]
["",null,null,{"$f":"MATCH(C1317,Categories!A:A,0)","v":{"$error":"#N/A"}},0,{"$f":"IF(OR($E1317<>0,$C1317=\"\"),\"\",INDEX(Categories!$A:$E,Entries!$D1317,2))","v":""},{"$f":"IF(OR($E1317<>0,$C1317=\"\"),\"\",INDEX(Categories!$A:$E,Entries!$D1317,3))","v":""},{"$f":"IF(OR($E1317<>0,$C1317=\"\"),\"\",INDEX(Categories!$A:$E,Entries!$D1317,4))","v":""},{"$f":"IF(OR($E1317<>0,$C1317=\"\"),\"\",INDEX(Categories!$A:$E,Entries!$D1317,5))","v":""},"2014-01-01","2014-01-01",{"$f":"(Entries!K1318-Entries!K1317)*24*60","v":0}]
["",null,null,{"$f":"MATCH(C1318,Categories!A:A,0)","v":{"$error":"#N/A"}},0,{"$f":"IF(OR($E1318<>0,$C1318=\"\"),\"\",INDEX(Categories!$A:$E,Entries!$D1318,2))","v":""},{"$f":"IF(OR($E1318<>0,$C1318=\"\"),\"\",INDEX(Categories!$A:$E,Entries!$D1318,3))","v":""},{"$f":"IF(OR($E1318<>0,$C1318=\"\"),\"\",INDEX(Categories!$A:$E,Entries!$D1318,4))","v":""},{"$f":"IF(OR($E1318<>0,$C1318=\"\"),\"\",INDEX(Categories!$A:$E,Entries!$D1318,5))","v":""},"2014-01-01","2014-01-01",{"$f":"(Entries!K1319-Entries!K1318)*24*60","v":0}]
["",null,null,{"$f":"MATCH(C1319,Categories!A:A,0)","v":{"$error":"#N/A"}},0,{"$f":"IF(OR($E1319<>0,$C1319=\"\"),\"\",INDEX(Categories!$A:$E,Entries!$D1319,2))","v":""},{"$f":"IF(OR($E1319<>0,$C1319=\"\"),\"\",INDEX(Categories!$A:$E,Entries!$D1319,3))","v":""},{"$f":"IF(OR($E1319<>0,$C1319=\"\"),\"\",INDEX(Categories!$A:$E,Entries!$D1319,4))","v":""},{"$f":"IF(OR($E1319<>0,$C1319=\"\"),\"\",INDEX(Categories!$A:$E,Entries!$D1319,5))","v":""},"2014-01-01","2014-01-01",{"$f":"(Entries!K1320-Entries!K1319)*24*60","v":0}]
["",null,null,{"$f":"MATCH(C1320,Categories!A:A,0)","v":{"$error":"#N/A"}},0,{"$f":"IF(OR($E1320<>0,$C1320=\"\"),\"\",INDEX(Categories!$A:$E,Entries!$D1320,2))","v":""},{"$f":"IF(OR($E1320<>0,$C1320=\"\"),\"\",INDEX(Categories!$A:$E,Entries!$D1320,3))","v":""},{"$f":"IF(OR($E1320<>0,$C1320=\"\"),\"\",INDEX(Categories!$A:$E,Entries!$D1320,4))","v":""},{"$f":"IF(OR($E1320<>0,$C1320=\"\"),\"\",INDEX(Categories!$A:$E,Entries!$D1320,5))","v":""},"2014-01-01","2014-01-01",{"$f":"(Entries!K1321-Entries!K1320)*24*60","v":0}]
["",null,null,{"$f":"MATCH(C1321,Categories!A:A,0)","v":{"$error":"#N/A"}},0,{"$f":"IF(OR($E1321<>0,$C1321=\"\"),\"\",INDEX(Categories!$A:$E,Entries!$D1321,2))","v":""},{"$f":"IF(OR($E1321<>0,$C1321=\"\"),\"\",INDEX(Categories!$A:$E,Entries!$D1321,3))","v":""},{"$f":"IF(OR($E1321<>0,$C1321=\"\"),\"\",INDEX(Categories!$A:$E,Entries!$D1321,4))","v":""},{"$f":"IF(OR($E1321<>0,$C1321=\"\"),\"\",INDEX(Categories!$A:$E,Entries!$D1321,5))","v":""},"2014-01-01","2014-01-01",{"$f":"(Entries!K1322-Entries!K1321)*24*60","v":0}]
["",null,null,{"$f":"MATCH(C1322,Categories!A:A,0)","v":{"$error":"#N/A"}},0,{"$f":"IF(OR($E1322<>0,$C1322=\"\"),\"\",INDEX(Categories!$A:$E,Entries!$D1322,2))","v":""},{"$f":"IF(OR($E1322<>0,$C1322=\"\"),\"\",INDEX(Categories!$A:$E,Entries!$D1322,3))","v":""},{"$f":"IF(OR($E1322<>0,$C1322=\"\"),\"\",INDEX(Categories!$A:$E,Entries!$D1322,4))","v":""},{"$f":"IF(OR($E1322<>0,$C1322=\"\"),\"\",INDEX(Categories!$A:$E,Entries!$D1322,5))","v":""},"2014-01-01","2014-01-01",{"$f":"(Entries!K1323-Entries!K1322)*24*60","v":0}]
["",null,null,{"$f":"MATCH(C1323,Categories!A:A,0)","v":{"$error":"#N/A"}},0,{"$f":"IF(OR($E1323<>0,$C1323=\"\"),\"\",INDEX(Categories!$A:$E,Entries!$D1323,2))","v":""},{"$f":"IF(OR($E1323<>0,$C1323=\"\"),\"\",INDEX(Categories!$A:$E,Entries!$D1323,3))","v":""},{"$f":"IF(OR($E1323<>0,$C1323=\"\"),\"\",INDEX(Categories!$A:$E,Entries!$D1323,4))","v":""},{"$f":"IF(OR($E1323<>0,$C1323=\"\"),\"\",INDEX(Categories!$A:$E,Entries!$D1323,5))","v":""},"2014-01-01","2014-01-01",{"$f":"(Entries!K1324-Entries!K1323)*24*60","v":0}]
["",null,null,{"$f":"MATCH(C1324,Categories!A:A,0)","v":{"$error":"#N/A"}},0,{"$f":"IF(OR($E1324<>0,$C1324=\"\"),\"\",INDEX(Categories!$A:$E,Entries!$D1324,2))","v":""},{"$f":"IF(OR($E1324<>0,$C1324=\"\"),\"\",INDEX(Categories!$A:$E,Entries!$D1324,3))","v":""},{"$f":"IF(OR($E1324<>0,$C1324=\"\"),\"\",INDEX(Categories!$A:$E,Entries!$D1324,4))","v":""},{"$f":"IF(OR($E1324<>0,$C1324=\"\"),\"\",INDEX(Categories!$A:$E,Entries!$D1324,5))","v":""},"2014-01-01","2014-01-01",{"$f":"(Entries!K1325-Entries!K1324)*24*60","v":0}]
["",null,null,{"$f":"MATCH(C1325,Categories!A:A,0)","v":{"$error":"#N/A"}},0,{"$f":"IF(OR($E1325<>0,$C1325=\"\"),\"\",INDEX(Categories!$A:$E,Entries!$D1325,2))","v":""},{"$f":"IF(OR($E1325<>0,$C1325=\"\"),\"\",INDEX(Categories!$A:$E,Entries!$D1325,3))","v":""},{"$f":"IF(OR($E1325<>0,$C1325=\"\"),\"\",INDEX(Categories!$A:$E,Entries!$D1325,4))","v":""},{"$f":"IF(OR($E1325<>0,$C1325=\"\"),\"\",INDEX(Categories!$A:$E,Entries!$D1325,5))","v":""},"2014-01-01","2014-01-01",{"$f":"(Entries!K1326-Entries!K1325)*24*60","v":0}]
["",null,null,{"$f":"MATCH(C1326,Categories!A:A,0)","v":{"$error":"#N/A"}},0,{"$f":"IF(OR($E1326<>0,$C1326=\"\"),\"\",INDEX(Categories!$A:$E,Entries!$D1326,2))","v":""},{"$f":"IF(OR($E1326<>0,$C1326=\"\"),\"\",INDEX(Categories!$A:$E,Entries!$D1326,3))","v":""},{"$f":"IF(OR($E1326<>0,$C1326=\"\"),\"\",INDEX(Categories!$A:$E,Entries!$D1326,4))","v":""},{"$f":"IF(OR($E1326<>0,$C1326=\"\"),\"\",INDEX(Categories!$A:$E,Entries!$D1326,5))","v":""},"2014-01-01","2014-01-01",{"$f":"(Entries!K1327-Entries!K1326)*24*60","v":0}]
["",null,null,{"$f":"MATCH(C1327,Categories!A:A,0)","v":{"$error":"#N/A"}},0,{"$f":"IF(OR($E1327<>0,$C1327=\"\"),\"\",INDEX(Categories!$A:$E,Entries!$D1327,2))","v":""},{"$f":"IF(OR($E1327<>0,$C1327=\"\"),\"\",INDEX(Categories!$A:$E,Entries!$D1327,3))","v":""},{"$f":"IF(OR($E1327<>0,$C1327=\"\"),\"\",INDEX(Categories!$A:$E,Entries!$D1327,4))","v":""},{"$f":"IF(OR($E1327<>0,$C1327=\"\"),\"\",INDEX(Categories!$A:$E,Entries!$D1327,5))","v":""},"2014-01-01","2014-01-01",{"$f":"(Entries!K1328-Entries!K1327)*24*60","v":0}]
["",null,null,{"$f":"MATCH(C1328,Categories!A:A,0)","v":{"$error":"#N/A"}},0,{"$f":"IF(OR($E1328<>0,$C1328=\"\"),\"\",INDEX(Categories!$A:$E,Entries!$D1328,2))","v":""},{"$f":"IF(OR($E1328<>0,$C1328=\"\"),\"\",INDEX(Categories!$A:$E,Entries!$D1328,3))","v":""},{"$f":"IF(OR($E1328<>0,$C1328=\"\"),\"\",INDEX(Categories!$A:$E,Entries!$D1328,4))","v":""},{"$f":"IF(OR($E1328<>0,$C1328=\"\"),\"\",INDEX(Categories!$A:$E,Entries!$D1328,5))","v":""},"2014-01-01","2014-01-01",{"$f":"(Entries!K1329-Entries!K1328)*24*60","v":0}]
["",null,null,{"$f":"MATCH(C1329,Categories!A:A,0)","v":{"$error":"#N/A"}},0,{"$f":"IF(OR($E1329<>0,$C1329=\"\"),\"\",INDEX(Categories!$A:$E,Entries!$D1329,2))","v":""},{"$f":"IF(OR($E1329<>0,$C1329=\"\"),\"\",INDEX(Categories!$A:$E,Entries!$D1329,3))","v":""},{"$f":"IF(OR($E1329<>0,$C1329=\"\"),\"\",INDEX(Categories!$A:$E,Entries!$D1329,4))","v":""},{"$f":"IF(OR($E1329<>0,$C1329=\"\"),\"\",INDEX(Categories!$A:$E,Entries!$D1329,5))","v":""},"2014-01-01","2014-01-01",{"$f":"(Entries!K1330-Entries!K1329)*24*60","v":0}]
["",null,null,{"$f":"MATCH(C1330,Categories!A:A,0)","v":{"$error":"#N/A"}},0,{"$f":"IF(OR($E1330<>0,$C1330=\"\"),\"\",INDEX(Categories!$A:$E,Entries!$D1330,2))","v":""},{"$f":"IF(OR($E1330<>0,$C1330=\"\"),\"\",INDEX(Categories!$A:$E,Entries!$D1330,3))","v":""},{"$f":"IF(OR($E1330<>0,$C1330=\"\"),\"\",INDEX(Categories!$A:$E,Entries!$D1330,4))","v":""},{"$f":"IF(OR($E1330<>0,$C1330=\"\"),\"\",INDEX(Categories!$A:$E,Entries!$D1330,5))","v":""},"2014-01-01","2014-01-01",{"$f":"(Entries!K1331-Entries!K1330)*24*60","v":0}]
["",null,null,{"$f":"MATCH(C1331,Categories!A:A,0)","v":{"$error":"#N/A"}},0,{"$f":"IF(OR($E1331<>0,$C1331=\"\"),\"\",INDEX(Categories!$A:$E,Entries!$D1331,2))","v":""},{"$f":"IF(OR($E1331<>0,$C1331=\"\"),\"\",INDEX(Categories!$A:$E,Entries!$D1331,3))","v":""},{"$f":"IF(OR($E1331<>0,$C1331=\"\"),\"\",INDEX(Categories!$A:$E,Entries!$D1331,4))","v":""},{"$f":"IF(OR($E1331<>0,$C1331=\"\"),\"\",INDEX(Categories!$A:$E,Entries!$D1331,5))","v":""},"2014-01-01","2014-01-01",{"$f":"(Entries!K1332-Entries!K1331)*24*60","v":0}]
["",null,null,{"$f":"MATCH(C1332,Categories!A:A,0)","v":{"$error":"#N/A"}},0,{"$f":"IF(OR($E1332<>0,$C1332=\"\"),\"\",INDEX(Categories!$A:$E,Entries!$D1332,2))","v":""},{"$f":"IF(OR($E1332<>0,$C1332=\"\"),\"\",INDEX(Categories!$A:$E,Entries!$D1332,3))","v":""},{"$f":"IF(OR($E1332<>0,$C1332=\"\"),\"\",INDEX(Categories!$A:$E,Entries!$D1332,4))","v":""},{"$f":"IF(OR($E1332<>0,$C1332=\"\"),\"\",INDEX(Categories!$A:$E,Entries!$D1332,5))","v":""},"2014-01-01","2014-01-01",{"$f":"(Entries!K1333-Entries!K1332)*24*60","v":0}]
["",null,null,{"$f":"MATCH(C1333,Categories!A:A,0)","v":{"$error":"#N/A"}},0,{"$f":"IF(OR($E1333<>0,$C1333=\"\"),\"\",INDEX(Categories!$A:$E,Entries!$D1333,2))","v":""},{"$f":"IF(OR($E1333<>0,$C1333=\"\"),\"\",INDEX(Categories!$A:$E,Entries!$D1333,3))","v":""},{"$f":"IF(OR($E1333<>0,$C1333=\"\"),\"\",INDEX(Categories!$A:$E,Entries!$D1333,4))","v":""},{"$f":"IF(OR($E1333<>0,$C1333=\"\"),\"\",INDEX(Categories!$A:$E,Entries!$D1333,5))","v":""},"2014-01-01","2014-01-01",{"$f":"(Entries!K1334-Entries!K1333)*24*60","v":0}]
["",null,null,{"$f":"MATCH(C1334,Categories!A:A,0)","v":{"$error":"#N/A"}},0,{"$f":"IF(OR($E1334<>0,$C1334=\"\"),\"\",INDEX(Categories!$A:$E,Entries!$D1334,2))","v":""},{"$f":"IF(OR($E1334<>0,$C1334=\"\"),\"\",INDEX(Categories!$A:$E,Entries!$D1334,3))","v":""},{"$f":"IF(OR($E1334<>0,$C1334=\"\"),\"\",INDEX(Categories!$A:$E,Entries!$D1334,4))","v":""},{"$f":"IF(OR($E1334<>0,$C1334=\"\"),\"\",INDEX(Categories!$A:$E,Entries!$D1334,5))","v":""},"2014-01-01","2014-01-01",{"$f":"(Entries!K1335-Entries!K1334)*24*60","v":0}]
["",null,null,{"$f":"MATCH(C1335,Categories!A:A,0)","v":{"$error":"#N/A"}},0,{"$f":"IF(OR($E1335<>0,$C1335=\"\"),\"\",INDEX(Categories!$A:$E,Entries!$D1335,2))","v":""},{"$f":"IF(OR($E1335<>0,$C1335=\"\"),\"\",INDEX(Categories!$A:$E,Entries!$D1335,3))","v":""},{"$f":"IF(OR($E1335<>0,$C1335=\"\"),\"\",INDEX(Categories!$A:$E,Entries!$D1335,4))","v":""},{"$f":"IF(OR($E1335<>0,$C1335=\"\"),\"\",INDEX(Categories!$A:$E,Entries!$D1335,5))","v":""},"2014-01-01","2014-01-01",{"$f":"(Entries!K1336-Entries!K1335)*24*60","v":0}]
["",null,null,{"$f":"MATCH(C1336,Categories!A:A,0)","v":{"$error":"#N/A"}},0,{"$f":"IF(OR($E1336<>0,$C1336=\"\"),\"\",INDEX(Categories!$A:$E,Entries!$D1336,2))","v":""},{"$f":"IF(OR($E1336<>0,$C1336=\"\"),\"\",INDEX(Categories!$A:$E,Entries!$D1336,3))","v":""},{"$f":"IF(OR($E1336<>0,$C1336=\"\"),\"\",INDEX(Categories!$A:$E,Entries!$D1336,4))","v":""},{"$f":"IF(OR($E1336<>0,$C1336=\"\"),\"\",INDEX(Categories!$A:$E,Entries!$D1336,5))","v":""},"2014-01-01","2014-01-01",{"$f":"(Entries!K1337-Entries!K1336)*24*60","v":0}]
["",null,null,{"$f":"MATCH(C1337,Categories!A:A,0)","v":{"$error":"#N/A"}},0,{"$f":"IF(OR($E1337<>0,$C1337=\"\"),\"\",INDEX(Categories!$A:$E,Entries!$D1337,2))","v":""},{"$f":"IF(OR($E1337<>0,$C1337=\"\"),\"\",INDEX(Categories!$A:$E,Entries!$D1337,3))","v":""},{"$f":"IF(OR($E1337<>0,$C1337=\"\"),\"\",INDEX(Categories!$A:$E,Entries!$D1337,4))","v":""},{"$f":"IF(OR($E1337<>0,$C1337=\"\"),\"\",INDEX(Categories!$A:$E,Entries!$D1337,5))","v":""},"2014-01-01","2014-01-01",{"$f":"(Entries!K1338-Entries!K1337)*24*60","v":0}]
["",null,null,{"$f":"MATCH(C1338,Categories!A:A,0)","v":{"$error":"#N/A"}},0,{"$f":"IF(OR($E1338<>0,$C1338=\"\"),\"\",INDEX(Categories!$A:$E,Entries!$D1338,2))","v":""},{"$f":"IF(OR($E1338<>0,$C1338=\"\"),\"\",INDEX(Categories!$A:$E,Entries!$D1338,3))","v":""},{"$f":"IF(OR($E1338<>0,$C1338=\"\"),\"\",INDEX(Categories!$A:$E,Entries!$D1338,4))","v":""},{"$f":"IF(OR($E1338<>0,$C1338=\"\"),\"\",INDEX(Categories!$A:$E,Entries!$D1338,5))","v":""},"2014-01-01","2014-01-01",{"$f":"(Entries!K1339-Entries!K1338)*24*60","v":0}]
["",null,null,{"$f":"MATCH(C1339,Categories!A:A,0)","v":{"$error":"#N/A"}},0,{"$f":"IF(OR($E1339<>0,$C1339=\"\"),\"\",INDEX(Categories!$A:$E,Entries!$D1339,2))","v":""},{"$f":"IF(OR($E1339<>0,$C1339=\"\"),\"\",INDEX(Categories!$A:$E,Entries!$D1339,3))","v":""},{"$f":"IF(OR($E1339<>0,$C1339=\"\"),\"\",INDEX(Categories!$A:$E,Entries!$D1339,4))","v":""},{"$f":"IF(OR($E1339<>0,$C1339=\"\"),\"\",INDEX(Categories!$A:$E,Entries!$D1339,5))","v":""},"2014-01-01","2014-01-01",{"$f":"(Entries!K1340-Entries!K1339)*24*60","v":0}]
["",null,null,{"$f":"MATCH(C1340,Categories!A:A,0)","v":{"$error":"#N/A"}},0,{"$f":"IF(OR($E1340<>0,$C1340=\"\"),\"\",INDEX(Categories!$A:$E,Entries!$D1340,2))","v":""},{"$f":"IF(OR($E1340<>0,$C1340=\"\"),\"\",INDEX(Categories!$A:$E,Entries!$D1340,3))","v":""},{"$f":"IF(OR($E1340<>0,$C1340=\"\"),\"\",INDEX(Categories!$A:$E,Entries!$D1340,4))","v":""},{"$f":"IF(OR($E1340<>0,$C1340=\"\"),\"\",INDEX(Categories!$A:$E,Entries!$D1340,5))","v":""},"2014-01-01","2014-01-01",{"$f":"(Entries!K1341-Entries!K1340)*24*60","v":0}]
["",null,null,{"$f":"MATCH(C1341,Categories!A:A,0)","v":{"$error":"#N/A"}},0,{"$f":"IF(OR($E1341<>0,$C1341=\"\"),\"\",INDEX(Categories!$A:$E,Entries!$D1341,2))","v":""},{"$f":"IF(OR($E1341<>0,$C1341=\"\"),\"\",INDEX(Categories!$A:$E,Entries!$D1341,3))","v":""},{"$f":"IF(OR($E1341<>0,$C1341=\"\"),\"\",INDEX(Categories!$A:$E,Entries!$D1341,4))","v":""},{"$f":"IF(OR($E1341<>0,$C1341=\"\"),\"\",INDEX(Categories!$A:$E,Entries!$D1341,5))","v":""},"2014-01-01","2014-01-01",{"$f":"(Entries!K1342-Entries!K1341)*24*60","v":0}]
["",null,null,{"$f":"MATCH(C1342,Categories!A:A,0)","v":{"$error":"#N/A"}},0,{"$f":"IF(OR($E1342<>0,$C1342=\"\"),\"\",INDEX(Categories!$A:$E,Entries!$D1342,2))","v":""},{"$f":"IF(OR($E1342<>0,$C1342=\"\"),\"\",INDEX(Categories!$A:$E,Entries!$D1342,3))","v":""},{"$f":"IF(OR($E1342<>0,$C1342=\"\"),\"\",INDEX(Categories!$A:$E,Entries!$D1342,4))","v":""},{"$f":"IF(OR($E1342<>0,$C1342=\"\"),\"\",INDEX(Categories!$A:$E,Entries!$D1342,5))","v":""},"2014-01-01","2014-01-01",{"$f":"(Entries!K1343-Entries!K1342)*24*60","v":0}]
["",null,null,{"$f":"MATCH(C1343,Categories!A:A,0)","v":{"$error":"#N/A"}},0,{"$f":"IF(OR($E1343<>0,$C1343=\"\"),\"\",INDEX(Categories!$A:$E,Entries!$D1343,2))","v":""},{"$f":"IF(OR($E1343<>0,$C1343=\"\"),\"\",INDEX(Categories!$A:$E,Entries!$D1343,3))","v":""},{"$f":"IF(OR($E1343<>0,$C1343=\"\"),\"\",INDEX(Categories!$A:$E,Entries!$D1343,4))","v":""},{"$f":"IF(OR($E1343<>0,$C1343=\"\"),\"\",INDEX(Categories!$A:$E,Entries!$D1343,5))","v":""},"2014-01-01","2014-01-01",{"$f":"(Entries!K1344-Entries!K1343)*24*60","v":0}]
["",null,null,{"$f":"MATCH(C1344,Categories!A:A,0)","v":{"$error":"#N/A"}},0,{"$f":"IF(OR($E1344<>0,$C1344=\"\"),\"\",INDEX(Categories!$A:$E,Entries!$D1344,2))","v":""},{"$f":"IF(OR($E1344<>0,$C1344=\"\"),\"\",INDEX(Categories!$A:$E,Entries!$D1344,3))","v":""},{"$f":"IF(OR($E1344<>0,$C1344=\"\"),\"\",INDEX(Categories!$A:$E,Entries!$D1344,4))","v":""},{"$f":"IF(OR($E1344<>0,$C1344=\"\"),\"\",INDEX(Categories!$A:$E,Entries!$D1344,5))","v":""},"2014-01-01","2014-01-01",{"$f":"(Entries!K1345-Entries!K1344)*24*60","v":0}]
["",null,null,{"$f":"MATCH(C1345,Categories!A:A,0)","v":{"$error":"#N/A"}},0,{"$f":"IF(OR($E1345<>0,$C1345=\"\"),\"\",INDEX(Categories!$A:$E,Entries!$D1345,2))","v":""},{"$f":"IF(OR($E1345<>0,$C1345=\"\"),\"\",INDEX(Categories!$A:$E,Entries!$D1345,3))","v":""},{"$f":"IF(OR($E1345<>0,$C1345=\"\"),\"\",INDEX(Categories!$A:$E,Entries!$D1345,4))","v":""},{"$f":"IF(OR($E1345<>0,$C1345=\"\"),\"\",INDEX(Categories!$A:$E,Entries!$D1345,5))","v":""},"2014-01-01","2014-01-01",{"$f":"(Entries!K1346-Entries!K1345)*24*60","v":0}]
["",null,null,{"$f":"MATCH(C1346,Categories!A:A,0)","v":{"$error":"#N/A"}},{"$f":"IF(AND(ISERROR(D1346),C1346<>\"\"),ROW(D1346),0)","v":0},{"$f":"IF(OR($E1346<>0,$C1346=\"\"),\"\",INDEX(Categories!$A:$E,Entries!$D1346,2))","v":""},{"$f":"IF(OR($E1346<>0,$C1346=\"\"),\"\",INDEX(Categories!$A:$E,Entries!$D1346,3))","v":""},{"$f":"IF(OR($E1346<>0,$C1346=\"\"),\"\",INDEX(Categories!$A:$E,Entries!$D1346,4))","v":""},{"$f":"IF(OR($E1346<>0,$C1346=\"\"),\"\",INDEX(Categories!$A:$E,Entries!$D1346,5))","v":""},{"$f":"IF(A1346=\"\",J1345,A1346)","v":"2014-01-01"},{"$f":"J1346+B1346","v":"2014-01-01"},{"$f":"(Entries!K1347-Entries!K1346)*24*60","v":0}]
["",null,null,{"$f":"MATCH(C1347,Categories!A:A,0)","v":{"$error":"#N/A"}},0,{"$f":"IF(OR($E1347<>0,$C1347=\"\"),\"\",INDEX(Categories!$A:$E,Entries!$D1347,2))","v":""},{"$f":"IF(OR($E1347<>0,$C1347=\"\"),\"\",INDEX(Categories!$A:$E,Entries!$D1347,3))","v":""},{"$f":"IF(OR($E1347<>0,$C1347=\"\"),\"\",INDEX(Categories!$A:$E,Entries!$D1347,4))","v":""},{"$f":"IF(OR($E1347<>0,$C1347=\"\"),\"\",INDEX(Categories!$A:$E,Entries!$D1347,5))","v":""},"2014-01-01","2014-01-01",{"$f":"(Entries!K1348-Entries!K1347)*24*60","v":0}]
["",null,null,{"$f":"MATCH(C1348,Categories!A:A,0)","v":{"$error":"#N/A"}},0,{"$f":"IF(OR($E1348<>0,$C1348=\"\"),\"\",INDEX(Categories!$A:$E,Entries!$D1348,2))","v":""},{"$f":"IF(OR($E1348<>0,$C1348=\"\"),\"\",INDEX(Categories!$A:$E,Entries!$D1348,3))","v":""},{"$f":"IF(OR($E1348<>0,$C1348=\"\"),\"\",INDEX(Categories!$A:$E,Entries!$D1348,4))","v":""},{"$f":"IF(OR($E1348<>0,$C1348=\"\"),\"\",INDEX(Categories!$A:$E,Entries!$D1348,5))","v":""},"2014-01-01","2014-01-01",{"$f":"(Entries!K1349-Entries!K1348)*24*60","v":0}]
["",null,null,{"$f":"MATCH(C1349,Categories!A:A,0)","v":{"$error":"#N/A"}},0,{"$f":"IF(OR($E1349<>0,$C1349=\"\"),\"\",INDEX(Categories!$A:$E,Entries!$D1349,2))","v":""},{"$f":"IF(OR($E1349<>0,$C1349=\"\"),\"\",INDEX(Categories!$A:$E,Entries!$D1349,3))","v":""},{"$f":"IF(OR($E1349<>0,$C1349=\"\"),\"\",INDEX(Categories!$A:$E,Entries!$D1349,4))","v":""},{"$f":"IF(OR($E1349<>0,$C1349=\"\"),\"\",INDEX(Categories!$A:$E,Entries!$D1349,5))","v":""},"2014-01-01","2014-01-01",{"$f":"(Entries!K1350-Entries!K1349)*24*60","v":0}]
["",null,null,{"$f":"MATCH(C1350,Categories!A:A,0)","v":{"$error":"#N/A"}},0,{"$f":"IF(OR($E1350<>0,$C1350=\"\"),\"\",INDEX(Categories!$A:$E,Entries!$D1350,2))","v":""},{"$f":"IF(OR($E1350<>0,$C1350=\"\"),\"\",INDEX(Categories!$A:$E,Entries!$D1350,3))","v":""},{"$f":"IF(OR($E1350<>0,$C1350=\"\"),\"\",INDEX(Categories!$A:$E,Entries!$D1350,4))","v":""},{"$f":"IF(OR($E1350<>0,$C1350=\"\"),\"\",INDEX(Categories!$A:$E,Entries!$D1350,5))","v":""},"2014-01-01","2014-01-01",{"$f":"(Entries!K1351-Entries!K1350)*24*60","v":0}]
["",null,null,{"$f":"MATCH(C1351,Categories!A:A,0)","v":{"$error":"#N/A"}},0,{"$f":"IF(OR($E1351<>0,$C1351=\"\"),\"\",INDEX(Categories!$A:$E,Entries!$D1351,2))","v":""},{"$f":"IF(OR($E1351<>0,$C1351=\"\"),\"\",INDEX(Categories!$A:$E,Entries!$D1351,3))","v":""},{"$f":"IF(OR($E1351<>0,$C1351=\"\"),\"\",INDEX(Categories!$A:$E,Entries!$D1351,4))","v":""},{"$f":"IF(OR($E1351<>0,$C1351=\"\"),\"\",INDEX(Categories!$A:$E,Entries!$D1351,5))","v":""},"2014-01-01","2014-01-01",{"$f":"(Entries!K1352-Entries!K1351)*24*60","v":0}]
["",null,null,{"$f":"MATCH(C1352,Categories!A:A,0)","v":{"$error":"#N/A"}},0,{"$f":"IF(OR($E1352<>0,$C1352=\"\"),\"\",INDEX(Categories!$A:$E,Entries!$D1352,2))","v":""},{"$f":"IF(OR($E1352<>0,$C1352=\"\"),\"\",INDEX(Categories!$A:$E,Entries!$D1352,3))","v":""},{"$f":"IF(OR($E1352<>0,$C1352=\"\"),\"\",INDEX(Categories!$A:$E,Entries!$D1352,4))","v":""},{"$f":"IF(OR($E1352<>0,$C1352=\"\"),\"\",INDEX(Categories!$A:$E,Entries!$D1352,5))","v":""},"2014-01-01","2014-01-01",{"$f":"(Entries!K1353-Entries!K1352)*24*60","v":0}]
["",null,null,{"$f":"MATCH(C1353,Categories!A:A,0)","v":{"$error":"#N/A"}},0,{"$f":"IF(OR($E1353<>0,$C1353=\"\"),\"\",INDEX(Categories!$A:$E,Entries!$D1353,2))","v":""},{"$f":"IF(OR($E1353<>0,$C1353=\"\"),\"\",INDEX(Categories!$A:$E,Entries!$D1353,3))","v":""},{"$f":"IF(OR($E1353<>0,$C1353=\"\"),\"\",INDEX(Categories!$A:$E,Entries!$D1353,4))","v":""},{"$f":"IF(OR($E1353<>0,$C1353=\"\"),\"\",INDEX(Categories!$A:$E,Entries!$D1353,5))","v":""},"2014-01-01","2014-01-01",{"$f":"(Entries!K1354-Entries!K1353)*24*60","v":0}]
["",null,null,{"$f":"MATCH(C1354,Categories!A:A,0)","v":{"$error":"#N/A"}},0,{"$f":"IF(OR($E1354<>0,$C1354=\"\"),\"\",INDEX(Categories!$A:$E,Entries!$D1354,2))","v":""},{"$f":"IF(OR($E1354<>0,$C1354=\"\"),\"\",INDEX(Categories!$A:$E,Entries!$D1354,3))","v":""},{"$f":"IF(OR($E1354<>0,$C1354=\"\"),\"\",INDEX(Categories!$A:$E,Entries!$D1354,4))","v":""},{"$f":"IF(OR($E1354<>0,$C1354=\"\"),\"\",INDEX(Categories!$A:$E,Entries!$D1354,5))","v":""},"2014-01-01","2014-01-01",{"$f":"(Entries!K1355-Entries!K1354)*24*60","v":0}]
["",null,null,{"$f":"MATCH(C1355,Categories!A:A,0)","v":{"$error":"#N/A"}},0,{"$f":"IF(OR($E1355<>0,$C1355=\"\"),\"\",INDEX(Categories!$A:$E,Entries!$D1355,2))","v":""},{"$f":"IF(OR($E1355<>0,$C1355=\"\"),\"\",INDEX(Categories!$A:$E,Entries!$D1355,3))","v":""},{"$f":"IF(OR($E1355<>0,$C1355=\"\"),\"\",INDEX(Categories!$A:$E,Entries!$D1355,4))","v":""},{"$f":"IF(OR($E1355<>0,$C1355=\"\"),\"\",INDEX(Categories!$A:$E,Entries!$D1355,5))","v":""},"2014-01-01","2014-01-01",{"$f":"(Entries!K1356-Entries!K1355)*24*60","v":0}]
["",null,null,{"$f":"MATCH(C1356,Categories!A:A,0)","v":{"$error":"#N/A"}},0,{"$f":"IF(OR($E1356<>0,$C1356=\"\"),\"\",INDEX(Categories!$A:$E,Entries!$D1356,2))","v":""},{"$f":"IF(OR($E1356<>0,$C1356=\"\"),\"\",INDEX(Categories!$A:$E,Entries!$D1356,3))","v":""},{"$f":"IF(OR($E1356<>0,$C1356=\"\"),\"\",INDEX(Categories!$A:$E,Entries!$D1356,4))","v":""},{"$f":"IF(OR($E1356<>0,$C1356=\"\"),\"\",INDEX(Categories!$A:$E,Entries!$D1356,5))","v":""},"2014-01-01","2014-01-01",{"$f":"(Entries!K1357-Entries!K1356)*24*60","v":0}]
["",null,null,{"$f":"MATCH(C1357,Categories!A:A,0)","v":{"$error":"#N/A"}},0,{"$f":"IF(OR($E1357<>0,$C1357=\"\"),\"\",INDEX(Categories!$A:$E,Entries!$D1357,2))","v":""},{"$f":"IF(OR($E1357<>0,$C1357=\"\"),\"\",INDEX(Categories!$A:$E,Entries!$D1357,3))","v":""},{"$f":"IF(OR($E1357<>0,$C1357=\"\"),\"\",INDEX(Categories!$A:$E,Entries!$D1357,4))","v":""},{"$f":"IF(OR($E1357<>0,$C1357=\"\"),\"\",INDEX(Categories!$A:$E,Entries!$D1357,5))","v":""},"2014-01-01","2014-01-01",{"$f":"(Entries!K1358-Entries!K1357)*24*60","v":0}]
["",null,null,{"$f":"MATCH(C1358,Categories!A:A,0)","v":{"$error":"#N/A"}},0,{"$f":"IF(OR($E1358<>0,$C1358=\"\"),\"\",INDEX(Categories!$A:$E,Entries!$D1358,2))","v":""},{"$f":"IF(OR($E1358<>0,$C1358=\"\"),\"\",INDEX(Categories!$A:$E,Entries!$D1358,3))","v":""},{"$f":"IF(OR($E1358<>0,$C1358=\"\"),\"\",INDEX(Categories!$A:$E,Entries!$D1358,4))","v":""},{"$f":"IF(OR($E1358<>0,$C1358=\"\"),\"\",INDEX(Categories!$A:$E,Entries!$D1358,5))","v":""},"2014-01-01","2014-01-01",{"$f":"(Entries!K1359-Entries!K1358)*24*60","v":0}]
["",null,null,{"$f":"MATCH(C1359,Categories!A:A,0)","v":{"$error":"#N/A"}},0,{"$f":"IF(OR($E1359<>0,$C1359=\"\"),\"\",INDEX(Categories!$A:$E,Entries!$D1359,2))","v":""},{"$f":"IF(OR($E1359<>0,$C1359=\"\"),\"\",INDEX(Categories!$A:$E,Entries!$D1359,3))","v":""},{"$f":"IF(OR($E1359<>0,$C1359=\"\"),\"\",INDEX(Categories!$A:$E,Entries!$D1359,4))","v":""},{"$f":"IF(OR($E1359<>0,$C1359=\"\"),\"\",INDEX(Categories!$A:$E,Entries!$D1359,5))","v":""},"2014-01-01","2014-01-01",{"$f":"(Entries!K1360-Entries!K1359)*24*60","v":0}]
["",null,null,{"$f":"MATCH(C1360,Categories!A:A,0)","v":{"$error":"#N/A"}},0,{"$f":"IF(OR($E1360<>0,$C1360=\"\"),\"\",INDEX(Categories!$A:$E,Entries!$D1360,2))","v":""},{"$f":"IF(OR($E1360<>0,$C1360=\"\"),\"\",INDEX(Categories!$A:$E,Entries!$D1360,3))","v":""},{"$f":"IF(OR($E1360<>0,$C1360=\"\"),\"\",INDEX(Categories!$A:$E,Entries!$D1360,4))","v":""},{"$f":"IF(OR($E1360<>0,$C1360=\"\"),\"\",INDEX(Categories!$A:$E,Entries!$D1360,5))","v":""},"2014-01-01","2014-01-01",{"$f":"(Entries!K1361-Entries!K1360)*24*60","v":0}]
["",null,null,{"$f":"MATCH(C1361,Categories!A:A,0)","v":{"$error":"#N/A"}},0,{"$f":"IF(OR($E1361<>0,$C1361=\"\"),\"\",INDEX(Categories!$A:$E,Entries!$D1361,2))","v":""},{"$f":"IF(OR($E1361<>0,$C1361=\"\"),\"\",INDEX(Categories!$A:$E,Entries!$D1361,3))","v":""},{"$f":"IF(OR($E1361<>0,$C1361=\"\"),\"\",INDEX(Categories!$A:$E,Entries!$D1361,4))","v":""},{"$f":"IF(OR($E1361<>0,$C1361=\"\"),\"\",INDEX(Categories!$A:$E,Entries!$D1361,5))","v":""},"2014-01-01","2014-01-01",{"$f":"(Entries!K1362-Entries!K1361)*24*60","v":0}]
["",null,null,{"$f":"MATCH(C1362,Categories!A:A,0)","v":{"$error":"#N/A"}},0,{"$f":"IF(OR($E1362<>0,$C1362=\"\"),\"\",INDEX(Categories!$A:$E,Entries!$D1362,2))","v":""},{"$f":"IF(OR($E1362<>0,$C1362=\"\"),\"\",INDEX(Categories!$A:$E,Entries!$D1362,3))","v":""},{"$f":"IF(OR($E1362<>0,$C1362=\"\"),\"\",INDEX(Categories!$A:$E,Entries!$D1362,4))","v":""},{"$f":"IF(OR($E1362<>0,$C1362=\"\"),\"\",INDEX(Categories!$A:$E,Entries!$D1362,5))","v":""},"2014-01-01","2014-01-01",{"$f":"(Entries!K1363-Entries!K1362)*24*60","v":0}]
["",null,null,{"$f":"MATCH(C1363,Categories!A:A,0)","v":{"$error":"#N/A"}},0,{"$f":"IF(OR($E1363<>0,$C1363=\"\"),\"\",INDEX(Categories!$A:$E,Entries!$D1363,2))","v":""},{"$f":"IF(OR($E1363<>0,$C1363=\"\"),\"\",INDEX(Categories!$A:$E,Entries!$D1363,3))","v":""},{"$f":"IF(OR($E1363<>0,$C1363=\"\"),\"\",INDEX(Categories!$A:$E,Entries!$D1363,4))","v":""},{"$f":"IF(OR($E1363<>0,$C1363=\"\"),\"\",INDEX(Categories!$A:$E,Entries!$D1363,5))","v":""},"2014-01-01","2014-01-01",{"$f":"(Entries!K1364-Entries!K1363)*24*60","v":0}]
["",null,null,{"$f":"MATCH(C1364,Categories!A:A,0)","v":{"$error":"#N/A"}},0,{"$f":"IF(OR($E1364<>0,$C1364=\"\"),\"\",INDEX(Categories!$A:$E,Entries!$D1364,2))","v":""},{"$f":"IF(OR($E1364<>0,$C1364=\"\"),\"\",INDEX(Categories!$A:$E,Entries!$D1364,3))","v":""},{"$f":"IF(OR($E1364<>0,$C1364=\"\"),\"\",INDEX(Categories!$A:$E,Entries!$D1364,4))","v":""},{"$f":"IF(OR($E1364<>0,$C1364=\"\"),\"\",INDEX(Categories!$A:$E,Entries!$D1364,5))","v":""},"2014-01-01","2014-01-01",{"$f":"(Entries!K1365-Entries!K1364)*24*60","v":0}]
["",null,null,{"$f":"MATCH(C1365,Categories!A:A,0)","v":{"$error":"#N/A"}},0,{"$f":"IF(OR($E1365<>0,$C1365=\"\"),\"\",INDEX(Categories!$A:$E,Entries!$D1365,2))","v":""},{"$f":"IF(OR($E1365<>0,$C1365=\"\"),\"\",INDEX(Categories!$A:$E,Entries!$D1365,3))","v":""},{"$f":"IF(OR($E1365<>0,$C1365=\"\"),\"\",INDEX(Categories!$A:$E,Entries!$D1365,4))","v":""},{"$f":"IF(OR($E1365<>0,$C1365=\"\"),\"\",INDEX(Categories!$A:$E,Entries!$D1365,5))","v":""},"2014-01-01","2014-01-01",{"$f":"(Entries!K1366-Entries!K1365)*24*60","v":0}]
["",null,null,{"$f":"MATCH(C1366,Categories!A:A,0)","v":{"$error":"#N/A"}},0,{"$f":"IF(OR($E1366<>0,$C1366=\"\"),\"\",INDEX(Categories!$A:$E,Entries!$D1366,2))","v":""},{"$f":"IF(OR($E1366<>0,$C1366=\"\"),\"\",INDEX(Categories!$A:$E,Entries!$D1366,3))","v":""},{"$f":"IF(OR($E1366<>0,$C1366=\"\"),\"\",INDEX(Categories!$A:$E,Entries!$D1366,4))","v":""},{"$f":"IF(OR($E1366<>0,$C1366=\"\"),\"\",INDEX(Categories!$A:$E,Entries!$D1366,5))","v":""},"2014-01-01","2014-01-01",{"$f":"(Entries!K1367-Entries!K1366)*24*60","v":0}]
["",null,null,{"$f":"MATCH(C1367,Categories!A:A,0)","v":{"$error":"#N/A"}},0,{"$f":"IF(OR($E1367<>0,$C1367=\"\"),\"\",INDEX(Categories!$A:$E,Entries!$D1367,2))","v":""},{"$f":"IF(OR($E1367<>0,$C1367=\"\"),\"\",INDEX(Categories!$A:$E,Entries!$D1367,3))","v":""},{"$f":"IF(OR($E1367<>0,$C1367=\"\"),\"\",INDEX(Categories!$A:$E,Entries!$D1367,4))","v":""},{"$f":"IF(OR($E1367<>0,$C1367=\"\"),\"\",INDEX(Categories!$A:$E,Entries!$D1367,5))","v":""},"2014-01-01","2014-01-01",{"$f":"(Entries!K1368-Entries!K1367)*24*60","v":0}]
["",null,null,{"$f":"MATCH(C1368,Categories!A:A,0)","v":{"$error":"#N/A"}},0,{"$f":"IF(OR($E1368<>0,$C1368=\"\"),\"\",INDEX(Categories!$A:$E,Entries!$D1368,2))","v":""},{"$f":"IF(OR($E1368<>0,$C1368=\"\"),\"\",INDEX(Categories!$A:$E,Entries!$D1368,3))","v":""},{"$f":"IF(OR($E1368<>0,$C1368=\"\"),\"\",INDEX(Categories!$A:$E,Entries!$D1368,4))","v":""},{"$f":"IF(OR($E1368<>0,$C1368=\"\"),\"\",INDEX(Categories!$A:$E,Entries!$D1368,5))","v":""},"2014-01-01","2014-01-01",{"$f":"(Entries!K1369-Entries!K1368)*24*60","v":0}]
["",null,null,{"$f":"MATCH(C1369,Categories!A:A,0)","v":{"$error":"#N/A"}},0,{"$f":"IF(OR($E1369<>0,$C1369=\"\"),\"\",INDEX(Categories!$A:$E,Entries!$D1369,2))","v":""},{"$f":"IF(OR($E1369<>0,$C1369=\"\"),\"\",INDEX(Categories!$A:$E,Entries!$D1369,3))","v":""},{"$f":"IF(OR($E1369<>0,$C1369=\"\"),\"\",INDEX(Categories!$A:$E,Entries!$D1369,4))","v":""},{"$f":"IF(OR($E1369<>0,$C1369=\"\"),\"\",INDEX(Categories!$A:$E,Entries!$D1369,5))","v":""},"2014-01-01","2014-01-01",{"$f":"(Entries!K1370-Entries!K1369)*24*60","v":0}]
["",null,null,{"$f":"MATCH(C1370,Categories!A:A,0)","v":{"$error":"#N/A"}},0,{"$f":"IF(OR($E1370<>0,$C1370=\"\"),\"\",INDEX(Categories!$A:$E,Entries!$D1370,2))","v":""},{"$f":"IF(OR($E1370<>0,$C1370=\"\"),\"\",INDEX(Categories!$A:$E,Entries!$D1370,3))","v":""},{"$f":"IF(OR($E1370<>0,$C1370=\"\"),\"\",INDEX(Categories!$A:$E,Entries!$D1370,4))","v":""},{"$f":"IF(OR($E1370<>0,$C1370=\"\"),\"\",INDEX(Categories!$A:$E,Entries!$D1370,5))","v":""},"2014-01-01","2014-01-01",{"$f":"(Entries!K1371-Entries!K1370)*24*60","v":0}]
["",null,null,{"$f":"MATCH(C1371,Categories!A:A,0)","v":{"$error":"#N/A"}},0,{"$f":"IF(OR($E1371<>0,$C1371=\"\"),\"\",INDEX(Categories!$A:$E,Entries!$D1371,2))","v":""},{"$f":"IF(OR($E1371<>0,$C1371=\"\"),\"\",INDEX(Categories!$A:$E,Entries!$D1371,3))","v":""},{"$f":"IF(OR($E1371<>0,$C1371=\"\"),\"\",INDEX(Categories!$A:$E,Entries!$D1371,4))","v":""},{"$f":"IF(OR($E1371<>0,$C1371=\"\"),\"\",INDEX(Categories!$A:$E,Entries!$D1371,5))","v":""},"2014-01-01","2014-01-01",{"$f":"(Entries!K1372-Entries!K1371)*24*60","v":0}]
["",null,null,{"$f":"MATCH(C1372,Categories!A:A,0)","v":{"$error":"#N/A"}},0,{"$f":"IF(OR($E1372<>0,$C1372=\"\"),\"\",INDEX(Categories!$A:$E,Entries!$D1372,2))","v":""},{"$f":"IF(OR($E1372<>0,$C1372=\"\"),\"\",INDEX(Categories!$A:$E,Entries!$D1372,3))","v":""},{"$f":"IF(OR($E1372<>0,$C1372=\"\"),\"\",INDEX(Categories!$A:$E,Entries!$D1372,4))","v":""},{"$f":"IF(OR($E1372<>0,$C1372=\"\"),\"\",INDEX(Categories!$A:$E,Entries!$D1372,5))","v":""},"2014-01-01","2014-01-01",{"$f":"(Entries!K1373-Entries!K1372)*24*60","v":0}]
["",null,null,{"$f":"MATCH(C1373,Categories!A:A,0)","v":{"$error":"#N/A"}},0,{"$f":"IF(OR($E1373<>0,$C1373=\"\"),\"\",INDEX(Categories!$A:$E,Entries!$D1373,2))","v":""},{"$f":"IF(OR($E1373<>0,$C1373=\"\"),\"\",INDEX(Categories!$A:$E,Entries!$D1373,3))","v":""},{"$f":"IF(OR($E1373<>0,$C1373=\"\"),\"\",INDEX(Categories!$A:$E,Entries!$D1373,4))","v":""},{"$f":"IF(OR($E1373<>0,$C1373=\"\"),\"\",INDEX(Categories!$A:$E,Entries!$D1373,5))","v":""},"2014-01-01","2014-01-01",{"$f":"(Entries!K1374-Entries!K1373)*24*60","v":0}]
["",null,null,{"$f":"MATCH(C1374,Categories!A:A,0)","v":{"$error":"#N/A"}},0,{"$f":"IF(OR($E1374<>0,$C1374=\"\"),\"\",INDEX(Categories!$A:$E,Entries!$D1374,2))","v":""},{"$f":"IF(OR($E1374<>0,$C1374=\"\"),\"\",INDEX(Categories!$A:$E,Entries!$D1374,3))","v":""},{"$f":"IF(OR($E1374<>0,$C1374=\"\"),\"\",INDEX(Categories!$A:$E,Entries!$D1374,4))","v":""},{"$f":"IF(OR($E1374<>0,$C1374=\"\"),\"\",INDEX(Categories!$A:$E,Entries!$D1374,5))","v":""},"2014-01-01","2014-01-01",{"$f":"(Entries!K1375-Entries!K1374)*24*60","v":0}]
["",null,null,{"$f":"MATCH(C1375,Categories!A:A,0)","v":{"$error":"#N/A"}},0,{"$f":"IF(OR($E1375<>0,$C1375=\"\"),\"\",INDEX(Categories!$A:$E,Entries!$D1375,2))","v":""},{"$f":"IF(OR($E1375<>0,$C1375=\"\"),\"\",INDEX(Categories!$A:$E,Entries!$D1375,3))","v":""},{"$f":"IF(OR($E1375<>0,$C1375=\"\"),\"\",INDEX(Categories!$A:$E,Entries!$D1375,4))","v":""},{"$f":"IF(OR($E1375<>0,$C1375=\"\"),\"\",INDEX(Categories!$A:$E,Entries!$D1375,5))","v":""},"2014-01-01","2014-01-01",{"$f":"(Entries!K1376-Entries!K1375)*24*60","v":0}]
["",null,null,{"$f":"MATCH(C1376,Categories!A:A,0)","v":{"$error":"#N/A"}},0,{"$f":"IF(OR($E1376<>0,$C1376=\"\"),\"\",INDEX(Categories!$A:$E,Entries!$D1376,2))","v":""},{"$f":"IF(OR($E1376<>0,$C1376=\"\"),\"\",INDEX(Categories!$A:$E,Entries!$D1376,3))","v":""},{"$f":"IF(OR($E1376<>0,$C1376=\"\"),\"\",INDEX(Categories!$A:$E,Entries!$D1376,4))","v":""},{"$f":"IF(OR($E1376<>0,$C1376=\"\"),\"\",INDEX(Categories!$A:$E,Entries!$D1376,5))","v":""},"2014-01-01","2014-01-01",{"$f":"(Entries!K1377-Entries!K1376)*24*60","v":0}]
["",null,null,{"$f":"MATCH(C1377,Categories!A:A,0)","v":{"$error":"#N/A"}},0,{"$f":"IF(OR($E1377<>0,$C1377=\"\"),\"\",INDEX(Categories!$A:$E,Entries!$D1377,2))","v":""},{"$f":"IF(OR($E1377<>0,$C1377=\"\"),\"\",INDEX(Categories!$A:$E,Entries!$D1377,3))","v":""},{"$f":"IF(OR($E1377<>0,$C1377=\"\"),\"\",INDEX(Categories!$A:$E,Entries!$D1377,4))","v":""},{"$f":"IF(OR($E1377<>0,$C1377=\"\"),\"\",INDEX(Categories!$A:$E,Entries!$D1377,5))","v":""},"2014-01-01","2014-01-01",{"$f":"(Entries!K1378-Entries!K1377)*24*60","v":0}]
["",null,null,{"$f":"MATCH(C1378,Categories!A:A,0)","v":{"$error":"#N/A"}},0,{"$f":"IF(OR($E1378<>0,$C1378=\"\"),\"\",INDEX(Categories!$A:$E,Entries!$D1378,2))","v":""},{"$f":"IF(OR($E1378<>0,$C1378=\"\"),\"\",INDEX(Categories!$A:$E,Entries!$D1378,3))","v":""},{"$f":"IF(OR($E1378<>0,$C1378=\"\"),\"\",INDEX(Categories!$A:$E,Entries!$D1378,4))","v":""},{"$f":"IF(OR($E1378<>0,$C1378=\"\"),\"\",INDEX(Categories!$A:$E,Entries!$D1378,5))","v":""},"2014-01-01","2014-01-01",{"$f":"(Entries!K1379-Entries!K1378)*24*60","v":0}]
["",null,null,{"$f":"MATCH(C1379,Categories!A:A,0)","v":{"$error":"#N/A"}},0,{"$f":"IF(OR($E1379<>0,$C1379=\"\"),\"\",INDEX(Categories!$A:$E,Entries!$D1379,2))","v":""},{"$f":"IF(OR($E1379<>0,$C1379=\"\"),\"\",INDEX(Categories!$A:$E,Entries!$D1379,3))","v":""},{"$f":"IF(OR($E1379<>0,$C1379=\"\"),\"\",INDEX(Categories!$A:$E,Entries!$D1379,4))","v":""},{"$f":"IF(OR($E1379<>0,$C1379=\"\"),\"\",INDEX(Categories!$A:$E,Entries!$D1379,5))","v":""},"2014-01-01","2014-01-01",{"$f":"(Entries!K1380-Entries!K1379)*24*60","v":0}]
[{"$f":"IF(OR(B1380>=B1379,C1379=\"z\",B1380=\"\"),\"\",J1379+1)","v":""},null,null,{"$f":"MATCH(C1380,Categories!A:A,0)","v":{"$error":"#N/A"}},0,{"$f":"IF(OR($E1380<>0,$C1380=\"\"),\"\",INDEX(Categories!$A:$E,Entries!$D1380,2))","v":""},{"$f":"IF(OR($E1380<>0,$C1380=\"\"),\"\",INDEX(Categories!$A:$E,Entries!$D1380,3))","v":""},{"$f":"IF(OR($E1380<>0,$C1380=\"\"),\"\",INDEX(Categories!$A:$E,Entries!$D1380,4))","v":""},{"$f":"IF(OR($E1380<>0,$C1380=\"\"),\"\",INDEX(Categories!$A:$E,Entries!$D1380,5))","v":""},"2014-01-01","2014-01-01",{"$f":"(Entries!K1381-Entries!K1380)*24*60","v":0}]
["",null,null,{"$f":"MATCH(C1381,Categories!A:A,0)","v":{"$error":"#N/A"}},0,{"$f":"IF(OR($E1381<>0,$C1381=\"\"),\"\",INDEX(Categories!$A:$E,Entries!$D1381,2))","v":""},{"$f":"IF(OR($E1381<>0,$C1381=\"\"),\"\",INDEX(Categories!$A:$E,Entries!$D1381,3))","v":""},{"$f":"IF(OR($E1381<>0,$C1381=\"\"),\"\",INDEX(Categories!$A:$E,Entries!$D1381,4))","v":""},{"$f":"IF(OR($E1381<>0,$C1381=\"\"),\"\",INDEX(Categories!$A:$E,Entries!$D1381,5))","v":""},"2014-01-01","2014-01-01",{"$f":"(Entries!K1382-Entries!K1381)*24*60","v":0}]
["",null,null,{"$f":"MATCH(C1382,Categories!A:A,0)","v":{"$error":"#N/A"}},0,{"$f":"IF(OR($E1382<>0,$C1382=\"\"),\"\",INDEX(Categories!$A:$E,Entries!$D1382,2))","v":""},{"$f":"IF(OR($E1382<>0,$C1382=\"\"),\"\",INDEX(Categories!$A:$E,Entries!$D1382,3))","v":""},{"$f":"IF(OR($E1382<>0,$C1382=\"\"),\"\",INDEX(Categories!$A:$E,Entries!$D1382,4))","v":""},{"$f":"IF(OR($E1382<>0,$C1382=\"\"),\"\",INDEX(Categories!$A:$E,Entries!$D1382,5))","v":""},"2014-01-01","2014-01-01",{"$f":"(Entries!K1383-Entries!K1382)*24*60","v":0}]
["",null,null,{"$f":"MATCH(C1383,Categories!A:A,0)","v":{"$error":"#N/A"}},0,{"$f":"IF(OR($E1383<>0,$C1383=\"\"),\"\",INDEX(Categories!$A:$E,Entries!$D1383,2))","v":""},{"$f":"IF(OR($E1383<>0,$C1383=\"\"),\"\",INDEX(Categories!$A:$E,Entries!$D1383,3))","v":""},{"$f":"IF(OR($E1383<>0,$C1383=\"\"),\"\",INDEX(Categories!$A:$E,Entries!$D1383,4))","v":""},{"$f":"IF(OR($E1383<>0,$C1383=\"\"),\"\",INDEX(Categories!$A:$E,Entries!$D1383,5))","v":""},"2014-01-01","2014-01-01",{"$f":"(Entries!K1384-Entries!K1383)*24*60","v":0}]
["",null,null,{"$f":"MATCH(C1384,Categories!A:A,0)","v":{"$error":"#N/A"}},0,{"$f":"IF(OR($E1384<>0,$C1384=\"\"),\"\",INDEX(Categories!$A:$E,Entries!$D1384,2))","v":""},{"$f":"IF(OR($E1384<>0,$C1384=\"\"),\"\",INDEX(Categories!$A:$E,Entries!$D1384,3))","v":""},{"$f":"IF(OR($E1384<>0,$C1384=\"\"),\"\",INDEX(Categories!$A:$E,Entries!$D1384,4))","v":""},{"$f":"IF(OR($E1384<>0,$C1384=\"\"),\"\",INDEX(Categories!$A:$E,Entries!$D1384,5))","v":""},"2014-01-01","2014-01-01",{"$f":"(Entries!K1385-Entries!K1384)*24*60","v":0}]
["",null,null,{"$f":"MATCH(C1385,Categories!A:A,0)","v":{"$error":"#N/A"}},0,{"$f":"IF(OR($E1385<>0,$C1385=\"\"),\"\",INDEX(Categories!$A:$E,Entries!$D1385,2))","v":""},{"$f":"IF(OR($E1385<>0,$C1385=\"\"),\"\",INDEX(Categories!$A:$E,Entries!$D1385,3))","v":""},{"$f":"IF(OR($E1385<>0,$C1385=\"\"),\"\",INDEX(Categories!$A:$E,Entries!$D1385,4))","v":""},{"$f":"IF(OR($E1385<>0,$C1385=\"\"),\"\",INDEX(Categories!$A:$E,Entries!$D1385,5))","v":""},"2014-01-01","2014-01-01",{"$f":"(Entries!K1386-Entries!K1385)*24*60","v":0}]
["",null,null,{"$f":"MATCH(C1386,Categories!A:A,0)","v":{"$error":"#N/A"}},0,{"$f":"IF(OR($E1386<>0,$C1386=\"\"),\"\",INDEX(Categories!$A:$E,Entries!$D1386,2))","v":""},{"$f":"IF(OR($E1386<>0,$C1386=\"\"),\"\",INDEX(Categories!$A:$E,Entries!$D1386,3))","v":""},{"$f":"IF(OR($E1386<>0,$C1386=\"\"),\"\",INDEX(Categories!$A:$E,Entries!$D1386,4))","v":""},{"$f":"IF(OR($E1386<>0,$C1386=\"\"),\"\",INDEX(Categories!$A:$E,Entries!$D1386,5))","v":""},"2014-01-01","2014-01-01",{"$f":"(Entries!K1387-Entries!K1386)*24*60","v":0}]
["",null,null,{"$f":"MATCH(C1387,Categories!A:A,0)","v":{"$error":"#N/A"}},0,{"$f":"IF(OR($E1387<>0,$C1387=\"\"),\"\",INDEX(Categories!$A:$E,Entries!$D1387,2))","v":""},{"$f":"IF(OR($E1387<>0,$C1387=\"\"),\"\",INDEX(Categories!$A:$E,Entries!$D1387,3))","v":""},{"$f":"IF(OR($E1387<>0,$C1387=\"\"),\"\",INDEX(Categories!$A:$E,Entries!$D1387,4))","v":""},{"$f":"IF(OR($E1387<>0,$C1387=\"\"),\"\",INDEX(Categories!$A:$E,Entries!$D1387,5))","v":""},"2014-01-01","2014-01-01",{"$f":"(Entries!K1388-Entries!K1387)*24*60","v":0}]
["",null,null,{"$f":"MATCH(C1388,Categories!A:A,0)","v":{"$error":"#N/A"}},0,{"$f":"IF(OR($E1388<>0,$C1388=\"\"),\"\",INDEX(Categories!$A:$E,Entries!$D1388,2))","v":""},{"$f":"IF(OR($E1388<>0,$C1388=\"\"),\"\",INDEX(Categories!$A:$E,Entries!$D1388,3))","v":""},{"$f":"IF(OR($E1388<>0,$C1388=\"\"),\"\",INDEX(Categories!$A:$E,Entries!$D1388,4))","v":""},{"$f":"IF(OR($E1388<>0,$C1388=\"\"),\"\",INDEX(Categories!$A:$E,Entries!$D1388,5))","v":""},"2014-01-01","2014-01-01",{"$f":"(Entries!K1389-Entries!K1388)*24*60","v":0}]
["",null,null,{"$f":"MATCH(C1389,Categories!A:A,0)","v":{"$error":"#N/A"}},0,{"$f":"IF(OR($E1389<>0,$C1389=\"\"),\"\",INDEX(Categories!$A:$E,Entries!$D1389,2))","v":""},{"$f":"IF(OR($E1389<>0,$C1389=\"\"),\"\",INDEX(Categories!$A:$E,Entries!$D1389,3))","v":""},{"$f":"IF(OR($E1389<>0,$C1389=\"\"),\"\",INDEX(Categories!$A:$E,Entries!$D1389,4))","v":""},{"$f":"IF(OR($E1389<>0,$C1389=\"\"),\"\",INDEX(Categories!$A:$E,Entries!$D1389,5))","v":""},"2014-01-01","2014-01-01",{"$f":"(Entries!K1390-Entries!K1389)*24*60","v":0}]
["",null,null,{"$f":"MATCH(C1390,Categories!A:A,0)","v":{"$error":"#N/A"}},0,{"$f":"IF(OR($E1390<>0,$C1390=\"\"),\"\",INDEX(Categories!$A:$E,Entries!$D1390,2))","v":""},{"$f":"IF(OR($E1390<>0,$C1390=\"\"),\"\",INDEX(Categories!$A:$E,Entries!$D1390,3))","v":""},{"$f":"IF(OR($E1390<>0,$C1390=\"\"),\"\",INDEX(Categories!$A:$E,Entries!$D1390,4))","v":""},{"$f":"IF(OR($E1390<>0,$C1390=\"\"),\"\",INDEX(Categories!$A:$E,Entries!$D1390,5))","v":""},"2014-01-01","2014-01-01",{"$f":"(Entries!K1391-Entries!K1390)*24*60","v":0}]
["",null,null,{"$f":"MATCH(C1391,Categories!A:A,0)","v":{"$error":"#N/A"}},0,{"$f":"IF(OR($E1391<>0,$C1391=\"\"),\"\",INDEX(Categories!$A:$E,Entries!$D1391,2))","v":""},{"$f":"IF(OR($E1391<>0,$C1391=\"\"),\"\",INDEX(Categories!$A:$E,Entries!$D1391,3))","v":""},{"$f":"IF(OR($E1391<>0,$C1391=\"\"),\"\",INDEX(Categories!$A:$E,Entries!$D1391,4))","v":""},{"$f":"IF(OR($E1391<>0,$C1391=\"\"),\"\",INDEX(Categories!$A:$E,Entries!$D1391,5))","v":""},"2014-01-01","2014-01-01",{"$f":"(Entries!K1392-Entries!K1391)*24*60","v":0}]
["",null,null,{"$f":"MATCH(C1392,Categories!A:A,0)","v":{"$error":"#N/A"}},0,{"$f":"IF(OR($E1392<>0,$C1392=\"\"),\"\",INDEX(Categories!$A:$E,Entries!$D1392,2))","v":""},{"$f":"IF(OR($E1392<>0,$C1392=\"\"),\"\",INDEX(Categories!$A:$E,Entries!$D1392,3))","v":""},{"$f":"IF(OR($E1392<>0,$C1392=\"\"),\"\",INDEX(Categories!$A:$E,Entries!$D1392,4))","v":""},{"$f":"IF(OR($E1392<>0,$C1392=\"\"),\"\",INDEX(Categories!$A:$E,Entries!$D1392,5))","v":""},"2014-01-01","2014-01-01",{"$f":"(Entries!K1393-Entries!K1392)*24*60","v":0}]
["",null,null,{"$f":"MATCH(C1393,Categories!A:A,0)","v":{"$error":"#N/A"}},0,{"$f":"IF(OR($E1393<>0,$C1393=\"\"),\"\",INDEX(Categories!$A:$E,Entries!$D1393,2))","v":""},{"$f":"IF(OR($E1393<>0,$C1393=\"\"),\"\",INDEX(Categories!$A:$E,Entries!$D1393,3))","v":""},{"$f":"IF(OR($E1393<>0,$C1393=\"\"),\"\",INDEX(Categories!$A:$E,Entries!$D1393,4))","v":""},{"$f":"IF(OR($E1393<>0,$C1393=\"\"),\"\",INDEX(Categories!$A:$E,Entries!$D1393,5))","v":""},"2014-01-01","2014-01-01",{"$f":"(Entries!K1394-Entries!K1393)*24*60","v":0}]
["",null,null,{"$f":"MATCH(C1394,Categories!A:A,0)","v":{"$error":"#N/A"}},0,{"$f":"IF(OR($E1394<>0,$C1394=\"\"),\"\",INDEX(Categories!$A:$E,Entries!$D1394,2))","v":""},{"$f":"IF(OR($E1394<>0,$C1394=\"\"),\"\",INDEX(Categories!$A:$E,Entries!$D1394,3))","v":""},{"$f":"IF(OR($E1394<>0,$C1394=\"\"),\"\",INDEX(Categories!$A:$E,Entries!$D1394,4))","v":""},{"$f":"IF(OR($E1394<>0,$C1394=\"\"),\"\",INDEX(Categories!$A:$E,Entries!$D1394,5))","v":""},"2014-01-01","2014-01-01",{"$f":"(Entries!K1395-Entries!K1394)*24*60","v":0}]
["",null,null,{"$f":"MATCH(C1395,Categories!A:A,0)","v":{"$error":"#N/A"}},0,{"$f":"IF(OR($E1395<>0,$C1395=\"\"),\"\",INDEX(Categories!$A:$E,Entries!$D1395,2))","v":""},{"$f":"IF(OR($E1395<>0,$C1395=\"\"),\"\",INDEX(Categories!$A:$E,Entries!$D1395,3))","v":""},{"$f":"IF(OR($E1395<>0,$C1395=\"\"),\"\",INDEX(Categories!$A:$E,Entries!$D1395,4))","v":""},{"$f":"IF(OR($E1395<>0,$C1395=\"\"),\"\",INDEX(Categories!$A:$E,Entries!$D1395,5))","v":""},"2014-01-01","2014-01-01",{"$f":"(Entries!K1396-Entries!K1395)*24*60","v":0}]
["",null,null,{"$f":"MATCH(C1396,Categories!A:A,0)","v":{"$error":"#N/A"}},0,{"$f":"IF(OR($E1396<>0,$C1396=\"\"),\"\",INDEX(Categories!$A:$E,Entries!$D1396,2))","v":""},{"$f":"IF(OR($E1396<>0,$C1396=\"\"),\"\",INDEX(Categories!$A:$E,Entries!$D1396,3))","v":""},{"$f":"IF(OR($E1396<>0,$C1396=\"\"),\"\",INDEX(Categories!$A:$E,Entries!$D1396,4))","v":""},{"$f":"IF(OR($E1396<>0,$C1396=\"\"),\"\",INDEX(Categories!$A:$E,Entries!$D1396,5))","v":""},"2014-01-01","2014-01-01",{"$f":"(Entries!K1397-Entries!K1396)*24*60","v":0}]
["",null,null,{"$f":"MATCH(C1397,Categories!A:A,0)","v":{"$error":"#N/A"}},0,{"$f":"IF(OR($E1397<>0,$C1397=\"\"),\"\",INDEX(Categories!$A:$E,Entries!$D1397,2))","v":""},{"$f":"IF(OR($E1397<>0,$C1397=\"\"),\"\",INDEX(Categories!$A:$E,Entries!$D1397,3))","v":""},{"$f":"IF(OR($E1397<>0,$C1397=\"\"),\"\",INDEX(Categories!$A:$E,Entries!$D1397,4))","v":""},{"$f":"IF(OR($E1397<>0,$C1397=\"\"),\"\",INDEX(Categories!$A:$E,Entries!$D1397,5))","v":""},"2014-01-01","2014-01-01",{"$f":"(Entries!K1398-Entries!K1397)*24*60","v":0}]
["",null,null,{"$f":"MATCH(C1398,Categories!A:A,0)","v":{"$error":"#N/A"}},0,{"$f":"IF(OR($E1398<>0,$C1398=\"\"),\"\",INDEX(Categories!$A:$E,Entries!$D1398,2))","v":""},{"$f":"IF(OR($E1398<>0,$C1398=\"\"),\"\",INDEX(Categories!$A:$E,Entries!$D1398,3))","v":""},{"$f":"IF(OR($E1398<>0,$C1398=\"\"),\"\",INDEX(Categories!$A:$E,Entries!$D1398,4))","v":""},{"$f":"IF(OR($E1398<>0,$C1398=\"\"),\"\",INDEX(Categories!$A:$E,Entries!$D1398,5))","v":""},"2014-01-01","2014-01-01",{"$f":"(Entries!K1399-Entries!K1398)*24*60","v":0}]
["",null,null,{"$f":"MATCH(C1399,Categories!A:A,0)","v":{"$error":"#N/A"}},0,{"$f":"IF(OR($E1399<>0,$C1399=\"\"),\"\",INDEX(Categories!$A:$E,Entries!$D1399,2))","v":""},{"$f":"IF(OR($E1399<>0,$C1399=\"\"),\"\",INDEX(Categories!$A:$E,Entries!$D1399,3))","v":""},{"$f":"IF(OR($E1399<>0,$C1399=\"\"),\"\",INDEX(Categories!$A:$E,Entries!$D1399,4))","v":""},{"$f":"IF(OR($E1399<>0,$C1399=\"\"),\"\",INDEX(Categories!$A:$E,Entries!$D1399,5))","v":""},"2014-01-01","2014-01-01",{"$f":"(Entries!K1400-Entries!K1399)*24*60","v":0}]
["",null,null,{"$f":"MATCH(C1400,Categories!A:A,0)","v":{"$error":"#N/A"}},0,{"$f":"IF(OR($E1400<>0,$C1400=\"\"),\"\",INDEX(Categories!$A:$E,Entries!$D1400,2))","v":""},{"$f":"IF(OR($E1400<>0,$C1400=\"\"),\"\",INDEX(Categories!$A:$E,Entries!$D1400,3))","v":""},{"$f":"IF(OR($E1400<>0,$C1400=\"\"),\"\",INDEX(Categories!$A:$E,Entries!$D1400,4))","v":""},{"$f":"IF(OR($E1400<>0,$C1400=\"\"),\"\",INDEX(Categories!$A:$E,Entries!$D1400,5))","v":""},"2014-01-01","2014-01-01",{"$f":"(Entries!K1401-Entries!K1400)*24*60","v":0}]
["",null,null,{"$f":"MATCH(C1401,Categories!A:A,0)","v":{"$error":"#N/A"}},0,{"$f":"IF(OR($E1401<>0,$C1401=\"\"),\"\",INDEX(Categories!$A:$E,Entries!$D1401,2))","v":""},{"$f":"IF(OR($E1401<>0,$C1401=\"\"),\"\",INDEX(Categories!$A:$E,Entries!$D1401,3))","v":""},{"$f":"IF(OR($E1401<>0,$C1401=\"\"),\"\",INDEX(Categories!$A:$E,Entries!$D1401,4))","v":""},{"$f":"IF(OR($E1401<>0,$C1401=\"\"),\"\",INDEX(Categories!$A:$E,Entries!$D1401,5))","v":""},"2014-01-01","2014-01-01",{"$f":"(Entries!K1402-Entries!K1401)*24*60","v":0}]
["",null,null,{"$f":"MATCH(C1402,Categories!A:A,0)","v":{"$error":"#N/A"}},0,{"$f":"IF(OR($E1402<>0,$C1402=\"\"),\"\",INDEX(Categories!$A:$E,Entries!$D1402,2))","v":""},{"$f":"IF(OR($E1402<>0,$C1402=\"\"),\"\",INDEX(Categories!$A:$E,Entries!$D1402,3))","v":""},{"$f":"IF(OR($E1402<>0,$C1402=\"\"),\"\",INDEX(Categories!$A:$E,Entries!$D1402,4))","v":""},{"$f":"IF(OR($E1402<>0,$C1402=\"\"),\"\",INDEX(Categories!$A:$E,Entries!$D1402,5))","v":""},"2014-01-01","2014-01-01",{"$f":"(Entries!K1403-Entries!K1402)*24*60","v":0}]
["",null,null,{"$f":"MATCH(C1403,Categories!A:A,0)","v":{"$error":"#N/A"}},0,{"$f":"IF(OR($E1403<>0,$C1403=\"\"),\"\",INDEX(Categories!$A:$E,Entries!$D1403,2))","v":""},{"$f":"IF(OR($E1403<>0,$C1403=\"\"),\"\",INDEX(Categories!$A:$E,Entries!$D1403,3))","v":""},{"$f":"IF(OR($E1403<>0,$C1403=\"\"),\"\",INDEX(Categories!$A:$E,Entries!$D1403,4))","v":""},{"$f":"IF(OR($E1403<>0,$C1403=\"\"),\"\",INDEX(Categories!$A:$E,Entries!$D1403,5))","v":""},"2014-01-01","2014-01-01",{"$f":"(Entries!K1404-Entries!K1403)*24*60","v":0}]
["",null,null,{"$f":"MATCH(C1404,Categories!A:A,0)","v":{"$error":"#N/A"}},0,{"$f":"IF(OR($E1404<>0,$C1404=\"\"),\"\",INDEX(Categories!$A:$E,Entries!$D1404,2))","v":""},{"$f":"IF(OR($E1404<>0,$C1404=\"\"),\"\",INDEX(Categories!$A:$E,Entries!$D1404,3))","v":""},{"$f":"IF(OR($E1404<>0,$C1404=\"\"),\"\",INDEX(Categories!$A:$E,Entries!$D1404,4))","v":""},{"$f":"IF(OR($E1404<>0,$C1404=\"\"),\"\",INDEX(Categories!$A:$E,Entries!$D1404,5))","v":""},"2014-01-01","2014-01-01",{"$f":"(Entries!K1405-Entries!K1404)*24*60","v":0}]
["",null,null,{"$f":"MATCH(C1405,Categories!A:A,0)","v":{"$error":"#N/A"}},0,{"$f":"IF(OR($E1405<>0,$C1405=\"\"),\"\",INDEX(Categories!$A:$E,Entries!$D1405,2))","v":""},{"$f":"IF(OR($E1405<>0,$C1405=\"\"),\"\",INDEX(Categories!$A:$E,Entries!$D1405,3))","v":""},{"$f":"IF(OR($E1405<>0,$C1405=\"\"),\"\",INDEX(Categories!$A:$E,Entries!$D1405,4))","v":""},{"$f":"IF(OR($E1405<>0,$C1405=\"\"),\"\",INDEX(Categories!$A:$E,Entries!$D1405,5))","v":""},"2014-01-01","2014-01-01",{"$f":"(Entries!K1406-Entries!K1405)*24*60","v":0}]
["",null,null,{"$f":"MATCH(C1406,Categories!A:A,0)","v":{"$error":"#N/A"}},0,{"$f":"IF(OR($E1406<>0,$C1406=\"\"),\"\",INDEX(Categories!$A:$E,Entries!$D1406,2))","v":""},{"$f":"IF(OR($E1406<>0,$C1406=\"\"),\"\",INDEX(Categories!$A:$E,Entries!$D1406,3))","v":""},{"$f":"IF(OR($E1406<>0,$C1406=\"\"),\"\",INDEX(Categories!$A:$E,Entries!$D1406,4))","v":""},{"$f":"IF(OR($E1406<>0,$C1406=\"\"),\"\",INDEX(Categories!$A:$E,Entries!$D1406,5))","v":""},"2014-01-01","2014-01-01",{"$f":"(Entries!K1407-Entries!K1406)*24*60","v":0}]
["",null,null,{"$f":"MATCH(C1407,Categories!A:A,0)","v":{"$error":"#N/A"}},0,{"$f":"IF(OR($E1407<>0,$C1407=\"\"),\"\",INDEX(Categories!$A:$E,Entries!$D1407,2))","v":""},{"$f":"IF(OR($E1407<>0,$C1407=\"\"),\"\",INDEX(Categories!$A:$E,Entries!$D1407,3))","v":""},{"$f":"IF(OR($E1407<>0,$C1407=\"\"),\"\",INDEX(Categories!$A:$E,Entries!$D1407,4))","v":""},{"$f":"IF(OR($E1407<>0,$C1407=\"\"),\"\",INDEX(Categories!$A:$E,Entries!$D1407,5))","v":""},"2014-01-01","2014-01-01",{"$f":"(Entries!K1408-Entries!K1407)*24*60","v":0}]
["",null,null,{"$f":"MATCH(C1408,Categories!A:A,0)","v":{"$error":"#N/A"}},0,{"$f":"IF(OR($E1408<>0,$C1408=\"\"),\"\",INDEX(Categories!$A:$E,Entries!$D1408,2))","v":""},{"$f":"IF(OR($E1408<>0,$C1408=\"\"),\"\",INDEX(Categories!$A:$E,Entries!$D1408,3))","v":""},{"$f":"IF(OR($E1408<>0,$C1408=\"\"),\"\",INDEX(Categories!$A:$E,Entries!$D1408,4))","v":""},{"$f":"IF(OR($E1408<>0,$C1408=\"\"),\"\",INDEX(Categories!$A:$E,Entries!$D1408,5))","v":""},"2014-01-01","2014-01-01",{"$f":"(Entries!K1409-Entries!K1408)*24*60","v":0}]
["",null,null,{"$f":"MATCH(C1409,Categories!A:A,0)","v":{"$error":"#N/A"}},0,{"$f":"IF(OR($E1409<>0,$C1409=\"\"),\"\",INDEX(Categories!$A:$E,Entries!$D1409,2))","v":""},{"$f":"IF(OR($E1409<>0,$C1409=\"\"),\"\",INDEX(Categories!$A:$E,Entries!$D1409,3))","v":""},{"$f":"IF(OR($E1409<>0,$C1409=\"\"),\"\",INDEX(Categories!$A:$E,Entries!$D1409,4))","v":""},{"$f":"IF(OR($E1409<>0,$C1409=\"\"),\"\",INDEX(Categories!$A:$E,Entries!$D1409,5))","v":""},"2014-01-01","2014-01-01",{"$f":"(Entries!K1410-Entries!K1409)*24*60","v":0}]
["",null,null,{"$f":"MATCH(C1410,Categories!A:A,0)","v":{"$error":"#N/A"}},{"$f":"IF(AND(ISERROR(D1410),C1410<>\"\"),ROW(D1410),0)","v":0},{"$f":"IF(OR($E1410<>0,$C1410=\"\"),\"\",INDEX(Categories!$A:$E,Entries!$D1410,2))","v":""},{"$f":"IF(OR($E1410<>0,$C1410=\"\"),\"\",INDEX(Categories!$A:$E,Entries!$D1410,3))","v":""},{"$f":"IF(OR($E1410<>0,$C1410=\"\"),\"\",INDEX(Categories!$A:$E,Entries!$D1410,4))","v":""},{"$f":"IF(OR($E1410<>0,$C1410=\"\"),\"\",INDEX(Categories!$A:$E,Entries!$D1410,5))","v":""},{"$f":"IF(A1410=\"\",J1409,A1410)","v":"2014-01-01"},{"$f":"J1410+B1410","v":"2014-01-01"},{"$f":"(Entries!K1411-Entries!K1410)*24*60","v":0}]
["",null,null,{"$f":"MATCH(C1411,Categories!A:A,0)","v":{"$error":"#N/A"}},0,{"$f":"IF(OR($E1411<>0,$C1411=\"\"),\"\",INDEX(Categories!$A:$E,Entries!$D1411,2))","v":""},{"$f":"IF(OR($E1411<>0,$C1411=\"\"),\"\",INDEX(Categories!$A:$E,Entries!$D1411,3))","v":""},{"$f":"IF(OR($E1411<>0,$C1411=\"\"),\"\",INDEX(Categories!$A:$E,Entries!$D1411,4))","v":""},{"$f":"IF(OR($E1411<>0,$C1411=\"\"),\"\",INDEX(Categories!$A:$E,Entries!$D1411,5))","v":""},"2014-01-01","2014-01-01",{"$f":"(Entries!K1412-Entries!K1411)*24*60","v":0}]
["",null,null,{"$f":"MATCH(C1412,Categories!A:A,0)","v":{"$error":"#N/A"}},0,{"$f":"IF(OR($E1412<>0,$C1412=\"\"),\"\",INDEX(Categories!$A:$E,Entries!$D1412,2))","v":""},{"$f":"IF(OR($E1412<>0,$C1412=\"\"),\"\",INDEX(Categories!$A:$E,Entries!$D1412,3))","v":""},{"$f":"IF(OR($E1412<>0,$C1412=\"\"),\"\",INDEX(Categories!$A:$E,Entries!$D1412,4))","v":""},{"$f":"IF(OR($E1412<>0,$C1412=\"\"),\"\",INDEX(Categories!$A:$E,Entries!$D1412,5))","v":""},"2014-01-01","2014-01-01",{"$f":"(Entries!K1413-Entries!K1412)*24*60","v":0}]
["",null,null,{"$f":"MATCH(C1413,Categories!A:A,0)","v":{"$error":"#N/A"}},0,{"$f":"IF(OR($E1413<>0,$C1413=\"\"),\"\",INDEX(Categories!$A:$E,Entries!$D1413,2))","v":""},{"$f":"IF(OR($E1413<>0,$C1413=\"\"),\"\",INDEX(Categories!$A:$E,Entries!$D1413,3))","v":""},{"$f":"IF(OR($E1413<>0,$C1413=\"\"),\"\",INDEX(Categories!$A:$E,Entries!$D1413,4))","v":""},{"$f":"IF(OR($E1413<>0,$C1413=\"\"),\"\",INDEX(Categories!$A:$E,Entries!$D1413,5))","v":""},"2014-01-01","2014-01-01",{"$f":"(Entries!K1414-Entries!K1413)*24*60","v":0}]
["",null,null,{"$f":"MATCH(C1414,Categories!A:A,0)","v":{"$error":"#N/A"}},0,{"$f":"IF(OR($E1414<>0,$C1414=\"\"),\"\",INDEX(Categories!$A:$E,Entries!$D1414,2))","v":""},{"$f":"IF(OR($E1414<>0,$C1414=\"\"),\"\",INDEX(Categories!$A:$E,Entries!$D1414,3))","v":""},{"$f":"IF(OR($E1414<>0,$C1414=\"\"),\"\",INDEX(Categories!$A:$E,Entries!$D1414,4))","v":""},{"$f":"IF(OR($E1414<>0,$C1414=\"\"),\"\",INDEX(Categories!$A:$E,Entries!$D1414,5))","v":""},"2014-01-01","2014-01-01",{"$f":"(Entries!K1415-Entries!K1414)*24*60","v":0}]
["",null,null,{"$f":"MATCH(C1415,Categories!A:A,0)","v":{"$error":"#N/A"}},0,{"$f":"IF(OR($E1415<>0,$C1415=\"\"),\"\",INDEX(Categories!$A:$E,Entries!$D1415,2))","v":""},{"$f":"IF(OR($E1415<>0,$C1415=\"\"),\"\",INDEX(Categories!$A:$E,Entries!$D1415,3))","v":""},{"$f":"IF(OR($E1415<>0,$C1415=\"\"),\"\",INDEX(Categories!$A:$E,Entries!$D1415,4))","v":""},{"$f":"IF(OR($E1415<>0,$C1415=\"\"),\"\",INDEX(Categories!$A:$E,Entries!$D1415,5))","v":""},"2014-01-01","2014-01-01",{"$f":"(Entries!K1416-Entries!K1415)*24*60","v":0}]
["",null,null,{"$f":"MATCH(C1416,Categories!A:A,0)","v":{"$error":"#N/A"}},0,{"$f":"IF(OR($E1416<>0,$C1416=\"\"),\"\",INDEX(Categories!$A:$E,Entries!$D1416,2))","v":""},{"$f":"IF(OR($E1416<>0,$C1416=\"\"),\"\",INDEX(Categories!$A:$E,Entries!$D1416,3))","v":""},{"$f":"IF(OR($E1416<>0,$C1416=\"\"),\"\",INDEX(Categories!$A:$E,Entries!$D1416,4))","v":""},{"$f":"IF(OR($E1416<>0,$C1416=\"\"),\"\",INDEX(Categories!$A:$E,Entries!$D1416,5))","v":""},"2014-01-01","2014-01-01",{"$f":"(Entries!K1417-Entries!K1416)*24*60","v":0}]
["",null,null,{"$f":"MATCH(C1417,Categories!A:A,0)","v":{"$error":"#N/A"}},0,{"$f":"IF(OR($E1417<>0,$C1417=\"\"),\"\",INDEX(Categories!$A:$E,Entries!$D1417,2))","v":""},{"$f":"IF(OR($E1417<>0,$C1417=\"\"),\"\",INDEX(Categories!$A:$E,Entries!$D1417,3))","v":""},{"$f":"IF(OR($E1417<>0,$C1417=\"\"),\"\",INDEX(Categories!$A:$E,Entries!$D1417,4))","v":""},{"$f":"IF(OR($E1417<>0,$C1417=\"\"),\"\",INDEX(Categories!$A:$E,Entries!$D1417,5))","v":""},"2014-01-01","2014-01-01",{"$f":"(Entries!K1418-Entries!K1417)*24*60","v":0}]
["",null,null,{"$f":"MATCH(C1418,Categories!A:A,0)","v":{"$error":"#N/A"}},0,{"$f":"IF(OR($E1418<>0,$C1418=\"\"),\"\",INDEX(Categories!$A:$E,Entries!$D1418,2))","v":""},{"$f":"IF(OR($E1418<>0,$C1418=\"\"),\"\",INDEX(Categories!$A:$E,Entries!$D1418,3))","v":""},{"$f":"IF(OR($E1418<>0,$C1418=\"\"),\"\",INDEX(Categories!$A:$E,Entries!$D1418,4))","v":""},{"$f":"IF(OR($E1418<>0,$C1418=\"\"),\"\",INDEX(Categories!$A:$E,Entries!$D1418,5))","v":""},"2014-01-01","2014-01-01",{"$f":"(Entries!K1419-Entries!K1418)*24*60","v":0}]
["",null,null,{"$f":"MATCH(C1419,Categories!A:A,0)","v":{"$error":"#N/A"}},0,{"$f":"IF(OR($E1419<>0,$C1419=\"\"),\"\",INDEX(Categories!$A:$E,Entries!$D1419,2))","v":""},{"$f":"IF(OR($E1419<>0,$C1419=\"\"),\"\",INDEX(Categories!$A:$E,Entries!$D1419,3))","v":""},{"$f":"IF(OR($E1419<>0,$C1419=\"\"),\"\",INDEX(Categories!$A:$E,Entries!$D1419,4))","v":""},{"$f":"IF(OR($E1419<>0,$C1419=\"\"),\"\",INDEX(Categories!$A:$E,Entries!$D1419,5))","v":""},"2014-01-01","2014-01-01",{"$f":"(Entries!K1420-Entries!K1419)*24*60","v":0}]
["",null,null,{"$f":"MATCH(C1420,Categories!A:A,0)","v":{"$error":"#N/A"}},0,{"$f":"IF(OR($E1420<>0,$C1420=\"\"),\"\",INDEX(Categories!$A:$E,Entries!$D1420,2))","v":""},{"$f":"IF(OR($E1420<>0,$C1420=\"\"),\"\",INDEX(Categories!$A:$E,Entries!$D1420,3))","v":""},{"$f":"IF(OR($E1420<>0,$C1420=\"\"),\"\",INDEX(Categories!$A:$E,Entries!$D1420,4))","v":""},{"$f":"IF(OR($E1420<>0,$C1420=\"\"),\"\",INDEX(Categories!$A:$E,Entries!$D1420,5))","v":""},"2014-01-01","2014-01-01",{"$f":"(Entries!K1421-Entries!K1420)*24*60","v":0}]
["",null,null,{"$f":"MATCH(C1421,Categories!A:A,0)","v":{"$error":"#N/A"}},0,{"$f":"IF(OR($E1421<>0,$C1421=\"\"),\"\",INDEX(Categories!$A:$E,Entries!$D1421,2))","v":""},{"$f":"IF(OR($E1421<>0,$C1421=\"\"),\"\",INDEX(Categories!$A:$E,Entries!$D1421,3))","v":""},{"$f":"IF(OR($E1421<>0,$C1421=\"\"),\"\",INDEX(Categories!$A:$E,Entries!$D1421,4))","v":""},{"$f":"IF(OR($E1421<>0,$C1421=\"\"),\"\",INDEX(Categories!$A:$E,Entries!$D1421,5))","v":""},"2014-01-01","2014-01-01",{"$f":"(Entries!K1422-Entries!K1421)*24*60","v":0}]
["",null,null,{"$f":"MATCH(C1422,Categories!A:A,0)","v":{"$error":"#N/A"}},0,{"$f":"IF(OR($E1422<>0,$C1422=\"\"),\"\",INDEX(Categories!$A:$E,Entries!$D1422,2))","v":""},{"$f":"IF(OR($E1422<>0,$C1422=\"\"),\"\",INDEX(Categories!$A:$E,Entries!$D1422,3))","v":""},{"$f":"IF(OR($E1422<>0,$C1422=\"\"),\"\",INDEX(Categories!$A:$E,Entries!$D1422,4))","v":""},{"$f":"IF(OR($E1422<>0,$C1422=\"\"),\"\",INDEX(Categories!$A:$E,Entries!$D1422,5))","v":""},"2014-01-01","2014-01-01",{"$f":"(Entries!K1423-Entries!K1422)*24*60","v":0}]
["",null,null,{"$f":"MATCH(C1423,Categories!A:A,0)","v":{"$error":"#N/A"}},0,{"$f":"IF(OR($E1423<>0,$C1423=\"\"),\"\",INDEX(Categories!$A:$E,Entries!$D1423,2))","v":""},{"$f":"IF(OR($E1423<>0,$C1423=\"\"),\"\",INDEX(Categories!$A:$E,Entries!$D1423,3))","v":""},{"$f":"IF(OR($E1423<>0,$C1423=\"\"),\"\",INDEX(Categories!$A:$E,Entries!$D1423,4))","v":""},{"$f":"IF(OR($E1423<>0,$C1423=\"\"),\"\",INDEX(Categories!$A:$E,Entries!$D1423,5))","v":""},"2014-01-01","2014-01-01",{"$f":"(Entries!K1424-Entries!K1423)*24*60","v":0}]
["",null,null,{"$f":"MATCH(C1424,Categories!A:A,0)","v":{"$error":"#N/A"}},0,{"$f":"IF(OR($E1424<>0,$C1424=\"\"),\"\",INDEX(Categories!$A:$E,Entries!$D1424,2))","v":""},{"$f":"IF(OR($E1424<>0,$C1424=\"\"),\"\",INDEX(Categories!$A:$E,Entries!$D1424,3))","v":""},{"$f":"IF(OR($E1424<>0,$C1424=\"\"),\"\",INDEX(Categories!$A:$E,Entries!$D1424,4))","v":""},{"$f":"IF(OR($E1424<>0,$C1424=\"\"),\"\",INDEX(Categories!$A:$E,Entries!$D1424,5))","v":""},"2014-01-01","2014-01-01",{"$f":"(Entries!K1425-Entries!K1424)*24*60","v":0}]
["",null,null,{"$f":"MATCH(C1425,Categories!A:A,0)","v":{"$error":"#N/A"}},0,{"$f":"IF(OR($E1425<>0,$C1425=\"\"),\"\",INDEX(Categories!$A:$E,Entries!$D1425,2))","v":""},{"$f":"IF(OR($E1425<>0,$C1425=\"\"),\"\",INDEX(Categories!$A:$E,Entries!$D1425,3))","v":""},{"$f":"IF(OR($E1425<>0,$C1425=\"\"),\"\",INDEX(Categories!$A:$E,Entries!$D1425,4))","v":""},{"$f":"IF(OR($E1425<>0,$C1425=\"\"),\"\",INDEX(Categories!$A:$E,Entries!$D1425,5))","v":""},"2014-01-01","2014-01-01",{"$f":"(Entries!K1426-Entries!K1425)*24*60","v":0}]
["",null,null,{"$f":"MATCH(C1426,Categories!A:A,0)","v":{"$error":"#N/A"}},0,{"$f":"IF(OR($E1426<>0,$C1426=\"\"),\"\",INDEX(Categories!$A:$E,Entries!$D1426,2))","v":""},{"$f":"IF(OR($E1426<>0,$C1426=\"\"),\"\",INDEX(Categories!$A:$E,Entries!$D1426,3))","v":""},{"$f":"IF(OR($E1426<>0,$C1426=\"\"),\"\",INDEX(Categories!$A:$E,Entries!$D1426,4))","v":""},{"$f":"IF(OR($E1426<>0,$C1426=\"\"),\"\",INDEX(Categories!$A:$E,Entries!$D1426,5))","v":""},"2014-01-01","2014-01-01",{"$f":"(Entries!K1427-Entries!K1426)*24*60","v":0}]
["",null,null,{"$f":"MATCH(C1427,Categories!A:A,0)","v":{"$error":"#N/A"}},0,{"$f":"IF(OR($E1427<>0,$C1427=\"\"),\"\",INDEX(Categories!$A:$E,Entries!$D1427,2))","v":""},{"$f":"IF(OR($E1427<>0,$C1427=\"\"),\"\",INDEX(Categories!$A:$E,Entries!$D1427,3))","v":""},{"$f":"IF(OR($E1427<>0,$C1427=\"\"),\"\",INDEX(Categories!$A:$E,Entries!$D1427,4))","v":""},{"$f":"IF(OR($E1427<>0,$C1427=\"\"),\"\",INDEX(Categories!$A:$E,Entries!$D1427,5))","v":""},"2014-01-01","2014-01-01",{"$f":"(Entries!K1428-Entries!K1427)*24*60","v":0}]
["",null,null,{"$f":"MATCH(C1428,Categories!A:A,0)","v":{"$error":"#N/A"}},0,{"$f":"IF(OR($E1428<>0,$C1428=\"\"),\"\",INDEX(Categories!$A:$E,Entries!$D1428,2))","v":""},{"$f":"IF(OR($E1428<>0,$C1428=\"\"),\"\",INDEX(Categories!$A:$E,Entries!$D1428,3))","v":""},{"$f":"IF(OR($E1428<>0,$C1428=\"\"),\"\",INDEX(Categories!$A:$E,Entries!$D1428,4))","v":""},{"$f":"IF(OR($E1428<>0,$C1428=\"\"),\"\",INDEX(Categories!$A:$E,Entries!$D1428,5))","v":""},"2014-01-01","2014-01-01",{"$f":"(Entries!K1429-Entries!K1428)*24*60","v":0}]
["",null,null,{"$f":"MATCH(C1429,Categories!A:A,0)","v":{"$error":"#N/A"}},0,{"$f":"IF(OR($E1429<>0,$C1429=\"\"),\"\",INDEX(Categories!$A:$E,Entries!$D1429,2))","v":""},{"$f":"IF(OR($E1429<>0,$C1429=\"\"),\"\",INDEX(Categories!$A:$E,Entries!$D1429,3))","v":""},{"$f":"IF(OR($E1429<>0,$C1429=\"\"),\"\",INDEX(Categories!$A:$E,Entries!$D1429,4))","v":""},{"$f":"IF(OR($E1429<>0,$C1429=\"\"),\"\",INDEX(Categories!$A:$E,Entries!$D1429,5))","v":""},"2014-01-01","2014-01-01",{"$f":"(Entries!K1430-Entries!K1429)*24*60","v":0}]
["",null,null,{"$f":"MATCH(C1430,Categories!A:A,0)","v":{"$error":"#N/A"}},0,{"$f":"IF(OR($E1430<>0,$C1430=\"\"),\"\",INDEX(Categories!$A:$E,Entries!$D1430,2))","v":""},{"$f":"IF(OR($E1430<>0,$C1430=\"\"),\"\",INDEX(Categories!$A:$E,Entries!$D1430,3))","v":""},{"$f":"IF(OR($E1430<>0,$C1430=\"\"),\"\",INDEX(Categories!$A:$E,Entries!$D1430,4))","v":""},{"$f":"IF(OR($E1430<>0,$C1430=\"\"),\"\",INDEX(Categories!$A:$E,Entries!$D1430,5))","v":""},"2014-01-01","2014-01-01",{"$f":"(Entries!K1431-Entries!K1430)*24*60","v":0}]
["",null,null,{"$f":"MATCH(C1431,Categories!A:A,0)","v":{"$error":"#N/A"}},0,{"$f":"IF(OR($E1431<>0,$C1431=\"\"),\"\",INDEX(Categories!$A:$E,Entries!$D1431,2))","v":""},{"$f":"IF(OR($E1431<>0,$C1431=\"\"),\"\",INDEX(Categories!$A:$E,Entries!$D1431,3))","v":""},{"$f":"IF(OR($E1431<>0,$C1431=\"\"),\"\",INDEX(Categories!$A:$E,Entries!$D1431,4))","v":""},{"$f":"IF(OR($E1431<>0,$C1431=\"\"),\"\",INDEX(Categories!$A:$E,Entries!$D1431,5))","v":""},"2014-01-01","2014-01-01",{"$f":"(Entries!K1432-Entries!K1431)*24*60","v":0}]
["",null,null,{"$f":"MATCH(C1432,Categories!A:A,0)","v":{"$error":"#N/A"}},0,{"$f":"IF(OR($E1432<>0,$C1432=\"\"),\"\",INDEX(Categories!$A:$E,Entries!$D1432,2))","v":""},{"$f":"IF(OR($E1432<>0,$C1432=\"\"),\"\",INDEX(Categories!$A:$E,Entries!$D1432,3))","v":""},{"$f":"IF(OR($E1432<>0,$C1432=\"\"),\"\",INDEX(Categories!$A:$E,Entries!$D1432,4))","v":""},{"$f":"IF(OR($E1432<>0,$C1432=\"\"),\"\",INDEX(Categories!$A:$E,Entries!$D1432,5))","v":""},"2014-01-01","2014-01-01",{"$f":"(Entries!K1433-Entries!K1432)*24*60","v":0}]
["",null,null,{"$f":"MATCH(C1433,Categories!A:A,0)","v":{"$error":"#N/A"}},0,{"$f":"IF(OR($E1433<>0,$C1433=\"\"),\"\",INDEX(Categories!$A:$E,Entries!$D1433,2))","v":""},{"$f":"IF(OR($E1433<>0,$C1433=\"\"),\"\",INDEX(Categories!$A:$E,Entries!$D1433,3))","v":""},{"$f":"IF(OR($E1433<>0,$C1433=\"\"),\"\",INDEX(Categories!$A:$E,Entries!$D1433,4))","v":""},{"$f":"IF(OR($E1433<>0,$C1433=\"\"),\"\",INDEX(Categories!$A:$E,Entries!$D1433,5))","v":""},"2014-01-01","2014-01-01",{"$f":"(Entries!K1434-Entries!K1433)*24*60","v":0}]
["",null,null,{"$f":"MATCH(C1434,Categories!A:A,0)","v":{"$error":"#N/A"}},0,{"$f":"IF(OR($E1434<>0,$C1434=\"\"),\"\",INDEX(Categories!$A:$E,Entries!$D1434,2))","v":""},{"$f":"IF(OR($E1434<>0,$C1434=\"\"),\"\",INDEX(Categories!$A:$E,Entries!$D1434,3))","v":""},{"$f":"IF(OR($E1434<>0,$C1434=\"\"),\"\",INDEX(Categories!$A:$E,Entries!$D1434,4))","v":""},{"$f":"IF(OR($E1434<>0,$C1434=\"\"),\"\",INDEX(Categories!$A:$E,Entries!$D1434,5))","v":""},"2014-01-01","2014-01-01",{"$f":"(Entries!K1435-Entries!K1434)*24*60","v":0}]
["",null,null,{"$f":"MATCH(C1435,Categories!A:A,0)","v":{"$error":"#N/A"}},0,{"$f":"IF(OR($E1435<>0,$C1435=\"\"),\"\",INDEX(Categories!$A:$E,Entries!$D1435,2))","v":""},{"$f":"IF(OR($E1435<>0,$C1435=\"\"),\"\",INDEX(Categories!$A:$E,Entries!$D1435,3))","v":""},{"$f":"IF(OR($E1435<>0,$C1435=\"\"),\"\",INDEX(Categories!$A:$E,Entries!$D1435,4))","v":""},{"$f":"IF(OR($E1435<>0,$C1435=\"\"),\"\",INDEX(Categories!$A:$E,Entries!$D1435,5))","v":""},"2014-01-01","2014-01-01",{"$f":"(Entries!K1436-Entries!K1435)*24*60","v":0}]
["",null,null,{"$f":"MATCH(C1436,Categories!A:A,0)","v":{"$error":"#N/A"}},0,{"$f":"IF(OR($E1436<>0,$C1436=\"\"),\"\",INDEX(Categories!$A:$E,Entries!$D1436,2))","v":""},{"$f":"IF(OR($E1436<>0,$C1436=\"\"),\"\",INDEX(Categories!$A:$E,Entries!$D1436,3))","v":""},{"$f":"IF(OR($E1436<>0,$C1436=\"\"),\"\",INDEX(Categories!$A:$E,Entries!$D1436,4))","v":""},{"$f":"IF(OR($E1436<>0,$C1436=\"\"),\"\",INDEX(Categories!$A:$E,Entries!$D1436,5))","v":""},"2014-01-01","2014-01-01",{"$f":"(Entries!K1437-Entries!K1436)*24*60","v":0}]
["",null,null,{"$f":"MATCH(C1437,Categories!A:A,0)","v":{"$error":"#N/A"}},0,{"$f":"IF(OR($E1437<>0,$C1437=\"\"),\"\",INDEX(Categories!$A:$E,Entries!$D1437,2))","v":""},{"$f":"IF(OR($E1437<>0,$C1437=\"\"),\"\",INDEX(Categories!$A:$E,Entries!$D1437,3))","v":""},{"$f":"IF(OR($E1437<>0,$C1437=\"\"),\"\",INDEX(Categories!$A:$E,Entries!$D1437,4))","v":""},{"$f":"IF(OR($E1437<>0,$C1437=\"\"),\"\",INDEX(Categories!$A:$E,Entries!$D1437,5))","v":""},"2014-01-01","2014-01-01",{"$f":"(Entries!K1438-Entries!K1437)*24*60","v":0}]
["",null,null,{"$f":"MATCH(C1438,Categories!A:A,0)","v":{"$error":"#N/A"}},0,{"$f":"IF(OR($E1438<>0,$C1438=\"\"),\"\",INDEX(Categories!$A:$E,Entries!$D1438,2))","v":""},{"$f":"IF(OR($E1438<>0,$C1438=\"\"),\"\",INDEX(Categories!$A:$E,Entries!$D1438,3))","v":""},{"$f":"IF(OR($E1438<>0,$C1438=\"\"),\"\",INDEX(Categories!$A:$E,Entries!$D1438,4))","v":""},{"$f":"IF(OR($E1438<>0,$C1438=\"\"),\"\",INDEX(Categories!$A:$E,Entries!$D1438,5))","v":""},"2014-01-01","2014-01-01",{"$f":"(Entries!K1439-Entries!K1438)*24*60","v":0}]
["",null,null,{"$f":"MATCH(C1439,Categories!A:A,0)","v":{"$error":"#N/A"}},0,{"$f":"IF(OR($E1439<>0,$C1439=\"\"),\"\",INDEX(Categories!$A:$E,Entries!$D1439,2))","v":""},{"$f":"IF(OR($E1439<>0,$C1439=\"\"),\"\",INDEX(Categories!$A:$E,Entries!$D1439,3))","v":""},{"$f":"IF(OR($E1439<>0,$C1439=\"\"),\"\",INDEX(Categories!$A:$E,Entries!$D1439,4))","v":""},{"$f":"IF(OR($E1439<>0,$C1439=\"\"),\"\",INDEX(Categories!$A:$E,Entries!$D1439,5))","v":""},"2014-01-01","2014-01-01",{"$f":"(Entries!K1440-Entries!K1439)*24*60","v":0}]
["",null,null,{"$f":"MATCH(C1440,Categories!A:A,0)","v":{"$error":"#N/A"}},0,{"$f":"IF(OR($E1440<>0,$C1440=\"\"),\"\",INDEX(Categories!$A:$E,Entries!$D1440,2))","v":""},{"$f":"IF(OR($E1440<>0,$C1440=\"\"),\"\",INDEX(Categories!$A:$E,Entries!$D1440,3))","v":""},{"$f":"IF(OR($E1440<>0,$C1440=\"\"),\"\",INDEX(Categories!$A:$E,Entries!$D1440,4))","v":""},{"$f":"IF(OR($E1440<>0,$C1440=\"\"),\"\",INDEX(Categories!$A:$E,Entries!$D1440,5))","v":""},"2014-01-01","2014-01-01",{"$f":"(Entries!K1441-Entries!K1440)*24*60","v":0}]
["",null,null,{"$f":"MATCH(C1441,Categories!A:A,0)","v":{"$error":"#N/A"}},0,{"$f":"IF(OR($E1441<>0,$C1441=\"\"),\"\",INDEX(Categories!$A:$E,Entries!$D1441,2))","v":""},{"$f":"IF(OR($E1441<>0,$C1441=\"\"),\"\",INDEX(Categories!$A:$E,Entries!$D1441,3))","v":""},{"$f":"IF(OR($E1441<>0,$C1441=\"\"),\"\",INDEX(Categories!$A:$E,Entries!$D1441,4))","v":""},{"$f":"IF(OR($E1441<>0,$C1441=\"\"),\"\",INDEX(Categories!$A:$E,Entries!$D1441,5))","v":""},"2014-01-01","2014-01-01",{"$f":"(Entries!K1442-Entries!K1441)*24*60","v":0}]
["",null,null,{"$f":"MATCH(C1442,Categories!A:A,0)","v":{"$error":"#N/A"}},0,{"$f":"IF(OR($E1442<>0,$C1442=\"\"),\"\",INDEX(Categories!$A:$E,Entries!$D1442,2))","v":""},{"$f":"IF(OR($E1442<>0,$C1442=\"\"),\"\",INDEX(Categories!$A:$E,Entries!$D1442,3))","v":""},{"$f":"IF(OR($E1442<>0,$C1442=\"\"),\"\",INDEX(Categories!$A:$E,Entries!$D1442,4))","v":""},{"$f":"IF(OR($E1442<>0,$C1442=\"\"),\"\",INDEX(Categories!$A:$E,Entries!$D1442,5))","v":""},"2014-01-01","2014-01-01",{"$f":"(Entries!K1443-Entries!K1442)*24*60","v":0}]
["",null,null,{"$f":"MATCH(C1443,Categories!A:A,0)","v":{"$error":"#N/A"}},0,{"$f":"IF(OR($E1443<>0,$C1443=\"\"),\"\",INDEX(Categories!$A:$E,Entries!$D1443,2))","v":""},{"$f":"IF(OR($E1443<>0,$C1443=\"\"),\"\",INDEX(Categories!$A:$E,Entries!$D1443,3))","v":""},{"$f":"IF(OR($E1443<>0,$C1443=\"\"),\"\",INDEX(Categories!$A:$E,Entries!$D1443,4))","v":""},{"$f":"IF(OR($E1443<>0,$C1443=\"\"),\"\",INDEX(Categories!$A:$E,Entries!$D1443,5))","v":""},"2014-01-01","2014-01-01",{"$f":"(Entries!K1444-Entries!K1443)*24*60","v":0}]
[{"$f":"IF(OR(B1444>=B1443,C1443=\"z\",B1444=\"\"),\"\",J1443+1)","v":""},null,null,{"$f":"MATCH(C1444,Categories!A:A,0)","v":{"$error":"#N/A"}},0,{"$f":"IF(OR($E1444<>0,$C1444=\"\"),\"\",INDEX(Categories!$A:$E,Entries!$D1444,2))","v":""},{"$f":"IF(OR($E1444<>0,$C1444=\"\"),\"\",INDEX(Categories!$A:$E,Entries!$D1444,3))","v":""},{"$f":"IF(OR($E1444<>0,$C1444=\"\"),\"\",INDEX(Categories!$A:$E,Entries!$D1444,4))","v":""},{"$f":"IF(OR($E1444<>0,$C1444=\"\"),\"\",INDEX(Categories!$A:$E,Entries!$D1444,5))","v":""},"2014-01-01","2014-01-01",{"$f":"(Entries!K1445-Entries!K1444)*24*60","v":0}]
["",null,null,{"$f":"MATCH(C1445,Categories!A:A,0)","v":{"$error":"#N/A"}},0,{"$f":"IF(OR($E1445<>0,$C1445=\"\"),\"\",INDEX(Categories!$A:$E,Entries!$D1445,2))","v":""},{"$f":"IF(OR($E1445<>0,$C1445=\"\"),\"\",INDEX(Categories!$A:$E,Entries!$D1445,3))","v":""},{"$f":"IF(OR($E1445<>0,$C1445=\"\"),\"\",INDEX(Categories!$A:$E,Entries!$D1445,4))","v":""},{"$f":"IF(OR($E1445<>0,$C1445=\"\"),\"\",INDEX(Categories!$A:$E,Entries!$D1445,5))","v":""},"2014-01-01","2014-01-01",{"$f":"(Entries!K1446-Entries!K1445)*24*60","v":0}]
["",null,null,{"$f":"MATCH(C1446,Categories!A:A,0)","v":{"$error":"#N/A"}},0,{"$f":"IF(OR($E1446<>0,$C1446=\"\"),\"\",INDEX(Categories!$A:$E,Entries!$D1446,2))","v":""},{"$f":"IF(OR($E1446<>0,$C1446=\"\"),\"\",INDEX(Categories!$A:$E,Entries!$D1446,3))","v":""},{"$f":"IF(OR($E1446<>0,$C1446=\"\"),\"\",INDEX(Categories!$A:$E,Entries!$D1446,4))","v":""},{"$f":"IF(OR($E1446<>0,$C1446=\"\"),\"\",INDEX(Categories!$A:$E,Entries!$D1446,5))","v":""},"2014-01-01","2014-01-01",{"$f":"(Entries!K1447-Entries!K1446)*24*60","v":0}]
["",null,null,{"$f":"MATCH(C1447,Categories!A:A,0)","v":{"$error":"#N/A"}},0,{"$f":"IF(OR($E1447<>0,$C1447=\"\"),\"\",INDEX(Categories!$A:$E,Entries!$D1447,2))","v":""},{"$f":"IF(OR($E1447<>0,$C1447=\"\"),\"\",INDEX(Categories!$A:$E,Entries!$D1447,3))","v":""},{"$f":"IF(OR($E1447<>0,$C1447=\"\"),\"\",INDEX(Categories!$A:$E,Entries!$D1447,4))","v":""},{"$f":"IF(OR($E1447<>0,$C1447=\"\"),\"\",INDEX(Categories!$A:$E,Entries!$D1447,5))","v":""},"2014-01-01","2014-01-01",{"$f":"(Entries!K1448-Entries!K1447)*24*60","v":0}]
["",null,null,{"$f":"MATCH(C1448,Categories!A:A,0)","v":{"$error":"#N/A"}},0,{"$f":"IF(OR($E1448<>0,$C1448=\"\"),\"\",INDEX(Categories!$A:$E,Entries!$D1448,2))","v":""},{"$f":"IF(OR($E1448<>0,$C1448=\"\"),\"\",INDEX(Categories!$A:$E,Entries!$D1448,3))","v":""},{"$f":"IF(OR($E1448<>0,$C1448=\"\"),\"\",INDEX(Categories!$A:$E,Entries!$D1448,4))","v":""},{"$f":"IF(OR($E1448<>0,$C1448=\"\"),\"\",INDEX(Categories!$A:$E,Entries!$D1448,5))","v":""},"2014-01-01","2014-01-01",{"$f":"(Entries!K1449-Entries!K1448)*24*60","v":0}]
["",null,null,{"$f":"MATCH(C1449,Categories!A:A,0)","v":{"$error":"#N/A"}},0,{"$f":"IF(OR($E1449<>0,$C1449=\"\"),\"\",INDEX(Categories!$A:$E,Entries!$D1449,2))","v":""},{"$f":"IF(OR($E1449<>0,$C1449=\"\"),\"\",INDEX(Categories!$A:$E,Entries!$D1449,3))","v":""},{"$f":"IF(OR($E1449<>0,$C1449=\"\"),\"\",INDEX(Categories!$A:$E,Entries!$D1449,4))","v":""},{"$f":"IF(OR($E1449<>0,$C1449=\"\"),\"\",INDEX(Categories!$A:$E,Entries!$D1449,5))","v":""},"2014-01-01","2014-01-01",{"$f":"(Entries!K1450-Entries!K1449)*24*60","v":0}]
["",null,null,{"$f":"MATCH(C1450,Categories!A:A,0)","v":{"$error":"#N/A"}},0,{"$f":"IF(OR($E1450<>0,$C1450=\"\"),\"\",INDEX(Categories!$A:$E,Entries!$D1450,2))","v":""},{"$f":"IF(OR($E1450<>0,$C1450=\"\"),\"\",INDEX(Categories!$A:$E,Entries!$D1450,3))","v":""},{"$f":"IF(OR($E1450<>0,$C1450=\"\"),\"\",INDEX(Categories!$A:$E,Entries!$D1450,4))","v":""},{"$f":"IF(OR($E1450<>0,$C1450=\"\"),\"\",INDEX(Categories!$A:$E,Entries!$D1450,5))","v":""},"2014-01-01","2014-01-01",{"$f":"(Entries!K1451-Entries!K1450)*24*60","v":0}]
["",null,null,{"$f":"MATCH(C1451,Categories!A:A,0)","v":{"$error":"#N/A"}},0,{"$f":"IF(OR($E1451<>0,$C1451=\"\"),\"\",INDEX(Categories!$A:$E,Entries!$D1451,2))","v":""},{"$f":"IF(OR($E1451<>0,$C1451=\"\"),\"\",INDEX(Categories!$A:$E,Entries!$D1451,3))","v":""},{"$f":"IF(OR($E1451<>0,$C1451=\"\"),\"\",INDEX(Categories!$A:$E,Entries!$D1451,4))","v":""},{"$f":"IF(OR($E1451<>0,$C1451=\"\"),\"\",INDEX(Categories!$A:$E,Entries!$D1451,5))","v":""},"2014-01-01","2014-01-01",{"$f":"(Entries!K1452-Entries!K1451)*24*60","v":0}]
["",null,null,{"$f":"MATCH(C1452,Categories!A:A,0)","v":{"$error":"#N/A"}},0,{"$f":"IF(OR($E1452<>0,$C1452=\"\"),\"\",INDEX(Categories!$A:$E,Entries!$D1452,2))","v":""},{"$f":"IF(OR($E1452<>0,$C1452=\"\"),\"\",INDEX(Categories!$A:$E,Entries!$D1452,3))","v":""},{"$f":"IF(OR($E1452<>0,$C1452=\"\"),\"\",INDEX(Categories!$A:$E,Entries!$D1452,4))","v":""},{"$f":"IF(OR($E1452<>0,$C1452=\"\"),\"\",INDEX(Categories!$A:$E,Entries!$D1452,5))","v":""},"2014-01-01","2014-01-01",{"$f":"(Entries!K1453-Entries!K1452)*24*60","v":0}]
["",null,null,{"$f":"MATCH(C1453,Categories!A:A,0)","v":{"$error":"#N/A"}},0,{"$f":"IF(OR($E1453<>0,$C1453=\"\"),\"\",INDEX(Categories!$A:$E,Entries!$D1453,2))","v":""},{"$f":"IF(OR($E1453<>0,$C1453=\"\"),\"\",INDEX(Categories!$A:$E,Entries!$D1453,3))","v":""},{"$f":"IF(OR($E1453<>0,$C1453=\"\"),\"\",INDEX(Categories!$A:$E,Entries!$D1453,4))","v":""},{"$f":"IF(OR($E1453<>0,$C1453=\"\"),\"\",INDEX(Categories!$A:$E,Entries!$D1453,5))","v":""},"2014-01-01","2014-01-01",{"$f":"(Entries!K1454-Entries!K1453)*24*60","v":0}]
["",null,null,{"$f":"MATCH(C1454,Categories!A:A,0)","v":{"$error":"#N/A"}},0,{"$f":"IF(OR($E1454<>0,$C1454=\"\"),\"\",INDEX(Categories!$A:$E,Entries!$D1454,2))","v":""},{"$f":"IF(OR($E1454<>0,$C1454=\"\"),\"\",INDEX(Categories!$A:$E,Entries!$D1454,3))","v":""},{"$f":"IF(OR($E1454<>0,$C1454=\"\"),\"\",INDEX(Categories!$A:$E,Entries!$D1454,4))","v":""},{"$f":"IF(OR($E1454<>0,$C1454=\"\"),\"\",INDEX(Categories!$A:$E,Entries!$D1454,5))","v":""},"2014-01-01","2014-01-01",{"$f":"(Entries!K1455-Entries!K1454)*24*60","v":0}]
["",null,null,{"$f":"MATCH(C1455,Categories!A:A,0)","v":{"$error":"#N/A"}},0,{"$f":"IF(OR($E1455<>0,$C1455=\"\"),\"\",INDEX(Categories!$A:$E,Entries!$D1455,2))","v":""},{"$f":"IF(OR($E1455<>0,$C1455=\"\"),\"\",INDEX(Categories!$A:$E,Entries!$D1455,3))","v":""},{"$f":"IF(OR($E1455<>0,$C1455=\"\"),\"\",INDEX(Categories!$A:$E,Entries!$D1455,4))","v":""},{"$f":"IF(OR($E1455<>0,$C1455=\"\"),\"\",INDEX(Categories!$A:$E,Entries!$D1455,5))","v":""},"2014-01-01","2014-01-01",{"$f":"(Entries!K1456-Entries!K1455)*24*60","v":0}]
["",null,null,{"$f":"MATCH(C1456,Categories!A:A,0)","v":{"$error":"#N/A"}},0,{"$f":"IF(OR($E1456<>0,$C1456=\"\"),\"\",INDEX(Categories!$A:$E,Entries!$D1456,2))","v":""},{"$f":"IF(OR($E1456<>0,$C1456=\"\"),\"\",INDEX(Categories!$A:$E,Entries!$D1456,3))","v":""},{"$f":"IF(OR($E1456<>0,$C1456=\"\"),\"\",INDEX(Categories!$A:$E,Entries!$D1456,4))","v":""},{"$f":"IF(OR($E1456<>0,$C1456=\"\"),\"\",INDEX(Categories!$A:$E,Entries!$D1456,5))","v":""},"2014-01-01","2014-01-01",{"$f":"(Entries!K1457-Entries!K1456)*24*60","v":0}]
["",null,null,{"$f":"MATCH(C1457,Categories!A:A,0)","v":{"$error":"#N/A"}},0,{"$f":"IF(OR($E1457<>0,$C1457=\"\"),\"\",INDEX(Categories!$A:$E,Entries!$D1457,2))","v":""},{"$f":"IF(OR($E1457<>0,$C1457=\"\"),\"\",INDEX(Categories!$A:$E,Entries!$D1457,3))","v":""},{"$f":"IF(OR($E1457<>0,$C1457=\"\"),\"\",INDEX(Categories!$A:$E,Entries!$D1457,4))","v":""},{"$f":"IF(OR($E1457<>0,$C1457=\"\"),\"\",INDEX(Categories!$A:$E,Entries!$D1457,5))","v":""},"2014-01-01","2014-01-01",{"$f":"(Entries!K1458-Entries!K1457)*24*60","v":0}]
["",null,null,{"$f":"MATCH(C1458,Categories!A:A,0)","v":{"$error":"#N/A"}},0,{"$f":"IF(OR($E1458<>0,$C1458=\"\"),\"\",INDEX(Categories!$A:$E,Entries!$D1458,2))","v":""},{"$f":"IF(OR($E1458<>0,$C1458=\"\"),\"\",INDEX(Categories!$A:$E,Entries!$D1458,3))","v":""},{"$f":"IF(OR($E1458<>0,$C1458=\"\"),\"\",INDEX(Categories!$A:$E,Entries!$D1458,4))","v":""},{"$f":"IF(OR($E1458<>0,$C1458=\"\"),\"\",INDEX(Categories!$A:$E,Entries!$D1458,5))","v":""},"2014-01-01","2014-01-01",{"$f":"(Entries!K1459-Entries!K1458)*24*60","v":0}]
["",null,null,{"$f":"MATCH(C1459,Categories!A:A,0)","v":{"$error":"#N/A"}},0,{"$f":"IF(OR($E1459<>0,$C1459=\"\"),\"\",INDEX(Categories!$A:$E,Entries!$D1459,2))","v":""},{"$f":"IF(OR($E1459<>0,$C1459=\"\"),\"\",INDEX(Categories!$A:$E,Entries!$D1459,3))","v":""},{"$f":"IF(OR($E1459<>0,$C1459=\"\"),\"\",INDEX(Categories!$A:$E,Entries!$D1459,4))","v":""},{"$f":"IF(OR($E1459<>0,$C1459=\"\"),\"\",INDEX(Categories!$A:$E,Entries!$D1459,5))","v":""},"2014-01-01","2014-01-01",{"$f":"(Entries!K1460-Entries!K1459)*24*60","v":0}]
["",null,null,{"$f":"MATCH(C1460,Categories!A:A,0)","v":{"$error":"#N/A"}},0,{"$f":"IF(OR($E1460<>0,$C1460=\"\"),\"\",INDEX(Categories!$A:$E,Entries!$D1460,2))","v":""},{"$f":"IF(OR($E1460<>0,$C1460=\"\"),\"\",INDEX(Categories!$A:$E,Entries!$D1460,3))","v":""},{"$f":"IF(OR($E1460<>0,$C1460=\"\"),\"\",INDEX(Categories!$A:$E,Entries!$D1460,4))","v":""},{"$f":"IF(OR($E1460<>0,$C1460=\"\"),\"\",INDEX(Categories!$A:$E,Entries!$D1460,5))","v":""},"2014-01-01","2014-01-01",{"$f":"(Entries!K1461-Entries!K1460)*24*60","v":0}]
["",null,null,{"$f":"MATCH(C1461,Categories!A:A,0)","v":{"$error":"#N/A"}},0,{"$f":"IF(OR($E1461<>0,$C1461=\"\"),\"\",INDEX(Categories!$A:$E,Entries!$D1461,2))","v":""},{"$f":"IF(OR($E1461<>0,$C1461=\"\"),\"\",INDEX(Categories!$A:$E,Entries!$D1461,3))","v":""},{"$f":"IF(OR($E1461<>0,$C1461=\"\"),\"\",INDEX(Categories!$A:$E,Entries!$D1461,4))","v":""},{"$f":"IF(OR($E1461<>0,$C1461=\"\"),\"\",INDEX(Categories!$A:$E,Entries!$D1461,5))","v":""},"2014-01-01","2014-01-01",{"$f":"(Entries!K1462-Entries!K1461)*24*60","v":0}]
["",null,null,{"$f":"MATCH(C1462,Categories!A:A,0)","v":{"$error":"#N/A"}},0,{"$f":"IF(OR($E1462<>0,$C1462=\"\"),\"\",INDEX(Categories!$A:$E,Entries!$D1462,2))","v":""},{"$f":"IF(OR($E1462<>0,$C1462=\"\"),\"\",INDEX(Categories!$A:$E,Entries!$D1462,3))","v":""},{"$f":"IF(OR($E1462<>0,$C1462=\"\"),\"\",INDEX(Categories!$A:$E,Entries!$D1462,4))","v":""},{"$f":"IF(OR($E1462<>0,$C1462=\"\"),\"\",INDEX(Categories!$A:$E,Entries!$D1462,5))","v":""},"2014-01-01","2014-01-01",{"$f":"(Entries!K1463-Entries!K1462)*24*60","v":0}]
["",null,null,{"$f":"MATCH(C1463,Categories!A:A,0)","v":{"$error":"#N/A"}},0,{"$f":"IF(OR($E1463<>0,$C1463=\"\"),\"\",INDEX(Categories!$A:$E,Entries!$D1463,2))","v":""},{"$f":"IF(OR($E1463<>0,$C1463=\"\"),\"\",INDEX(Categories!$A:$E,Entries!$D1463,3))","v":""},{"$f":"IF(OR($E1463<>0,$C1463=\"\"),\"\",INDEX(Categories!$A:$E,Entries!$D1463,4))","v":""},{"$f":"IF(OR($E1463<>0,$C1463=\"\"),\"\",INDEX(Categories!$A:$E,Entries!$D1463,5))","v":""},"2014-01-01","2014-01-01",{"$f":"(Entries!K1464-Entries!K1463)*24*60","v":0}]
["",null,null,{"$f":"MATCH(C1464,Categories!A:A,0)","v":{"$error":"#N/A"}},0,{"$f":"IF(OR($E1464<>0,$C1464=\"\"),\"\",INDEX(Categories!$A:$E,Entries!$D1464,2))","v":""},{"$f":"IF(OR($E1464<>0,$C1464=\"\"),\"\",INDEX(Categories!$A:$E,Entries!$D1464,3))","v":""},{"$f":"IF(OR($E1464<>0,$C1464=\"\"),\"\",INDEX(Categories!$A:$E,Entries!$D1464,4))","v":""},{"$f":"IF(OR($E1464<>0,$C1464=\"\"),\"\",INDEX(Categories!$A:$E,Entries!$D1464,5))","v":""},"2014-01-01","2014-01-01",{"$f":"(Entries!K1465-Entries!K1464)*24*60","v":0}]
["",null,null,{"$f":"MATCH(C1465,Categories!A:A,0)","v":{"$error":"#N/A"}},0,{"$f":"IF(OR($E1465<>0,$C1465=\"\"),\"\",INDEX(Categories!$A:$E,Entries!$D1465,2))","v":""},{"$f":"IF(OR($E1465<>0,$C1465=\"\"),\"\",INDEX(Categories!$A:$E,Entries!$D1465,3))","v":""},{"$f":"IF(OR($E1465<>0,$C1465=\"\"),\"\",INDEX(Categories!$A:$E,Entries!$D1465,4))","v":""},{"$f":"IF(OR($E1465<>0,$C1465=\"\"),\"\",INDEX(Categories!$A:$E,Entries!$D1465,5))","v":""},"2014-01-01","2014-01-01",{"$f":"(Entries!K1466-Entries!K1465)*24*60","v":0}]
["",null,null,{"$f":"MATCH(C1466,Categories!A:A,0)","v":{"$error":"#N/A"}},0,{"$f":"IF(OR($E1466<>0,$C1466=\"\"),\"\",INDEX(Categories!$A:$E,Entries!$D1466,2))","v":""},{"$f":"IF(OR($E1466<>0,$C1466=\"\"),\"\",INDEX(Categories!$A:$E,Entries!$D1466,3))","v":""},{"$f":"IF(OR($E1466<>0,$C1466=\"\"),\"\",INDEX(Categories!$A:$E,Entries!$D1466,4))","v":""},{"$f":"IF(OR($E1466<>0,$C1466=\"\"),\"\",INDEX(Categories!$A:$E,Entries!$D1466,5))","v":""},"2014-01-01","2014-01-01",{"$f":"(Entries!K1467-Entries!K1466)*24*60","v":0}]
["",null,null,{"$f":"MATCH(C1467,Categories!A:A,0)","v":{"$error":"#N/A"}},0,{"$f":"IF(OR($E1467<>0,$C1467=\"\"),\"\",INDEX(Categories!$A:$E,Entries!$D1467,2))","v":""},{"$f":"IF(OR($E1467<>0,$C1467=\"\"),\"\",INDEX(Categories!$A:$E,Entries!$D1467,3))","v":""},{"$f":"IF(OR($E1467<>0,$C1467=\"\"),\"\",INDEX(Categories!$A:$E,Entries!$D1467,4))","v":""},{"$f":"IF(OR($E1467<>0,$C1467=\"\"),\"\",INDEX(Categories!$A:$E,Entries!$D1467,5))","v":""},"2014-01-01","2014-01-01",{"$f":"(Entries!K1468-Entries!K1467)*24*60","v":0}]
["",null,null,{"$f":"MATCH(C1468,Categories!A:A,0)","v":{"$error":"#N/A"}},0,{"$f":"IF(OR($E1468<>0,$C1468=\"\"),\"\",INDEX(Categories!$A:$E,Entries!$D1468,2))","v":""},{"$f":"IF(OR($E1468<>0,$C1468=\"\"),\"\",INDEX(Categories!$A:$E,Entries!$D1468,3))","v":""},{"$f":"IF(OR($E1468<>0,$C1468=\"\"),\"\",INDEX(Categories!$A:$E,Entries!$D1468,4))","v":""},{"$f":"IF(OR($E1468<>0,$C1468=\"\"),\"\",INDEX(Categories!$A:$E,Entries!$D1468,5))","v":""},"2014-01-01","2014-01-01",{"$f":"(Entries!K1469-Entries!K1468)*24*60","v":0}]
["",null,null,{"$f":"MATCH(C1469,Categories!A:A,0)","v":{"$error":"#N/A"}},0,{"$f":"IF(OR($E1469<>0,$C1469=\"\"),\"\",INDEX(Categories!$A:$E,Entries!$D1469,2))","v":""},{"$f":"IF(OR($E1469<>0,$C1469=\"\"),\"\",INDEX(Categories!$A:$E,Entries!$D1469,3))","v":""},{"$f":"IF(OR($E1469<>0,$C1469=\"\"),\"\",INDEX(Categories!$A:$E,Entries!$D1469,4))","v":""},{"$f":"IF(OR($E1469<>0,$C1469=\"\"),\"\",INDEX(Categories!$A:$E,Entries!$D1469,5))","v":""},"2014-01-01","2014-01-01",{"$f":"(Entries!K1470-Entries!K1469)*24*60","v":0}]
["",null,null,{"$f":"MATCH(C1470,Categories!A:A,0)","v":{"$error":"#N/A"}},0,{"$f":"IF(OR($E1470<>0,$C1470=\"\"),\"\",INDEX(Categories!$A:$E,Entries!$D1470,2))","v":""},{"$f":"IF(OR($E1470<>0,$C1470=\"\"),\"\",INDEX(Categories!$A:$E,Entries!$D1470,3))","v":""},{"$f":"IF(OR($E1470<>0,$C1470=\"\"),\"\",INDEX(Categories!$A:$E,Entries!$D1470,4))","v":""},{"$f":"IF(OR($E1470<>0,$C1470=\"\"),\"\",INDEX(Categories!$A:$E,Entries!$D1470,5))","v":""},"2014-01-01","2014-01-01",{"$f":"(Entries!K1471-Entries!K1470)*24*60","v":0}]
["",null,null,{"$f":"MATCH(C1471,Categories!A:A,0)","v":{"$error":"#N/A"}},0,{"$f":"IF(OR($E1471<>0,$C1471=\"\"),\"\",INDEX(Categories!$A:$E,Entries!$D1471,2))","v":""},{"$f":"IF(OR($E1471<>0,$C1471=\"\"),\"\",INDEX(Categories!$A:$E,Entries!$D1471,3))","v":""},{"$f":"IF(OR($E1471<>0,$C1471=\"\"),\"\",INDEX(Categories!$A:$E,Entries!$D1471,4))","v":""},{"$f":"IF(OR($E1471<>0,$C1471=\"\"),\"\",INDEX(Categories!$A:$E,Entries!$D1471,5))","v":""},"2014-01-01","2014-01-01",{"$f":"(Entries!K1472-Entries!K1471)*24*60","v":0}]
["",null,null,{"$f":"MATCH(C1472,Categories!A:A,0)","v":{"$error":"#N/A"}},0,{"$f":"IF(OR($E1472<>0,$C1472=\"\"),\"\",INDEX(Categories!$A:$E,Entries!$D1472,2))","v":""},{"$f":"IF(OR($E1472<>0,$C1472=\"\"),\"\",INDEX(Categories!$A:$E,Entries!$D1472,3))","v":""},{"$f":"IF(OR($E1472<>0,$C1472=\"\"),\"\",INDEX(Categories!$A:$E,Entries!$D1472,4))","v":""},{"$f":"IF(OR($E1472<>0,$C1472=\"\"),\"\",INDEX(Categories!$A:$E,Entries!$D1472,5))","v":""},"2014-01-01","2014-01-01",{"$f":"(Entries!K1473-Entries!K1472)*24*60","v":0}]
["",null,null,{"$f":"MATCH(C1473,Categories!A:A,0)","v":{"$error":"#N/A"}},0,{"$f":"IF(OR($E1473<>0,$C1473=\"\"),\"\",INDEX(Categories!$A:$E,Entries!$D1473,2))","v":""},{"$f":"IF(OR($E1473<>0,$C1473=\"\"),\"\",INDEX(Categories!$A:$E,Entries!$D1473,3))","v":""},{"$f":"IF(OR($E1473<>0,$C1473=\"\"),\"\",INDEX(Categories!$A:$E,Entries!$D1473,4))","v":""},{"$f":"IF(OR($E1473<>0,$C1473=\"\"),\"\",INDEX(Categories!$A:$E,Entries!$D1473,5))","v":""},"2014-01-01","2014-01-01",{"$f":"(Entries!K1474-Entries!K1473)*24*60","v":0}]
["",null,null,{"$f":"MATCH(C1474,Categories!A:A,0)","v":{"$error":"#N/A"}},{"$f":"IF(AND(ISERROR(D1474),C1474<>\"\"),ROW(D1474),0)","v":0},{"$f":"IF(OR($E1474<>0,$C1474=\"\"),\"\",INDEX(Categories!$A:$E,Entries!$D1474,2))","v":""},{"$f":"IF(OR($E1474<>0,$C1474=\"\"),\"\",INDEX(Categories!$A:$E,Entries!$D1474,3))","v":""},{"$f":"IF(OR($E1474<>0,$C1474=\"\"),\"\",INDEX(Categories!$A:$E,Entries!$D1474,4))","v":""},{"$f":"IF(OR($E1474<>0,$C1474=\"\"),\"\",INDEX(Categories!$A:$E,Entries!$D1474,5))","v":""},{"$f":"IF(A1474=\"\",J1473,A1474)","v":"2014-01-01"},{"$f":"J1474+B1474","v":"2014-01-01"},{"$f":"(Entries!K1475-Entries!K1474)*24*60","v":0}]
["",null,null,{"$f":"MATCH(C1475,Categories!A:A,0)","v":{"$error":"#N/A"}},0,{"$f":"IF(OR($E1475<>0,$C1475=\"\"),\"\",INDEX(Categories!$A:$E,Entries!$D1475,2))","v":""},{"$f":"IF(OR($E1475<>0,$C1475=\"\"),\"\",INDEX(Categories!$A:$E,Entries!$D1475,3))","v":""},{"$f":"IF(OR($E1475<>0,$C1475=\"\"),\"\",INDEX(Categories!$A:$E,Entries!$D1475,4))","v":""},{"$f":"IF(OR($E1475<>0,$C1475=\"\"),\"\",INDEX(Categories!$A:$E,Entries!$D1475,5))","v":""},"2014-01-01","2014-01-01",{"$f":"(Entries!K1476-Entries!K1475)*24*60","v":0}]
["",null,null,{"$f":"MATCH(C1476,Categories!A:A,0)","v":{"$error":"#N/A"}},0,{"$f":"IF(OR($E1476<>0,$C1476=\"\"),\"\",INDEX(Categories!$A:$E,Entries!$D1476,2))","v":""},{"$f":"IF(OR($E1476<>0,$C1476=\"\"),\"\",INDEX(Categories!$A:$E,Entries!$D1476,3))","v":""},{"$f":"IF(OR($E1476<>0,$C1476=\"\"),\"\",INDEX(Categories!$A:$E,Entries!$D1476,4))","v":""},{"$f":"IF(OR($E1476<>0,$C1476=\"\"),\"\",INDEX(Categories!$A:$E,Entries!$D1476,5))","v":""},"2014-01-01","2014-01-01",{"$f":"(Entries!K1477-Entries!K1476)*24*60","v":0}]
["",null,null,{"$f":"MATCH(C1477,Categories!A:A,0)","v":{"$error":"#N/A"}},0,{"$f":"IF(OR($E1477<>0,$C1477=\"\"),\"\",INDEX(Categories!$A:$E,Entries!$D1477,2))","v":""},{"$f":"IF(OR($E1477<>0,$C1477=\"\"),\"\",INDEX(Categories!$A:$E,Entries!$D1477,3))","v":""},{"$f":"IF(OR($E1477<>0,$C1477=\"\"),\"\",INDEX(Categories!$A:$E,Entries!$D1477,4))","v":""},{"$f":"IF(OR($E1477<>0,$C1477=\"\"),\"\",INDEX(Categories!$A:$E,Entries!$D1477,5))","v":""},"2014-01-01","2014-01-01",{"$f":"(Entries!K1478-Entries!K1477)*24*60","v":0}]
["",null,null,{"$f":"MATCH(C1478,Categories!A:A,0)","v":{"$error":"#N/A"}},0,{"$f":"IF(OR($E1478<>0,$C1478=\"\"),\"\",INDEX(Categories!$A:$E,Entries!$D1478,2))","v":""},{"$f":"IF(OR($E1478<>0,$C1478=\"\"),\"\",INDEX(Categories!$A:$E,Entries!$D1478,3))","v":""},{"$f":"IF(OR($E1478<>0,$C1478=\"\"),\"\",INDEX(Categories!$A:$E,Entries!$D1478,4))","v":""},{"$f":"IF(OR($E1478<>0,$C1478=\"\"),\"\",INDEX(Categories!$A:$E,Entries!$D1478,5))","v":""},"2014-01-01","2014-01-01",{"$f":"(Entries!K1479-Entries!K1478)*24*60","v":0}]
["",null,null,{"$f":"MATCH(C1479,Categories!A:A,0)","v":{"$error":"#N/A"}},0,{"$f":"IF(OR($E1479<>0,$C1479=\"\"),\"\",INDEX(Categories!$A:$E,Entries!$D1479,2))","v":""},{"$f":"IF(OR($E1479<>0,$C1479=\"\"),\"\",INDEX(Categories!$A:$E,Entries!$D1479,3))","v":""},{"$f":"IF(OR($E1479<>0,$C1479=\"\"),\"\",INDEX(Categories!$A:$E,Entries!$D1479,4))","v":""},{"$f":"IF(OR($E1479<>0,$C1479=\"\"),\"\",INDEX(Categories!$A:$E,Entries!$D1479,5))","v":""},"2014-01-01","2014-01-01",{"$f":"(Entries!K1480-Entries!K1479)*24*60","v":0}]
["",null,null,{"$f":"MATCH(C1480,Categories!A:A,0)","v":{"$error":"#N/A"}},0,{"$f":"IF(OR($E1480<>0,$C1480=\"\"),\"\",INDEX(Categories!$A:$E,Entries!$D1480,2))","v":""},{"$f":"IF(OR($E1480<>0,$C1480=\"\"),\"\",INDEX(Categories!$A:$E,Entries!$D1480,3))","v":""},{"$f":"IF(OR($E1480<>0,$C1480=\"\"),\"\",INDEX(Categories!$A:$E,Entries!$D1480,4))","v":""},{"$f":"IF(OR($E1480<>0,$C1480=\"\"),\"\",INDEX(Categories!$A:$E,Entries!$D1480,5))","v":""},"2014-01-01","2014-01-01",{"$f":"(Entries!K1481-Entries!K1480)*24*60","v":0}]
["",null,null,{"$f":"MATCH(C1481,Categories!A:A,0)","v":{"$error":"#N/A"}},0,{"$f":"IF(OR($E1481<>0,$C1481=\"\"),\"\",INDEX(Categories!$A:$E,Entries!$D1481,2))","v":""},{"$f":"IF(OR($E1481<>0,$C1481=\"\"),\"\",INDEX(Categories!$A:$E,Entries!$D1481,3))","v":""},{"$f":"IF(OR($E1481<>0,$C1481=\"\"),\"\",INDEX(Categories!$A:$E,Entries!$D1481,4))","v":""},{"$f":"IF(OR($E1481<>0,$C1481=\"\"),\"\",INDEX(Categories!$A:$E,Entries!$D1481,5))","v":""},"2014-01-01","2014-01-01",{"$f":"(Entries!K1482-Entries!K1481)*24*60","v":0}]
["",null,null,{"$f":"MATCH(C1482,Categories!A:A,0)","v":{"$error":"#N/A"}},0,{"$f":"IF(OR($E1482<>0,$C1482=\"\"),\"\",INDEX(Categories!$A:$E,Entries!$D1482,2))","v":""},{"$f":"IF(OR($E1482<>0,$C1482=\"\"),\"\",INDEX(Categories!$A:$E,Entries!$D1482,3))","v":""},{"$f":"IF(OR($E1482<>0,$C1482=\"\"),\"\",INDEX(Categories!$A:$E,Entries!$D1482,4))","v":""},{"$f":"IF(OR($E1482<>0,$C1482=\"\"),\"\",INDEX(Categories!$A:$E,Entries!$D1482,5))","v":""},"2014-01-01","2014-01-01",{"$f":"(Entries!K1483-Entries!K1482)*24*60","v":0}]
["",null,null,{"$f":"MATCH(C1483,Categories!A:A,0)","v":{"$error":"#N/A"}},0,{"$f":"IF(OR($E1483<>0,$C1483=\"\"),\"\",INDEX(Categories!$A:$E,Entries!$D1483,2))","v":""},{"$f":"IF(OR($E1483<>0,$C1483=\"\"),\"\",INDEX(Categories!$A:$E,Entries!$D1483,3))","v":""},{"$f":"IF(OR($E1483<>0,$C1483=\"\"),\"\",INDEX(Categories!$A:$E,Entries!$D1483,4))","v":""},{"$f":"IF(OR($E1483<>0,$C1483=\"\"),\"\",INDEX(Categories!$A:$E,Entries!$D1483,5))","v":""},"2014-01-01","2014-01-01",{"$f":"(Entries!K1484-Entries!K1483)*24*60","v":0}]
["",null,null,{"$f":"MATCH(C1484,Categories!A:A,0)","v":{"$error":"#N/A"}},0,{"$f":"IF(OR($E1484<>0,$C1484=\"\"),\"\",INDEX(Categories!$A:$E,Entries!$D1484,2))","v":""},{"$f":"IF(OR($E1484<>0,$C1484=\"\"),\"\",INDEX(Categories!$A:$E,Entries!$D1484,3))","v":""},{"$f":"IF(OR($E1484<>0,$C1484=\"\"),\"\",INDEX(Categories!$A:$E,Entries!$D1484,4))","v":""},{"$f":"IF(OR($E1484<>0,$C1484=\"\"),\"\",INDEX(Categories!$A:$E,Entries!$D1484,5))","v":""},"2014-01-01","2014-01-01",{"$f":"(Entries!K1485-Entries!K1484)*24*60","v":0}]
["",null,null,{"$f":"MATCH(C1485,Categories!A:A,0)","v":{"$error":"#N/A"}},0,{"$f":"IF(OR($E1485<>0,$C1485=\"\"),\"\",INDEX(Categories!$A:$E,Entries!$D1485,2))","v":""},{"$f":"IF(OR($E1485<>0,$C1485=\"\"),\"\",INDEX(Categories!$A:$E,Entries!$D1485,3))","v":""},{"$f":"IF(OR($E1485<>0,$C1485=\"\"),\"\",INDEX(Categories!$A:$E,Entries!$D1485,4))","v":""},{"$f":"IF(OR($E1485<>0,$C1485=\"\"),\"\",INDEX(Categories!$A:$E,Entries!$D1485,5))","v":""},"2014-01-01","2014-01-01",{"$f":"(Entries!K1486-Entries!K1485)*24*60","v":0}]
["",null,null,{"$f":"MATCH(C1486,Categories!A:A,0)","v":{"$error":"#N/A"}},0,{"$f":"IF(OR($E1486<>0,$C1486=\"\"),\"\",INDEX(Categories!$A:$E,Entries!$D1486,2))","v":""},{"$f":"IF(OR($E1486<>0,$C1486=\"\"),\"\",INDEX(Categories!$A:$E,Entries!$D1486,3))","v":""},{"$f":"IF(OR($E1486<>0,$C1486=\"\"),\"\",INDEX(Categories!$A:$E,Entries!$D1486,4))","v":""},{"$f":"IF(OR($E1486<>0,$C1486=\"\"),\"\",INDEX(Categories!$A:$E,Entries!$D1486,5))","v":""},"2014-01-01","2014-01-01",{"$f":"(Entries!K1487-Entries!K1486)*24*60","v":0}]
["",null,null,{"$f":"MATCH(C1487,Categories!A:A,0)","v":{"$error":"#N/A"}},0,{"$f":"IF(OR($E1487<>0,$C1487=\"\"),\"\",INDEX(Categories!$A:$E,Entries!$D1487,2))","v":""},{"$f":"IF(OR($E1487<>0,$C1487=\"\"),\"\",INDEX(Categories!$A:$E,Entries!$D1487,3))","v":""},{"$f":"IF(OR($E1487<>0,$C1487=\"\"),\"\",INDEX(Categories!$A:$E,Entries!$D1487,4))","v":""},{"$f":"IF(OR($E1487<>0,$C1487=\"\"),\"\",INDEX(Categories!$A:$E,Entries!$D1487,5))","v":""},"2014-01-01","2014-01-01",{"$f":"(Entries!K1488-Entries!K1487)*24*60","v":0}]
["",null,null,{"$f":"MATCH(C1488,Categories!A:A,0)","v":{"$error":"#N/A"}},0,{"$f":"IF(OR($E1488<>0,$C1488=\"\"),\"\",INDEX(Categories!$A:$E,Entries!$D1488,2))","v":""},{"$f":"IF(OR($E1488<>0,$C1488=\"\"),\"\",INDEX(Categories!$A:$E,Entries!$D1488,3))","v":""},{"$f":"IF(OR($E1488<>0,$C1488=\"\"),\"\",INDEX(Categories!$A:$E,Entries!$D1488,4))","v":""},{"$f":"IF(OR($E1488<>0,$C1488=\"\"),\"\",INDEX(Categories!$A:$E,Entries!$D1488,5))","v":""},"2014-01-01","2014-01-01",{"$f":"(Entries!K1489-Entries!K1488)*24*60","v":0}]
["",null,null,{"$f":"MATCH(C1489,Categories!A:A,0)","v":{"$error":"#N/A"}},0,{"$f":"IF(OR($E1489<>0,$C1489=\"\"),\"\",INDEX(Categories!$A:$E,Entries!$D1489,2))","v":""},{"$f":"IF(OR($E1489<>0,$C1489=\"\"),\"\",INDEX(Categories!$A:$E,Entries!$D1489,3))","v":""},{"$f":"IF(OR($E1489<>0,$C1489=\"\"),\"\",INDEX(Categories!$A:$E,Entries!$D1489,4))","v":""},{"$f":"IF(OR($E1489<>0,$C1489=\"\"),\"\",INDEX(Categories!$A:$E,Entries!$D1489,5))","v":""},"2014-01-01","2014-01-01",{"$f":"(Entries!K1490-Entries!K1489)*24*60","v":0}]
["",null,null,{"$f":"MATCH(C1490,Categories!A:A,0)","v":{"$error":"#N/A"}},0,{"$f":"IF(OR($E1490<>0,$C1490=\"\"),\"\",INDEX(Categories!$A:$E,Entries!$D1490,2))","v":""},{"$f":"IF(OR($E1490<>0,$C1490=\"\"),\"\",INDEX(Categories!$A:$E,Entries!$D1490,3))","v":""},{"$f":"IF(OR($E1490<>0,$C1490=\"\"),\"\",INDEX(Categories!$A:$E,Entries!$D1490,4))","v":""},{"$f":"IF(OR($E1490<>0,$C1490=\"\"),\"\",INDEX(Categories!$A:$E,Entries!$D1490,5))","v":""},"2014-01-01","2014-01-01",{"$f":"(Entries!K1491-Entries!K1490)*24*60","v":0}]
["",null,null,{"$f":"MATCH(C1491,Categories!A:A,0)","v":{"$error":"#N/A"}},0,{"$f":"IF(OR($E1491<>0,$C1491=\"\"),\"\",INDEX(Categories!$A:$E,Entries!$D1491,2))","v":""},{"$f":"IF(OR($E1491<>0,$C1491=\"\"),\"\",INDEX(Categories!$A:$E,Entries!$D1491,3))","v":""},{"$f":"IF(OR($E1491<>0,$C1491=\"\"),\"\",INDEX(Categories!$A:$E,Entries!$D1491,4))","v":""},{"$f":"IF(OR($E1491<>0,$C1491=\"\"),\"\",INDEX(Categories!$A:$E,Entries!$D1491,5))","v":""},"2014-01-01","2014-01-01",{"$f":"(Entries!K1492-Entries!K1491)*24*60","v":0}]
["",null,null,{"$f":"MATCH(C1492,Categories!A:A,0)","v":{"$error":"#N/A"}},0,{"$f":"IF(OR($E1492<>0,$C1492=\"\"),\"\",INDEX(Categories!$A:$E,Entries!$D1492,2))","v":""},{"$f":"IF(OR($E1492<>0,$C1492=\"\"),\"\",INDEX(Categories!$A:$E,Entries!$D1492,3))","v":""},{"$f":"IF(OR($E1492<>0,$C1492=\"\"),\"\",INDEX(Categories!$A:$E,Entries!$D1492,4))","v":""},{"$f":"IF(OR($E1492<>0,$C1492=\"\"),\"\",INDEX(Categories!$A:$E,Entries!$D1492,5))","v":""},"2014-01-01","2014-01-01",{"$f":"(Entries!K1493-Entries!K1492)*24*60","v":0}]
["",null,null,{"$f":"MATCH(C1493,Categories!A:A,0)","v":{"$error":"#N/A"}},0,{"$f":"IF(OR($E1493<>0,$C1493=\"\"),\"\",INDEX(Categories!$A:$E,Entries!$D1493,2))","v":""},{"$f":"IF(OR($E1493<>0,$C1493=\"\"),\"\",INDEX(Categories!$A:$E,Entries!$D1493,3))","v":""},{"$f":"IF(OR($E1493<>0,$C1493=\"\"),\"\",INDEX(Categories!$A:$E,Entries!$D1493,4))","v":""},{"$f":"IF(OR($E1493<>0,$C1493=\"\"),\"\",INDEX(Categories!$A:$E,Entries!$D1493,5))","v":""},"2014-01-01","2014-01-01",{"$f":"(Entries!K1494-Entries!K1493)*24*60","v":0}]
["",null,null,{"$f":"MATCH(C1494,Categories!A:A,0)","v":{"$error":"#N/A"}},0,{"$f":"IF(OR($E1494<>0,$C1494=\"\"),\"\",INDEX(Categories!$A:$E,Entries!$D1494,2))","v":""},{"$f":"IF(OR($E1494<>0,$C1494=\"\"),\"\",INDEX(Categories!$A:$E,Entries!$D1494,3))","v":""},{"$f":"IF(OR($E1494<>0,$C1494=\"\"),\"\",INDEX(Categories!$A:$E,Entries!$D1494,4))","v":""},{"$f":"IF(OR($E1494<>0,$C1494=\"\"),\"\",INDEX(Categories!$A:$E,Entries!$D1494,5))","v":""},"2014-01-01","2014-01-01",{"$f":"(Entries!K1495-Entries!K1494)*24*60","v":0}]
["",null,null,{"$f":"MATCH(C1495,Categories!A:A,0)","v":{"$error":"#N/A"}},0,{"$f":"IF(OR($E1495<>0,$C1495=\"\"),\"\",INDEX(Categories!$A:$E,Entries!$D1495,2))","v":""},{"$f":"IF(OR($E1495<>0,$C1495=\"\"),\"\",INDEX(Categories!$A:$E,Entries!$D1495,3))","v":""},{"$f":"IF(OR($E1495<>0,$C1495=\"\"),\"\",INDEX(Categories!$A:$E,Entries!$D1495,4))","v":""},{"$f":"IF(OR($E1495<>0,$C1495=\"\"),\"\",INDEX(Categories!$A:$E,Entries!$D1495,5))","v":""},"2014-01-01","2014-01-01",{"$f":"(Entries!K1496-Entries!K1495)*24*60","v":0}]
["",null,null,{"$f":"MATCH(C1496,Categories!A:A,0)","v":{"$error":"#N/A"}},0,{"$f":"IF(OR($E1496<>0,$C1496=\"\"),\"\",INDEX(Categories!$A:$E,Entries!$D1496,2))","v":""},{"$f":"IF(OR($E1496<>0,$C1496=\"\"),\"\",INDEX(Categories!$A:$E,Entries!$D1496,3))","v":""},{"$f":"IF(OR($E1496<>0,$C1496=\"\"),\"\",INDEX(Categories!$A:$E,Entries!$D1496,4))","v":""},{"$f":"IF(OR($E1496<>0,$C1496=\"\"),\"\",INDEX(Categories!$A:$E,Entries!$D1496,5))","v":""},"2014-01-01","2014-01-01",{"$f":"(Entries!K1497-Entries!K1496)*24*60","v":0}]
["",null,null,{"$f":"MATCH(C1497,Categories!A:A,0)","v":{"$error":"#N/A"}},0,{"$f":"IF(OR($E1497<>0,$C1497=\"\"),\"\",INDEX(Categories!$A:$E,Entries!$D1497,2))","v":""},{"$f":"IF(OR($E1497<>0,$C1497=\"\"),\"\",INDEX(Categories!$A:$E,Entries!$D1497,3))","v":""},{"$f":"IF(OR($E1497<>0,$C1497=\"\"),\"\",INDEX(Categories!$A:$E,Entries!$D1497,4))","v":""},{"$f":"IF(OR($E1497<>0,$C1497=\"\"),\"\",INDEX(Categories!$A:$E,Entries!$D1497,5))","v":""},"2014-01-01","2014-01-01",{"$f":"(Entries!K1498-Entries!K1497)*24*60","v":0}]
["",null,null,{"$f":"MATCH(C1498,Categories!A:A,0)","v":{"$error":"#N/A"}},0,{"$f":"IF(OR($E1498<>0,$C1498=\"\"),\"\",INDEX(Categories!$A:$E,Entries!$D1498,2))","v":""},{"$f":"IF(OR($E1498<>0,$C1498=\"\"),\"\",INDEX(Categories!$A:$E,Entries!$D1498,3))","v":""},{"$f":"IF(OR($E1498<>0,$C1498=\"\"),\"\",INDEX(Categories!$A:$E,Entries!$D1498,4))","v":""},{"$f":"IF(OR($E1498<>0,$C1498=\"\"),\"\",INDEX(Categories!$A:$E,Entries!$D1498,5))","v":""},"2014-01-01","2014-01-01",{"$f":"(Entries!K1499-Entries!K1498)*24*60","v":0}]
["",null,null,{"$f":"MATCH(C1499,Categories!A:A,0)","v":{"$error":"#N/A"}},0,{"$f":"IF(OR($E1499<>0,$C1499=\"\"),\"\",INDEX(Categories!$A:$E,Entries!$D1499,2))","v":""},{"$f":"IF(OR($E1499<>0,$C1499=\"\"),\"\",INDEX(Categories!$A:$E,Entries!$D1499,3))","v":""},{"$f":"IF(OR($E1499<>0,$C1499=\"\"),\"\",INDEX(Categories!$A:$E,Entries!$D1499,4))","v":""},{"$f":"IF(OR($E1499<>0,$C1499=\"\"),\"\",INDEX(Categories!$A:$E,Entries!$D1499,5))","v":""},"2014-01-01","2014-01-01",{"$f":"(Entries!K1500-Entries!K1499)*24*60","v":0}]
["",null,null,{"$f":"MATCH(C1500,Categories!A:A,0)","v":{"$error":"#N/A"}},0,{"$f":"IF(OR($E1500<>0,$C1500=\"\"),\"\",INDEX(Categories!$A:$E,Entries!$D1500,2))","v":""},{"$f":"IF(OR($E1500<>0,$C1500=\"\"),\"\",INDEX(Categories!$A:$E,Entries!$D1500,3))","v":""},{"$f":"IF(OR($E1500<>0,$C1500=\"\"),\"\",INDEX(Categories!$A:$E,Entries!$D1500,4))","v":""},{"$f":"IF(OR($E1500<>0,$C1500=\"\"),\"\",INDEX(Categories!$A:$E,Entries!$D1500,5))","v":""},"2014-01-01","2014-01-01",{"$f":"(Entries!K1501-Entries!K1500)*24*60","v":0}]
["",null,null,{"$f":"MATCH(C1501,Categories!A:A,0)","v":{"$error":"#N/A"}},0,{"$f":"IF(OR($E1501<>0,$C1501=\"\"),\"\",INDEX(Categories!$A:$E,Entries!$D1501,2))","v":""},{"$f":"IF(OR($E1501<>0,$C1501=\"\"),\"\",INDEX(Categories!$A:$E,Entries!$D1501,3))","v":""},{"$f":"IF(OR($E1501<>0,$C1501=\"\"),\"\",INDEX(Categories!$A:$E,Entries!$D1501,4))","v":""},{"$f":"IF(OR($E1501<>0,$C1501=\"\"),\"\",INDEX(Categories!$A:$E,Entries!$D1501,5))","v":""},"2014-01-01","2014-01-01",{"$f":"(Entries!K1502-Entries!K1501)*24*60","v":0}]
["",null,null,{"$f":"MATCH(C1502,Categories!A:A,0)","v":{"$error":"#N/A"}},0,{"$f":"IF(OR($E1502<>0,$C1502=\"\"),\"\",INDEX(Categories!$A:$E,Entries!$D1502,2))","v":""},{"$f":"IF(OR($E1502<>0,$C1502=\"\"),\"\",INDEX(Categories!$A:$E,Entries!$D1502,3))","v":""},{"$f":"IF(OR($E1502<>0,$C1502=\"\"),\"\",INDEX(Categories!$A:$E,Entries!$D1502,4))","v":""},{"$f":"IF(OR($E1502<>0,$C1502=\"\"),\"\",INDEX(Categories!$A:$E,Entries!$D1502,5))","v":""},"2014-01-01","2014-01-01",{"$f":"(Entries!K1503-Entries!K1502)*24*60","v":0}]
["",null,null,{"$f":"MATCH(C1503,Categories!A:A,0)","v":{"$error":"#N/A"}},0,{"$f":"IF(OR($E1503<>0,$C1503=\"\"),\"\",INDEX(Categories!$A:$E,Entries!$D1503,2))","v":""},{"$f":"IF(OR($E1503<>0,$C1503=\"\"),\"\",INDEX(Categories!$A:$E,Entries!$D1503,3))","v":""},{"$f":"IF(OR($E1503<>0,$C1503=\"\"),\"\",INDEX(Categories!$A:$E,Entries!$D1503,4))","v":""},{"$f":"IF(OR($E1503<>0,$C1503=\"\"),\"\",INDEX(Categories!$A:$E,Entries!$D1503,5))","v":""},"2014-01-01","2014-01-01",{"$f":"(Entries!K1504-Entries!K1503)*24*60","v":0}]
["",null,null,{"$f":"MATCH(C1504,Categories!A:A,0)","v":{"$error":"#N/A"}},0,{"$f":"IF(OR($E1504<>0,$C1504=\"\"),\"\",INDEX(Categories!$A:$E,Entries!$D1504,2))","v":""},{"$f":"IF(OR($E1504<>0,$C1504=\"\"),\"\",INDEX(Categories!$A:$E,Entries!$D1504,3))","v":""},{"$f":"IF(OR($E1504<>0,$C1504=\"\"),\"\",INDEX(Categories!$A:$E,Entries!$D1504,4))","v":""},{"$f":"IF(OR($E1504<>0,$C1504=\"\"),\"\",INDEX(Categories!$A:$E,Entries!$D1504,5))","v":""},"2014-01-01","2014-01-01",{"$f":"(Entries!K1505-Entries!K1504)*24*60","v":0}]
["",null,null,{"$f":"MATCH(C1505,Categories!A:A,0)","v":{"$error":"#N/A"}},0,{"$f":"IF(OR($E1505<>0,$C1505=\"\"),\"\",INDEX(Categories!$A:$E,Entries!$D1505,2))","v":""},{"$f":"IF(OR($E1505<>0,$C1505=\"\"),\"\",INDEX(Categories!$A:$E,Entries!$D1505,3))","v":""},{"$f":"IF(OR($E1505<>0,$C1505=\"\"),\"\",INDEX(Categories!$A:$E,Entries!$D1505,4))","v":""},{"$f":"IF(OR($E1505<>0,$C1505=\"\"),\"\",INDEX(Categories!$A:$E,Entries!$D1505,5))","v":""},"2014-01-01","2014-01-01",{"$f":"(Entries!K1506-Entries!K1505)*24*60","v":0}]
["",null,null,{"$f":"MATCH(C1506,Categories!A:A,0)","v":{"$error":"#N/A"}},0,{"$f":"IF(OR($E1506<>0,$C1506=\"\"),\"\",INDEX(Categories!$A:$E,Entries!$D1506,2))","v":""},{"$f":"IF(OR($E1506<>0,$C1506=\"\"),\"\",INDEX(Categories!$A:$E,Entries!$D1506,3))","v":""},{"$f":"IF(OR($E1506<>0,$C1506=\"\"),\"\",INDEX(Categories!$A:$E,Entries!$D1506,4))","v":""},{"$f":"IF(OR($E1506<>0,$C1506=\"\"),\"\",INDEX(Categories!$A:$E,Entries!$D1506,5))","v":""},"2014-01-01","2014-01-01",{"$f":"(Entries!K1507-Entries!K1506)*24*60","v":0}]
["",null,null,{"$f":"MATCH(C1507,Categories!A:A,0)","v":{"$error":"#N/A"}},0,{"$f":"IF(OR($E1507<>0,$C1507=\"\"),\"\",INDEX(Categories!$A:$E,Entries!$D1507,2))","v":""},{"$f":"IF(OR($E1507<>0,$C1507=\"\"),\"\",INDEX(Categories!$A:$E,Entries!$D1507,3))","v":""},{"$f":"IF(OR($E1507<>0,$C1507=\"\"),\"\",INDEX(Categories!$A:$E,Entries!$D1507,4))","v":""},{"$f":"IF(OR($E1507<>0,$C1507=\"\"),\"\",INDEX(Categories!$A:$E,Entries!$D1507,5))","v":""},"2014-01-01","2014-01-01",{"$f":"(Entries!K1508-Entries!K1507)*24*60","v":0}]
[{"$f":"IF(OR(B1508>=B1507,C1507=\"z\",B1508=\"\"),\"\",J1507+1)","v":""},null,null,{"$f":"MATCH(C1508,Categories!A:A,0)","v":{"$error":"#N/A"}},0,{"$f":"IF(OR($E1508<>0,$C1508=\"\"),\"\",INDEX(Categories!$A:$E,Entries!$D1508,2))","v":""},{"$f":"IF(OR($E1508<>0,$C1508=\"\"),\"\",INDEX(Categories!$A:$E,Entries!$D1508,3))","v":""},{"$f":"IF(OR($E1508<>0,$C1508=\"\"),\"\",INDEX(Categories!$A:$E,Entries!$D1508,4))","v":""},{"$f":"IF(OR($E1508<>0,$C1508=\"\"),\"\",INDEX(Categories!$A:$E,Entries!$D1508,5))","v":""},"2014-01-01","2014-01-01",{"$f":"(Entries!K1509-Entries!K1508)*24*60","v":0}]
["",null,null,{"$f":"MATCH(C1509,Categories!A:A,0)","v":{"$error":"#N/A"}},0,{"$f":"IF(OR($E1509<>0,$C1509=\"\"),\"\",INDEX(Categories!$A:$E,Entries!$D1509,2))","v":""},{"$f":"IF(OR($E1509<>0,$C1509=\"\"),\"\",INDEX(Categories!$A:$E,Entries!$D1509,3))","v":""},{"$f":"IF(OR($E1509<>0,$C1509=\"\"),\"\",INDEX(Categories!$A:$E,Entries!$D1509,4))","v":""},{"$f":"IF(OR($E1509<>0,$C1509=\"\"),\"\",INDEX(Categories!$A:$E,Entries!$D1509,5))","v":""},"2014-01-01","2014-01-01",{"$f":"(Entries!K1510-Entries!K1509)*24*60","v":0}]
["",null,null,{"$f":"MATCH(C1510,Categories!A:A,0)","v":{"$error":"#N/A"}},0,{"$f":"IF(OR($E1510<>0,$C1510=\"\"),\"\",INDEX(Categories!$A:$E,Entries!$D1510,2))","v":""},{"$f":"IF(OR($E1510<>0,$C1510=\"\"),\"\",INDEX(Categories!$A:$E,Entries!$D1510,3))","v":""},{"$f":"IF(OR($E1510<>0,$C1510=\"\"),\"\",INDEX(Categories!$A:$E,Entries!$D1510,4))","v":""},{"$f":"IF(OR($E1510<>0,$C1510=\"\"),\"\",INDEX(Categories!$A:$E,Entries!$D1510,5))","v":""},"2014-01-01","2014-01-01",{"$f":"(Entries!K1511-Entries!K1510)*24*60","v":0}]
["",null,null,{"$f":"MATCH(C1511,Categories!A:A,0)","v":{"$error":"#N/A"}},0,{"$f":"IF(OR($E1511<>0,$C1511=\"\"),\"\",INDEX(Categories!$A:$E,Entries!$D1511,2))","v":""},{"$f":"IF(OR($E1511<>0,$C1511=\"\"),\"\",INDEX(Categories!$A:$E,Entries!$D1511,3))","v":""},{"$f":"IF(OR($E1511<>0,$C1511=\"\"),\"\",INDEX(Categories!$A:$E,Entries!$D1511,4))","v":""},{"$f":"IF(OR($E1511<>0,$C1511=\"\"),\"\",INDEX(Categories!$A:$E,Entries!$D1511,5))","v":""},"2014-01-01","2014-01-01",{"$f":"(Entries!K1512-Entries!K1511)*24*60","v":0}]
["",null,null,{"$f":"MATCH(C1512,Categories!A:A,0)","v":{"$error":"#N/A"}},0,{"$f":"IF(OR($E1512<>0,$C1512=\"\"),\"\",INDEX(Categories!$A:$E,Entries!$D1512,2))","v":""},{"$f":"IF(OR($E1512<>0,$C1512=\"\"),\"\",INDEX(Categories!$A:$E,Entries!$D1512,3))","v":""},{"$f":"IF(OR($E1512<>0,$C1512=\"\"),\"\",INDEX(Categories!$A:$E,Entries!$D1512,4))","v":""},{"$f":"IF(OR($E1512<>0,$C1512=\"\"),\"\",INDEX(Categories!$A:$E,Entries!$D1512,5))","v":""},"2014-01-01","2014-01-01",{"$f":"(Entries!K1513-Entries!K1512)*24*60","v":0}]
["",null,null,{"$f":"MATCH(C1513,Categories!A:A,0)","v":{"$error":"#N/A"}},0,{"$f":"IF(OR($E1513<>0,$C1513=\"\"),\"\",INDEX(Categories!$A:$E,Entries!$D1513,2))","v":""},{"$f":"IF(OR($E1513<>0,$C1513=\"\"),\"\",INDEX(Categories!$A:$E,Entries!$D1513,3))","v":""},{"$f":"IF(OR($E1513<>0,$C1513=\"\"),\"\",INDEX(Categories!$A:$E,Entries!$D1513,4))","v":""},{"$f":"IF(OR($E1513<>0,$C1513=\"\"),\"\",INDEX(Categories!$A:$E,Entries!$D1513,5))","v":""},"2014-01-01","2014-01-01",{"$f":"(Entries!K1514-Entries!K1513)*24*60","v":0}]
["",null,null,{"$f":"MATCH(C1514,Categories!A:A,0)","v":{"$error":"#N/A"}},0,{"$f":"IF(OR($E1514<>0,$C1514=\"\"),\"\",INDEX(Categories!$A:$E,Entries!$D1514,2))","v":""},{"$f":"IF(OR($E1514<>0,$C1514=\"\"),\"\",INDEX(Categories!$A:$E,Entries!$D1514,3))","v":""},{"$f":"IF(OR($E1514<>0,$C1514=\"\"),\"\",INDEX(Categories!$A:$E,Entries!$D1514,4))","v":""},{"$f":"IF(OR($E1514<>0,$C1514=\"\"),\"\",INDEX(Categories!$A:$E,Entries!$D1514,5))","v":""},"2014-01-01","2014-01-01",{"$f":"(Entries!K1515-Entries!K1514)*24*60","v":0}]
["",null,null,{"$f":"MATCH(C1515,Categories!A:A,0)","v":{"$error":"#N/A"}},0,{"$f":"IF(OR($E1515<>0,$C1515=\"\"),\"\",INDEX(Categories!$A:$E,Entries!$D1515,2))","v":""},{"$f":"IF(OR($E1515<>0,$C1515=\"\"),\"\",INDEX(Categories!$A:$E,Entries!$D1515,3))","v":""},{"$f":"IF(OR($E1515<>0,$C1515=\"\"),\"\",INDEX(Categories!$A:$E,Entries!$D1515,4))","v":""},{"$f":"IF(OR($E1515<>0,$C1515=\"\"),\"\",INDEX(Categories!$A:$E,Entries!$D1515,5))","v":""},"2014-01-01","2014-01-01",{"$f":"(Entries!K1516-Entries!K1515)*24*60","v":0}]
["",null,null,{"$f":"MATCH(C1516,Categories!A:A,0)","v":{"$error":"#N/A"}},0,{"$f":"IF(OR($E1516<>0,$C1516=\"\"),\"\",INDEX(Categories!$A:$E,Entries!$D1516,2))","v":""},{"$f":"IF(OR($E1516<>0,$C1516=\"\"),\"\",INDEX(Categories!$A:$E,Entries!$D1516,3))","v":""},{"$f":"IF(OR($E1516<>0,$C1516=\"\"),\"\",INDEX(Categories!$A:$E,Entries!$D1516,4))","v":""},{"$f":"IF(OR($E1516<>0,$C1516=\"\"),\"\",INDEX(Categories!$A:$E,Entries!$D1516,5))","v":""},"2014-01-01","2014-01-01",{"$f":"(Entries!K1517-Entries!K1516)*24*60","v":0}]
["",null,null,{"$f":"MATCH(C1517,Categories!A:A,0)","v":{"$error":"#N/A"}},0,{"$f":"IF(OR($E1517<>0,$C1517=\"\"),\"\",INDEX(Categories!$A:$E,Entries!$D1517,2))","v":""},{"$f":"IF(OR($E1517<>0,$C1517=\"\"),\"\",INDEX(Categories!$A:$E,Entries!$D1517,3))","v":""},{"$f":"IF(OR($E1517<>0,$C1517=\"\"),\"\",INDEX(Categories!$A:$E,Entries!$D1517,4))","v":""},{"$f":"IF(OR($E1517<>0,$C1517=\"\"),\"\",INDEX(Categories!$A:$E,Entries!$D1517,5))","v":""},"2014-01-01","2014-01-01",{"$f":"(Entries!K1518-Entries!K1517)*24*60","v":0}]
["",null,null,{"$f":"MATCH(C1518,Categories!A:A,0)","v":{"$error":"#N/A"}},0,{"$f":"IF(OR($E1518<>0,$C1518=\"\"),\"\",INDEX(Categories!$A:$E,Entries!$D1518,2))","v":""},{"$f":"IF(OR($E1518<>0,$C1518=\"\"),\"\",INDEX(Categories!$A:$E,Entries!$D1518,3))","v":""},{"$f":"IF(OR($E1518<>0,$C1518=\"\"),\"\",INDEX(Categories!$A:$E,Entries!$D1518,4))","v":""},{"$f":"IF(OR($E1518<>0,$C1518=\"\"),\"\",INDEX(Categories!$A:$E,Entries!$D1518,5))","v":""},"2014-01-01","2014-01-01",{"$f":"(Entries!K1519-Entries!K1518)*24*60","v":0}]
["",null,null,{"$f":"MATCH(C1519,Categories!A:A,0)","v":{"$error":"#N/A"}},0,{"$f":"IF(OR($E1519<>0,$C1519=\"\"),\"\",INDEX(Categories!$A:$E,Entries!$D1519,2))","v":""},{"$f":"IF(OR($E1519<>0,$C1519=\"\"),\"\",INDEX(Categories!$A:$E,Entries!$D1519,3))","v":""},{"$f":"IF(OR($E1519<>0,$C1519=\"\"),\"\",INDEX(Categories!$A:$E,Entries!$D1519,4))","v":""},{"$f":"IF(OR($E1519<>0,$C1519=\"\"),\"\",INDEX(Categories!$A:$E,Entries!$D1519,5))","v":""},"2014-01-01","2014-01-01",{"$f":"(Entries!K1520-Entries!K1519)*24*60","v":0}]
["",null,null,{"$f":"MATCH(C1520,Categories!A:A,0)","v":{"$error":"#N/A"}},0,{"$f":"IF(OR($E1520<>0,$C1520=\"\"),\"\",INDEX(Categories!$A:$E,Entries!$D1520,2))","v":""},{"$f":"IF(OR($E1520<>0,$C1520=\"\"),\"\",INDEX(Categories!$A:$E,Entries!$D1520,3))","v":""},{"$f":"IF(OR($E1520<>0,$C1520=\"\"),\"\",INDEX(Categories!$A:$E,Entries!$D1520,4))","v":""},{"$f":"IF(OR($E1520<>0,$C1520=\"\"),\"\",INDEX(Categories!$A:$E,Entries!$D1520,5))","v":""},"2014-01-01","2014-01-01",{"$f":"(Entries!K1521-Entries!K1520)*24*60","v":0}]
["",null,null,{"$f":"MATCH(C1521,Categories!A:A,0)","v":{"$error":"#N/A"}},0,{"$f":"IF(OR($E1521<>0,$C1521=\"\"),\"\",INDEX(Categories!$A:$E,Entries!$D1521,2))","v":""},{"$f":"IF(OR($E1521<>0,$C1521=\"\"),\"\",INDEX(Categories!$A:$E,Entries!$D1521,3))","v":""},{"$f":"IF(OR($E1521<>0,$C1521=\"\"),\"\",INDEX(Categories!$A:$E,Entries!$D1521,4))","v":""},{"$f":"IF(OR($E1521<>0,$C1521=\"\"),\"\",INDEX(Categories!$A:$E,Entries!$D1521,5))","v":""},"2014-01-01","2014-01-01",{"$f":"(Entries!K1522-Entries!K1521)*24*60","v":0}]
["",null,null,{"$f":"MATCH(C1522,Categories!A:A,0)","v":{"$error":"#N/A"}},0,{"$f":"IF(OR($E1522<>0,$C1522=\"\"),\"\",INDEX(Categories!$A:$E,Entries!$D1522,2))","v":""},{"$f":"IF(OR($E1522<>0,$C1522=\"\"),\"\",INDEX(Categories!$A:$E,Entries!$D1522,3))","v":""},{"$f":"IF(OR($E1522<>0,$C1522=\"\"),\"\",INDEX(Categories!$A:$E,Entries!$D1522,4))","v":""},{"$f":"IF(OR($E1522<>0,$C1522=\"\"),\"\",INDEX(Categories!$A:$E,Entries!$D1522,5))","v":""},"2014-01-01","2014-01-01",{"$f":"(Entries!K1523-Entries!K1522)*24*60","v":0}]
["",null,null,{"$f":"MATCH(C1523,Categories!A:A,0)","v":{"$error":"#N/A"}},0,{"$f":"IF(OR($E1523<>0,$C1523=\"\"),\"\",INDEX(Categories!$A:$E,Entries!$D1523,2))","v":""},{"$f":"IF(OR($E1523<>0,$C1523=\"\"),\"\",INDEX(Categories!$A:$E,Entries!$D1523,3))","v":""},{"$f":"IF(OR($E1523<>0,$C1523=\"\"),\"\",INDEX(Categories!$A:$E,Entries!$D1523,4))","v":""},{"$f":"IF(OR($E1523<>0,$C1523=\"\"),\"\",INDEX(Categories!$A:$E,Entries!$D1523,5))","v":""},"2014-01-01","2014-01-01",{"$f":"(Entries!K1524-Entries!K1523)*24*60","v":0}]
["",null,null,{"$f":"MATCH(C1524,Categories!A:A,0)","v":{"$error":"#N/A"}},0,{"$f":"IF(OR($E1524<>0,$C1524=\"\"),\"\",INDEX(Categories!$A:$E,Entries!$D1524,2))","v":""},{"$f":"IF(OR($E1524<>0,$C1524=\"\"),\"\",INDEX(Categories!$A:$E,Entries!$D1524,3))","v":""},{"$f":"IF(OR($E1524<>0,$C1524=\"\"),\"\",INDEX(Categories!$A:$E,Entries!$D1524,4))","v":""},{"$f":"IF(OR($E1524<>0,$C1524=\"\"),\"\",INDEX(Categories!$A:$E,Entries!$D1524,5))","v":""},"2014-01-01","2014-01-01",{"$f":"(Entries!K1525-Entries!K1524)*24*60","v":0}]
["",null,null,{"$f":"MATCH(C1525,Categories!A:A,0)","v":{"$error":"#N/A"}},0,{"$f":"IF(OR($E1525<>0,$C1525=\"\"),\"\",INDEX(Categories!$A:$E,Entries!$D1525,2))","v":""},{"$f":"IF(OR($E1525<>0,$C1525=\"\"),\"\",INDEX(Categories!$A:$E,Entries!$D1525,3))","v":""},{"$f":"IF(OR($E1525<>0,$C1525=\"\"),\"\",INDEX(Categories!$A:$E,Entries!$D1525,4))","v":""},{"$f":"IF(OR($E1525<>0,$C1525=\"\"),\"\",INDEX(Categories!$A:$E,Entries!$D1525,5))","v":""},"2014-01-01","2014-01-01",{"$f":"(Entries!K1526-Entries!K1525)*24*60","v":0}]
["",null,null,{"$f":"MATCH(C1526,Categories!A:A,0)","v":{"$error":"#N/A"}},0,{"$f":"IF(OR($E1526<>0,$C1526=\"\"),\"\",INDEX(Categories!$A:$E,Entries!$D1526,2))","v":""},{"$f":"IF(OR($E1526<>0,$C1526=\"\"),\"\",INDEX(Categories!$A:$E,Entries!$D1526,3))","v":""},{"$f":"IF(OR($E1526<>0,$C1526=\"\"),\"\",INDEX(Categories!$A:$E,Entries!$D1526,4))","v":""},{"$f":"IF(OR($E1526<>0,$C1526=\"\"),\"\",INDEX(Categories!$A:$E,Entries!$D1526,5))","v":""},"2014-01-01","2014-01-01",{"$f":"(Entries!K1527-Entries!K1526)*24*60","v":0}]
["",null,null,{"$f":"MATCH(C1527,Categories!A:A,0)","v":{"$error":"#N/A"}},0,{"$f":"IF(OR($E1527<>0,$C1527=\"\"),\"\",INDEX(Categories!$A:$E,Entries!$D1527,2))","v":""},{"$f":"IF(OR($E1527<>0,$C1527=\"\"),\"\",INDEX(Categories!$A:$E,Entries!$D1527,3))","v":""},{"$f":"IF(OR($E1527<>0,$C1527=\"\"),\"\",INDEX(Categories!$A:$E,Entries!$D1527,4))","v":""},{"$f":"IF(OR($E1527<>0,$C1527=\"\"),\"\",INDEX(Categories!$A:$E,Entries!$D1527,5))","v":""},"2014-01-01","2014-01-01",{"$f":"(Entries!K1528-Entries!K1527)*24*60","v":0}]
["",null,null,{"$f":"MATCH(C1528,Categories!A:A,0)","v":{"$error":"#N/A"}},0,{"$f":"IF(OR($E1528<>0,$C1528=\"\"),\"\",INDEX(Categories!$A:$E,Entries!$D1528,2))","v":""},{"$f":"IF(OR($E1528<>0,$C1528=\"\"),\"\",INDEX(Categories!$A:$E,Entries!$D1528,3))","v":""},{"$f":"IF(OR($E1528<>0,$C1528=\"\"),\"\",INDEX(Categories!$A:$E,Entries!$D1528,4))","v":""},{"$f":"IF(OR($E1528<>0,$C1528=\"\"),\"\",INDEX(Categories!$A:$E,Entries!$D1528,5))","v":""},"2014-01-01","2014-01-01",{"$f":"(Entries!K1529-Entries!K1528)*24*60","v":0}]
["",null,null,{"$f":"MATCH(C1529,Categories!A:A,0)","v":{"$error":"#N/A"}},0,{"$f":"IF(OR($E1529<>0,$C1529=\"\"),\"\",INDEX(Categories!$A:$E,Entries!$D1529,2))","v":""},{"$f":"IF(OR($E1529<>0,$C1529=\"\"),\"\",INDEX(Categories!$A:$E,Entries!$D1529,3))","v":""},{"$f":"IF(OR($E1529<>0,$C1529=\"\"),\"\",INDEX(Categories!$A:$E,Entries!$D1529,4))","v":""},{"$f":"IF(OR($E1529<>0,$C1529=\"\"),\"\",INDEX(Categories!$A:$E,Entries!$D1529,5))","v":""},"2014-01-01","2014-01-01",{"$f":"(Entries!K1530-Entries!K1529)*24*60","v":0}]
["",null,null,{"$f":"MATCH(C1530,Categories!A:A,0)","v":{"$error":"#N/A"}},0,{"$f":"IF(OR($E1530<>0,$C1530=\"\"),\"\",INDEX(Categories!$A:$E,Entries!$D1530,2))","v":""},{"$f":"IF(OR($E1530<>0,$C1530=\"\"),\"\",INDEX(Categories!$A:$E,Entries!$D1530,3))","v":""},{"$f":"IF(OR($E1530<>0,$C1530=\"\"),\"\",INDEX(Categories!$A:$E,Entries!$D1530,4))","v":""},{"$f":"IF(OR($E1530<>0,$C1530=\"\"),\"\",INDEX(Categories!$A:$E,Entries!$D1530,5))","v":""},"2014-01-01","2014-01-01",{"$f":"(Entries!K1531-Entries!K1530)*24*60","v":0}]
["",null,null,{"$f":"MATCH(C1531,Categories!A:A,0)","v":{"$error":"#N/A"}},0,{"$f":"IF(OR($E1531<>0,$C1531=\"\"),\"\",INDEX(Categories!$A:$E,Entries!$D1531,2))","v":""},{"$f":"IF(OR($E1531<>0,$C1531=\"\"),\"\",INDEX(Categories!$A:$E,Entries!$D1531,3))","v":""},{"$f":"IF(OR($E1531<>0,$C1531=\"\"),\"\",INDEX(Categories!$A:$E,Entries!$D1531,4))","v":""},{"$f":"IF(OR($E1531<>0,$C1531=\"\"),\"\",INDEX(Categories!$A:$E,Entries!$D1531,5))","v":""},"2014-01-01","2014-01-01",{"$f":"(Entries!K1532-Entries!K1531)*24*60","v":0}]
["",null,null,{"$f":"MATCH(C1532,Categories!A:A,0)","v":{"$error":"#N/A"}},0,{"$f":"IF(OR($E1532<>0,$C1532=\"\"),\"\",INDEX(Categories!$A:$E,Entries!$D1532,2))","v":""},{"$f":"IF(OR($E1532<>0,$C1532=\"\"),\"\",INDEX(Categories!$A:$E,Entries!$D1532,3))","v":""},{"$f":"IF(OR($E1532<>0,$C1532=\"\"),\"\",INDEX(Categories!$A:$E,Entries!$D1532,4))","v":""},{"$f":"IF(OR($E1532<>0,$C1532=\"\"),\"\",INDEX(Categories!$A:$E,Entries!$D1532,5))","v":""},"2014-01-01","2014-01-01",{"$f":"(Entries!K1533-Entries!K1532)*24*60","v":0}]
["",null,null,{"$f":"MATCH(C1533,Categories!A:A,0)","v":{"$error":"#N/A"}},0,{"$f":"IF(OR($E1533<>0,$C1533=\"\"),\"\",INDEX(Categories!$A:$E,Entries!$D1533,2))","v":""},{"$f":"IF(OR($E1533<>0,$C1533=\"\"),\"\",INDEX(Categories!$A:$E,Entries!$D1533,3))","v":""},{"$f":"IF(OR($E1533<>0,$C1533=\"\"),\"\",INDEX(Categories!$A:$E,Entries!$D1533,4))","v":""},{"$f":"IF(OR($E1533<>0,$C1533=\"\"),\"\",INDEX(Categories!$A:$E,Entries!$D1533,5))","v":""},"2014-01-01","2014-01-01",{"$f":"(Entries!K1534-Entries!K1533)*24*60","v":0}]
["",null,null,{"$f":"MATCH(C1534,Categories!A:A,0)","v":{"$error":"#N/A"}},0,{"$f":"IF(OR($E1534<>0,$C1534=\"\"),\"\",INDEX(Categories!$A:$E,Entries!$D1534,2))","v":""},{"$f":"IF(OR($E1534<>0,$C1534=\"\"),\"\",INDEX(Categories!$A:$E,Entries!$D1534,3))","v":""},{"$f":"IF(OR($E1534<>0,$C1534=\"\"),\"\",INDEX(Categories!$A:$E,Entries!$D1534,4))","v":""},{"$f":"IF(OR($E1534<>0,$C1534=\"\"),\"\",INDEX(Categories!$A:$E,Entries!$D1534,5))","v":""},"2014-01-01","2014-01-01",{"$f":"(Entries!K1535-Entries!K1534)*24*60","v":0}]
["",null,null,{"$f":"MATCH(C1535,Categories!A:A,0)","v":{"$error":"#N/A"}},0,{"$f":"IF(OR($E1535<>0,$C1535=\"\"),\"\",INDEX(Categories!$A:$E,Entries!$D1535,2))","v":""},{"$f":"IF(OR($E1535<>0,$C1535=\"\"),\"\",INDEX(Categories!$A:$E,Entries!$D1535,3))","v":""},{"$f":"IF(OR($E1535<>0,$C1535=\"\"),\"\",INDEX(Categories!$A:$E,Entries!$D1535,4))","v":""},{"$f":"IF(OR($E1535<>0,$C1535=\"\"),\"\",INDEX(Categories!$A:$E,Entries!$D1535,5))","v":""},"2014-01-01","2014-01-01",{"$f":"(Entries!K1536-Entries!K1535)*24*60","v":0}]
["",null,null,{"$f":"MATCH(C1536,Categories!A:A,0)","v":{"$error":"#N/A"}},0,{"$f":"IF(OR($E1536<>0,$C1536=\"\"),\"\",INDEX(Categories!$A:$E,Entries!$D1536,2))","v":""},{"$f":"IF(OR($E1536<>0,$C1536=\"\"),\"\",INDEX(Categories!$A:$E,Entries!$D1536,3))","v":""},{"$f":"IF(OR($E1536<>0,$C1536=\"\"),\"\",INDEX(Categories!$A:$E,Entries!$D1536,4))","v":""},{"$f":"IF(OR($E1536<>0,$C1536=\"\"),\"\",INDEX(Categories!$A:$E,Entries!$D1536,5))","v":""},"2014-01-01","2014-01-01",{"$f":"(Entries!K1537-Entries!K1536)*24*60","v":0}]
["",null,null,{"$f":"MATCH(C1537,Categories!A:A,0)","v":{"$error":"#N/A"}},0,{"$f":"IF(OR($E1537<>0,$C1537=\"\"),\"\",INDEX(Categories!$A:$E,Entries!$D1537,2))","v":""},{"$f":"IF(OR($E1537<>0,$C1537=\"\"),\"\",INDEX(Categories!$A:$E,Entries!$D1537,3))","v":""},{"$f":"IF(OR($E1537<>0,$C1537=\"\"),\"\",INDEX(Categories!$A:$E,Entries!$D1537,4))","v":""},{"$f":"IF(OR($E1537<>0,$C1537=\"\"),\"\",INDEX(Categories!$A:$E,Entries!$D1537,5))","v":""},"2014-01-01","2014-01-01",{"$f":"(Entries!K1538-Entries!K1537)*24*60","v":0}]
["",null,null,{"$f":"MATCH(C1538,Categories!A:A,0)","v":{"$error":"#N/A"}},{"$f":"IF(AND(ISERROR(D1538),C1538<>\"\"),ROW(D1538),0)","v":0},{"$f":"IF(OR($E1538<>0,$C1538=\"\"),\"\",INDEX(Categories!$A:$E,Entries!$D1538,2))","v":""},{"$f":"IF(OR($E1538<>0,$C1538=\"\"),\"\",INDEX(Categories!$A:$E,Entries!$D1538,3))","v":""},{"$f":"IF(OR($E1538<>0,$C1538=\"\"),\"\",INDEX(Categories!$A:$E,Entries!$D1538,4))","v":""},{"$f":"IF(OR($E1538<>0,$C1538=\"\"),\"\",INDEX(Categories!$A:$E,Entries!$D1538,5))","v":""},{"$f":"IF(A1538=\"\",J1537,A1538)","v":"2014-01-01"},{"$f":"J1538+B1538","v":"2014-01-01"},{"$f":"(Entries!K1539-Entries!K1538)*24*60","v":0}]
["",null,null,{"$f":"MATCH(C1539,Categories!A:A,0)","v":{"$error":"#N/A"}},0,{"$f":"IF(OR($E1539<>0,$C1539=\"\"),\"\",INDEX(Categories!$A:$E,Entries!$D1539,2))","v":""},{"$f":"IF(OR($E1539<>0,$C1539=\"\"),\"\",INDEX(Categories!$A:$E,Entries!$D1539,3))","v":""},{"$f":"IF(OR($E1539<>0,$C1539=\"\"),\"\",INDEX(Categories!$A:$E,Entries!$D1539,4))","v":""},{"$f":"IF(OR($E1539<>0,$C1539=\"\"),\"\",INDEX(Categories!$A:$E,Entries!$D1539,5))","v":""},"2014-01-01","2014-01-01",{"$f":"(Entries!K1540-Entries!K1539)*24*60","v":0}]
["",null,null,{"$f":"MATCH(C1540,Categories!A:A,0)","v":{"$error":"#N/A"}},0,{"$f":"IF(OR($E1540<>0,$C1540=\"\"),\"\",INDEX(Categories!$A:$E,Entries!$D1540,2))","v":""},{"$f":"IF(OR($E1540<>0,$C1540=\"\"),\"\",INDEX(Categories!$A:$E,Entries!$D1540,3))","v":""},{"$f":"IF(OR($E1540<>0,$C1540=\"\"),\"\",INDEX(Categories!$A:$E,Entries!$D1540,4))","v":""},{"$f":"IF(OR($E1540<>0,$C1540=\"\"),\"\",INDEX(Categories!$A:$E,Entries!$D1540,5))","v":""},"2014-01-01","2014-01-01",{"$f":"(Entries!K1541-Entries!K1540)*24*60","v":0}]
["",null,null,{"$f":"MATCH(C1541,Categories!A:A,0)","v":{"$error":"#N/A"}},0,{"$f":"IF(OR($E1541<>0,$C1541=\"\"),\"\",INDEX(Categories!$A:$E,Entries!$D1541,2))","v":""},{"$f":"IF(OR($E1541<>0,$C1541=\"\"),\"\",INDEX(Categories!$A:$E,Entries!$D1541,3))","v":""},{"$f":"IF(OR($E1541<>0,$C1541=\"\"),\"\",INDEX(Categories!$A:$E,Entries!$D1541,4))","v":""},{"$f":"IF(OR($E1541<>0,$C1541=\"\"),\"\",INDEX(Categories!$A:$E,Entries!$D1541,5))","v":""},"2014-01-01","2014-01-01",{"$f":"(Entries!K1542-Entries!K1541)*24*60","v":0}]
["",null,null,{"$f":"MATCH(C1542,Categories!A:A,0)","v":{"$error":"#N/A"}},0,{"$f":"IF(OR($E1542<>0,$C1542=\"\"),\"\",INDEX(Categories!$A:$E,Entries!$D1542,2))","v":""},{"$f":"IF(OR($E1542<>0,$C1542=\"\"),\"\",INDEX(Categories!$A:$E,Entries!$D1542,3))","v":""},{"$f":"IF(OR($E1542<>0,$C1542=\"\"),\"\",INDEX(Categories!$A:$E,Entries!$D1542,4))","v":""},{"$f":"IF(OR($E1542<>0,$C1542=\"\"),\"\",INDEX(Categories!$A:$E,Entries!$D1542,5))","v":""},"2014-01-01","2014-01-01",{"$f":"(Entries!K1543-Entries!K1542)*24*60","v":0}]
["",null,null,{"$f":"MATCH(C1543,Categories!A:A,0)","v":{"$error":"#N/A"}},0,{"$f":"IF(OR($E1543<>0,$C1543=\"\"),\"\",INDEX(Categories!$A:$E,Entries!$D1543,2))","v":""},{"$f":"IF(OR($E1543<>0,$C1543=\"\"),\"\",INDEX(Categories!$A:$E,Entries!$D1543,3))","v":""},{"$f":"IF(OR($E1543<>0,$C1543=\"\"),\"\",INDEX(Categories!$A:$E,Entries!$D1543,4))","v":""},{"$f":"IF(OR($E1543<>0,$C1543=\"\"),\"\",INDEX(Categories!$A:$E,Entries!$D1543,5))","v":""},"2014-01-01","2014-01-01",{"$f":"(Entries!K1544-Entries!K1543)*24*60","v":0}]
["",null,null,{"$f":"MATCH(C1544,Categories!A:A,0)","v":{"$error":"#N/A"}},0,{"$f":"IF(OR($E1544<>0,$C1544=\"\"),\"\",INDEX(Categories!$A:$E,Entries!$D1544,2))","v":""},{"$f":"IF(OR($E1544<>0,$C1544=\"\"),\"\",INDEX(Categories!$A:$E,Entries!$D1544,3))","v":""},{"$f":"IF(OR($E1544<>0,$C1544=\"\"),\"\",INDEX(Categories!$A:$E,Entries!$D1544,4))","v":""},{"$f":"IF(OR($E1544<>0,$C1544=\"\"),\"\",INDEX(Categories!$A:$E,Entries!$D1544,5))","v":""},"2014-01-01","2014-01-01",{"$f":"(Entries!K1545-Entries!K1544)*24*60","v":0}]
["",null,null,{"$f":"MATCH(C1545,Categories!A:A,0)","v":{"$error":"#N/A"}},0,{"$f":"IF(OR($E1545<>0,$C1545=\"\"),\"\",INDEX(Categories!$A:$E,Entries!$D1545,2))","v":""},{"$f":"IF(OR($E1545<>0,$C1545=\"\"),\"\",INDEX(Categories!$A:$E,Entries!$D1545,3))","v":""},{"$f":"IF(OR($E1545<>0,$C1545=\"\"),\"\",INDEX(Categories!$A:$E,Entries!$D1545,4))","v":""},{"$f":"IF(OR($E1545<>0,$C1545=\"\"),\"\",INDEX(Categories!$A:$E,Entries!$D1545,5))","v":""},"2014-01-01","2014-01-01",{"$f":"(Entries!K1546-Entries!K1545)*24*60","v":0}]
["",null,null,{"$f":"MATCH(C1546,Categories!A:A,0)","v":{"$error":"#N/A"}},0,{"$f":"IF(OR($E1546<>0,$C1546=\"\"),\"\",INDEX(Categories!$A:$E,Entries!$D1546,2))","v":""},{"$f":"IF(OR($E1546<>0,$C1546=\"\"),\"\",INDEX(Categories!$A:$E,Entries!$D1546,3))","v":""},{"$f":"IF(OR($E1546<>0,$C1546=\"\"),\"\",INDEX(Categories!$A:$E,Entries!$D1546,4))","v":""},{"$f":"IF(OR($E1546<>0,$C1546=\"\"),\"\",INDEX(Categories!$A:$E,Entries!$D1546,5))","v":""},"2014-01-01","2014-01-01",{"$f":"(Entries!K1547-Entries!K1546)*24*60","v":0}]
["",null,null,{"$f":"MATCH(C1547,Categories!A:A,0)","v":{"$error":"#N/A"}},0,{"$f":"IF(OR($E1547<>0,$C1547=\"\"),\"\",INDEX(Categories!$A:$E,Entries!$D1547,2))","v":""},{"$f":"IF(OR($E1547<>0,$C1547=\"\"),\"\",INDEX(Categories!$A:$E,Entries!$D1547,3))","v":""},{"$f":"IF(OR($E1547<>0,$C1547=\"\"),\"\",INDEX(Categories!$A:$E,Entries!$D1547,4))","v":""},{"$f":"IF(OR($E1547<>0,$C1547=\"\"),\"\",INDEX(Categories!$A:$E,Entries!$D1547,5))","v":""},"2014-01-01","2014-01-01",{"$f":"(Entries!K1548-Entries!K1547)*24*60","v":0}]
["",null,null,{"$f":"MATCH(C1548,Categories!A:A,0)","v":{"$error":"#N/A"}},0,{"$f":"IF(OR($E1548<>0,$C1548=\"\"),\"\",INDEX(Categories!$A:$E,Entries!$D1548,2))","v":""},{"$f":"IF(OR($E1548<>0,$C1548=\"\"),\"\",INDEX(Categories!$A:$E,Entries!$D1548,3))","v":""},{"$f":"IF(OR($E1548<>0,$C1548=\"\"),\"\",INDEX(Categories!$A:$E,Entries!$D1548,4))","v":""},{"$f":"IF(OR($E1548<>0,$C1548=\"\"),\"\",INDEX(Categories!$A:$E,Entries!$D1548,5))","v":""},"2014-01-01","2014-01-01",{"$f":"(Entries!K1549-Entries!K1548)*24*60","v":0}]
["",null,null,{"$f":"MATCH(C1549,Categories!A:A,0)","v":{"$error":"#N/A"}},0,{"$f":"IF(OR($E1549<>0,$C1549=\"\"),\"\",INDEX(Categories!$A:$E,Entries!$D1549,2))","v":""},{"$f":"IF(OR($E1549<>0,$C1549=\"\"),\"\",INDEX(Categories!$A:$E,Entries!$D1549,3))","v":""},{"$f":"IF(OR($E1549<>0,$C1549=\"\"),\"\",INDEX(Categories!$A:$E,Entries!$D1549,4))","v":""},{"$f":"IF(OR($E1549<>0,$C1549=\"\"),\"\",INDEX(Categories!$A:$E,Entries!$D1549,5))","v":""},"2014-01-01","2014-01-01",{"$f":"(Entries!K1550-Entries!K1549)*24*60","v":0}]
["",null,null,{"$f":"MATCH(C1550,Categories!A:A,0)","v":{"$error":"#N/A"}},0,{"$f":"IF(OR($E1550<>0,$C1550=\"\"),\"\",INDEX(Categories!$A:$E,Entries!$D1550,2))","v":""},{"$f":"IF(OR($E1550<>0,$C1550=\"\"),\"\",INDEX(Categories!$A:$E,Entries!$D1550,3))","v":""},{"$f":"IF(OR($E1550<>0,$C1550=\"\"),\"\",INDEX(Categories!$A:$E,Entries!$D1550,4))","v":""},{"$f":"IF(OR($E1550<>0,$C1550=\"\"),\"\",INDEX(Categories!$A:$E,Entries!$D1550,5))","v":""},"2014-01-01","2014-01-01",{"$f":"(Entries!K1551-Entries!K1550)*24*60","v":0}]
["",null,null,{"$f":"MATCH(C1551,Categories!A:A,0)","v":{"$error":"#N/A"}},0,{"$f":"IF(OR($E1551<>0,$C1551=\"\"),\"\",INDEX(Categories!$A:$E,Entries!$D1551,2))","v":""},{"$f":"IF(OR($E1551<>0,$C1551=\"\"),\"\",INDEX(Categories!$A:$E,Entries!$D1551,3))","v":""},{"$f":"IF(OR($E1551<>0,$C1551=\"\"),\"\",INDEX(Categories!$A:$E,Entries!$D1551,4))","v":""},{"$f":"IF(OR($E1551<>0,$C1551=\"\"),\"\",INDEX(Categories!$A:$E,Entries!$D1551,5))","v":""},"2014-01-01","2014-01-01",{"$f":"(Entries!K1552-Entries!K1551)*24*60","v":0}]
["",null,null,{"$f":"MATCH(C1552,Categories!A:A,0)","v":{"$error":"#N/A"}},0,{"$f":"IF(OR($E1552<>0,$C1552=\"\"),\"\",INDEX(Categories!$A:$E,Entries!$D1552,2))","v":""},{"$f":"IF(OR($E1552<>0,$C1552=\"\"),\"\",INDEX(Categories!$A:$E,Entries!$D1552,3))","v":""},{"$f":"IF(OR($E1552<>0,$C1552=\"\"),\"\",INDEX(Categories!$A:$E,Entries!$D1552,4))","v":""},{"$f":"IF(OR($E1552<>0,$C1552=\"\"),\"\",INDEX(Categories!$A:$E,Entries!$D1552,5))","v":""},"2014-01-01","2014-01-01",{"$f":"(Entries!K1553-Entries!K1552)*24*60","v":0}]
["",null,null,{"$f":"MATCH(C1553,Categories!A:A,0)","v":{"$error":"#N/A"}},0,{"$f":"IF(OR($E1553<>0,$C1553=\"\"),\"\",INDEX(Categories!$A:$E,Entries!$D1553,2))","v":""},{"$f":"IF(OR($E1553<>0,$C1553=\"\"),\"\",INDEX(Categories!$A:$E,Entries!$D1553,3))","v":""},{"$f":"IF(OR($E1553<>0,$C1553=\"\"),\"\",INDEX(Categories!$A:$E,Entries!$D1553,4))","v":""},{"$f":"IF(OR($E1553<>0,$C1553=\"\"),\"\",INDEX(Categories!$A:$E,Entries!$D1553,5))","v":""},"2014-01-01","2014-01-01",{"$f":"(Entries!K1554-Entries!K1553)*24*60","v":0}]
["",null,null,{"$f":"MATCH(C1554,Categories!A:A,0)","v":{"$error":"#N/A"}},0,{"$f":"IF(OR($E1554<>0,$C1554=\"\"),\"\",INDEX(Categories!$A:$E,Entries!$D1554,2))","v":""},{"$f":"IF(OR($E1554<>0,$C1554=\"\"),\"\",INDEX(Categories!$A:$E,Entries!$D1554,3))","v":""},{"$f":"IF(OR($E1554<>0,$C1554=\"\"),\"\",INDEX(Categories!$A:$E,Entries!$D1554,4))","v":""},{"$f":"IF(OR($E1554<>0,$C1554=\"\"),\"\",INDEX(Categories!$A:$E,Entries!$D1554,5))","v":""},"2014-01-01","2014-01-01",{"$f":"(Entries!K1555-Entries!K1554)*24*60","v":0}]
["",null,null,{"$f":"MATCH(C1555,Categories!A:A,0)","v":{"$error":"#N/A"}},0,{"$f":"IF(OR($E1555<>0,$C1555=\"\"),\"\",INDEX(Categories!$A:$E,Entries!$D1555,2))","v":""},{"$f":"IF(OR($E1555<>0,$C1555=\"\"),\"\",INDEX(Categories!$A:$E,Entries!$D1555,3))","v":""},{"$f":"IF(OR($E1555<>0,$C1555=\"\"),\"\",INDEX(Categories!$A:$E,Entries!$D1555,4))","v":""},{"$f":"IF(OR($E1555<>0,$C1555=\"\"),\"\",INDEX(Categories!$A:$E,Entries!$D1555,5))","v":""},"2014-01-01","2014-01-01",{"$f":"(Entries!K1556-Entries!K1555)*24*60","v":0}]
["",null,null,{"$f":"MATCH(C1556,Categories!A:A,0)","v":{"$error":"#N/A"}},0,{"$f":"IF(OR($E1556<>0,$C1556=\"\"),\"\",INDEX(Categories!$A:$E,Entries!$D1556,2))","v":""},{"$f":"IF(OR($E1556<>0,$C1556=\"\"),\"\",INDEX(Categories!$A:$E,Entries!$D1556,3))","v":""},{"$f":"IF(OR($E1556<>0,$C1556=\"\"),\"\",INDEX(Categories!$A:$E,Entries!$D1556,4))","v":""},{"$f":"IF(OR($E1556<>0,$C1556=\"\"),\"\",INDEX(Categories!$A:$E,Entries!$D1556,5))","v":""},"2014-01-01","2014-01-01",{"$f":"(Entries!K1557-Entries!K1556)*24*60","v":0}]
["",null,null,{"$f":"MATCH(C1557,Categories!A:A,0)","v":{"$error":"#N/A"}},0,{"$f":"IF(OR($E1557<>0,$C1557=\"\"),\"\",INDEX(Categories!$A:$E,Entries!$D1557,2))","v":""},{"$f":"IF(OR($E1557<>0,$C1557=\"\"),\"\",INDEX(Categories!$A:$E,Entries!$D1557,3))","v":""},{"$f":"IF(OR($E1557<>0,$C1557=\"\"),\"\",INDEX(Categories!$A:$E,Entries!$D1557,4))","v":""},{"$f":"IF(OR($E1557<>0,$C1557=\"\"),\"\",INDEX(Categories!$A:$E,Entries!$D1557,5))","v":""},"2014-01-01","2014-01-01",{"$f":"(Entries!K1558-Entries!K1557)*24*60","v":0}]
["",null,null,{"$f":"MATCH(C1558,Categories!A:A,0)","v":{"$error":"#N/A"}},0,{"$f":"IF(OR($E1558<>0,$C1558=\"\"),\"\",INDEX(Categories!$A:$E,Entries!$D1558,2))","v":""},{"$f":"IF(OR($E1558<>0,$C1558=\"\"),\"\",INDEX(Categories!$A:$E,Entries!$D1558,3))","v":""},{"$f":"IF(OR($E1558<>0,$C1558=\"\"),\"\",INDEX(Categories!$A:$E,Entries!$D1558,4))","v":""},{"$f":"IF(OR($E1558<>0,$C1558=\"\"),\"\",INDEX(Categories!$A:$E,Entries!$D1558,5))","v":""},"2014-01-01","2014-01-01",{"$f":"(Entries!K1559-Entries!K1558)*24*60","v":0}]
["",null,null,{"$f":"MATCH(C1559,Categories!A:A,0)","v":{"$error":"#N/A"}},0,{"$f":"IF(OR($E1559<>0,$C1559=\"\"),\"\",INDEX(Categories!$A:$E,Entries!$D1559,2))","v":""},{"$f":"IF(OR($E1559<>0,$C1559=\"\"),\"\",INDEX(Categories!$A:$E,Entries!$D1559,3))","v":""},{"$f":"IF(OR($E1559<>0,$C1559=\"\"),\"\",INDEX(Categories!$A:$E,Entries!$D1559,4))","v":""},{"$f":"IF(OR($E1559<>0,$C1559=\"\"),\"\",INDEX(Categories!$A:$E,Entries!$D1559,5))","v":""},"2014-01-01","2014-01-01",{"$f":"(Entries!K1560-Entries!K1559)*24*60","v":0}]
["",null,null,{"$f":"MATCH(C1560,Categories!A:A,0)","v":{"$error":"#N/A"}},0,{"$f":"IF(OR($E1560<>0,$C1560=\"\"),\"\",INDEX(Categories!$A:$E,Entries!$D1560,2))","v":""},{"$f":"IF(OR($E1560<>0,$C1560=\"\"),\"\",INDEX(Categories!$A:$E,Entries!$D1560,3))","v":""},{"$f":"IF(OR($E1560<>0,$C1560=\"\"),\"\",INDEX(Categories!$A:$E,Entries!$D1560,4))","v":""},{"$f":"IF(OR($E1560<>0,$C1560=\"\"),\"\",INDEX(Categories!$A:$E,Entries!$D1560,5))","v":""},"2014-01-01","2014-01-01",{"$f":"(Entries!K1561-Entries!K1560)*24*60","v":0}]
["",null,null,{"$f":"MATCH(C1561,Categories!A:A,0)","v":{"$error":"#N/A"}},0,{"$f":"IF(OR($E1561<>0,$C1561=\"\"),\"\",INDEX(Categories!$A:$E,Entries!$D1561,2))","v":""},{"$f":"IF(OR($E1561<>0,$C1561=\"\"),\"\",INDEX(Categories!$A:$E,Entries!$D1561,3))","v":""},{"$f":"IF(OR($E1561<>0,$C1561=\"\"),\"\",INDEX(Categories!$A:$E,Entries!$D1561,4))","v":""},{"$f":"IF(OR($E1561<>0,$C1561=\"\"),\"\",INDEX(Categories!$A:$E,Entries!$D1561,5))","v":""},"2014-01-01","2014-01-01",{"$f":"(Entries!K1562-Entries!K1561)*24*60","v":0}]
["",null,null,{"$f":"MATCH(C1562,Categories!A:A,0)","v":{"$error":"#N/A"}},0,{"$f":"IF(OR($E1562<>0,$C1562=\"\"),\"\",INDEX(Categories!$A:$E,Entries!$D1562,2))","v":""},{"$f":"IF(OR($E1562<>0,$C1562=\"\"),\"\",INDEX(Categories!$A:$E,Entries!$D1562,3))","v":""},{"$f":"IF(OR($E1562<>0,$C1562=\"\"),\"\",INDEX(Categories!$A:$E,Entries!$D1562,4))","v":""},{"$f":"IF(OR($E1562<>0,$C1562=\"\"),\"\",INDEX(Categories!$A:$E,Entries!$D1562,5))","v":""},"2014-01-01","2014-01-01",{"$f":"(Entries!K1563-Entries!K1562)*24*60","v":0}]
["",null,null,{"$f":"MATCH(C1563,Categories!A:A,0)","v":{"$error":"#N/A"}},0,{"$f":"IF(OR($E1563<>0,$C1563=\"\"),\"\",INDEX(Categories!$A:$E,Entries!$D1563,2))","v":""},{"$f":"IF(OR($E1563<>0,$C1563=\"\"),\"\",INDEX(Categories!$A:$E,Entries!$D1563,3))","v":""},{"$f":"IF(OR($E1563<>0,$C1563=\"\"),\"\",INDEX(Categories!$A:$E,Entries!$D1563,4))","v":""},{"$f":"IF(OR($E1563<>0,$C1563=\"\"),\"\",INDEX(Categories!$A:$E,Entries!$D1563,5))","v":""},"2014-01-01","2014-01-01",{"$f":"(Entries!K1564-Entries!K1563)*24*60","v":0}]
["",null,null,{"$f":"MATCH(C1564,Categories!A:A,0)","v":{"$error":"#N/A"}},0,{"$f":"IF(OR($E1564<>0,$C1564=\"\"),\"\",INDEX(Categories!$A:$E,Entries!$D1564,2))","v":""},{"$f":"IF(OR($E1564<>0,$C1564=\"\"),\"\",INDEX(Categories!$A:$E,Entries!$D1564,3))","v":""},{"$f":"IF(OR($E1564<>0,$C1564=\"\"),\"\",INDEX(Categories!$A:$E,Entries!$D1564,4))","v":""},{"$f":"IF(OR($E1564<>0,$C1564=\"\"),\"\",INDEX(Categories!$A:$E,Entries!$D1564,5))","v":""},"2014-01-01","2014-01-01",{"$f":"(Entries!K1565-Entries!K1564)*24*60","v":0}]
["",null,null,{"$f":"MATCH(C1565,Categories!A:A,0)","v":{"$error":"#N/A"}},0,{"$f":"IF(OR($E1565<>0,$C1565=\"\"),\"\",INDEX(Categories!$A:$E,Entries!$D1565,2))","v":""},{"$f":"IF(OR($E1565<>0,$C1565=\"\"),\"\",INDEX(Categories!$A:$E,Entries!$D1565,3))","v":""},{"$f":"IF(OR($E1565<>0,$C1565=\"\"),\"\",INDEX(Categories!$A:$E,Entries!$D1565,4))","v":""},{"$f":"IF(OR($E1565<>0,$C1565=\"\"),\"\",INDEX(Categories!$A:$E,Entries!$D1565,5))","v":""},"2014-01-01","2014-01-01",{"$f":"(Entries!K1566-Entries!K1565)*24*60","v":0}]
["",null,null,{"$f":"MATCH(C1566,Categories!A:A,0)","v":{"$error":"#N/A"}},0,{"$f":"IF(OR($E1566<>0,$C1566=\"\"),\"\",INDEX(Categories!$A:$E,Entries!$D1566,2))","v":""},{"$f":"IF(OR($E1566<>0,$C1566=\"\"),\"\",INDEX(Categories!$A:$E,Entries!$D1566,3))","v":""},{"$f":"IF(OR($E1566<>0,$C1566=\"\"),\"\",INDEX(Categories!$A:$E,Entries!$D1566,4))","v":""},{"$f":"IF(OR($E1566<>0,$C1566=\"\"),\"\",INDEX(Categories!$A:$E,Entries!$D1566,5))","v":""},"2014-01-01","2014-01-01",{"$f":"(Entries!K1567-Entries!K1566)*24*60","v":0}]
["",null,null,{"$f":"MATCH(C1567,Categories!A:A,0)","v":{"$error":"#N/A"}},0,{"$f":"IF(OR($E1567<>0,$C1567=\"\"),\"\",INDEX(Categories!$A:$E,Entries!$D1567,2))","v":""},{"$f":"IF(OR($E1567<>0,$C1567=\"\"),\"\",INDEX(Categories!$A:$E,Entries!$D1567,3))","v":""},{"$f":"IF(OR($E1567<>0,$C1567=\"\"),\"\",INDEX(Categories!$A:$E,Entries!$D1567,4))","v":""},{"$f":"IF(OR($E1567<>0,$C1567=\"\"),\"\",INDEX(Categories!$A:$E,Entries!$D1567,5))","v":""},"2014-01-01","2014-01-01",{"$f":"(Entries!K1568-Entries!K1567)*24*60","v":0}]
["",null,null,{"$f":"MATCH(C1568,Categories!A:A,0)","v":{"$error":"#N/A"}},0,{"$f":"IF(OR($E1568<>0,$C1568=\"\"),\"\",INDEX(Categories!$A:$E,Entries!$D1568,2))","v":""},{"$f":"IF(OR($E1568<>0,$C1568=\"\"),\"\",INDEX(Categories!$A:$E,Entries!$D1568,3))","v":""},{"$f":"IF(OR($E1568<>0,$C1568=\"\"),\"\",INDEX(Categories!$A:$E,Entries!$D1568,4))","v":""},{"$f":"IF(OR($E1568<>0,$C1568=\"\"),\"\",INDEX(Categories!$A:$E,Entries!$D1568,5))","v":""},"2014-01-01","2014-01-01",{"$f":"(Entries!K1569-Entries!K1568)*24*60","v":0}]
["",null,null,{"$f":"MATCH(C1569,Categories!A:A,0)","v":{"$error":"#N/A"}},0,{"$f":"IF(OR($E1569<>0,$C1569=\"\"),\"\",INDEX(Categories!$A:$E,Entries!$D1569,2))","v":""},{"$f":"IF(OR($E1569<>0,$C1569=\"\"),\"\",INDEX(Categories!$A:$E,Entries!$D1569,3))","v":""},{"$f":"IF(OR($E1569<>0,$C1569=\"\"),\"\",INDEX(Categories!$A:$E,Entries!$D1569,4))","v":""},{"$f":"IF(OR($E1569<>0,$C1569=\"\"),\"\",INDEX(Categories!$A:$E,Entries!$D1569,5))","v":""},"2014-01-01","2014-01-01",{"$f":"(Entries!K1570-Entries!K1569)*24*60","v":0}]
["",null,null,{"$f":"MATCH(C1570,Categories!A:A,0)","v":{"$error":"#N/A"}},0,{"$f":"IF(OR($E1570<>0,$C1570=\"\"),\"\",INDEX(Categories!$A:$E,Entries!$D1570,2))","v":""},{"$f":"IF(OR($E1570<>0,$C1570=\"\"),\"\",INDEX(Categories!$A:$E,Entries!$D1570,3))","v":""},{"$f":"IF(OR($E1570<>0,$C1570=\"\"),\"\",INDEX(Categories!$A:$E,Entries!$D1570,4))","v":""},{"$f":"IF(OR($E1570<>0,$C1570=\"\"),\"\",INDEX(Categories!$A:$E,Entries!$D1570,5))","v":""},"2014-01-01","2014-01-01",{"$f":"(Entries!K1571-Entries!K1570)*24*60","v":0}]
["",null,null,{"$f":"MATCH(C1571,Categories!A:A,0)","v":{"$error":"#N/A"}},0,{"$f":"IF(OR($E1571<>0,$C1571=\"\"),\"\",INDEX(Categories!$A:$E,Entries!$D1571,2))","v":""},{"$f":"IF(OR($E1571<>0,$C1571=\"\"),\"\",INDEX(Categories!$A:$E,Entries!$D1571,3))","v":""},{"$f":"IF(OR($E1571<>0,$C1571=\"\"),\"\",INDEX(Categories!$A:$E,Entries!$D1571,4))","v":""},{"$f":"IF(OR($E1571<>0,$C1571=\"\"),\"\",INDEX(Categories!$A:$E,Entries!$D1571,5))","v":""},"2014-01-01","2014-01-01",{"$f":"(Entries!K1572-Entries!K1571)*24*60","v":0}]
[{"$f":"IF(OR(B1572>=B1571,C1571=\"z\",B1572=\"\"),\"\",J1571+1)","v":""},null,null,{"$f":"MATCH(C1572,Categories!A:A,0)","v":{"$error":"#N/A"}},0,{"$f":"IF(OR($E1572<>0,$C1572=\"\"),\"\",INDEX(Categories!$A:$E,Entries!$D1572,2))","v":""},{"$f":"IF(OR($E1572<>0,$C1572=\"\"),\"\",INDEX(Categories!$A:$E,Entries!$D1572,3))","v":""},{"$f":"IF(OR($E1572<>0,$C1572=\"\"),\"\",INDEX(Categories!$A:$E,Entries!$D1572,4))","v":""},{"$f":"IF(OR($E1572<>0,$C1572=\"\"),\"\",INDEX(Categories!$A:$E,Entries!$D1572,5))","v":""},"2014-01-01","2014-01-01",{"$f":"(Entries!K1573-Entries!K1572)*24*60","v":0}]
["",null,null,{"$f":"MATCH(C1573,Categories!A:A,0)","v":{"$error":"#N/A"}},0,{"$f":"IF(OR($E1573<>0,$C1573=\"\"),\"\",INDEX(Categories!$A:$E,Entries!$D1573,2))","v":""},{"$f":"IF(OR($E1573<>0,$C1573=\"\"),\"\",INDEX(Categories!$A:$E,Entries!$D1573,3))","v":""},{"$f":"IF(OR($E1573<>0,$C1573=\"\"),\"\",INDEX(Categories!$A:$E,Entries!$D1573,4))","v":""},{"$f":"IF(OR($E1573<>0,$C1573=\"\"),\"\",INDEX(Categories!$A:$E,Entries!$D1573,5))","v":""},"2014-01-01","2014-01-01",{"$f":"(Entries!K1574-Entries!K1573)*24*60","v":0}]
["",null,null,{"$f":"MATCH(C1574,Categories!A:A,0)","v":{"$error":"#N/A"}},0,{"$f":"IF(OR($E1574<>0,$C1574=\"\"),\"\",INDEX(Categories!$A:$E,Entries!$D1574,2))","v":""},{"$f":"IF(OR($E1574<>0,$C1574=\"\"),\"\",INDEX(Categories!$A:$E,Entries!$D1574,3))","v":""},{"$f":"IF(OR($E1574<>0,$C1574=\"\"),\"\",INDEX(Categories!$A:$E,Entries!$D1574,4))","v":""},{"$f":"IF(OR($E1574<>0,$C1574=\"\"),\"\",INDEX(Categories!$A:$E,Entries!$D1574,5))","v":""},"2014-01-01","2014-01-01",{"$f":"(Entries!K1575-Entries!K1574)*24*60","v":0}]
["",null,null,{"$f":"MATCH(C1575,Categories!A:A,0)","v":{"$error":"#N/A"}},0,{"$f":"IF(OR($E1575<>0,$C1575=\"\"),\"\",INDEX(Categories!$A:$E,Entries!$D1575,2))","v":""},{"$f":"IF(OR($E1575<>0,$C1575=\"\"),\"\",INDEX(Categories!$A:$E,Entries!$D1575,3))","v":""},{"$f":"IF(OR($E1575<>0,$C1575=\"\"),\"\",INDEX(Categories!$A:$E,Entries!$D1575,4))","v":""},{"$f":"IF(OR($E1575<>0,$C1575=\"\"),\"\",INDEX(Categories!$A:$E,Entries!$D1575,5))","v":""},"2014-01-01","2014-01-01",{"$f":"(Entries!K1576-Entries!K1575)*24*60","v":0}]
["",null,null,{"$f":"MATCH(C1576,Categories!A:A,0)","v":{"$error":"#N/A"}},0,{"$f":"IF(OR($E1576<>0,$C1576=\"\"),\"\",INDEX(Categories!$A:$E,Entries!$D1576,2))","v":""},{"$f":"IF(OR($E1576<>0,$C1576=\"\"),\"\",INDEX(Categories!$A:$E,Entries!$D1576,3))","v":""},{"$f":"IF(OR($E1576<>0,$C1576=\"\"),\"\",INDEX(Categories!$A:$E,Entries!$D1576,4))","v":""},{"$f":"IF(OR($E1576<>0,$C1576=\"\"),\"\",INDEX(Categories!$A:$E,Entries!$D1576,5))","v":""},"2014-01-01","2014-01-01",{"$f":"(Entries!K1577-Entries!K1576)*24*60","v":0}]
["",null,null,{"$f":"MATCH(C1577,Categories!A:A,0)","v":{"$error":"#N/A"}},0,{"$f":"IF(OR($E1577<>0,$C1577=\"\"),\"\",INDEX(Categories!$A:$E,Entries!$D1577,2))","v":""},{"$f":"IF(OR($E1577<>0,$C1577=\"\"),\"\",INDEX(Categories!$A:$E,Entries!$D1577,3))","v":""},{"$f":"IF(OR($E1577<>0,$C1577=\"\"),\"\",INDEX(Categories!$A:$E,Entries!$D1577,4))","v":""},{"$f":"IF(OR($E1577<>0,$C1577=\"\"),\"\",INDEX(Categories!$A:$E,Entries!$D1577,5))","v":""},"2014-01-01","2014-01-01",{"$f":"(Entries!K1578-Entries!K1577)*24*60","v":0}]
["",null,null,{"$f":"MATCH(C1578,Categories!A:A,0)","v":{"$error":"#N/A"}},0,{"$f":"IF(OR($E1578<>0,$C1578=\"\"),\"\",INDEX(Categories!$A:$E,Entries!$D1578,2))","v":""},{"$f":"IF(OR($E1578<>0,$C1578=\"\"),\"\",INDEX(Categories!$A:$E,Entries!$D1578,3))","v":""},{"$f":"IF(OR($E1578<>0,$C1578=\"\"),\"\",INDEX(Categories!$A:$E,Entries!$D1578,4))","v":""},{"$f":"IF(OR($E1578<>0,$C1578=\"\"),\"\",INDEX(Categories!$A:$E,Entries!$D1578,5))","v":""},"2014-01-01","2014-01-01",{"$f":"(Entries!K1579-Entries!K1578)*24*60","v":0}]
["",null,null,{"$f":"MATCH(C1579,Categories!A:A,0)","v":{"$error":"#N/A"}},0,{"$f":"IF(OR($E1579<>0,$C1579=\"\"),\"\",INDEX(Categories!$A:$E,Entries!$D1579,2))","v":""},{"$f":"IF(OR($E1579<>0,$C1579=\"\"),\"\",INDEX(Categories!$A:$E,Entries!$D1579,3))","v":""},{"$f":"IF(OR($E1579<>0,$C1579=\"\"),\"\",INDEX(Categories!$A:$E,Entries!$D1579,4))","v":""},{"$f":"IF(OR($E1579<>0,$C1579=\"\"),\"\",INDEX(Categories!$A:$E,Entries!$D1579,5))","v":""},"2014-01-01","2014-01-01",{"$f":"(Entries!K1580-Entries!K1579)*24*60","v":0}]
["",null,null,{"$f":"MATCH(C1580,Categories!A:A,0)","v":{"$error":"#N/A"}},0,{"$f":"IF(OR($E1580<>0,$C1580=\"\"),\"\",INDEX(Categories!$A:$E,Entries!$D1580,2))","v":""},{"$f":"IF(OR($E1580<>0,$C1580=\"\"),\"\",INDEX(Categories!$A:$E,Entries!$D1580,3))","v":""},{"$f":"IF(OR($E1580<>0,$C1580=\"\"),\"\",INDEX(Categories!$A:$E,Entries!$D1580,4))","v":""},{"$f":"IF(OR($E1580<>0,$C1580=\"\"),\"\",INDEX(Categories!$A:$E,Entries!$D1580,5))","v":""},"2014-01-01","2014-01-01",{"$f":"(Entries!K1581-Entries!K1580)*24*60","v":0}]
["",null,null,{"$f":"MATCH(C1581,Categories!A:A,0)","v":{"$error":"#N/A"}},0,{"$f":"IF(OR($E1581<>0,$C1581=\"\"),\"\",INDEX(Categories!$A:$E,Entries!$D1581,2))","v":""},{"$f":"IF(OR($E1581<>0,$C1581=\"\"),\"\",INDEX(Categories!$A:$E,Entries!$D1581,3))","v":""},{"$f":"IF(OR($E1581<>0,$C1581=\"\"),\"\",INDEX(Categories!$A:$E,Entries!$D1581,4))","v":""},{"$f":"IF(OR($E1581<>0,$C1581=\"\"),\"\",INDEX(Categories!$A:$E,Entries!$D1581,5))","v":""},"2014-01-01","2014-01-01",{"$f":"(Entries!K1582-Entries!K1581)*24*60","v":0}]
["",null,null,{"$f":"MATCH(C1582,Categories!A:A,0)","v":{"$error":"#N/A"}},0,{"$f":"IF(OR($E1582<>0,$C1582=\"\"),\"\",INDEX(Categories!$A:$E,Entries!$D1582,2))","v":""},{"$f":"IF(OR($E1582<>0,$C1582=\"\"),\"\",INDEX(Categories!$A:$E,Entries!$D1582,3))","v":""},{"$f":"IF(OR($E1582<>0,$C1582=\"\"),\"\",INDEX(Categories!$A:$E,Entries!$D1582,4))","v":""},{"$f":"IF(OR($E1582<>0,$C1582=\"\"),\"\",INDEX(Categories!$A:$E,Entries!$D1582,5))","v":""},"2014-01-01","2014-01-01",{"$f":"(Entries!K1583-Entries!K1582)*24*60","v":0}]
["",null,null,{"$f":"MATCH(C1583,Categories!A:A,0)","v":{"$error":"#N/A"}},0,{"$f":"IF(OR($E1583<>0,$C1583=\"\"),\"\",INDEX(Categories!$A:$E,Entries!$D1583,2))","v":""},{"$f":"IF(OR($E1583<>0,$C1583=\"\"),\"\",INDEX(Categories!$A:$E,Entries!$D1583,3))","v":""},{"$f":"IF(OR($E1583<>0,$C1583=\"\"),\"\",INDEX(Categories!$A:$E,Entries!$D1583,4))","v":""},{"$f":"IF(OR($E1583<>0,$C1583=\"\"),\"\",INDEX(Categories!$A:$E,Entries!$D1583,5))","v":""},"2014-01-01","2014-01-01",{"$f":"(Entries!K1584-Entries!K1583)*24*60","v":0}]
["",null,null,{"$f":"MATCH(C1584,Categories!A:A,0)","v":{"$error":"#N/A"}},0,{"$f":"IF(OR($E1584<>0,$C1584=\"\"),\"\",INDEX(Categories!$A:$E,Entries!$D1584,2))","v":""},{"$f":"IF(OR($E1584<>0,$C1584=\"\"),\"\",INDEX(Categories!$A:$E,Entries!$D1584,3))","v":""},{"$f":"IF(OR($E1584<>0,$C1584=\"\"),\"\",INDEX(Categories!$A:$E,Entries!$D1584,4))","v":""},{"$f":"IF(OR($E1584<>0,$C1584=\"\"),\"\",INDEX(Categories!$A:$E,Entries!$D1584,5))","v":""},"2014-01-01","2014-01-01",{"$f":"(Entries!K1585-Entries!K1584)*24*60","v":0}]
["",null,null,{"$f":"MATCH(C1585,Categories!A:A,0)","v":{"$error":"#N/A"}},0,{"$f":"IF(OR($E1585<>0,$C1585=\"\"),\"\",INDEX(Categories!$A:$E,Entries!$D1585,2))","v":""},{"$f":"IF(OR($E1585<>0,$C1585=\"\"),\"\",INDEX(Categories!$A:$E,Entries!$D1585,3))","v":""},{"$f":"IF(OR($E1585<>0,$C1585=\"\"),\"\",INDEX(Categories!$A:$E,Entries!$D1585,4))","v":""},{"$f":"IF(OR($E1585<>0,$C1585=\"\"),\"\",INDEX(Categories!$A:$E,Entries!$D1585,5))","v":""},"2014-01-01","2014-01-01",{"$f":"(Entries!K1586-Entries!K1585)*24*60","v":0}]
["",null,null,{"$f":"MATCH(C1586,Categories!A:A,0)","v":{"$error":"#N/A"}},0,{"$f":"IF(OR($E1586<>0,$C1586=\"\"),\"\",INDEX(Categories!$A:$E,Entries!$D1586,2))","v":""},{"$f":"IF(OR($E1586<>0,$C1586=\"\"),\"\",INDEX(Categories!$A:$E,Entries!$D1586,3))","v":""},{"$f":"IF(OR($E1586<>0,$C1586=\"\"),\"\",INDEX(Categories!$A:$E,Entries!$D1586,4))","v":""},{"$f":"IF(OR($E1586<>0,$C1586=\"\"),\"\",INDEX(Categories!$A:$E,Entries!$D1586,5))","v":""},"2014-01-01","2014-01-01",{"$f":"(Entries!K1587-Entries!K1586)*24*60","v":0}]
["",null,null,{"$f":"MATCH(C1587,Categories!A:A,0)","v":{"$error":"#N/A"}},0,{"$f":"IF(OR($E1587<>0,$C1587=\"\"),\"\",INDEX(Categories!$A:$E,Entries!$D1587,2))","v":""},{"$f":"IF(OR($E1587<>0,$C1587=\"\"),\"\",INDEX(Categories!$A:$E,Entries!$D1587,3))","v":""},{"$f":"IF(OR($E1587<>0,$C1587=\"\"),\"\",INDEX(Categories!$A:$E,Entries!$D1587,4))","v":""},{"$f":"IF(OR($E1587<>0,$C1587=\"\"),\"\",INDEX(Categories!$A:$E,Entries!$D1587,5))","v":""},"2014-01-01","2014-01-01",{"$f":"(Entries!K1588-Entries!K1587)*24*60","v":0}]
["",null,null,{"$f":"MATCH(C1588,Categories!A:A,0)","v":{"$error":"#N/A"}},0,{"$f":"IF(OR($E1588<>0,$C1588=\"\"),\"\",INDEX(Categories!$A:$E,Entries!$D1588,2))","v":""},{"$f":"IF(OR($E1588<>0,$C1588=\"\"),\"\",INDEX(Categories!$A:$E,Entries!$D1588,3))","v":""},{"$f":"IF(OR($E1588<>0,$C1588=\"\"),\"\",INDEX(Categories!$A:$E,Entries!$D1588,4))","v":""},{"$f":"IF(OR($E1588<>0,$C1588=\"\"),\"\",INDEX(Categories!$A:$E,Entries!$D1588,5))","v":""},"2014-01-01","2014-01-01",{"$f":"(Entries!K1589-Entries!K1588)*24*60","v":0}]
["",null,null,{"$f":"MATCH(C1589,Categories!A:A,0)","v":{"$error":"#N/A"}},0,{"$f":"IF(OR($E1589<>0,$C1589=\"\"),\"\",INDEX(Categories!$A:$E,Entries!$D1589,2))","v":""},{"$f":"IF(OR($E1589<>0,$C1589=\"\"),\"\",INDEX(Categories!$A:$E,Entries!$D1589,3))","v":""},{"$f":"IF(OR($E1589<>0,$C1589=\"\"),\"\",INDEX(Categories!$A:$E,Entries!$D1589,4))","v":""},{"$f":"IF(OR($E1589<>0,$C1589=\"\"),\"\",INDEX(Categories!$A:$E,Entries!$D1589,5))","v":""},"2014-01-01","2014-01-01",{"$f":"(Entries!K1590-Entries!K1589)*24*60","v":0}]
["",null,null,{"$f":"MATCH(C1590,Categories!A:A,0)","v":{"$error":"#N/A"}},0,{"$f":"IF(OR($E1590<>0,$C1590=\"\"),\"\",INDEX(Categories!$A:$E,Entries!$D1590,2))","v":""},{"$f":"IF(OR($E1590<>0,$C1590=\"\"),\"\",INDEX(Categories!$A:$E,Entries!$D1590,3))","v":""},{"$f":"IF(OR($E1590<>0,$C1590=\"\"),\"\",INDEX(Categories!$A:$E,Entries!$D1590,4))","v":""},{"$f":"IF(OR($E1590<>0,$C1590=\"\"),\"\",INDEX(Categories!$A:$E,Entries!$D1590,5))","v":""},"2014-01-01","2014-01-01",{"$f":"(Entries!K1591-Entries!K1590)*24*60","v":0}]
["",null,null,{"$f":"MATCH(C1591,Categories!A:A,0)","v":{"$error":"#N/A"}},0,{"$f":"IF(OR($E1591<>0,$C1591=\"\"),\"\",INDEX(Categories!$A:$E,Entries!$D1591,2))","v":""},{"$f":"IF(OR($E1591<>0,$C1591=\"\"),\"\",INDEX(Categories!$A:$E,Entries!$D1591,3))","v":""},{"$f":"IF(OR($E1591<>0,$C1591=\"\"),\"\",INDEX(Categories!$A:$E,Entries!$D1591,4))","v":""},{"$f":"IF(OR($E1591<>0,$C1591=\"\"),\"\",INDEX(Categories!$A:$E,Entries!$D1591,5))","v":""},"2014-01-01","2014-01-01",{"$f":"(Entries!K1592-Entries!K1591)*24*60","v":0}]
["",null,null,{"$f":"MATCH(C1592,Categories!A:A,0)","v":{"$error":"#N/A"}},0,{"$f":"IF(OR($E1592<>0,$C1592=\"\"),\"\",INDEX(Categories!$A:$E,Entries!$D1592,2))","v":""},{"$f":"IF(OR($E1592<>0,$C1592=\"\"),\"\",INDEX(Categories!$A:$E,Entries!$D1592,3))","v":""},{"$f":"IF(OR($E1592<>0,$C1592=\"\"),\"\",INDEX(Categories!$A:$E,Entries!$D1592,4))","v":""},{"$f":"IF(OR($E1592<>0,$C1592=\"\"),\"\",INDEX(Categories!$A:$E,Entries!$D1592,5))","v":""},"2014-01-01","2014-01-01",{"$f":"(Entries!K1593-Entries!K1592)*24*60","v":0}]
["",null,null,{"$f":"MATCH(C1593,Categories!A:A,0)","v":{"$error":"#N/A"}},0,{"$f":"IF(OR($E1593<>0,$C1593=\"\"),\"\",INDEX(Categories!$A:$E,Entries!$D1593,2))","v":""},{"$f":"IF(OR($E1593<>0,$C1593=\"\"),\"\",INDEX(Categories!$A:$E,Entries!$D1593,3))","v":""},{"$f":"IF(OR($E1593<>0,$C1593=\"\"),\"\",INDEX(Categories!$A:$E,Entries!$D1593,4))","v":""},{"$f":"IF(OR($E1593<>0,$C1593=\"\"),\"\",INDEX(Categories!$A:$E,Entries!$D1593,5))","v":""},"2014-01-01","2014-01-01",{"$f":"(Entries!K1594-Entries!K1593)*24*60","v":0}]
["",null,null,{"$f":"MATCH(C1594,Categories!A:A,0)","v":{"$error":"#N/A"}},0,{"$f":"IF(OR($E1594<>0,$C1594=\"\"),\"\",INDEX(Categories!$A:$E,Entries!$D1594,2))","v":""},{"$f":"IF(OR($E1594<>0,$C1594=\"\"),\"\",INDEX(Categories!$A:$E,Entries!$D1594,3))","v":""},{"$f":"IF(OR($E1594<>0,$C1594=\"\"),\"\",INDEX(Categories!$A:$E,Entries!$D1594,4))","v":""},{"$f":"IF(OR($E1594<>0,$C1594=\"\"),\"\",INDEX(Categories!$A:$E,Entries!$D1594,5))","v":""},"2014-01-01","2014-01-01",{"$f":"(Entries!K1595-Entries!K1594)*24*60","v":0}]
["",null,null,{"$f":"MATCH(C1595,Categories!A:A,0)","v":{"$error":"#N/A"}},0,{"$f":"IF(OR($E1595<>0,$C1595=\"\"),\"\",INDEX(Categories!$A:$E,Entries!$D1595,2))","v":""},{"$f":"IF(OR($E1595<>0,$C1595=\"\"),\"\",INDEX(Categories!$A:$E,Entries!$D1595,3))","v":""},{"$f":"IF(OR($E1595<>0,$C1595=\"\"),\"\",INDEX(Categories!$A:$E,Entries!$D1595,4))","v":""},{"$f":"IF(OR($E1595<>0,$C1595=\"\"),\"\",INDEX(Categories!$A:$E,Entries!$D1595,5))","v":""},"2014-01-01","2014-01-01",{"$f":"(Entries!K1596-Entries!K1595)*24*60","v":0}]
["",null,null,{"$f":"MATCH(C1596,Categories!A:A,0)","v":{"$error":"#N/A"}},0,{"$f":"IF(OR($E1596<>0,$C1596=\"\"),\"\",INDEX(Categories!$A:$E,Entries!$D1596,2))","v":""},{"$f":"IF(OR($E1596<>0,$C1596=\"\"),\"\",INDEX(Categories!$A:$E,Entries!$D1596,3))","v":""},{"$f":"IF(OR($E1596<>0,$C1596=\"\"),\"\",INDEX(Categories!$A:$E,Entries!$D1596,4))","v":""},{"$f":"IF(OR($E1596<>0,$C1596=\"\"),\"\",INDEX(Categories!$A:$E,Entries!$D1596,5))","v":""},"2014-01-01","2014-01-01",{"$f":"(Entries!K1597-Entries!K1596)*24*60","v":0}]
["",null,null,{"$f":"MATCH(C1597,Categories!A:A,0)","v":{"$error":"#N/A"}},0,{"$f":"IF(OR($E1597<>0,$C1597=\"\"),\"\",INDEX(Categories!$A:$E,Entries!$D1597,2))","v":""},{"$f":"IF(OR($E1597<>0,$C1597=\"\"),\"\",INDEX(Categories!$A:$E,Entries!$D1597,3))","v":""},{"$f":"IF(OR($E1597<>0,$C1597=\"\"),\"\",INDEX(Categories!$A:$E,Entries!$D1597,4))","v":""},{"$f":"IF(OR($E1597<>0,$C1597=\"\"),\"\",INDEX(Categories!$A:$E,Entries!$D1597,5))","v":""},"2014-01-01","2014-01-01",{"$f":"(Entries!K1598-Entries!K1597)*24*60","v":0}]
["",null,null,{"$f":"MATCH(C1598,Categories!A:A,0)","v":{"$error":"#N/A"}},0,{"$f":"IF(OR($E1598<>0,$C1598=\"\"),\"\",INDEX(Categories!$A:$E,Entries!$D1598,2))","v":""},{"$f":"IF(OR($E1598<>0,$C1598=\"\"),\"\",INDEX(Categories!$A:$E,Entries!$D1598,3))","v":""},{"$f":"IF(OR($E1598<>0,$C1598=\"\"),\"\",INDEX(Categories!$A:$E,Entries!$D1598,4))","v":""},{"$f":"IF(OR($E1598<>0,$C1598=\"\"),\"\",INDEX(Categories!$A:$E,Entries!$D1598,5))","v":""},"2014-01-01","2014-01-01",{"$f":"(Entries!K1599-Entries!K1598)*24*60","v":0}]
["",null,null,{"$f":"MATCH(C1599,Categories!A:A,0)","v":{"$error":"#N/A"}},0,{"$f":"IF(OR($E1599<>0,$C1599=\"\"),\"\",INDEX(Categories!$A:$E,Entries!$D1599,2))","v":""},{"$f":"IF(OR($E1599<>0,$C1599=\"\"),\"\",INDEX(Categories!$A:$E,Entries!$D1599,3))","v":""},{"$f":"IF(OR($E1599<>0,$C1599=\"\"),\"\",INDEX(Categories!$A:$E,Entries!$D1599,4))","v":""},{"$f":"IF(OR($E1599<>0,$C1599=\"\"),\"\",INDEX(Categories!$A:$E,Entries!$D1599,5))","v":""},"2014-01-01","2014-01-01",{"$f":"(Entries!K1600-Entries!K1599)*24*60","v":0}]
["",null,null,{"$f":"MATCH(C1600,Categories!A:A,0)","v":{"$error":"#N/A"}},0,{"$f":"IF(OR($E1600<>0,$C1600=\"\"),\"\",INDEX(Categories!$A:$E,Entries!$D1600,2))","v":""},{"$f":"IF(OR($E1600<>0,$C1600=\"\"),\"\",INDEX(Categories!$A:$E,Entries!$D1600,3))","v":""},{"$f":"IF(OR($E1600<>0,$C1600=\"\"),\"\",INDEX(Categories!$A:$E,Entries!$D1600,4))","v":""},{"$f":"IF(OR($E1600<>0,$C1600=\"\"),\"\",INDEX(Categories!$A:$E,Entries!$D1600,5))","v":""},"2014-01-01","2014-01-01",{"$f":"(Entries!K1601-Entries!K1600)*24*60","v":0}]
["",null,null,{"$f":"MATCH(C1601,Categories!A:A,0)","v":{"$error":"#N/A"}},0,{"$f":"IF(OR($E1601<>0,$C1601=\"\"),\"\",INDEX(Categories!$A:$E,Entries!$D1601,2))","v":""},{"$f":"IF(OR($E1601<>0,$C1601=\"\"),\"\",INDEX(Categories!$A:$E,Entries!$D1601,3))","v":""},{"$f":"IF(OR($E1601<>0,$C1601=\"\"),\"\",INDEX(Categories!$A:$E,Entries!$D1601,4))","v":""},{"$f":"IF(OR($E1601<>0,$C1601=\"\"),\"\",INDEX(Categories!$A:$E,Entries!$D1601,5))","v":""},"2014-01-01","2014-01-01",{"$f":"(Entries!K1602-Entries!K1601)*24*60","v":0}]
["",null,null,{"$f":"MATCH(C1602,Categories!A:A,0)","v":{"$error":"#N/A"}},{"$f":"IF(AND(ISERROR(D1602),C1602<>\"\"),ROW(D1602),0)","v":0},{"$f":"IF(OR($E1602<>0,$C1602=\"\"),\"\",INDEX(Categories!$A:$E,Entries!$D1602,2))","v":""},{"$f":"IF(OR($E1602<>0,$C1602=\"\"),\"\",INDEX(Categories!$A:$E,Entries!$D1602,3))","v":""},{"$f":"IF(OR($E1602<>0,$C1602=\"\"),\"\",INDEX(Categories!$A:$E,Entries!$D1602,4))","v":""},{"$f":"IF(OR($E1602<>0,$C1602=\"\"),\"\",INDEX(Categories!$A:$E,Entries!$D1602,5))","v":""},{"$f":"IF(A1602=\"\",J1601,A1602)","v":"2014-01-01"},{"$f":"J1602+B1602","v":"2014-01-01"},{"$f":"(Entries!K1603-Entries!K1602)*24*60","v":0}]
["",null,null,{"$f":"MATCH(C1603,Categories!A:A,0)","v":{"$error":"#N/A"}},0,{"$f":"IF(OR($E1603<>0,$C1603=\"\"),\"\",INDEX(Categories!$A:$E,Entries!$D1603,2))","v":""},{"$f":"IF(OR($E1603<>0,$C1603=\"\"),\"\",INDEX(Categories!$A:$E,Entries!$D1603,3))","v":""},{"$f":"IF(OR($E1603<>0,$C1603=\"\"),\"\",INDEX(Categories!$A:$E,Entries!$D1603,4))","v":""},{"$f":"IF(OR($E1603<>0,$C1603=\"\"),\"\",INDEX(Categories!$A:$E,Entries!$D1603,5))","v":""},"2014-01-01","2014-01-01",{"$f":"(Entries!K1604-Entries!K1603)*24*60","v":0}]
["",null,null,{"$f":"MATCH(C1604,Categories!A:A,0)","v":{"$error":"#N/A"}},0,{"$f":"IF(OR($E1604<>0,$C1604=\"\"),\"\",INDEX(Categories!$A:$E,Entries!$D1604,2))","v":""},{"$f":"IF(OR($E1604<>0,$C1604=\"\"),\"\",INDEX(Categories!$A:$E,Entries!$D1604,3))","v":""},{"$f":"IF(OR($E1604<>0,$C1604=\"\"),\"\",INDEX(Categories!$A:$E,Entries!$D1604,4))","v":""},{"$f":"IF(OR($E1604<>0,$C1604=\"\"),\"\",INDEX(Categories!$A:$E,Entries!$D1604,5))","v":""},"2014-01-01","2014-01-01",{"$f":"(Entries!K1605-Entries!K1604)*24*60","v":0}]
["",null,null,{"$f":"MATCH(C1605,Categories!A:A,0)","v":{"$error":"#N/A"}},0,{"$f":"IF(OR($E1605<>0,$C1605=\"\"),\"\",INDEX(Categories!$A:$E,Entries!$D1605,2))","v":""},{"$f":"IF(OR($E1605<>0,$C1605=\"\"),\"\",INDEX(Categories!$A:$E,Entries!$D1605,3))","v":""},{"$f":"IF(OR($E1605<>0,$C1605=\"\"),\"\",INDEX(Categories!$A:$E,Entries!$D1605,4))","v":""},{"$f":"IF(OR($E1605<>0,$C1605=\"\"),\"\",INDEX(Categories!$A:$E,Entries!$D1605,5))","v":""},"2014-01-01","2014-01-01",{"$f":"(Entries!K1606-Entries!K1605)*24*60","v":0}]
["",null,null,{"$f":"MATCH(C1606,Categories!A:A,0)","v":{"$error":"#N/A"}},0,{"$f":"IF(OR($E1606<>0,$C1606=\"\"),\"\",INDEX(Categories!$A:$E,Entries!$D1606,2))","v":""},{"$f":"IF(OR($E1606<>0,$C1606=\"\"),\"\",INDEX(Categories!$A:$E,Entries!$D1606,3))","v":""},{"$f":"IF(OR($E1606<>0,$C1606=\"\"),\"\",INDEX(Categories!$A:$E,Entries!$D1606,4))","v":""},{"$f":"IF(OR($E1606<>0,$C1606=\"\"),\"\",INDEX(Categories!$A:$E,Entries!$D1606,5))","v":""},"2014-01-01","2014-01-01",{"$f":"(Entries!K1607-Entries!K1606)*24*60","v":0}]
["",null,null,{"$f":"MATCH(C1607,Categories!A:A,0)","v":{"$error":"#N/A"}},0,{"$f":"IF(OR($E1607<>0,$C1607=\"\"),\"\",INDEX(Categories!$A:$E,Entries!$D1607,2))","v":""},{"$f":"IF(OR($E1607<>0,$C1607=\"\"),\"\",INDEX(Categories!$A:$E,Entries!$D1607,3))","v":""},{"$f":"IF(OR($E1607<>0,$C1607=\"\"),\"\",INDEX(Categories!$A:$E,Entries!$D1607,4))","v":""},{"$f":"IF(OR($E1607<>0,$C1607=\"\"),\"\",INDEX(Categories!$A:$E,Entries!$D1607,5))","v":""},"2014-01-01","2014-01-01",{"$f":"(Entries!K1608-Entries!K1607)*24*60","v":0}]
["",null,null,{"$f":"MATCH(C1608,Categories!A:A,0)","v":{"$error":"#N/A"}},0,{"$f":"IF(OR($E1608<>0,$C1608=\"\"),\"\",INDEX(Categories!$A:$E,Entries!$D1608,2))","v":""},{"$f":"IF(OR($E1608<>0,$C1608=\"\"),\"\",INDEX(Categories!$A:$E,Entries!$D1608,3))","v":""},{"$f":"IF(OR($E1608<>0,$C1608=\"\"),\"\",INDEX(Categories!$A:$E,Entries!$D1608,4))","v":""},{"$f":"IF(OR($E1608<>0,$C1608=\"\"),\"\",INDEX(Categories!$A:$E,Entries!$D1608,5))","v":""},"2014-01-01","2014-01-01",{"$f":"(Entries!K1609-Entries!K1608)*24*60","v":0}]
["",null,null,{"$f":"MATCH(C1609,Categories!A:A,0)","v":{"$error":"#N/A"}},0,{"$f":"IF(OR($E1609<>0,$C1609=\"\"),\"\",INDEX(Categories!$A:$E,Entries!$D1609,2))","v":""},{"$f":"IF(OR($E1609<>0,$C1609=\"\"),\"\",INDEX(Categories!$A:$E,Entries!$D1609,3))","v":""},{"$f":"IF(OR($E1609<>0,$C1609=\"\"),\"\",INDEX(Categories!$A:$E,Entries!$D1609,4))","v":""},{"$f":"IF(OR($E1609<>0,$C1609=\"\"),\"\",INDEX(Categories!$A:$E,Entries!$D1609,5))","v":""},"2014-01-01","2014-01-01",{"$f":"(Entries!K1610-Entries!K1609)*24*60","v":0}]
["",null,null,{"$f":"MATCH(C1610,Categories!A:A,0)","v":{"$error":"#N/A"}},0,{"$f":"IF(OR($E1610<>0,$C1610=\"\"),\"\",INDEX(Categories!$A:$E,Entries!$D1610,2))","v":""},{"$f":"IF(OR($E1610<>0,$C1610=\"\"),\"\",INDEX(Categories!$A:$E,Entries!$D1610,3))","v":""},{"$f":"IF(OR($E1610<>0,$C1610=\"\"),\"\",INDEX(Categories!$A:$E,Entries!$D1610,4))","v":""},{"$f":"IF(OR($E1610<>0,$C1610=\"\"),\"\",INDEX(Categories!$A:$E,Entries!$D1610,5))","v":""},"2014-01-01","2014-01-01",{"$f":"(Entries!K1611-Entries!K1610)*24*60","v":0}]
["",null,null,{"$f":"MATCH(C1611,Categories!A:A,0)","v":{"$error":"#N/A"}},0,{"$f":"IF(OR($E1611<>0,$C1611=\"\"),\"\",INDEX(Categories!$A:$E,Entries!$D1611,2))","v":""},{"$f":"IF(OR($E1611<>0,$C1611=\"\"),\"\",INDEX(Categories!$A:$E,Entries!$D1611,3))","v":""},{"$f":"IF(OR($E1611<>0,$C1611=\"\"),\"\",INDEX(Categories!$A:$E,Entries!$D1611,4))","v":""},{"$f":"IF(OR($E1611<>0,$C1611=\"\"),\"\",INDEX(Categories!$A:$E,Entries!$D1611,5))","v":""},"2014-01-01","2014-01-01",{"$f":"(Entries!K1612-Entries!K1611)*24*60","v":0}]
["",null,null,{"$f":"MATCH(C1612,Categories!A:A,0)","v":{"$error":"#N/A"}},0,{"$f":"IF(OR($E1612<>0,$C1612=\"\"),\"\",INDEX(Categories!$A:$E,Entries!$D1612,2))","v":""},{"$f":"IF(OR($E1612<>0,$C1612=\"\"),\"\",INDEX(Categories!$A:$E,Entries!$D1612,3))","v":""},{"$f":"IF(OR($E1612<>0,$C1612=\"\"),\"\",INDEX(Categories!$A:$E,Entries!$D1612,4))","v":""},{"$f":"IF(OR($E1612<>0,$C1612=\"\"),\"\",INDEX(Categories!$A:$E,Entries!$D1612,5))","v":""},"2014-01-01","2014-01-01",{"$f":"(Entries!K1613-Entries!K1612)*24*60","v":0}]
["",null,null,{"$f":"MATCH(C1613,Categories!A:A,0)","v":{"$error":"#N/A"}},0,{"$f":"IF(OR($E1613<>0,$C1613=\"\"),\"\",INDEX(Categories!$A:$E,Entries!$D1613,2))","v":""},{"$f":"IF(OR($E1613<>0,$C1613=\"\"),\"\",INDEX(Categories!$A:$E,Entries!$D1613,3))","v":""},{"$f":"IF(OR($E1613<>0,$C1613=\"\"),\"\",INDEX(Categories!$A:$E,Entries!$D1613,4))","v":""},{"$f":"IF(OR($E1613<>0,$C1613=\"\"),\"\",INDEX(Categories!$A:$E,Entries!$D1613,5))","v":""},"2014-01-01","2014-01-01",{"$f":"(Entries!K1614-Entries!K1613)*24*60","v":0}]
["",null,null,{"$f":"MATCH(C1614,Categories!A:A,0)","v":{"$error":"#N/A"}},0,{"$f":"IF(OR($E1614<>0,$C1614=\"\"),\"\",INDEX(Categories!$A:$E,Entries!$D1614,2))","v":""},{"$f":"IF(OR($E1614<>0,$C1614=\"\"),\"\",INDEX(Categories!$A:$E,Entries!$D1614,3))","v":""},{"$f":"IF(OR($E1614<>0,$C1614=\"\"),\"\",INDEX(Categories!$A:$E,Entries!$D1614,4))","v":""},{"$f":"IF(OR($E1614<>0,$C1614=\"\"),\"\",INDEX(Categories!$A:$E,Entries!$D1614,5))","v":""},"2014-01-01","2014-01-01",{"$f":"(Entries!K1615-Entries!K1614)*24*60","v":0}]
["",null,null,{"$f":"MATCH(C1615,Categories!A:A,0)","v":{"$error":"#N/A"}},0,{"$f":"IF(OR($E1615<>0,$C1615=\"\"),\"\",INDEX(Categories!$A:$E,Entries!$D1615,2))","v":""},{"$f":"IF(OR($E1615<>0,$C1615=\"\"),\"\",INDEX(Categories!$A:$E,Entries!$D1615,3))","v":""},{"$f":"IF(OR($E1615<>0,$C1615=\"\"),\"\",INDEX(Categories!$A:$E,Entries!$D1615,4))","v":""},{"$f":"IF(OR($E1615<>0,$C1615=\"\"),\"\",INDEX(Categories!$A:$E,Entries!$D1615,5))","v":""},"2014-01-01","2014-01-01",{"$f":"(Entries!K1616-Entries!K1615)*24*60","v":0}]
["",null,null,{"$f":"MATCH(C1616,Categories!A:A,0)","v":{"$error":"#N/A"}},0,{"$f":"IF(OR($E1616<>0,$C1616=\"\"),\"\",INDEX(Categories!$A:$E,Entries!$D1616,2))","v":""},{"$f":"IF(OR($E1616<>0,$C1616=\"\"),\"\",INDEX(Categories!$A:$E,Entries!$D1616,3))","v":""},{"$f":"IF(OR($E1616<>0,$C1616=\"\"),\"\",INDEX(Categories!$A:$E,Entries!$D1616,4))","v":""},{"$f":"IF(OR($E1616<>0,$C1616=\"\"),\"\",INDEX(Categories!$A:$E,Entries!$D1616,5))","v":""},"2014-01-01","2014-01-01",{"$f":"(Entries!K1617-Entries!K1616)*24*60","v":0}]
["",null,null,{"$f":"MATCH(C1617,Categories!A:A,0)","v":{"$error":"#N/A"}},0,{"$f":"IF(OR($E1617<>0,$C1617=\"\"),\"\",INDEX(Categories!$A:$E,Entries!$D1617,2))","v":""},{"$f":"IF(OR($E1617<>0,$C1617=\"\"),\"\",INDEX(Categories!$A:$E,Entries!$D1617,3))","v":""},{"$f":"IF(OR($E1617<>0,$C1617=\"\"),\"\",INDEX(Categories!$A:$E,Entries!$D1617,4))","v":""},{"$f":"IF(OR($E1617<>0,$C1617=\"\"),\"\",INDEX(Categories!$A:$E,Entries!$D1617,5))","v":""},"2014-01-01","2014-01-01",{"$f":"(Entries!K1618-Entries!K1617)*24*60","v":0}]
["",null,null,{"$f":"MATCH(C1618,Categories!A:A,0)","v":{"$error":"#N/A"}},0,{"$f":"IF(OR($E1618<>0,$C1618=\"\"),\"\",INDEX(Categories!$A:$E,Entries!$D1618,2))","v":""},{"$f":"IF(OR($E1618<>0,$C1618=\"\"),\"\",INDEX(Categories!$A:$E,Entries!$D1618,3))","v":""},{"$f":"IF(OR($E1618<>0,$C1618=\"\"),\"\",INDEX(Categories!$A:$E,Entries!$D1618,4))","v":""},{"$f":"IF(OR($E1618<>0,$C1618=\"\"),\"\",INDEX(Categories!$A:$E,Entries!$D1618,5))","v":""},"2014-01-01","2014-01-01",{"$f":"(Entries!K1619-Entries!K1618)*24*60","v":0}]
["",null,null,{"$f":"MATCH(C1619,Categories!A:A,0)","v":{"$error":"#N/A"}},0,{"$f":"IF(OR($E1619<>0,$C1619=\"\"),\"\",INDEX(Categories!$A:$E,Entries!$D1619,2))","v":""},{"$f":"IF(OR($E1619<>0,$C1619=\"\"),\"\",INDEX(Categories!$A:$E,Entries!$D1619,3))","v":""},{"$f":"IF(OR($E1619<>0,$C1619=\"\"),\"\",INDEX(Categories!$A:$E,Entries!$D1619,4))","v":""},{"$f":"IF(OR($E1619<>0,$C1619=\"\"),\"\",INDEX(Categories!$A:$E,Entries!$D1619,5))","v":""},"2014-01-01","2014-01-01",{"$f":"(Entries!K1620-Entries!K1619)*24*60","v":0}]
["",null,null,{"$f":"MATCH(C1620,Categories!A:A,0)","v":{"$error":"#N/A"}},0,{"$f":"IF(OR($E1620<>0,$C1620=\"\"),\"\",INDEX(Categories!$A:$E,Entries!$D1620,2))","v":""},{"$f":"IF(OR($E1620<>0,$C1620=\"\"),\"\",INDEX(Categories!$A:$E,Entries!$D1620,3))","v":""},{"$f":"IF(OR($E1620<>0,$C1620=\"\"),\"\",INDEX(Categories!$A:$E,Entries!$D1620,4))","v":""},{"$f":"IF(OR($E1620<>0,$C1620=\"\"),\"\",INDEX(Categories!$A:$E,Entries!$D1620,5))","v":""},"2014-01-01","2014-01-01",{"$f":"(Entries!K1621-Entries!K1620)*24*60","v":0}]
["",null,null,{"$f":"MATCH(C1621,Categories!A:A,0)","v":{"$error":"#N/A"}},0,{"$f":"IF(OR($E1621<>0,$C1621=\"\"),\"\",INDEX(Categories!$A:$E,Entries!$D1621,2))","v":""},{"$f":"IF(OR($E1621<>0,$C1621=\"\"),\"\",INDEX(Categories!$A:$E,Entries!$D1621,3))","v":""},{"$f":"IF(OR($E1621<>0,$C1621=\"\"),\"\",INDEX(Categories!$A:$E,Entries!$D1621,4))","v":""},{"$f":"IF(OR($E1621<>0,$C1621=\"\"),\"\",INDEX(Categories!$A:$E,Entries!$D1621,5))","v":""},"2014-01-01","2014-01-01",{"$f":"(Entries!K1622-Entries!K1621)*24*60","v":0}]
["",null,null,{"$f":"MATCH(C1622,Categories!A:A,0)","v":{"$error":"#N/A"}},0,{"$f":"IF(OR($E1622<>0,$C1622=\"\"),\"\",INDEX(Categories!$A:$E,Entries!$D1622,2))","v":""},{"$f":"IF(OR($E1622<>0,$C1622=\"\"),\"\",INDEX(Categories!$A:$E,Entries!$D1622,3))","v":""},{"$f":"IF(OR($E1622<>0,$C1622=\"\"),\"\",INDEX(Categories!$A:$E,Entries!$D1622,4))","v":""},{"$f":"IF(OR($E1622<>0,$C1622=\"\"),\"\",INDEX(Categories!$A:$E,Entries!$D1622,5))","v":""},"2014-01-01","2014-01-01",{"$f":"(Entries!K1623-Entries!K1622)*24*60","v":0}]
["",null,null,{"$f":"MATCH(C1623,Categories!A:A,0)","v":{"$error":"#N/A"}},0,{"$f":"IF(OR($E1623<>0,$C1623=\"\"),\"\",INDEX(Categories!$A:$E,Entries!$D1623,2))","v":""},{"$f":"IF(OR($E1623<>0,$C1623=\"\"),\"\",INDEX(Categories!$A:$E,Entries!$D1623,3))","v":""},{"$f":"IF(OR($E1623<>0,$C1623=\"\"),\"\",INDEX(Categories!$A:$E,Entries!$D1623,4))","v":""},{"$f":"IF(OR($E1623<>0,$C1623=\"\"),\"\",INDEX(Categories!$A:$E,Entries!$D1623,5))","v":""},"2014-01-01","2014-01-01",{"$f":"(Entries!K1624-Entries!K1623)*24*60","v":0}]
["",null,null,{"$f":"MATCH(C1624,Categories!A:A,0)","v":{"$error":"#N/A"}},0,{"$f":"IF(OR($E1624<>0,$C1624=\"\"),\"\",INDEX(Categories!$A:$E,Entries!$D1624,2))","v":""},{"$f":"IF(OR($E1624<>0,$C1624=\"\"),\"\",INDEX(Categories!$A:$E,Entries!$D1624,3))","v":""},{"$f":"IF(OR($E1624<>0,$C1624=\"\"),\"\",INDEX(Categories!$A:$E,Entries!$D1624,4))","v":""},{"$f":"IF(OR($E1624<>0,$C1624=\"\"),\"\",INDEX(Categories!$A:$E,Entries!$D1624,5))","v":""},"2014-01-01","2014-01-01",{"$f":"(Entries!K1625-Entries!K1624)*24*60","v":0}]
["",null,null,{"$f":"MATCH(C1625,Categories!A:A,0)","v":{"$error":"#N/A"}},0,{"$f":"IF(OR($E1625<>0,$C1625=\"\"),\"\",INDEX(Categories!$A:$E,Entries!$D1625,2))","v":""},{"$f":"IF(OR($E1625<>0,$C1625=\"\"),\"\",INDEX(Categories!$A:$E,Entries!$D1625,3))","v":""},{"$f":"IF(OR($E1625<>0,$C1625=\"\"),\"\",INDEX(Categories!$A:$E,Entries!$D1625,4))","v":""},{"$f":"IF(OR($E1625<>0,$C1625=\"\"),\"\",INDEX(Categories!$A:$E,Entries!$D1625,5))","v":""},"2014-01-01","2014-01-01",{"$f":"(Entries!K1626-Entries!K1625)*24*60","v":0}]
["",null,null,{"$f":"MATCH(C1626,Categories!A:A,0)","v":{"$error":"#N/A"}},0,{"$f":"IF(OR($E1626<>0,$C1626=\"\"),\"\",INDEX(Categories!$A:$E,Entries!$D1626,2))","v":""},{"$f":"IF(OR($E1626<>0,$C1626=\"\"),\"\",INDEX(Categories!$A:$E,Entries!$D1626,3))","v":""},{"$f":"IF(OR($E1626<>0,$C1626=\"\"),\"\",INDEX(Categories!$A:$E,Entries!$D1626,4))","v":""},{"$f":"IF(OR($E1626<>0,$C1626=\"\"),\"\",INDEX(Categories!$A:$E,Entries!$D1626,5))","v":""},"2014-01-01","2014-01-01",{"$f":"(Entries!K1627-Entries!K1626)*24*60","v":0}]
["",null,null,{"$f":"MATCH(C1627,Categories!A:A,0)","v":{"$error":"#N/A"}},0,{"$f":"IF(OR($E1627<>0,$C1627=\"\"),\"\",INDEX(Categories!$A:$E,Entries!$D1627,2))","v":""},{"$f":"IF(OR($E1627<>0,$C1627=\"\"),\"\",INDEX(Categories!$A:$E,Entries!$D1627,3))","v":""},{"$f":"IF(OR($E1627<>0,$C1627=\"\"),\"\",INDEX(Categories!$A:$E,Entries!$D1627,4))","v":""},{"$f":"IF(OR($E1627<>0,$C1627=\"\"),\"\",INDEX(Categories!$A:$E,Entries!$D1627,5))","v":""},"2014-01-01","2014-01-01",{"$f":"(Entries!K1628-Entries!K1627)*24*60","v":0}]
["",null,null,{"$f":"MATCH(C1628,Categories!A:A,0)","v":{"$error":"#N/A"}},0,{"$f":"IF(OR($E1628<>0,$C1628=\"\"),\"\",INDEX(Categories!$A:$E,Entries!$D1628,2))","v":""},{"$f":"IF(OR($E1628<>0,$C1628=\"\"),\"\",INDEX(Categories!$A:$E,Entries!$D1628,3))","v":""},{"$f":"IF(OR($E1628<>0,$C1628=\"\"),\"\",INDEX(Categories!$A:$E,Entries!$D1628,4))","v":""},{"$f":"IF(OR($E1628<>0,$C1628=\"\"),\"\",INDEX(Categories!$A:$E,Entries!$D1628,5))","v":""},"2014-01-01","2014-01-01",{"$f":"(Entries!K1629-Entries!K1628)*24*60","v":0}]
["",null,null,{"$f":"MATCH(C1629,Categories!A:A,0)","v":{"$error":"#N/A"}},0,{"$f":"IF(OR($E1629<>0,$C1629=\"\"),\"\",INDEX(Categories!$A:$E,Entries!$D1629,2))","v":""},{"$f":"IF(OR($E1629<>0,$C1629=\"\"),\"\",INDEX(Categories!$A:$E,Entries!$D1629,3))","v":""},{"$f":"IF(OR($E1629<>0,$C1629=\"\"),\"\",INDEX(Categories!$A:$E,Entries!$D1629,4))","v":""},{"$f":"IF(OR($E1629<>0,$C1629=\"\"),\"\",INDEX(Categories!$A:$E,Entries!$D1629,5))","v":""},"2014-01-01","2014-01-01",{"$f":"(Entries!K1630-Entries!K1629)*24*60","v":0}]
["",null,null,{"$f":"MATCH(C1630,Categories!A:A,0)","v":{"$error":"#N/A"}},0,{"$f":"IF(OR($E1630<>0,$C1630=\"\"),\"\",INDEX(Categories!$A:$E,Entries!$D1630,2))","v":""},{"$f":"IF(OR($E1630<>0,$C1630=\"\"),\"\",INDEX(Categories!$A:$E,Entries!$D1630,3))","v":""},{"$f":"IF(OR($E1630<>0,$C1630=\"\"),\"\",INDEX(Categories!$A:$E,Entries!$D1630,4))","v":""},{"$f":"IF(OR($E1630<>0,$C1630=\"\"),\"\",INDEX(Categories!$A:$E,Entries!$D1630,5))","v":""},"2014-01-01","2014-01-01",{"$f":"(Entries!K1631-Entries!K1630)*24*60","v":0}]
["",null,null,{"$f":"MATCH(C1631,Categories!A:A,0)","v":{"$error":"#N/A"}},0,{"$f":"IF(OR($E1631<>0,$C1631=\"\"),\"\",INDEX(Categories!$A:$E,Entries!$D1631,2))","v":""},{"$f":"IF(OR($E1631<>0,$C1631=\"\"),\"\",INDEX(Categories!$A:$E,Entries!$D1631,3))","v":""},{"$f":"IF(OR($E1631<>0,$C1631=\"\"),\"\",INDEX(Categories!$A:$E,Entries!$D1631,4))","v":""},{"$f":"IF(OR($E1631<>0,$C1631=\"\"),\"\",INDEX(Categories!$A:$E,Entries!$D1631,5))","v":""},"2014-01-01","2014-01-01",{"$f":"(Entries!K1632-Entries!K1631)*24*60","v":0}]
["",null,null,{"$f":"MATCH(C1632,Categories!A:A,0)","v":{"$error":"#N/A"}},0,{"$f":"IF(OR($E1632<>0,$C1632=\"\"),\"\",INDEX(Categories!$A:$E,Entries!$D1632,2))","v":""},{"$f":"IF(OR($E1632<>0,$C1632=\"\"),\"\",INDEX(Categories!$A:$E,Entries!$D1632,3))","v":""},{"$f":"IF(OR($E1632<>0,$C1632=\"\"),\"\",INDEX(Categories!$A:$E,Entries!$D1632,4))","v":""},{"$f":"IF(OR($E1632<>0,$C1632=\"\"),\"\",INDEX(Categories!$A:$E,Entries!$D1632,5))","v":""},"2014-01-01","2014-01-01",{"$f":"(Entries!K1633-Entries!K1632)*24*60","v":0}]
["",null,null,{"$f":"MATCH(C1633,Categories!A:A,0)","v":{"$error":"#N/A"}},0,{"$f":"IF(OR($E1633<>0,$C1633=\"\"),\"\",INDEX(Categories!$A:$E,Entries!$D1633,2))","v":""},{"$f":"IF(OR($E1633<>0,$C1633=\"\"),\"\",INDEX(Categories!$A:$E,Entries!$D1633,3))","v":""},{"$f":"IF(OR($E1633<>0,$C1633=\"\"),\"\",INDEX(Categories!$A:$E,Entries!$D1633,4))","v":""},{"$f":"IF(OR($E1633<>0,$C1633=\"\"),\"\",INDEX(Categories!$A:$E,Entries!$D1633,5))","v":""},"2014-01-01","2014-01-01",{"$f":"(Entries!K1634-Entries!K1633)*24*60","v":0}]
["",null,null,{"$f":"MATCH(C1634,Categories!A:A,0)","v":{"$error":"#N/A"}},0,{"$f":"IF(OR($E1634<>0,$C1634=\"\"),\"\",INDEX(Categories!$A:$E,Entries!$D1634,2))","v":""},{"$f":"IF(OR($E1634<>0,$C1634=\"\"),\"\",INDEX(Categories!$A:$E,Entries!$D1634,3))","v":""},{"$f":"IF(OR($E1634<>0,$C1634=\"\"),\"\",INDEX(Categories!$A:$E,Entries!$D1634,4))","v":""},{"$f":"IF(OR($E1634<>0,$C1634=\"\"),\"\",INDEX(Categories!$A:$E,Entries!$D1634,5))","v":""},"2014-01-01","2014-01-01",{"$f":"(Entries!K1635-Entries!K1634)*24*60","v":0}]
["",null,null,{"$f":"MATCH(C1635,Categories!A:A,0)","v":{"$error":"#N/A"}},0,{"$f":"IF(OR($E1635<>0,$C1635=\"\"),\"\",INDEX(Categories!$A:$E,Entries!$D1635,2))","v":""},{"$f":"IF(OR($E1635<>0,$C1635=\"\"),\"\",INDEX(Categories!$A:$E,Entries!$D1635,3))","v":""},{"$f":"IF(OR($E1635<>0,$C1635=\"\"),\"\",INDEX(Categories!$A:$E,Entries!$D1635,4))","v":""},{"$f":"IF(OR($E1635<>0,$C1635=\"\"),\"\",INDEX(Categories!$A:$E,Entries!$D1635,5))","v":""},"2014-01-01","2014-01-01",{"$f":"(Entries!K1636-Entries!K1635)*24*60","v":0}]
[{"$f":"IF(OR(B1636>=B1635,C1635=\"z\",B1636=\"\"),\"\",J1635+1)","v":""},null,null,{"$f":"MATCH(C1636,Categories!A:A,0)","v":{"$error":"#N/A"}},0,{"$f":"IF(OR($E1636<>0,$C1636=\"\"),\"\",INDEX(Categories!$A:$E,Entries!$D1636,2))","v":""},{"$f":"IF(OR($E1636<>0,$C1636=\"\"),\"\",INDEX(Categories!$A:$E,Entries!$D1636,3))","v":""},{"$f":"IF(OR($E1636<>0,$C1636=\"\"),\"\",INDEX(Categories!$A:$E,Entries!$D1636,4))","v":""},{"$f":"IF(OR($E1636<>0,$C1636=\"\"),\"\",INDEX(Categories!$A:$E,Entries!$D1636,5))","v":""},"2014-01-01","2014-01-01",{"$f":"(Entries!K1637-Entries!K1636)*24*60","v":0}]
["",null,null,{"$f":"MATCH(C1637,Categories!A:A,0)","v":{"$error":"#N/A"}},0,{"$f":"IF(OR($E1637<>0,$C1637=\"\"),\"\",INDEX(Categories!$A:$E,Entries!$D1637,2))","v":""},{"$f":"IF(OR($E1637<>0,$C1637=\"\"),\"\",INDEX(Categories!$A:$E,Entries!$D1637,3))","v":""},{"$f":"IF(OR($E1637<>0,$C1637=\"\"),\"\",INDEX(Categories!$A:$E,Entries!$D1637,4))","v":""},{"$f":"IF(OR($E1637<>0,$C1637=\"\"),\"\",INDEX(Categories!$A:$E,Entries!$D1637,5))","v":""},"2014-01-01","2014-01-01",{"$f":"(Entries!K1638-Entries!K1637)*24*60","v":0}]
["",null,null,{"$f":"MATCH(C1638,Categories!A:A,0)","v":{"$error":"#N/A"}},0,{"$f":"IF(OR($E1638<>0,$C1638=\"\"),\"\",INDEX(Categories!$A:$E,Entries!$D1638,2))","v":""},{"$f":"IF(OR($E1638<>0,$C1638=\"\"),\"\",INDEX(Categories!$A:$E,Entries!$D1638,3))","v":""},{"$f":"IF(OR($E1638<>0,$C1638=\"\"),\"\",INDEX(Categories!$A:$E,Entries!$D1638,4))","v":""},{"$f":"IF(OR($E1638<>0,$C1638=\"\"),\"\",INDEX(Categories!$A:$E,Entries!$D1638,5))","v":""},"2014-01-01","2014-01-01",{"$f":"(Entries!K1639-Entries!K1638)*24*60","v":0}]
["",null,null,{"$f":"MATCH(C1639,Categories!A:A,0)","v":{"$error":"#N/A"}},0,{"$f":"IF(OR($E1639<>0,$C1639=\"\"),\"\",INDEX(Categories!$A:$E,Entries!$D1639,2))","v":""},{"$f":"IF(OR($E1639<>0,$C1639=\"\"),\"\",INDEX(Categories!$A:$E,Entries!$D1639,3))","v":""},{"$f":"IF(OR($E1639<>0,$C1639=\"\"),\"\",INDEX(Categories!$A:$E,Entries!$D1639,4))","v":""},{"$f":"IF(OR($E1639<>0,$C1639=\"\"),\"\",INDEX(Categories!$A:$E,Entries!$D1639,5))","v":""},"2014-01-01","2014-01-01",{"$f":"(Entries!K1640-Entries!K1639)*24*60","v":0}]
["",null,null,{"$f":"MATCH(C1640,Categories!A:A,0)","v":{"$error":"#N/A"}},0,{"$f":"IF(OR($E1640<>0,$C1640=\"\"),\"\",INDEX(Categories!$A:$E,Entries!$D1640,2))","v":""},{"$f":"IF(OR($E1640<>0,$C1640=\"\"),\"\",INDEX(Categories!$A:$E,Entries!$D1640,3))","v":""},{"$f":"IF(OR($E1640<>0,$C1640=\"\"),\"\",INDEX(Categories!$A:$E,Entries!$D1640,4))","v":""},{"$f":"IF(OR($E1640<>0,$C1640=\"\"),\"\",INDEX(Categories!$A:$E,Entries!$D1640,5))","v":""},"2014-01-01","2014-01-01",{"$f":"(Entries!K1641-Entries!K1640)*24*60","v":0}]
["",null,null,{"$f":"MATCH(C1641,Categories!A:A,0)","v":{"$error":"#N/A"}},0,{"$f":"IF(OR($E1641<>0,$C1641=\"\"),\"\",INDEX(Categories!$A:$E,Entries!$D1641,2))","v":""},{"$f":"IF(OR($E1641<>0,$C1641=\"\"),\"\",INDEX(Categories!$A:$E,Entries!$D1641,3))","v":""},{"$f":"IF(OR($E1641<>0,$C1641=\"\"),\"\",INDEX(Categories!$A:$E,Entries!$D1641,4))","v":""},{"$f":"IF(OR($E1641<>0,$C1641=\"\"),\"\",INDEX(Categories!$A:$E,Entries!$D1641,5))","v":""},"2014-01-01","2014-01-01",{"$f":"(Entries!K1642-Entries!K1641)*24*60","v":0}]
["",null,null,{"$f":"MATCH(C1642,Categories!A:A,0)","v":{"$error":"#N/A"}},0,{"$f":"IF(OR($E1642<>0,$C1642=\"\"),\"\",INDEX(Categories!$A:$E,Entries!$D1642,2))","v":""},{"$f":"IF(OR($E1642<>0,$C1642=\"\"),\"\",INDEX(Categories!$A:$E,Entries!$D1642,3))","v":""},{"$f":"IF(OR($E1642<>0,$C1642=\"\"),\"\",INDEX(Categories!$A:$E,Entries!$D1642,4))","v":""},{"$f":"IF(OR($E1642<>0,$C1642=\"\"),\"\",INDEX(Categories!$A:$E,Entries!$D1642,5))","v":""},"2014-01-01","2014-01-01",{"$f":"(Entries!K1643-Entries!K1642)*24*60","v":0}]
["",null,null,{"$f":"MATCH(C1643,Categories!A:A,0)","v":{"$error":"#N/A"}},0,{"$f":"IF(OR($E1643<>0,$C1643=\"\"),\"\",INDEX(Categories!$A:$E,Entries!$D1643,2))","v":""},{"$f":"IF(OR($E1643<>0,$C1643=\"\"),\"\",INDEX(Categories!$A:$E,Entries!$D1643,3))","v":""},{"$f":"IF(OR($E1643<>0,$C1643=\"\"),\"\",INDEX(Categories!$A:$E,Entries!$D1643,4))","v":""},{"$f":"IF(OR($E1643<>0,$C1643=\"\"),\"\",INDEX(Categories!$A:$E,Entries!$D1643,5))","v":""},"2014-01-01","2014-01-01",{"$f":"(Entries!K1644-Entries!K1643)*24*60","v":0}]
["",null,null,{"$f":"MATCH(C1644,Categories!A:A,0)","v":{"$error":"#N/A"}},0,{"$f":"IF(OR($E1644<>0,$C1644=\"\"),\"\",INDEX(Categories!$A:$E,Entries!$D1644,2))","v":""},{"$f":"IF(OR($E1644<>0,$C1644=\"\"),\"\",INDEX(Categories!$A:$E,Entries!$D1644,3))","v":""},{"$f":"IF(OR($E1644<>0,$C1644=\"\"),\"\",INDEX(Categories!$A:$E,Entries!$D1644,4))","v":""},{"$f":"IF(OR($E1644<>0,$C1644=\"\"),\"\",INDEX(Categories!$A:$E,Entries!$D1644,5))","v":""},"2014-01-01","2014-01-01",{"$f":"(Entries!K1645-Entries!K1644)*24*60","v":0}]
["",null,null,{"$f":"MATCH(C1645,Categories!A:A,0)","v":{"$error":"#N/A"}},0,{"$f":"IF(OR($E1645<>0,$C1645=\"\"),\"\",INDEX(Categories!$A:$E,Entries!$D1645,2))","v":""},{"$f":"IF(OR($E1645<>0,$C1645=\"\"),\"\",INDEX(Categories!$A:$E,Entries!$D1645,3))","v":""},{"$f":"IF(OR($E1645<>0,$C1645=\"\"),\"\",INDEX(Categories!$A:$E,Entries!$D1645,4))","v":""},{"$f":"IF(OR($E1645<>0,$C1645=\"\"),\"\",INDEX(Categories!$A:$E,Entries!$D1645,5))","v":""},"2014-01-01","2014-01-01",{"$f":"(Entries!K1646-Entries!K1645)*24*60","v":0}]
["",null,null,{"$f":"MATCH(C1646,Categories!A:A,0)","v":{"$error":"#N/A"}},0,{"$f":"IF(OR($E1646<>0,$C1646=\"\"),\"\",INDEX(Categories!$A:$E,Entries!$D1646,2))","v":""},{"$f":"IF(OR($E1646<>0,$C1646=\"\"),\"\",INDEX(Categories!$A:$E,Entries!$D1646,3))","v":""},{"$f":"IF(OR($E1646<>0,$C1646=\"\"),\"\",INDEX(Categories!$A:$E,Entries!$D1646,4))","v":""},{"$f":"IF(OR($E1646<>0,$C1646=\"\"),\"\",INDEX(Categories!$A:$E,Entries!$D1646,5))","v":""},"2014-01-01","2014-01-01",{"$f":"(Entries!K1647-Entries!K1646)*24*60","v":0}]
["",null,null,{"$f":"MATCH(C1647,Categories!A:A,0)","v":{"$error":"#N/A"}},0,{"$f":"IF(OR($E1647<>0,$C1647=\"\"),\"\",INDEX(Categories!$A:$E,Entries!$D1647,2))","v":""},{"$f":"IF(OR($E1647<>0,$C1647=\"\"),\"\",INDEX(Categories!$A:$E,Entries!$D1647,3))","v":""},{"$f":"IF(OR($E1647<>0,$C1647=\"\"),\"\",INDEX(Categories!$A:$E,Entries!$D1647,4))","v":""},{"$f":"IF(OR($E1647<>0,$C1647=\"\"),\"\",INDEX(Categories!$A:$E,Entries!$D1647,5))","v":""},"2014-01-01","2014-01-01",{"$f":"(Entries!K1648-Entries!K1647)*24*60","v":0}]
["",null,null,{"$f":"MATCH(C1648,Categories!A:A,0)","v":{"$error":"#N/A"}},0,{"$f":"IF(OR($E1648<>0,$C1648=\"\"),\"\",INDEX(Categories!$A:$E,Entries!$D1648,2))","v":""},{"$f":"IF(OR($E1648<>0,$C1648=\"\"),\"\",INDEX(Categories!$A:$E,Entries!$D1648,3))","v":""},{"$f":"IF(OR($E1648<>0,$C1648=\"\"),\"\",INDEX(Categories!$A:$E,Entries!$D1648,4))","v":""},{"$f":"IF(OR($E1648<>0,$C1648=\"\"),\"\",INDEX(Categories!$A:$E,Entries!$D1648,5))","v":""},"2014-01-01","2014-01-01",{"$f":"(Entries!K1649-Entries!K1648)*24*60","v":0}]
["",null,null,{"$f":"MATCH(C1649,Categories!A:A,0)","v":{"$error":"#N/A"}},0,{"$f":"IF(OR($E1649<>0,$C1649=\"\"),\"\",INDEX(Categories!$A:$E,Entries!$D1649,2))","v":""},{"$f":"IF(OR($E1649<>0,$C1649=\"\"),\"\",INDEX(Categories!$A:$E,Entries!$D1649,3))","v":""},{"$f":"IF(OR($E1649<>0,$C1649=\"\"),\"\",INDEX(Categories!$A:$E,Entries!$D1649,4))","v":""},{"$f":"IF(OR($E1649<>0,$C1649=\"\"),\"\",INDEX(Categories!$A:$E,Entries!$D1649,5))","v":""},"2014-01-01","2014-01-01",{"$f":"(Entries!K1650-Entries!K1649)*24*60","v":0}]
["",null,null,{"$f":"MATCH(C1650,Categories!A:A,0)","v":{"$error":"#N/A"}},0,{"$f":"IF(OR($E1650<>0,$C1650=\"\"),\"\",INDEX(Categories!$A:$E,Entries!$D1650,2))","v":""},{"$f":"IF(OR($E1650<>0,$C1650=\"\"),\"\",INDEX(Categories!$A:$E,Entries!$D1650,3))","v":""},{"$f":"IF(OR($E1650<>0,$C1650=\"\"),\"\",INDEX(Categories!$A:$E,Entries!$D1650,4))","v":""},{"$f":"IF(OR($E1650<>0,$C1650=\"\"),\"\",INDEX(Categories!$A:$E,Entries!$D1650,5))","v":""},"2014-01-01","2014-01-01",{"$f":"(Entries!K1651-Entries!K1650)*24*60","v":0}]
["",null,null,{"$f":"MATCH(C1651,Categories!A:A,0)","v":{"$error":"#N/A"}},0,{"$f":"IF(OR($E1651<>0,$C1651=\"\"),\"\",INDEX(Categories!$A:$E,Entries!$D1651,2))","v":""},{"$f":"IF(OR($E1651<>0,$C1651=\"\"),\"\",INDEX(Categories!$A:$E,Entries!$D1651,3))","v":""},{"$f":"IF(OR($E1651<>0,$C1651=\"\"),\"\",INDEX(Categories!$A:$E,Entries!$D1651,4))","v":""},{"$f":"IF(OR($E1651<>0,$C1651=\"\"),\"\",INDEX(Categories!$A:$E,Entries!$D1651,5))","v":""},"2014-01-01","2014-01-01",{"$f":"(Entries!K1652-Entries!K1651)*24*60","v":0}]
["",null,null,{"$f":"MATCH(C1652,Categories!A:A,0)","v":{"$error":"#N/A"}},0,{"$f":"IF(OR($E1652<>0,$C1652=\"\"),\"\",INDEX(Categories!$A:$E,Entries!$D1652,2))","v":""},{"$f":"IF(OR($E1652<>0,$C1652=\"\"),\"\",INDEX(Categories!$A:$E,Entries!$D1652,3))","v":""},{"$f":"IF(OR($E1652<>0,$C1652=\"\"),\"\",INDEX(Categories!$A:$E,Entries!$D1652,4))","v":""},{"$f":"IF(OR($E1652<>0,$C1652=\"\"),\"\",INDEX(Categories!$A:$E,Entries!$D1652,5))","v":""},"2014-01-01","2014-01-01",{"$f":"(Entries!K1653-Entries!K1652)*24*60","v":0}]
["",null,null,{"$f":"MATCH(C1653,Categories!A:A,0)","v":{"$error":"#N/A"}},0,{"$f":"IF(OR($E1653<>0,$C1653=\"\"),\"\",INDEX(Categories!$A:$E,Entries!$D1653,2))","v":""},{"$f":"IF(OR($E1653<>0,$C1653=\"\"),\"\",INDEX(Categories!$A:$E,Entries!$D1653,3))","v":""},{"$f":"IF(OR($E1653<>0,$C1653=\"\"),\"\",INDEX(Categories!$A:$E,Entries!$D1653,4))","v":""},{"$f":"IF(OR($E1653<>0,$C1653=\"\"),\"\",INDEX(Categories!$A:$E,Entries!$D1653,5))","v":""},"2014-01-01","2014-01-01",{"$f":"(Entries!K1654-Entries!K1653)*24*60","v":0}]
["",null,null,{"$f":"MATCH(C1654,Categories!A:A,0)","v":{"$error":"#N/A"}},0,{"$f":"IF(OR($E1654<>0,$C1654=\"\"),\"\",INDEX(Categories!$A:$E,Entries!$D1654,2))","v":""},{"$f":"IF(OR($E1654<>0,$C1654=\"\"),\"\",INDEX(Categories!$A:$E,Entries!$D1654,3))","v":""},{"$f":"IF(OR($E1654<>0,$C1654=\"\"),\"\",INDEX(Categories!$A:$E,Entries!$D1654,4))","v":""},{"$f":"IF(OR($E1654<>0,$C1654=\"\"),\"\",INDEX(Categories!$A:$E,Entries!$D1654,5))","v":""},"2014-01-01","2014-01-01",{"$f":"(Entries!K1655-Entries!K1654)*24*60","v":0}]
["",null,null,{"$f":"MATCH(C1655,Categories!A:A,0)","v":{"$error":"#N/A"}},0,{"$f":"IF(OR($E1655<>0,$C1655=\"\"),\"\",INDEX(Categories!$A:$E,Entries!$D1655,2))","v":""},{"$f":"IF(OR($E1655<>0,$C1655=\"\"),\"\",INDEX(Categories!$A:$E,Entries!$D1655,3))","v":""},{"$f":"IF(OR($E1655<>0,$C1655=\"\"),\"\",INDEX(Categories!$A:$E,Entries!$D1655,4))","v":""},{"$f":"IF(OR($E1655<>0,$C1655=\"\"),\"\",INDEX(Categories!$A:$E,Entries!$D1655,5))","v":""},"2014-01-01","2014-01-01",{"$f":"(Entries!K1656-Entries!K1655)*24*60","v":0}]
["",null,null,{"$f":"MATCH(C1656,Categories!A:A,0)","v":{"$error":"#N/A"}},0,{"$f":"IF(OR($E1656<>0,$C1656=\"\"),\"\",INDEX(Categories!$A:$E,Entries!$D1656,2))","v":""},{"$f":"IF(OR($E1656<>0,$C1656=\"\"),\"\",INDEX(Categories!$A:$E,Entries!$D1656,3))","v":""},{"$f":"IF(OR($E1656<>0,$C1656=\"\"),\"\",INDEX(Categories!$A:$E,Entries!$D1656,4))","v":""},{"$f":"IF(OR($E1656<>0,$C1656=\"\"),\"\",INDEX(Categories!$A:$E,Entries!$D1656,5))","v":""},"2014-01-01","2014-01-01",{"$f":"(Entries!K1657-Entries!K1656)*24*60","v":0}]
["",null,null,{"$f":"MATCH(C1657,Categories!A:A,0)","v":{"$error":"#N/A"}},0,{"$f":"IF(OR($E1657<>0,$C1657=\"\"),\"\",INDEX(Categories!$A:$E,Entries!$D1657,2))","v":""},{"$f":"IF(OR($E1657<>0,$C1657=\"\"),\"\",INDEX(Categories!$A:$E,Entries!$D1657,3))","v":""},{"$f":"IF(OR($E1657<>0,$C1657=\"\"),\"\",INDEX(Categories!$A:$E,Entries!$D1657,4))","v":""},{"$f":"IF(OR($E1657<>0,$C1657=\"\"),\"\",INDEX(Categories!$A:$E,Entries!$D1657,5))","v":""},"2014-01-01","2014-01-01",{"$f":"(Entries!K1658-Entries!K1657)*24*60","v":0}]
["",null,null,{"$f":"MATCH(C1658,Categories!A:A,0)","v":{"$error":"#N/A"}},0,{"$f":"IF(OR($E1658<>0,$C1658=\"\"),\"\",INDEX(Categories!$A:$E,Entries!$D1658,2))","v":""},{"$f":"IF(OR($E1658<>0,$C1658=\"\"),\"\",INDEX(Categories!$A:$E,Entries!$D1658,3))","v":""},{"$f":"IF(OR($E1658<>0,$C1658=\"\"),\"\",INDEX(Categories!$A:$E,Entries!$D1658,4))","v":""},{"$f":"IF(OR($E1658<>0,$C1658=\"\"),\"\",INDEX(Categories!$A:$E,Entries!$D1658,5))","v":""},"2014-01-01","2014-01-01",{"$f":"(Entries!K1659-Entries!K1658)*24*60","v":0}]
["",null,null,{"$f":"MATCH(C1659,Categories!A:A,0)","v":{"$error":"#N/A"}},0,{"$f":"IF(OR($E1659<>0,$C1659=\"\"),\"\",INDEX(Categories!$A:$E,Entries!$D1659,2))","v":""},{"$f":"IF(OR($E1659<>0,$C1659=\"\"),\"\",INDEX(Categories!$A:$E,Entries!$D1659,3))","v":""},{"$f":"IF(OR($E1659<>0,$C1659=\"\"),\"\",INDEX(Categories!$A:$E,Entries!$D1659,4))","v":""},{"$f":"IF(OR($E1659<>0,$C1659=\"\"),\"\",INDEX(Categories!$A:$E,Entries!$D1659,5))","v":""},"2014-01-01","2014-01-01",{"$f":"(Entries!K1660-Entries!K1659)*24*60","v":0}]
["",null,null,{"$f":"MATCH(C1660,Categories!A:A,0)","v":{"$error":"#N/A"}},0,{"$f":"IF(OR($E1660<>0,$C1660=\"\"),\"\",INDEX(Categories!$A:$E,Entries!$D1660,2))","v":""},{"$f":"IF(OR($E1660<>0,$C1660=\"\"),\"\",INDEX(Categories!$A:$E,Entries!$D1660,3))","v":""},{"$f":"IF(OR($E1660<>0,$C1660=\"\"),\"\",INDEX(Categories!$A:$E,Entries!$D1660,4))","v":""},{"$f":"IF(OR($E1660<>0,$C1660=\"\"),\"\",INDEX(Categories!$A:$E,Entries!$D1660,5))","v":""},"2014-01-01","2014-01-01",{"$f":"(Entries!K1661-Entries!K1660)*24*60","v":0}]
["",null,null,{"$f":"MATCH(C1661,Categories!A:A,0)","v":{"$error":"#N/A"}},0,{"$f":"IF(OR($E1661<>0,$C1661=\"\"),\"\",INDEX(Categories!$A:$E,Entries!$D1661,2))","v":""},{"$f":"IF(OR($E1661<>0,$C1661=\"\"),\"\",INDEX(Categories!$A:$E,Entries!$D1661,3))","v":""},{"$f":"IF(OR($E1661<>0,$C1661=\"\"),\"\",INDEX(Categories!$A:$E,Entries!$D1661,4))","v":""},{"$f":"IF(OR($E1661<>0,$C1661=\"\"),\"\",INDEX(Categories!$A:$E,Entries!$D1661,5))","v":""},"2014-01-01","2014-01-01",{"$f":"(Entries!K1662-Entries!K1661)*24*60","v":0}]
["",null,null,{"$f":"MATCH(C1662,Categories!A:A,0)","v":{"$error":"#N/A"}},0,{"$f":"IF(OR($E1662<>0,$C1662=\"\"),\"\",INDEX(Categories!$A:$E,Entries!$D1662,2))","v":""},{"$f":"IF(OR($E1662<>0,$C1662=\"\"),\"\",INDEX(Categories!$A:$E,Entries!$D1662,3))","v":""},{"$f":"IF(OR($E1662<>0,$C1662=\"\"),\"\",INDEX(Categories!$A:$E,Entries!$D1662,4))","v":""},{"$f":"IF(OR($E1662<>0,$C1662=\"\"),\"\",INDEX(Categories!$A:$E,Entries!$D1662,5))","v":""},"2014-01-01","2014-01-01",{"$f":"(Entries!K1663-Entries!K1662)*24*60","v":0}]
["",null,null,{"$f":"MATCH(C1663,Categories!A:A,0)","v":{"$error":"#N/A"}},0,{"$f":"IF(OR($E1663<>0,$C1663=\"\"),\"\",INDEX(Categories!$A:$E,Entries!$D1663,2))","v":""},{"$f":"IF(OR($E1663<>0,$C1663=\"\"),\"\",INDEX(Categories!$A:$E,Entries!$D1663,3))","v":""},{"$f":"IF(OR($E1663<>0,$C1663=\"\"),\"\",INDEX(Categories!$A:$E,Entries!$D1663,4))","v":""},{"$f":"IF(OR($E1663<>0,$C1663=\"\"),\"\",INDEX(Categories!$A:$E,Entries!$D1663,5))","v":""},"2014-01-01","2014-01-01",{"$f":"(Entries!K1664-Entries!K1663)*24*60","v":0}]
["",null,null,{"$f":"MATCH(C1664,Categories!A:A,0)","v":{"$error":"#N/A"}},0,{"$f":"IF(OR($E1664<>0,$C1664=\"\"),\"\",INDEX(Categories!$A:$E,Entries!$D1664,2))","v":""},{"$f":"IF(OR($E1664<>0,$C1664=\"\"),\"\",INDEX(Categories!$A:$E,Entries!$D1664,3))","v":""},{"$f":"IF(OR($E1664<>0,$C1664=\"\"),\"\",INDEX(Categories!$A:$E,Entries!$D1664,4))","v":""},{"$f":"IF(OR($E1664<>0,$C1664=\"\"),\"\",INDEX(Categories!$A:$E,Entries!$D1664,5))","v":""},"2014-01-01","2014-01-01",{"$f":"(Entries!K1665-Entries!K1664)*24*60","v":0}]
["",null,null,{"$f":"MATCH(C1665,Categories!A:A,0)","v":{"$error":"#N/A"}},0,{"$f":"IF(OR($E1665<>0,$C1665=\"\"),\"\",INDEX(Categories!$A:$E,Entries!$D1665,2))","v":""},{"$f":"IF(OR($E1665<>0,$C1665=\"\"),\"\",INDEX(Categories!$A:$E,Entries!$D1665,3))","v":""},{"$f":"IF(OR($E1665<>0,$C1665=\"\"),\"\",INDEX(Categories!$A:$E,Entries!$D1665,4))","v":""},{"$f":"IF(OR($E1665<>0,$C1665=\"\"),\"\",INDEX(Categories!$A:$E,Entries!$D1665,5))","v":""},"2014-01-01","2014-01-01",{"$f":"(Entries!K1666-Entries!K1665)*24*60","v":0}]
["",null,null,{"$f":"MATCH(C1666,Categories!A:A,0)","v":{"$error":"#N/A"}},{"$f":"IF(AND(ISERROR(D1666),C1666<>\"\"),ROW(D1666),0)","v":0},{"$f":"IF(OR($E1666<>0,$C1666=\"\"),\"\",INDEX(Categories!$A:$E,Entries!$D1666,2))","v":""},{"$f":"IF(OR($E1666<>0,$C1666=\"\"),\"\",INDEX(Categories!$A:$E,Entries!$D1666,3))","v":""},{"$f":"IF(OR($E1666<>0,$C1666=\"\"),\"\",INDEX(Categories!$A:$E,Entries!$D1666,4))","v":""},{"$f":"IF(OR($E1666<>0,$C1666=\"\"),\"\",INDEX(Categories!$A:$E,Entries!$D1666,5))","v":""},{"$f":"IF(A1666=\"\",J1665,A1666)","v":"2014-01-01"},{"$f":"J1666+B1666","v":"2014-01-01"},{"$f":"(Entries!K1667-Entries!K1666)*24*60","v":0}]
["",null,null,{"$f":"MATCH(C1667,Categories!A:A,0)","v":{"$error":"#N/A"}},0,{"$f":"IF(OR($E1667<>0,$C1667=\"\"),\"\",INDEX(Categories!$A:$E,Entries!$D1667,2))","v":""},{"$f":"IF(OR($E1667<>0,$C1667=\"\"),\"\",INDEX(Categories!$A:$E,Entries!$D1667,3))","v":""},{"$f":"IF(OR($E1667<>0,$C1667=\"\"),\"\",INDEX(Categories!$A:$E,Entries!$D1667,4))","v":""},{"$f":"IF(OR($E1667<>0,$C1667=\"\"),\"\",INDEX(Categories!$A:$E,Entries!$D1667,5))","v":""},"2014-01-01","2014-01-01",{"$f":"(Entries!K1668-Entries!K1667)*24*60","v":0}]
["",null,null,{"$f":"MATCH(C1668,Categories!A:A,0)","v":{"$error":"#N/A"}},0,{"$f":"IF(OR($E1668<>0,$C1668=\"\"),\"\",INDEX(Categories!$A:$E,Entries!$D1668,2))","v":""},{"$f":"IF(OR($E1668<>0,$C1668=\"\"),\"\",INDEX(Categories!$A:$E,Entries!$D1668,3))","v":""},{"$f":"IF(OR($E1668<>0,$C1668=\"\"),\"\",INDEX(Categories!$A:$E,Entries!$D1668,4))","v":""},{"$f":"IF(OR($E1668<>0,$C1668=\"\"),\"\",INDEX(Categories!$A:$E,Entries!$D1668,5))","v":""},"2014-01-01","2014-01-01",{"$f":"(Entries!K1669-Entries!K1668)*24*60","v":0}]
["",null,null,{"$f":"MATCH(C1669,Categories!A:A,0)","v":{"$error":"#N/A"}},0,{"$f":"IF(OR($E1669<>0,$C1669=\"\"),\"\",INDEX(Categories!$A:$E,Entries!$D1669,2))","v":""},{"$f":"IF(OR($E1669<>0,$C1669=\"\"),\"\",INDEX(Categories!$A:$E,Entries!$D1669,3))","v":""},{"$f":"IF(OR($E1669<>0,$C1669=\"\"),\"\",INDEX(Categories!$A:$E,Entries!$D1669,4))","v":""},{"$f":"IF(OR($E1669<>0,$C1669=\"\"),\"\",INDEX(Categories!$A:$E,Entries!$D1669,5))","v":""},"2014-01-01","2014-01-01",{"$f":"(Entries!K1670-Entries!K1669)*24*60","v":0}]
["",null,null,{"$f":"MATCH(C1670,Categories!A:A,0)","v":{"$error":"#N/A"}},0,{"$f":"IF(OR($E1670<>0,$C1670=\"\"),\"\",INDEX(Categories!$A:$E,Entries!$D1670,2))","v":""},{"$f":"IF(OR($E1670<>0,$C1670=\"\"),\"\",INDEX(Categories!$A:$E,Entries!$D1670,3))","v":""},{"$f":"IF(OR($E1670<>0,$C1670=\"\"),\"\",INDEX(Categories!$A:$E,Entries!$D1670,4))","v":""},{"$f":"IF(OR($E1670<>0,$C1670=\"\"),\"\",INDEX(Categories!$A:$E,Entries!$D1670,5))","v":""},"2014-01-01","2014-01-01",{"$f":"(Entries!K1671-Entries!K1670)*24*60","v":0}]
["",null,null,{"$f":"MATCH(C1671,Categories!A:A,0)","v":{"$error":"#N/A"}},0,{"$f":"IF(OR($E1671<>0,$C1671=\"\"),\"\",INDEX(Categories!$A:$E,Entries!$D1671,2))","v":""},{"$f":"IF(OR($E1671<>0,$C1671=\"\"),\"\",INDEX(Categories!$A:$E,Entries!$D1671,3))","v":""},{"$f":"IF(OR($E1671<>0,$C1671=\"\"),\"\",INDEX(Categories!$A:$E,Entries!$D1671,4))","v":""},{"$f":"IF(OR($E1671<>0,$C1671=\"\"),\"\",INDEX(Categories!$A:$E,Entries!$D1671,5))","v":""},"2014-01-01","2014-01-01",{"$f":"(Entries!K1672-Entries!K1671)*24*60","v":0}]
["",null,null,{"$f":"MATCH(C1672,Categories!A:A,0)","v":{"$error":"#N/A"}},0,{"$f":"IF(OR($E1672<>0,$C1672=\"\"),\"\",INDEX(Categories!$A:$E,Entries!$D1672,2))","v":""},{"$f":"IF(OR($E1672<>0,$C1672=\"\"),\"\",INDEX(Categories!$A:$E,Entries!$D1672,3))","v":""},{"$f":"IF(OR($E1672<>0,$C1672=\"\"),\"\",INDEX(Categories!$A:$E,Entries!$D1672,4))","v":""},{"$f":"IF(OR($E1672<>0,$C1672=\"\"),\"\",INDEX(Categories!$A:$E,Entries!$D1672,5))","v":""},"2014-01-01","2014-01-01",{"$f":"(Entries!K1673-Entries!K1672)*24*60","v":0}]
["",null,null,{"$f":"MATCH(C1673,Categories!A:A,0)","v":{"$error":"#N/A"}},0,{"$f":"IF(OR($E1673<>0,$C1673=\"\"),\"\",INDEX(Categories!$A:$E,Entries!$D1673,2))","v":""},{"$f":"IF(OR($E1673<>0,$C1673=\"\"),\"\",INDEX(Categories!$A:$E,Entries!$D1673,3))","v":""},{"$f":"IF(OR($E1673<>0,$C1673=\"\"),\"\",INDEX(Categories!$A:$E,Entries!$D1673,4))","v":""},{"$f":"IF(OR($E1673<>0,$C1673=\"\"),\"\",INDEX(Categories!$A:$E,Entries!$D1673,5))","v":""},"2014-01-01","2014-01-01",{"$f":"(Entries!K1674-Entries!K1673)*24*60","v":0}]
["",null,null,{"$f":"MATCH(C1674,Categories!A:A,0)","v":{"$error":"#N/A"}},0,{"$f":"IF(OR($E1674<>0,$C1674=\"\"),\"\",INDEX(Categories!$A:$E,Entries!$D1674,2))","v":""},{"$f":"IF(OR($E1674<>0,$C1674=\"\"),\"\",INDEX(Categories!$A:$E,Entries!$D1674,3))","v":""},{"$f":"IF(OR($E1674<>0,$C1674=\"\"),\"\",INDEX(Categories!$A:$E,Entries!$D1674,4))","v":""},{"$f":"IF(OR($E1674<>0,$C1674=\"\"),\"\",INDEX(Categories!$A:$E,Entries!$D1674,5))","v":""},"2014-01-01","2014-01-01",{"$f":"(Entries!K1675-Entries!K1674)*24*60","v":0}]
["",null,null,{"$f":"MATCH(C1675,Categories!A:A,0)","v":{"$error":"#N/A"}},0,{"$f":"IF(OR($E1675<>0,$C1675=\"\"),\"\",INDEX(Categories!$A:$E,Entries!$D1675,2))","v":""},{"$f":"IF(OR($E1675<>0,$C1675=\"\"),\"\",INDEX(Categories!$A:$E,Entries!$D1675,3))","v":""},{"$f":"IF(OR($E1675<>0,$C1675=\"\"),\"\",INDEX(Categories!$A:$E,Entries!$D1675,4))","v":""},{"$f":"IF(OR($E1675<>0,$C1675=\"\"),\"\",INDEX(Categories!$A:$E,Entries!$D1675,5))","v":""},"2014-01-01","2014-01-01",{"$f":"(Entries!K1676-Entries!K1675)*24*60","v":0}]
["",null,null,{"$f":"MATCH(C1676,Categories!A:A,0)","v":{"$error":"#N/A"}},0,{"$f":"IF(OR($E1676<>0,$C1676=\"\"),\"\",INDEX(Categories!$A:$E,Entries!$D1676,2))","v":""},{"$f":"IF(OR($E1676<>0,$C1676=\"\"),\"\",INDEX(Categories!$A:$E,Entries!$D1676,3))","v":""},{"$f":"IF(OR($E1676<>0,$C1676=\"\"),\"\",INDEX(Categories!$A:$E,Entries!$D1676,4))","v":""},{"$f":"IF(OR($E1676<>0,$C1676=\"\"),\"\",INDEX(Categories!$A:$E,Entries!$D1676,5))","v":""},"2014-01-01","2014-01-01",{"$f":"(Entries!K1677-Entries!K1676)*24*60","v":0}]
["",null,null,{"$f":"MATCH(C1677,Categories!A:A,0)","v":{"$error":"#N/A"}},0,{"$f":"IF(OR($E1677<>0,$C1677=\"\"),\"\",INDEX(Categories!$A:$E,Entries!$D1677,2))","v":""},{"$f":"IF(OR($E1677<>0,$C1677=\"\"),\"\",INDEX(Categories!$A:$E,Entries!$D1677,3))","v":""},{"$f":"IF(OR($E1677<>0,$C1677=\"\"),\"\",INDEX(Categories!$A:$E,Entries!$D1677,4))","v":""},{"$f":"IF(OR($E1677<>0,$C1677=\"\"),\"\",INDEX(Categories!$A:$E,Entries!$D1677,5))","v":""},"2014-01-01","2014-01-01",{"$f":"(Entries!K1678-Entries!K1677)*24*60","v":0}]
["",null,null,{"$f":"MATCH(C1678,Categories!A:A,0)","v":{"$error":"#N/A"}},0,{"$f":"IF(OR($E1678<>0,$C1678=\"\"),\"\",INDEX(Categories!$A:$E,Entries!$D1678,2))","v":""},{"$f":"IF(OR($E1678<>0,$C1678=\"\"),\"\",INDEX(Categories!$A:$E,Entries!$D1678,3))","v":""},{"$f":"IF(OR($E1678<>0,$C1678=\"\"),\"\",INDEX(Categories!$A:$E,Entries!$D1678,4))","v":""},{"$f":"IF(OR($E1678<>0,$C1678=\"\"),\"\",INDEX(Categories!$A:$E,Entries!$D1678,5))","v":""},"2014-01-01","2014-01-01",{"$f":"(Entries!K1679-Entries!K1678)*24*60","v":0}]
["",null,null,{"$f":"MATCH(C1679,Categories!A:A,0)","v":{"$error":"#N/A"}},0,{"$f":"IF(OR($E1679<>0,$C1679=\"\"),\"\",INDEX(Categories!$A:$E,Entries!$D1679,2))","v":""},{"$f":"IF(OR($E1679<>0,$C1679=\"\"),\"\",INDEX(Categories!$A:$E,Entries!$D1679,3))","v":""},{"$f":"IF(OR($E1679<>0,$C1679=\"\"),\"\",INDEX(Categories!$A:$E,Entries!$D1679,4))","v":""},{"$f":"IF(OR($E1679<>0,$C1679=\"\"),\"\",INDEX(Categories!$A:$E,Entries!$D1679,5))","v":""},"2014-01-01","2014-01-01",{"$f":"(Entries!K1680-Entries!K1679)*24*60","v":0}]
["",null,null,{"$f":"MATCH(C1680,Categories!A:A,0)","v":{"$error":"#N/A"}},0,{"$f":"IF(OR($E1680<>0,$C1680=\"\"),\"\",INDEX(Categories!$A:$E,Entries!$D1680,2))","v":""},{"$f":"IF(OR($E1680<>0,$C1680=\"\"),\"\",INDEX(Categories!$A:$E,Entries!$D1680,3))","v":""},{"$f":"IF(OR($E1680<>0,$C1680=\"\"),\"\",INDEX(Categories!$A:$E,Entries!$D1680,4))","v":""},{"$f":"IF(OR($E1680<>0,$C1680=\"\"),\"\",INDEX(Categories!$A:$E,Entries!$D1680,5))","v":""},"2014-01-01","2014-01-01",{"$f":"(Entries!K1681-Entries!K1680)*24*60","v":0}]
["",null,null,{"$f":"MATCH(C1681,Categories!A:A,0)","v":{"$error":"#N/A"}},0,{"$f":"IF(OR($E1681<>0,$C1681=\"\"),\"\",INDEX(Categories!$A:$E,Entries!$D1681,2))","v":""},{"$f":"IF(OR($E1681<>0,$C1681=\"\"),\"\",INDEX(Categories!$A:$E,Entries!$D1681,3))","v":""},{"$f":"IF(OR($E1681<>0,$C1681=\"\"),\"\",INDEX(Categories!$A:$E,Entries!$D1681,4))","v":""},{"$f":"IF(OR($E1681<>0,$C1681=\"\"),\"\",INDEX(Categories!$A:$E,Entries!$D1681,5))","v":""},"2014-01-01","2014-01-01",{"$f":"(Entries!K1682-Entries!K1681)*24*60","v":0}]
["",null,null,{"$f":"MATCH(C1682,Categories!A:A,0)","v":{"$error":"#N/A"}},0,{"$f":"IF(OR($E1682<>0,$C1682=\"\"),\"\",INDEX(Categories!$A:$E,Entries!$D1682,2))","v":""},{"$f":"IF(OR($E1682<>0,$C1682=\"\"),\"\",INDEX(Categories!$A:$E,Entries!$D1682,3))","v":""},{"$f":"IF(OR($E1682<>0,$C1682=\"\"),\"\",INDEX(Categories!$A:$E,Entries!$D1682,4))","v":""},{"$f":"IF(OR($E1682<>0,$C1682=\"\"),\"\",INDEX(Categories!$A:$E,Entries!$D1682,5))","v":""},"2014-01-01","2014-01-01",{"$f":"(Entries!K1683-Entries!K1682)*24*60","v":0}]
["",null,null,{"$f":"MATCH(C1683,Categories!A:A,0)","v":{"$error":"#N/A"}},0,{"$f":"IF(OR($E1683<>0,$C1683=\"\"),\"\",INDEX(Categories!$A:$E,Entries!$D1683,2))","v":""},{"$f":"IF(OR($E1683<>0,$C1683=\"\"),\"\",INDEX(Categories!$A:$E,Entries!$D1683,3))","v":""},{"$f":"IF(OR($E1683<>0,$C1683=\"\"),\"\",INDEX(Categories!$A:$E,Entries!$D1683,4))","v":""},{"$f":"IF(OR($E1683<>0,$C1683=\"\"),\"\",INDEX(Categories!$A:$E,Entries!$D1683,5))","v":""},"2014-01-01","2014-01-01",{"$f":"(Entries!K1684-Entries!K1683)*24*60","v":0}]
["",null,null,{"$f":"MATCH(C1684,Categories!A:A,0)","v":{"$error":"#N/A"}},0,{"$f":"IF(OR($E1684<>0,$C1684=\"\"),\"\",INDEX(Categories!$A:$E,Entries!$D1684,2))","v":""},{"$f":"IF(OR($E1684<>0,$C1684=\"\"),\"\",INDEX(Categories!$A:$E,Entries!$D1684,3))","v":""},{"$f":"IF(OR($E1684<>0,$C1684=\"\"),\"\",INDEX(Categories!$A:$E,Entries!$D1684,4))","v":""},{"$f":"IF(OR($E1684<>0,$C1684=\"\"),\"\",INDEX(Categories!$A:$E,Entries!$D1684,5))","v":""},"2014-01-01","2014-01-01",{"$f":"(Entries!K1685-Entries!K1684)*24*60","v":0}]
["",null,null,{"$f":"MATCH(C1685,Categories!A:A,0)","v":{"$error":"#N/A"}},0,{"$f":"IF(OR($E1685<>0,$C1685=\"\"),\"\",INDEX(Categories!$A:$E,Entries!$D1685,2))","v":""},{"$f":"IF(OR($E1685<>0,$C1685=\"\"),\"\",INDEX(Categories!$A:$E,Entries!$D1685,3))","v":""},{"$f":"IF(OR($E1685<>0,$C1685=\"\"),\"\",INDEX(Categories!$A:$E,Entries!$D1685,4))","v":""},{"$f":"IF(OR($E1685<>0,$C1685=\"\"),\"\",INDEX(Categories!$A:$E,Entries!$D1685,5))","v":""},"2014-01-01","2014-01-01",{"$f":"(Entries!K1686-Entries!K1685)*24*60","v":0}]
["",null,null,{"$f":"MATCH(C1686,Categories!A:A,0)","v":{"$error":"#N/A"}},0,{"$f":"IF(OR($E1686<>0,$C1686=\"\"),\"\",INDEX(Categories!$A:$E,Entries!$D1686,2))","v":""},{"$f":"IF(OR($E1686<>0,$C1686=\"\"),\"\",INDEX(Categories!$A:$E,Entries!$D1686,3))","v":""},{"$f":"IF(OR($E1686<>0,$C1686=\"\"),\"\",INDEX(Categories!$A:$E,Entries!$D1686,4))","v":""},{"$f":"IF(OR($E1686<>0,$C1686=\"\"),\"\",INDEX(Categories!$A:$E,Entries!$D1686,5))","v":""},"2014-01-01","2014-01-01",{"$f":"(Entries!K1687-Entries!K1686)*24*60","v":0}]
["",null,null,{"$f":"MATCH(C1687,Categories!A:A,0)","v":{"$error":"#N/A"}},0,{"$f":"IF(OR($E1687<>0,$C1687=\"\"),\"\",INDEX(Categories!$A:$E,Entries!$D1687,2))","v":""},{"$f":"IF(OR($E1687<>0,$C1687=\"\"),\"\",INDEX(Categories!$A:$E,Entries!$D1687,3))","v":""},{"$f":"IF(OR($E1687<>0,$C1687=\"\"),\"\",INDEX(Categories!$A:$E,Entries!$D1687,4))","v":""},{"$f":"IF(OR($E1687<>0,$C1687=\"\"),\"\",INDEX(Categories!$A:$E,Entries!$D1687,5))","v":""},"2014-01-01","2014-01-01",{"$f":"(Entries!K1688-Entries!K1687)*24*60","v":0}]
["",null,null,{"$f":"MATCH(C1688,Categories!A:A,0)","v":{"$error":"#N/A"}},0,{"$f":"IF(OR($E1688<>0,$C1688=\"\"),\"\",INDEX(Categories!$A:$E,Entries!$D1688,2))","v":""},{"$f":"IF(OR($E1688<>0,$C1688=\"\"),\"\",INDEX(Categories!$A:$E,Entries!$D1688,3))","v":""},{"$f":"IF(OR($E1688<>0,$C1688=\"\"),\"\",INDEX(Categories!$A:$E,Entries!$D1688,4))","v":""},{"$f":"IF(OR($E1688<>0,$C1688=\"\"),\"\",INDEX(Categories!$A:$E,Entries!$D1688,5))","v":""},"2014-01-01","2014-01-01",{"$f":"(Entries!K1689-Entries!K1688)*24*60","v":0}]
["",null,null,{"$f":"MATCH(C1689,Categories!A:A,0)","v":{"$error":"#N/A"}},0,{"$f":"IF(OR($E1689<>0,$C1689=\"\"),\"\",INDEX(Categories!$A:$E,Entries!$D1689,2))","v":""},{"$f":"IF(OR($E1689<>0,$C1689=\"\"),\"\",INDEX(Categories!$A:$E,Entries!$D1689,3))","v":""},{"$f":"IF(OR($E1689<>0,$C1689=\"\"),\"\",INDEX(Categories!$A:$E,Entries!$D1689,4))","v":""},{"$f":"IF(OR($E1689<>0,$C1689=\"\"),\"\",INDEX(Categories!$A:$E,Entries!$D1689,5))","v":""},"2014-01-01","2014-01-01",{"$f":"(Entries!K1690-Entries!K1689)*24*60","v":0}]
["",null,null,{"$f":"MATCH(C1690,Categories!A:A,0)","v":{"$error":"#N/A"}},0,{"$f":"IF(OR($E1690<>0,$C1690=\"\"),\"\",INDEX(Categories!$A:$E,Entries!$D1690,2))","v":""},{"$f":"IF(OR($E1690<>0,$C1690=\"\"),\"\",INDEX(Categories!$A:$E,Entries!$D1690,3))","v":""},{"$f":"IF(OR($E1690<>0,$C1690=\"\"),\"\",INDEX(Categories!$A:$E,Entries!$D1690,4))","v":""},{"$f":"IF(OR($E1690<>0,$C1690=\"\"),\"\",INDEX(Categories!$A:$E,Entries!$D1690,5))","v":""},"2014-01-01","2014-01-01",{"$f":"(Entries!K1691-Entries!K1690)*24*60","v":0}]
["",null,null,{"$f":"MATCH(C1691,Categories!A:A,0)","v":{"$error":"#N/A"}},0,{"$f":"IF(OR($E1691<>0,$C1691=\"\"),\"\",INDEX(Categories!$A:$E,Entries!$D1691,2))","v":""},{"$f":"IF(OR($E1691<>0,$C1691=\"\"),\"\",INDEX(Categories!$A:$E,Entries!$D1691,3))","v":""},{"$f":"IF(OR($E1691<>0,$C1691=\"\"),\"\",INDEX(Categories!$A:$E,Entries!$D1691,4))","v":""},{"$f":"IF(OR($E1691<>0,$C1691=\"\"),\"\",INDEX(Categories!$A:$E,Entries!$D1691,5))","v":""},"2014-01-01","2014-01-01",{"$f":"(Entries!K1692-Entries!K1691)*24*60","v":0}]
["",null,null,{"$f":"MATCH(C1692,Categories!A:A,0)","v":{"$error":"#N/A"}},0,{"$f":"IF(OR($E1692<>0,$C1692=\"\"),\"\",INDEX(Categories!$A:$E,Entries!$D1692,2))","v":""},{"$f":"IF(OR($E1692<>0,$C1692=\"\"),\"\",INDEX(Categories!$A:$E,Entries!$D1692,3))","v":""},{"$f":"IF(OR($E1692<>0,$C1692=\"\"),\"\",INDEX(Categories!$A:$E,Entries!$D1692,4))","v":""},{"$f":"IF(OR($E1692<>0,$C1692=\"\"),\"\",INDEX(Categories!$A:$E,Entries!$D1692,5))","v":""},"2014-01-01","2014-01-01",{"$f":"(Entries!K1693-Entries!K1692)*24*60","v":0}]
["",null,null,{"$f":"MATCH(C1693,Categories!A:A,0)","v":{"$error":"#N/A"}},0,{"$f":"IF(OR($E1693<>0,$C1693=\"\"),\"\",INDEX(Categories!$A:$E,Entries!$D1693,2))","v":""},{"$f":"IF(OR($E1693<>0,$C1693=\"\"),\"\",INDEX(Categories!$A:$E,Entries!$D1693,3))","v":""},{"$f":"IF(OR($E1693<>0,$C1693=\"\"),\"\",INDEX(Categories!$A:$E,Entries!$D1693,4))","v":""},{"$f":"IF(OR($E1693<>0,$C1693=\"\"),\"\",INDEX(Categories!$A:$E,Entries!$D1693,5))","v":""},"2014-01-01","2014-01-01",{"$f":"(Entries!K1694-Entries!K1693)*24*60","v":0}]
["",null,null,{"$f":"MATCH(C1694,Categories!A:A,0)","v":{"$error":"#N/A"}},0,{"$f":"IF(OR($E1694<>0,$C1694=\"\"),\"\",INDEX(Categories!$A:$E,Entries!$D1694,2))","v":""},{"$f":"IF(OR($E1694<>0,$C1694=\"\"),\"\",INDEX(Categories!$A:$E,Entries!$D1694,3))","v":""},{"$f":"IF(OR($E1694<>0,$C1694=\"\"),\"\",INDEX(Categories!$A:$E,Entries!$D1694,4))","v":""},{"$f":"IF(OR($E1694<>0,$C1694=\"\"),\"\",INDEX(Categories!$A:$E,Entries!$D1694,5))","v":""},"2014-01-01","2014-01-01",{"$f":"(Entries!K1695-Entries!K1694)*24*60","v":0}]
["",null,null,{"$f":"MATCH(C1695,Categories!A:A,0)","v":{"$error":"#N/A"}},0,{"$f":"IF(OR($E1695<>0,$C1695=\"\"),\"\",INDEX(Categories!$A:$E,Entries!$D1695,2))","v":""},{"$f":"IF(OR($E1695<>0,$C1695=\"\"),\"\",INDEX(Categories!$A:$E,Entries!$D1695,3))","v":""},{"$f":"IF(OR($E1695<>0,$C1695=\"\"),\"\",INDEX(Categories!$A:$E,Entries!$D1695,4))","v":""},{"$f":"IF(OR($E1695<>0,$C1695=\"\"),\"\",INDEX(Categories!$A:$E,Entries!$D1695,5))","v":""},"2014-01-01","2014-01-01",{"$f":"(Entries!K1696-Entries!K1695)*24*60","v":0}]
["",null,null,{"$f":"MATCH(C1696,Categories!A:A,0)","v":{"$error":"#N/A"}},0,{"$f":"IF(OR($E1696<>0,$C1696=\"\"),\"\",INDEX(Categories!$A:$E,Entries!$D1696,2))","v":""},{"$f":"IF(OR($E1696<>0,$C1696=\"\"),\"\",INDEX(Categories!$A:$E,Entries!$D1696,3))","v":""},{"$f":"IF(OR($E1696<>0,$C1696=\"\"),\"\",INDEX(Categories!$A:$E,Entries!$D1696,4))","v":""},{"$f":"IF(OR($E1696<>0,$C1696=\"\"),\"\",INDEX(Categories!$A:$E,Entries!$D1696,5))","v":""},"2014-01-01","2014-01-01",{"$f":"(Entries!K1697-Entries!K1696)*24*60","v":0}]
["",null,null,{"$f":"MATCH(C1697,Categories!A:A,0)","v":{"$error":"#N/A"}},0,{"$f":"IF(OR($E1697<>0,$C1697=\"\"),\"\",INDEX(Categories!$A:$E,Entries!$D1697,2))","v":""},{"$f":"IF(OR($E1697<>0,$C1697=\"\"),\"\",INDEX(Categories!$A:$E,Entries!$D1697,3))","v":""},{"$f":"IF(OR($E1697<>0,$C1697=\"\"),\"\",INDEX(Categories!$A:$E,Entries!$D1697,4))","v":""},{"$f":"IF(OR($E1697<>0,$C1697=\"\"),\"\",INDEX(Categories!$A:$E,Entries!$D1697,5))","v":""},"2014-01-01","2014-01-01",{"$f":"(Entries!K1698-Entries!K1697)*24*60","v":0}]
["",null,null,{"$f":"MATCH(C1698,Categories!A:A,0)","v":{"$error":"#N/A"}},0,{"$f":"IF(OR($E1698<>0,$C1698=\"\"),\"\",INDEX(Categories!$A:$E,Entries!$D1698,2))","v":""},{"$f":"IF(OR($E1698<>0,$C1698=\"\"),\"\",INDEX(Categories!$A:$E,Entries!$D1698,3))","v":""},{"$f":"IF(OR($E1698<>0,$C1698=\"\"),\"\",INDEX(Categories!$A:$E,Entries!$D1698,4))","v":""},{"$f":"IF(OR($E1698<>0,$C1698=\"\"),\"\",INDEX(Categories!$A:$E,Entries!$D1698,5))","v":""},"2014-01-01","2014-01-01",{"$f":"(Entries!K1699-Entries!K1698)*24*60","v":0}]
["",null,null,{"$f":"MATCH(C1699,Categories!A:A,0)","v":{"$error":"#N/A"}},0,{"$f":"IF(OR($E1699<>0,$C1699=\"\"),\"\",INDEX(Categories!$A:$E,Entries!$D1699,2))","v":""},{"$f":"IF(OR($E1699<>0,$C1699=\"\"),\"\",INDEX(Categories!$A:$E,Entries!$D1699,3))","v":""},{"$f":"IF(OR($E1699<>0,$C1699=\"\"),\"\",INDEX(Categories!$A:$E,Entries!$D1699,4))","v":""},{"$f":"IF(OR($E1699<>0,$C1699=\"\"),\"\",INDEX(Categories!$A:$E,Entries!$D1699,5))","v":""},"2014-01-01","2014-01-01",{"$f":"(Entries!K1700-Entries!K1699)*24*60","v":0}]
[{"$f":"IF(OR(B1700>=B1699,C1699=\"z\",B1700=\"\"),\"\",J1699+1)","v":""},null,null,{"$f":"MATCH(C1700,Categories!A:A,0)","v":{"$error":"#N/A"}},0,{"$f":"IF(OR($E1700<>0,$C1700=\"\"),\"\",INDEX(Categories!$A:$E,Entries!$D1700,2))","v":""},{"$f":"IF(OR($E1700<>0,$C1700=\"\"),\"\",INDEX(Categories!$A:$E,Entries!$D1700,3))","v":""},{"$f":"IF(OR($E1700<>0,$C1700=\"\"),\"\",INDEX(Categories!$A:$E,Entries!$D1700,4))","v":""},{"$f":"IF(OR($E1700<>0,$C1700=\"\"),\"\",INDEX(Categories!$A:$E,Entries!$D1700,5))","v":""},"2014-01-01","2014-01-01",{"$f":"(Entries!K1701-Entries!K1700)*24*60","v":0}]
["",null,null,{"$f":"MATCH(C1701,Categories!A:A,0)","v":{"$error":"#N/A"}},0,{"$f":"IF(OR($E1701<>0,$C1701=\"\"),\"\",INDEX(Categories!$A:$E,Entries!$D1701,2))","v":""},{"$f":"IF(OR($E1701<>0,$C1701=\"\"),\"\",INDEX(Categories!$A:$E,Entries!$D1701,3))","v":""},{"$f":"IF(OR($E1701<>0,$C1701=\"\"),\"\",INDEX(Categories!$A:$E,Entries!$D1701,4))","v":""},{"$f":"IF(OR($E1701<>0,$C1701=\"\"),\"\",INDEX(Categories!$A:$E,Entries!$D1701,5))","v":""},"2014-01-01","2014-01-01",{"$f":"(Entries!K1702-Entries!K1701)*24*60","v":0}]
["",null,null,{"$f":"MATCH(C1702,Categories!A:A,0)","v":{"$error":"#N/A"}},0,{"$f":"IF(OR($E1702<>0,$C1702=\"\"),\"\",INDEX(Categories!$A:$E,Entries!$D1702,2))","v":""},{"$f":"IF(OR($E1702<>0,$C1702=\"\"),\"\",INDEX(Categories!$A:$E,Entries!$D1702,3))","v":""},{"$f":"IF(OR($E1702<>0,$C1702=\"\"),\"\",INDEX(Categories!$A:$E,Entries!$D1702,4))","v":""},{"$f":"IF(OR($E1702<>0,$C1702=\"\"),\"\",INDEX(Categories!$A:$E,Entries!$D1702,5))","v":""},"2014-01-01","2014-01-01",{"$f":"(Entries!K1703-Entries!K1702)*24*60","v":0}]
["",null,null,{"$f":"MATCH(C1703,Categories!A:A,0)","v":{"$error":"#N/A"}},0,{"$f":"IF(OR($E1703<>0,$C1703=\"\"),\"\",INDEX(Categories!$A:$E,Entries!$D1703,2))","v":""},{"$f":"IF(OR($E1703<>0,$C1703=\"\"),\"\",INDEX(Categories!$A:$E,Entries!$D1703,3))","v":""},{"$f":"IF(OR($E1703<>0,$C1703=\"\"),\"\",INDEX(Categories!$A:$E,Entries!$D1703,4))","v":""},{"$f":"IF(OR($E1703<>0,$C1703=\"\"),\"\",INDEX(Categories!$A:$E,Entries!$D1703,5))","v":""},"2014-01-01","2014-01-01",{"$f":"(Entries!K1704-Entries!K1703)*24*60","v":0}]
["",null,null,{"$f":"MATCH(C1704,Categories!A:A,0)","v":{"$error":"#N/A"}},0,{"$f":"IF(OR($E1704<>0,$C1704=\"\"),\"\",INDEX(Categories!$A:$E,Entries!$D1704,2))","v":""},{"$f":"IF(OR($E1704<>0,$C1704=\"\"),\"\",INDEX(Categories!$A:$E,Entries!$D1704,3))","v":""},{"$f":"IF(OR($E1704<>0,$C1704=\"\"),\"\",INDEX(Categories!$A:$E,Entries!$D1704,4))","v":""},{"$f":"IF(OR($E1704<>0,$C1704=\"\"),\"\",INDEX(Categories!$A:$E,Entries!$D1704,5))","v":""},"2014-01-01","2014-01-01",{"$f":"(Entries!K1705-Entries!K1704)*24*60","v":0}]
["",null,null,{"$f":"MATCH(C1705,Categories!A:A,0)","v":{"$error":"#N/A"}},0,{"$f":"IF(OR($E1705<>0,$C1705=\"\"),\"\",INDEX(Categories!$A:$E,Entries!$D1705,2))","v":""},{"$f":"IF(OR($E1705<>0,$C1705=\"\"),\"\",INDEX(Categories!$A:$E,Entries!$D1705,3))","v":""},{"$f":"IF(OR($E1705<>0,$C1705=\"\"),\"\",INDEX(Categories!$A:$E,Entries!$D1705,4))","v":""},{"$f":"IF(OR($E1705<>0,$C1705=\"\"),\"\",INDEX(Categories!$A:$E,Entries!$D1705,5))","v":""},"2014-01-01","2014-01-01",{"$f":"(Entries!K1706-Entries!K1705)*24*60","v":0}]
["",null,null,{"$f":"MATCH(C1706,Categories!A:A,0)","v":{"$error":"#N/A"}},0,{"$f":"IF(OR($E1706<>0,$C1706=\"\"),\"\",INDEX(Categories!$A:$E,Entries!$D1706,2))","v":""},{"$f":"IF(OR($E1706<>0,$C1706=\"\"),\"\",INDEX(Categories!$A:$E,Entries!$D1706,3))","v":""},{"$f":"IF(OR($E1706<>0,$C1706=\"\"),\"\",INDEX(Categories!$A:$E,Entries!$D1706,4))","v":""},{"$f":"IF(OR($E1706<>0,$C1706=\"\"),\"\",INDEX(Categories!$A:$E,Entries!$D1706,5))","v":""},"2014-01-01","2014-01-01",{"$f":"(Entries!K1707-Entries!K1706)*24*60","v":0}]
["",null,null,{"$f":"MATCH(C1707,Categories!A:A,0)","v":{"$error":"#N/A"}},0,{"$f":"IF(OR($E1707<>0,$C1707=\"\"),\"\",INDEX(Categories!$A:$E,Entries!$D1707,2))","v":""},{"$f":"IF(OR($E1707<>0,$C1707=\"\"),\"\",INDEX(Categories!$A:$E,Entries!$D1707,3))","v":""},{"$f":"IF(OR($E1707<>0,$C1707=\"\"),\"\",INDEX(Categories!$A:$E,Entries!$D1707,4))","v":""},{"$f":"IF(OR($E1707<>0,$C1707=\"\"),\"\",INDEX(Categories!$A:$E,Entries!$D1707,5))","v":""},"2014-01-01","2014-01-01",{"$f":"(Entries!K1708-Entries!K1707)*24*60","v":0}]
["",null,null,{"$f":"MATCH(C1708,Categories!A:A,0)","v":{"$error":"#N/A"}},0,{"$f":"IF(OR($E1708<>0,$C1708=\"\"),\"\",INDEX(Categories!$A:$E,Entries!$D1708,2))","v":""},{"$f":"IF(OR($E1708<>0,$C1708=\"\"),\"\",INDEX(Categories!$A:$E,Entries!$D1708,3))","v":""},{"$f":"IF(OR($E1708<>0,$C1708=\"\"),\"\",INDEX(Categories!$A:$E,Entries!$D1708,4))","v":""},{"$f":"IF(OR($E1708<>0,$C1708=\"\"),\"\",INDEX(Categories!$A:$E,Entries!$D1708,5))","v":""},"2014-01-01","2014-01-01",{"$f":"(Entries!K1709-Entries!K1708)*24*60","v":0}]
["",null,null,{"$f":"MATCH(C1709,Categories!A:A,0)","v":{"$error":"#N/A"}},0,{"$f":"IF(OR($E1709<>0,$C1709=\"\"),\"\",INDEX(Categories!$A:$E,Entries!$D1709,2))","v":""},{"$f":"IF(OR($E1709<>0,$C1709=\"\"),\"\",INDEX(Categories!$A:$E,Entries!$D1709,3))","v":""},{"$f":"IF(OR($E1709<>0,$C1709=\"\"),\"\",INDEX(Categories!$A:$E,Entries!$D1709,4))","v":""},{"$f":"IF(OR($E1709<>0,$C1709=\"\"),\"\",INDEX(Categories!$A:$E,Entries!$D1709,5))","v":""},"2014-01-01","2014-01-01",{"$f":"(Entries!K1710-Entries!K1709)*24*60","v":0}]
["",null,null,{"$f":"MATCH(C1710,Categories!A:A,0)","v":{"$error":"#N/A"}},0,{"$f":"IF(OR($E1710<>0,$C1710=\"\"),\"\",INDEX(Categories!$A:$E,Entries!$D1710,2))","v":""},{"$f":"IF(OR($E1710<>0,$C1710=\"\"),\"\",INDEX(Categories!$A:$E,Entries!$D1710,3))","v":""},{"$f":"IF(OR($E1710<>0,$C1710=\"\"),\"\",INDEX(Categories!$A:$E,Entries!$D1710,4))","v":""},{"$f":"IF(OR($E1710<>0,$C1710=\"\"),\"\",INDEX(Categories!$A:$E,Entries!$D1710,5))","v":""},"2014-01-01","2014-01-01",{"$f":"(Entries!K1711-Entries!K1710)*24*60","v":0}]
["",null,null,{"$f":"MATCH(C1711,Categories!A:A,0)","v":{"$error":"#N/A"}},0,{"$f":"IF(OR($E1711<>0,$C1711=\"\"),\"\",INDEX(Categories!$A:$E,Entries!$D1711,2))","v":""},{"$f":"IF(OR($E1711<>0,$C1711=\"\"),\"\",INDEX(Categories!$A:$E,Entries!$D1711,3))","v":""},{"$f":"IF(OR($E1711<>0,$C1711=\"\"),\"\",INDEX(Categories!$A:$E,Entries!$D1711,4))","v":""},{"$f":"IF(OR($E1711<>0,$C1711=\"\"),\"\",INDEX(Categories!$A:$E,Entries!$D1711,5))","v":""},"2014-01-01","2014-01-01",{"$f":"(Entries!K1712-Entries!K1711)*24*60","v":0}]
["",null,null,{"$f":"MATCH(C1712,Categories!A:A,0)","v":{"$error":"#N/A"}},0,{"$f":"IF(OR($E1712<>0,$C1712=\"\"),\"\",INDEX(Categories!$A:$E,Entries!$D1712,2))","v":""},{"$f":"IF(OR($E1712<>0,$C1712=\"\"),\"\",INDEX(Categories!$A:$E,Entries!$D1712,3))","v":""},{"$f":"IF(OR($E1712<>0,$C1712=\"\"),\"\",INDEX(Categories!$A:$E,Entries!$D1712,4))","v":""},{"$f":"IF(OR($E1712<>0,$C1712=\"\"),\"\",INDEX(Categories!$A:$E,Entries!$D1712,5))","v":""},"2014-01-01","2014-01-01",{"$f":"(Entries!K1713-Entries!K1712)*24*60","v":0}]
["",null,null,{"$f":"MATCH(C1713,Categories!A:A,0)","v":{"$error":"#N/A"}},0,{"$f":"IF(OR($E1713<>0,$C1713=\"\"),\"\",INDEX(Categories!$A:$E,Entries!$D1713,2))","v":""},{"$f":"IF(OR($E1713<>0,$C1713=\"\"),\"\",INDEX(Categories!$A:$E,Entries!$D1713,3))","v":""},{"$f":"IF(OR($E1713<>0,$C1713=\"\"),\"\",INDEX(Categories!$A:$E,Entries!$D1713,4))","v":""},{"$f":"IF(OR($E1713<>0,$C1713=\"\"),\"\",INDEX(Categories!$A:$E,Entries!$D1713,5))","v":""},"2014-01-01","2014-01-01",{"$f":"(Entries!K1714-Entries!K1713)*24*60","v":0}]
["",null,null,{"$f":"MATCH(C1714,Categories!A:A,0)","v":{"$error":"#N/A"}},0,{"$f":"IF(OR($E1714<>0,$C1714=\"\"),\"\",INDEX(Categories!$A:$E,Entries!$D1714,2))","v":""},{"$f":"IF(OR($E1714<>0,$C1714=\"\"),\"\",INDEX(Categories!$A:$E,Entries!$D1714,3))","v":""},{"$f":"IF(OR($E1714<>0,$C1714=\"\"),\"\",INDEX(Categories!$A:$E,Entries!$D1714,4))","v":""},{"$f":"IF(OR($E1714<>0,$C1714=\"\"),\"\",INDEX(Categories!$A:$E,Entries!$D1714,5))","v":""},"2014-01-01","2014-01-01",{"$f":"(Entries!K1715-Entries!K1714)*24*60","v":0}]
["",null,null,{"$f":"MATCH(C1715,Categories!A:A,0)","v":{"$error":"#N/A"}},0,{"$f":"IF(OR($E1715<>0,$C1715=\"\"),\"\",INDEX(Categories!$A:$E,Entries!$D1715,2))","v":""},{"$f":"IF(OR($E1715<>0,$C1715=\"\"),\"\",INDEX(Categories!$A:$E,Entries!$D1715,3))","v":""},{"$f":"IF(OR($E1715<>0,$C1715=\"\"),\"\",INDEX(Categories!$A:$E,Entries!$D1715,4))","v":""},{"$f":"IF(OR($E1715<>0,$C1715=\"\"),\"\",INDEX(Categories!$A:$E,Entries!$D1715,5))","v":""},"2014-01-01","2014-01-01",{"$f":"(Entries!K1716-Entries!K1715)*24*60","v":0}]
["",null,null,{"$f":"MATCH(C1716,Categories!A:A,0)","v":{"$error":"#N/A"}},0,{"$f":"IF(OR($E1716<>0,$C1716=\"\"),\"\",INDEX(Categories!$A:$E,Entries!$D1716,2))","v":""},{"$f":"IF(OR($E1716<>0,$C1716=\"\"),\"\",INDEX(Categories!$A:$E,Entries!$D1716,3))","v":""},{"$f":"IF(OR($E1716<>0,$C1716=\"\"),\"\",INDEX(Categories!$A:$E,Entries!$D1716,4))","v":""},{"$f":"IF(OR($E1716<>0,$C1716=\"\"),\"\",INDEX(Categories!$A:$E,Entries!$D1716,5))","v":""},"2014-01-01","2014-01-01",{"$f":"(Entries!K1717-Entries!K1716)*24*60","v":0}]
["",null,null,{"$f":"MATCH(C1717,Categories!A:A,0)","v":{"$error":"#N/A"}},0,{"$f":"IF(OR($E1717<>0,$C1717=\"\"),\"\",INDEX(Categories!$A:$E,Entries!$D1717,2))","v":""},{"$f":"IF(OR($E1717<>0,$C1717=\"\"),\"\",INDEX(Categories!$A:$E,Entries!$D1717,3))","v":""},{"$f":"IF(OR($E1717<>0,$C1717=\"\"),\"\",INDEX(Categories!$A:$E,Entries!$D1717,4))","v":""},{"$f":"IF(OR($E1717<>0,$C1717=\"\"),\"\",INDEX(Categories!$A:$E,Entries!$D1717,5))","v":""},"2014-01-01","2014-01-01",{"$f":"(Entries!K1718-Entries!K1717)*24*60","v":0}]
["",null,null,{"$f":"MATCH(C1718,Categories!A:A,0)","v":{"$error":"#N/A"}},0,{"$f":"IF(OR($E1718<>0,$C1718=\"\"),\"\",INDEX(Categories!$A:$E,Entries!$D1718,2))","v":""},{"$f":"IF(OR($E1718<>0,$C1718=\"\"),\"\",INDEX(Categories!$A:$E,Entries!$D1718,3))","v":""},{"$f":"IF(OR($E1718<>0,$C1718=\"\"),\"\",INDEX(Categories!$A:$E,Entries!$D1718,4))","v":""},{"$f":"IF(OR($E1718<>0,$C1718=\"\"),\"\",INDEX(Categories!$A:$E,Entries!$D1718,5))","v":""},"2014-01-01","2014-01-01",{"$f":"(Entries!K1719-Entries!K1718)*24*60","v":0}]
["",null,null,{"$f":"MATCH(C1719,Categories!A:A,0)","v":{"$error":"#N/A"}},0,{"$f":"IF(OR($E1719<>0,$C1719=\"\"),\"\",INDEX(Categories!$A:$E,Entries!$D1719,2))","v":""},{"$f":"IF(OR($E1719<>0,$C1719=\"\"),\"\",INDEX(Categories!$A:$E,Entries!$D1719,3))","v":""},{"$f":"IF(OR($E1719<>0,$C1719=\"\"),\"\",INDEX(Categories!$A:$E,Entries!$D1719,4))","v":""},{"$f":"IF(OR($E1719<>0,$C1719=\"\"),\"\",INDEX(Categories!$A:$E,Entries!$D1719,5))","v":""},"2014-01-01","2014-01-01",{"$f":"(Entries!K1720-Entries!K1719)*24*60","v":0}]
["",null,null,{"$f":"MATCH(C1720,Categories!A:A,0)","v":{"$error":"#N/A"}},0,{"$f":"IF(OR($E1720<>0,$C1720=\"\"),\"\",INDEX(Categories!$A:$E,Entries!$D1720,2))","v":""},{"$f":"IF(OR($E1720<>0,$C1720=\"\"),\"\",INDEX(Categories!$A:$E,Entries!$D1720,3))","v":""},{"$f":"IF(OR($E1720<>0,$C1720=\"\"),\"\",INDEX(Categories!$A:$E,Entries!$D1720,4))","v":""},{"$f":"IF(OR($E1720<>0,$C1720=\"\"),\"\",INDEX(Categories!$A:$E,Entries!$D1720,5))","v":""},"2014-01-01","2014-01-01",{"$f":"(Entries!K1721-Entries!K1720)*24*60","v":0}]
["",null,null,{"$f":"MATCH(C1721,Categories!A:A,0)","v":{"$error":"#N/A"}},0,{"$f":"IF(OR($E1721<>0,$C1721=\"\"),\"\",INDEX(Categories!$A:$E,Entries!$D1721,2))","v":""},{"$f":"IF(OR($E1721<>0,$C1721=\"\"),\"\",INDEX(Categories!$A:$E,Entries!$D1721,3))","v":""},{"$f":"IF(OR($E1721<>0,$C1721=\"\"),\"\",INDEX(Categories!$A:$E,Entries!$D1721,4))","v":""},{"$f":"IF(OR($E1721<>0,$C1721=\"\"),\"\",INDEX(Categories!$A:$E,Entries!$D1721,5))","v":""},"2014-01-01","2014-01-01",{"$f":"(Entries!K1722-Entries!K1721)*24*60","v":0}]
["",null,null,{"$f":"MATCH(C1722,Categories!A:A,0)","v":{"$error":"#N/A"}},0,{"$f":"IF(OR($E1722<>0,$C1722=\"\"),\"\",INDEX(Categories!$A:$E,Entries!$D1722,2))","v":""},{"$f":"IF(OR($E1722<>0,$C1722=\"\"),\"\",INDEX(Categories!$A:$E,Entries!$D1722,3))","v":""},{"$f":"IF(OR($E1722<>0,$C1722=\"\"),\"\",INDEX(Categories!$A:$E,Entries!$D1722,4))","v":""},{"$f":"IF(OR($E1722<>0,$C1722=\"\"),\"\",INDEX(Categories!$A:$E,Entries!$D1722,5))","v":""},"2014-01-01","2014-01-01",{"$f":"(Entries!K1723-Entries!K1722)*24*60","v":0}]
["",null,null,{"$f":"MATCH(C1723,Categories!A:A,0)","v":{"$error":"#N/A"}},0,{"$f":"IF(OR($E1723<>0,$C1723=\"\"),\"\",INDEX(Categories!$A:$E,Entries!$D1723,2))","v":""},{"$f":"IF(OR($E1723<>0,$C1723=\"\"),\"\",INDEX(Categories!$A:$E,Entries!$D1723,3))","v":""},{"$f":"IF(OR($E1723<>0,$C1723=\"\"),\"\",INDEX(Categories!$A:$E,Entries!$D1723,4))","v":""},{"$f":"IF(OR($E1723<>0,$C1723=\"\"),\"\",INDEX(Categories!$A:$E,Entries!$D1723,5))","v":""},"2014-01-01","2014-01-01",{"$f":"(Entries!K1724-Entries!K1723)*24*60","v":0}]
["",null,null,{"$f":"MATCH(C1724,Categories!A:A,0)","v":{"$error":"#N/A"}},0,{"$f":"IF(OR($E1724<>0,$C1724=\"\"),\"\",INDEX(Categories!$A:$E,Entries!$D1724,2))","v":""},{"$f":"IF(OR($E1724<>0,$C1724=\"\"),\"\",INDEX(Categories!$A:$E,Entries!$D1724,3))","v":""},{"$f":"IF(OR($E1724<>0,$C1724=\"\"),\"\",INDEX(Categories!$A:$E,Entries!$D1724,4))","v":""},{"$f":"IF(OR($E1724<>0,$C1724=\"\"),\"\",INDEX(Categories!$A:$E,Entries!$D1724,5))","v":""},"2014-01-01","2014-01-01",{"$f":"(Entries!K1725-Entries!K1724)*24*60","v":0}]
["",null,null,{"$f":"MATCH(C1725,Categories!A:A,0)","v":{"$error":"#N/A"}},0,{"$f":"IF(OR($E1725<>0,$C1725=\"\"),\"\",INDEX(Categories!$A:$E,Entries!$D1725,2))","v":""},{"$f":"IF(OR($E1725<>0,$C1725=\"\"),\"\",INDEX(Categories!$A:$E,Entries!$D1725,3))","v":""},{"$f":"IF(OR($E1725<>0,$C1725=\"\"),\"\",INDEX(Categories!$A:$E,Entries!$D1725,4))","v":""},{"$f":"IF(OR($E1725<>0,$C1725=\"\"),\"\",INDEX(Categories!$A:$E,Entries!$D1725,5))","v":""},"2014-01-01","2014-01-01",{"$f":"(Entries!K1726-Entries!K1725)*24*60","v":0}]
["",null,null,{"$f":"MATCH(C1726,Categories!A:A,0)","v":{"$error":"#N/A"}},0,{"$f":"IF(OR($E1726<>0,$C1726=\"\"),\"\",INDEX(Categories!$A:$E,Entries!$D1726,2))","v":""},{"$f":"IF(OR($E1726<>0,$C1726=\"\"),\"\",INDEX(Categories!$A:$E,Entries!$D1726,3))","v":""},{"$f":"IF(OR($E1726<>0,$C1726=\"\"),\"\",INDEX(Categories!$A:$E,Entries!$D1726,4))","v":""},{"$f":"IF(OR($E1726<>0,$C1726=\"\"),\"\",INDEX(Categories!$A:$E,Entries!$D1726,5))","v":""},"2014-01-01","2014-01-01",{"$f":"(Entries!K1727-Entries!K1726)*24*60","v":0}]
["",null,null,{"$f":"MATCH(C1727,Categories!A:A,0)","v":{"$error":"#N/A"}},0,{"$f":"IF(OR($E1727<>0,$C1727=\"\"),\"\",INDEX(Categories!$A:$E,Entries!$D1727,2))","v":""},{"$f":"IF(OR($E1727<>0,$C1727=\"\"),\"\",INDEX(Categories!$A:$E,Entries!$D1727,3))","v":""},{"$f":"IF(OR($E1727<>0,$C1727=\"\"),\"\",INDEX(Categories!$A:$E,Entries!$D1727,4))","v":""},{"$f":"IF(OR($E1727<>0,$C1727=\"\"),\"\",INDEX(Categories!$A:$E,Entries!$D1727,5))","v":""},"2014-01-01","2014-01-01",{"$f":"(Entries!K1728-Entries!K1727)*24*60","v":0}]
["",null,null,{"$f":"MATCH(C1728,Categories!A:A,0)","v":{"$error":"#N/A"}},0,{"$f":"IF(OR($E1728<>0,$C1728=\"\"),\"\",INDEX(Categories!$A:$E,Entries!$D1728,2))","v":""},{"$f":"IF(OR($E1728<>0,$C1728=\"\"),\"\",INDEX(Categories!$A:$E,Entries!$D1728,3))","v":""},{"$f":"IF(OR($E1728<>0,$C1728=\"\"),\"\",INDEX(Categories!$A:$E,Entries!$D1728,4))","v":""},{"$f":"IF(OR($E1728<>0,$C1728=\"\"),\"\",INDEX(Categories!$A:$E,Entries!$D1728,5))","v":""},"2014-01-01","2014-01-01",{"$f":"(Entries!K1729-Entries!K1728)*24*60","v":0}]
["",null,null,{"$f":"MATCH(C1729,Categories!A:A,0)","v":{"$error":"#N/A"}},0,{"$f":"IF(OR($E1729<>0,$C1729=\"\"),\"\",INDEX(Categories!$A:$E,Entries!$D1729,2))","v":""},{"$f":"IF(OR($E1729<>0,$C1729=\"\"),\"\",INDEX(Categories!$A:$E,Entries!$D1729,3))","v":""},{"$f":"IF(OR($E1729<>0,$C1729=\"\"),\"\",INDEX(Categories!$A:$E,Entries!$D1729,4))","v":""},{"$f":"IF(OR($E1729<>0,$C1729=\"\"),\"\",INDEX(Categories!$A:$E,Entries!$D1729,5))","v":""},"2014-01-01","2014-01-01",{"$f":"(Entries!K1730-Entries!K1729)*24*60","v":0}]
["",null,null,{"$f":"MATCH(C1730,Categories!A:A,0)","v":{"$error":"#N/A"}},{"$f":"IF(AND(ISERROR(D1730),C1730<>\"\"),ROW(D1730),0)","v":0},{"$f":"IF(OR($E1730<>0,$C1730=\"\"),\"\",INDEX(Categories!$A:$E,Entries!$D1730,2))","v":""},{"$f":"IF(OR($E1730<>0,$C1730=\"\"),\"\",INDEX(Categories!$A:$E,Entries!$D1730,3))","v":""},{"$f":"IF(OR($E1730<>0,$C1730=\"\"),\"\",INDEX(Categories!$A:$E,Entries!$D1730,4))","v":""},{"$f":"IF(OR($E1730<>0,$C1730=\"\"),\"\",INDEX(Categories!$A:$E,Entries!$D1730,5))","v":""},{"$f":"IF(A1730=\"\",J1729,A1730)","v":"2014-01-01"},{"$f":"J1730+B1730","v":"2014-01-01"},{"$f":"(Entries!K1731-Entries!K1730)*24*60","v":0}]
["",null,null,{"$f":"MATCH(C1731,Categories!A:A,0)","v":{"$error":"#N/A"}},0,{"$f":"IF(OR($E1731<>0,$C1731=\"\"),\"\",INDEX(Categories!$A:$E,Entries!$D1731,2))","v":""},{"$f":"IF(OR($E1731<>0,$C1731=\"\"),\"\",INDEX(Categories!$A:$E,Entries!$D1731,3))","v":""},{"$f":"IF(OR($E1731<>0,$C1731=\"\"),\"\",INDEX(Categories!$A:$E,Entries!$D1731,4))","v":""},{"$f":"IF(OR($E1731<>0,$C1731=\"\"),\"\",INDEX(Categories!$A:$E,Entries!$D1731,5))","v":""},"2014-01-01","2014-01-01",{"$f":"(Entries!K1732-Entries!K1731)*24*60","v":0}]
["",null,null,{"$f":"MATCH(C1732,Categories!A:A,0)","v":{"$error":"#N/A"}},0,{"$f":"IF(OR($E1732<>0,$C1732=\"\"),\"\",INDEX(Categories!$A:$E,Entries!$D1732,2))","v":""},{"$f":"IF(OR($E1732<>0,$C1732=\"\"),\"\",INDEX(Categories!$A:$E,Entries!$D1732,3))","v":""},{"$f":"IF(OR($E1732<>0,$C1732=\"\"),\"\",INDEX(Categories!$A:$E,Entries!$D1732,4))","v":""},{"$f":"IF(OR($E1732<>0,$C1732=\"\"),\"\",INDEX(Categories!$A:$E,Entries!$D1732,5))","v":""},"2014-01-01","2014-01-01",{"$f":"(Entries!K1733-Entries!K1732)*24*60","v":0}]
["",null,null,{"$f":"MATCH(C1733,Categories!A:A,0)","v":{"$error":"#N/A"}},0,{"$f":"IF(OR($E1733<>0,$C1733=\"\"),\"\",INDEX(Categories!$A:$E,Entries!$D1733,2))","v":""},{"$f":"IF(OR($E1733<>0,$C1733=\"\"),\"\",INDEX(Categories!$A:$E,Entries!$D1733,3))","v":""},{"$f":"IF(OR($E1733<>0,$C1733=\"\"),\"\",INDEX(Categories!$A:$E,Entries!$D1733,4))","v":""},{"$f":"IF(OR($E1733<>0,$C1733=\"\"),\"\",INDEX(Categories!$A:$E,Entries!$D1733,5))","v":""},"2014-01-01","2014-01-01",{"$f":"(Entries!K1734-Entries!K1733)*24*60","v":0}]
["",null,null,{"$f":"MATCH(C1734,Categories!A:A,0)","v":{"$error":"#N/A"}},0,{"$f":"IF(OR($E1734<>0,$C1734=\"\"),\"\",INDEX(Categories!$A:$E,Entries!$D1734,2))","v":""},{"$f":"IF(OR($E1734<>0,$C1734=\"\"),\"\",INDEX(Categories!$A:$E,Entries!$D1734,3))","v":""},{"$f":"IF(OR($E1734<>0,$C1734=\"\"),\"\",INDEX(Categories!$A:$E,Entries!$D1734,4))","v":""},{"$f":"IF(OR($E1734<>0,$C1734=\"\"),\"\",INDEX(Categories!$A:$E,Entries!$D1734,5))","v":""},"2014-01-01","2014-01-01",{"$f":"(Entries!K1735-Entries!K1734)*24*60","v":0}]
["",null,null,{"$f":"MATCH(C1735,Categories!A:A,0)","v":{"$error":"#N/A"}},0,{"$f":"IF(OR($E1735<>0,$C1735=\"\"),\"\",INDEX(Categories!$A:$E,Entries!$D1735,2))","v":""},{"$f":"IF(OR($E1735<>0,$C1735=\"\"),\"\",INDEX(Categories!$A:$E,Entries!$D1735,3))","v":""},{"$f":"IF(OR($E1735<>0,$C1735=\"\"),\"\",INDEX(Categories!$A:$E,Entries!$D1735,4))","v":""},{"$f":"IF(OR($E1735<>0,$C1735=\"\"),\"\",INDEX(Categories!$A:$E,Entries!$D1735,5))","v":""},"2014-01-01","2014-01-01",{"$f":"(Entries!K1736-Entries!K1735)*24*60","v":0}]
["",null,null,{"$f":"MATCH(C1736,Categories!A:A,0)","v":{"$error":"#N/A"}},0,{"$f":"IF(OR($E1736<>0,$C1736=\"\"),\"\",INDEX(Categories!$A:$E,Entries!$D1736,2))","v":""},{"$f":"IF(OR($E1736<>0,$C1736=\"\"),\"\",INDEX(Categories!$A:$E,Entries!$D1736,3))","v":""},{"$f":"IF(OR($E1736<>0,$C1736=\"\"),\"\",INDEX(Categories!$A:$E,Entries!$D1736,4))","v":""},{"$f":"IF(OR($E1736<>0,$C1736=\"\"),\"\",INDEX(Categories!$A:$E,Entries!$D1736,5))","v":""},"2014-01-01","2014-01-01",{"$f":"(Entries!K1737-Entries!K1736)*24*60","v":0}]
["",null,null,{"$f":"MATCH(C1737,Categories!A:A,0)","v":{"$error":"#N/A"}},0,{"$f":"IF(OR($E1737<>0,$C1737=\"\"),\"\",INDEX(Categories!$A:$E,Entries!$D1737,2))","v":""},{"$f":"IF(OR($E1737<>0,$C1737=\"\"),\"\",INDEX(Categories!$A:$E,Entries!$D1737,3))","v":""},{"$f":"IF(OR($E1737<>0,$C1737=\"\"),\"\",INDEX(Categories!$A:$E,Entries!$D1737,4))","v":""},{"$f":"IF(OR($E1737<>0,$C1737=\"\"),\"\",INDEX(Categories!$A:$E,Entries!$D1737,5))","v":""},"2014-01-01","2014-01-01",{"$f":"(Entries!K1738-Entries!K1737)*24*60","v":0}]
["",null,null,{"$f":"MATCH(C1738,Categories!A:A,0)","v":{"$error":"#N/A"}},0,{"$f":"IF(OR($E1738<>0,$C1738=\"\"),\"\",INDEX(Categories!$A:$E,Entries!$D1738,2))","v":""},{"$f":"IF(OR($E1738<>0,$C1738=\"\"),\"\",INDEX(Categories!$A:$E,Entries!$D1738,3))","v":""},{"$f":"IF(OR($E1738<>0,$C1738=\"\"),\"\",INDEX(Categories!$A:$E,Entries!$D1738,4))","v":""},{"$f":"IF(OR($E1738<>0,$C1738=\"\"),\"\",INDEX(Categories!$A:$E,Entries!$D1738,5))","v":""},"2014-01-01","2014-01-01",{"$f":"(Entries!K1739-Entries!K1738)*24*60","v":0}]
["",null,null,{"$f":"MATCH(C1739,Categories!A:A,0)","v":{"$error":"#N/A"}},0,{"$f":"IF(OR($E1739<>0,$C1739=\"\"),\"\",INDEX(Categories!$A:$E,Entries!$D1739,2))","v":""},{"$f":"IF(OR($E1739<>0,$C1739=\"\"),\"\",INDEX(Categories!$A:$E,Entries!$D1739,3))","v":""},{"$f":"IF(OR($E1739<>0,$C1739=\"\"),\"\",INDEX(Categories!$A:$E,Entries!$D1739,4))","v":""},{"$f":"IF(OR($E1739<>0,$C1739=\"\"),\"\",INDEX(Categories!$A:$E,Entries!$D1739,5))","v":""},"2014-01-01","2014-01-01",{"$f":"(Entries!K1740-Entries!K1739)*24*60","v":0}]
["",null,null,{"$f":"MATCH(C1740,Categories!A:A,0)","v":{"$error":"#N/A"}},0,{"$f":"IF(OR($E1740<>0,$C1740=\"\"),\"\",INDEX(Categories!$A:$E,Entries!$D1740,2))","v":""},{"$f":"IF(OR($E1740<>0,$C1740=\"\"),\"\",INDEX(Categories!$A:$E,Entries!$D1740,3))","v":""},{"$f":"IF(OR($E1740<>0,$C1740=\"\"),\"\",INDEX(Categories!$A:$E,Entries!$D1740,4))","v":""},{"$f":"IF(OR($E1740<>0,$C1740=\"\"),\"\",INDEX(Categories!$A:$E,Entries!$D1740,5))","v":""},"2014-01-01","2014-01-01",{"$f":"(Entries!K1741-Entries!K1740)*24*60","v":0}]
["",null,null,{"$f":"MATCH(C1741,Categories!A:A,0)","v":{"$error":"#N/A"}},0,{"$f":"IF(OR($E1741<>0,$C1741=\"\"),\"\",INDEX(Categories!$A:$E,Entries!$D1741,2))","v":""},{"$f":"IF(OR($E1741<>0,$C1741=\"\"),\"\",INDEX(Categories!$A:$E,Entries!$D1741,3))","v":""},{"$f":"IF(OR($E1741<>0,$C1741=\"\"),\"\",INDEX(Categories!$A:$E,Entries!$D1741,4))","v":""},{"$f":"IF(OR($E1741<>0,$C1741=\"\"),\"\",INDEX(Categories!$A:$E,Entries!$D1741,5))","v":""},"2014-01-01","2014-01-01",{"$f":"(Entries!K1742-Entries!K1741)*24*60","v":0}]
["",null,null,{"$f":"MATCH(C1742,Categories!A:A,0)","v":{"$error":"#N/A"}},0,{"$f":"IF(OR($E1742<>0,$C1742=\"\"),\"\",INDEX(Categories!$A:$E,Entries!$D1742,2))","v":""},{"$f":"IF(OR($E1742<>0,$C1742=\"\"),\"\",INDEX(Categories!$A:$E,Entries!$D1742,3))","v":""},{"$f":"IF(OR($E1742<>0,$C1742=\"\"),\"\",INDEX(Categories!$A:$E,Entries!$D1742,4))","v":""},{"$f":"IF(OR($E1742<>0,$C1742=\"\"),\"\",INDEX(Categories!$A:$E,Entries!$D1742,5))","v":""},"2014-01-01","2014-01-01",{"$f":"(Entries!K1743-Entries!K1742)*24*60","v":0}]
["",null,null,{"$f":"MATCH(C1743,Categories!A:A,0)","v":{"$error":"#N/A"}},0,{"$f":"IF(OR($E1743<>0,$C1743=\"\"),\"\",INDEX(Categories!$A:$E,Entries!$D1743,2))","v":""},{"$f":"IF(OR($E1743<>0,$C1743=\"\"),\"\",INDEX(Categories!$A:$E,Entries!$D1743,3))","v":""},{"$f":"IF(OR($E1743<>0,$C1743=\"\"),\"\",INDEX(Categories!$A:$E,Entries!$D1743,4))","v":""},{"$f":"IF(OR($E1743<>0,$C1743=\"\"),\"\",INDEX(Categories!$A:$E,Entries!$D1743,5))","v":""},"2014-01-01","2014-01-01",{"$f":"(Entries!K1744-Entries!K1743)*24*60","v":0}]
["",null,null,{"$f":"MATCH(C1744,Categories!A:A,0)","v":{"$error":"#N/A"}},0,{"$f":"IF(OR($E1744<>0,$C1744=\"\"),\"\",INDEX(Categories!$A:$E,Entries!$D1744,2))","v":""},{"$f":"IF(OR($E1744<>0,$C1744=\"\"),\"\",INDEX(Categories!$A:$E,Entries!$D1744,3))","v":""},{"$f":"IF(OR($E1744<>0,$C1744=\"\"),\"\",INDEX(Categories!$A:$E,Entries!$D1744,4))","v":""},{"$f":"IF(OR($E1744<>0,$C1744=\"\"),\"\",INDEX(Categories!$A:$E,Entries!$D1744,5))","v":""},"2014-01-01","2014-01-01",{"$f":"(Entries!K1745-Entries!K1744)*24*60","v":0}]
["",null,null,{"$f":"MATCH(C1745,Categories!A:A,0)","v":{"$error":"#N/A"}},0,{"$f":"IF(OR($E1745<>0,$C1745=\"\"),\"\",INDEX(Categories!$A:$E,Entries!$D1745,2))","v":""},{"$f":"IF(OR($E1745<>0,$C1745=\"\"),\"\",INDEX(Categories!$A:$E,Entries!$D1745,3))","v":""},{"$f":"IF(OR($E1745<>0,$C1745=\"\"),\"\",INDEX(Categories!$A:$E,Entries!$D1745,4))","v":""},{"$f":"IF(OR($E1745<>0,$C1745=\"\"),\"\",INDEX(Categories!$A:$E,Entries!$D1745,5))","v":""},"2014-01-01","2014-01-01",{"$f":"(Entries!K1746-Entries!K1745)*24*60","v":0}]
["",null,null,{"$f":"MATCH(C1746,Categories!A:A,0)","v":{"$error":"#N/A"}},0,{"$f":"IF(OR($E1746<>0,$C1746=\"\"),\"\",INDEX(Categories!$A:$E,Entries!$D1746,2))","v":""},{"$f":"IF(OR($E1746<>0,$C1746=\"\"),\"\",INDEX(Categories!$A:$E,Entries!$D1746,3))","v":""},{"$f":"IF(OR($E1746<>0,$C1746=\"\"),\"\",INDEX(Categories!$A:$E,Entries!$D1746,4))","v":""},{"$f":"IF(OR($E1746<>0,$C1746=\"\"),\"\",INDEX(Categories!$A:$E,Entries!$D1746,5))","v":""},"2014-01-01","2014-01-01",{"$f":"(Entries!K1747-Entries!K1746)*24*60","v":0}]
["",null,null,{"$f":"MATCH(C1747,Categories!A:A,0)","v":{"$error":"#N/A"}},0,{"$f":"IF(OR($E1747<>0,$C1747=\"\"),\"\",INDEX(Categories!$A:$E,Entries!$D1747,2))","v":""},{"$f":"IF(OR($E1747<>0,$C1747=\"\"),\"\",INDEX(Categories!$A:$E,Entries!$D1747,3))","v":""},{"$f":"IF(OR($E1747<>0,$C1747=\"\"),\"\",INDEX(Categories!$A:$E,Entries!$D1747,4))","v":""},{"$f":"IF(OR($E1747<>0,$C1747=\"\"),\"\",INDEX(Categories!$A:$E,Entries!$D1747,5))","v":""},"2014-01-01","2014-01-01",{"$f":"(Entries!K1748-Entries!K1747)*24*60","v":0}]
["",null,null,{"$f":"MATCH(C1748,Categories!A:A,0)","v":{"$error":"#N/A"}},0,{"$f":"IF(OR($E1748<>0,$C1748=\"\"),\"\",INDEX(Categories!$A:$E,Entries!$D1748,2))","v":""},{"$f":"IF(OR($E1748<>0,$C1748=\"\"),\"\",INDEX(Categories!$A:$E,Entries!$D1748,3))","v":""},{"$f":"IF(OR($E1748<>0,$C1748=\"\"),\"\",INDEX(Categories!$A:$E,Entries!$D1748,4))","v":""},{"$f":"IF(OR($E1748<>0,$C1748=\"\"),\"\",INDEX(Categories!$A:$E,Entries!$D1748,5))","v":""},"2014-01-01","2014-01-01",{"$f":"(Entries!K1749-Entries!K1748)*24*60","v":0}]
["",null,null,{"$f":"MATCH(C1749,Categories!A:A,0)","v":{"$error":"#N/A"}},0,{"$f":"IF(OR($E1749<>0,$C1749=\"\"),\"\",INDEX(Categories!$A:$E,Entries!$D1749,2))","v":""},{"$f":"IF(OR($E1749<>0,$C1749=\"\"),\"\",INDEX(Categories!$A:$E,Entries!$D1749,3))","v":""},{"$f":"IF(OR($E1749<>0,$C1749=\"\"),\"\",INDEX(Categories!$A:$E,Entries!$D1749,4))","v":""},{"$f":"IF(OR($E1749<>0,$C1749=\"\"),\"\",INDEX(Categories!$A:$E,Entries!$D1749,5))","v":""},"2014-01-01","2014-01-01",{"$f":"(Entries!K1750-Entries!K1749)*24*60","v":0}]
["",null,null,{"$f":"MATCH(C1750,Categories!A:A,0)","v":{"$error":"#N/A"}},0,{"$f":"IF(OR($E1750<>0,$C1750=\"\"),\"\",INDEX(Categories!$A:$E,Entries!$D1750,2))","v":""},{"$f":"IF(OR($E1750<>0,$C1750=\"\"),\"\",INDEX(Categories!$A:$E,Entries!$D1750,3))","v":""},{"$f":"IF(OR($E1750<>0,$C1750=\"\"),\"\",INDEX(Categories!$A:$E,Entries!$D1750,4))","v":""},{"$f":"IF(OR($E1750<>0,$C1750=\"\"),\"\",INDEX(Categories!$A:$E,Entries!$D1750,5))","v":""},"2014-01-01","2014-01-01",{"$f":"(Entries!K1751-Entries!K1750)*24*60","v":0}]
["",null,null,{"$f":"MATCH(C1751,Categories!A:A,0)","v":{"$error":"#N/A"}},0,{"$f":"IF(OR($E1751<>0,$C1751=\"\"),\"\",INDEX(Categories!$A:$E,Entries!$D1751,2))","v":""},{"$f":"IF(OR($E1751<>0,$C1751=\"\"),\"\",INDEX(Categories!$A:$E,Entries!$D1751,3))","v":""},{"$f":"IF(OR($E1751<>0,$C1751=\"\"),\"\",INDEX(Categories!$A:$E,Entries!$D1751,4))","v":""},{"$f":"IF(OR($E1751<>0,$C1751=\"\"),\"\",INDEX(Categories!$A:$E,Entries!$D1751,5))","v":""},"2014-01-01","2014-01-01",{"$f":"(Entries!K1752-Entries!K1751)*24*60","v":0}]
["",null,null,{"$f":"MATCH(C1752,Categories!A:A,0)","v":{"$error":"#N/A"}},0,{"$f":"IF(OR($E1752<>0,$C1752=\"\"),\"\",INDEX(Categories!$A:$E,Entries!$D1752,2))","v":""},{"$f":"IF(OR($E1752<>0,$C1752=\"\"),\"\",INDEX(Categories!$A:$E,Entries!$D1752,3))","v":""},{"$f":"IF(OR($E1752<>0,$C1752=\"\"),\"\",INDEX(Categories!$A:$E,Entries!$D1752,4))","v":""},{"$f":"IF(OR($E1752<>0,$C1752=\"\"),\"\",INDEX(Categories!$A:$E,Entries!$D1752,5))","v":""},"2014-01-01","2014-01-01",{"$f":"(Entries!K1753-Entries!K1752)*24*60","v":0}]
["",null,null,{"$f":"MATCH(C1753,Categories!A:A,0)","v":{"$error":"#N/A"}},0,{"$f":"IF(OR($E1753<>0,$C1753=\"\"),\"\",INDEX(Categories!$A:$E,Entries!$D1753,2))","v":""},{"$f":"IF(OR($E1753<>0,$C1753=\"\"),\"\",INDEX(Categories!$A:$E,Entries!$D1753,3))","v":""},{"$f":"IF(OR($E1753<>0,$C1753=\"\"),\"\",INDEX(Categories!$A:$E,Entries!$D1753,4))","v":""},{"$f":"IF(OR($E1753<>0,$C1753=\"\"),\"\",INDEX(Categories!$A:$E,Entries!$D1753,5))","v":""},"2014-01-01","2014-01-01",{"$f":"(Entries!K1754-Entries!K1753)*24*60","v":0}]
["",null,null,{"$f":"MATCH(C1754,Categories!A:A,0)","v":{"$error":"#N/A"}},0,{"$f":"IF(OR($E1754<>0,$C1754=\"\"),\"\",INDEX(Categories!$A:$E,Entries!$D1754,2))","v":""},{"$f":"IF(OR($E1754<>0,$C1754=\"\"),\"\",INDEX(Categories!$A:$E,Entries!$D1754,3))","v":""},{"$f":"IF(OR($E1754<>0,$C1754=\"\"),\"\",INDEX(Categories!$A:$E,Entries!$D1754,4))","v":""},{"$f":"IF(OR($E1754<>0,$C1754=\"\"),\"\",INDEX(Categories!$A:$E,Entries!$D1754,5))","v":""},"2014-01-01","2014-01-01",{"$f":"(Entries!K1755-Entries!K1754)*24*60","v":0}]
["",null,null,{"$f":"MATCH(C1755,Categories!A:A,0)","v":{"$error":"#N/A"}},0,{"$f":"IF(OR($E1755<>0,$C1755=\"\"),\"\",INDEX(Categories!$A:$E,Entries!$D1755,2))","v":""},{"$f":"IF(OR($E1755<>0,$C1755=\"\"),\"\",INDEX(Categories!$A:$E,Entries!$D1755,3))","v":""},{"$f":"IF(OR($E1755<>0,$C1755=\"\"),\"\",INDEX(Categories!$A:$E,Entries!$D1755,4))","v":""},{"$f":"IF(OR($E1755<>0,$C1755=\"\"),\"\",INDEX(Categories!$A:$E,Entries!$D1755,5))","v":""},"2014-01-01","2014-01-01",{"$f":"(Entries!K1756-Entries!K1755)*24*60","v":0}]
["",null,null,{"$f":"MATCH(C1756,Categories!A:A,0)","v":{"$error":"#N/A"}},0,{"$f":"IF(OR($E1756<>0,$C1756=\"\"),\"\",INDEX(Categories!$A:$E,Entries!$D1756,2))","v":""},{"$f":"IF(OR($E1756<>0,$C1756=\"\"),\"\",INDEX(Categories!$A:$E,Entries!$D1756,3))","v":""},{"$f":"IF(OR($E1756<>0,$C1756=\"\"),\"\",INDEX(Categories!$A:$E,Entries!$D1756,4))","v":""},{"$f":"IF(OR($E1756<>0,$C1756=\"\"),\"\",INDEX(Categories!$A:$E,Entries!$D1756,5))","v":""},"2014-01-01","2014-01-01",{"$f":"(Entries!K1757-Entries!K1756)*24*60","v":0}]
["",null,null,{"$f":"MATCH(C1757,Categories!A:A,0)","v":{"$error":"#N/A"}},0,{"$f":"IF(OR($E1757<>0,$C1757=\"\"),\"\",INDEX(Categories!$A:$E,Entries!$D1757,2))","v":""},{"$f":"IF(OR($E1757<>0,$C1757=\"\"),\"\",INDEX(Categories!$A:$E,Entries!$D1757,3))","v":""},{"$f":"IF(OR($E1757<>0,$C1757=\"\"),\"\",INDEX(Categories!$A:$E,Entries!$D1757,4))","v":""},{"$f":"IF(OR($E1757<>0,$C1757=\"\"),\"\",INDEX(Categories!$A:$E,Entries!$D1757,5))","v":""},"2014-01-01","2014-01-01",{"$f":"(Entries!K1758-Entries!K1757)*24*60","v":0}]
["",null,null,{"$f":"MATCH(C1758,Categories!A:A,0)","v":{"$error":"#N/A"}},0,{"$f":"IF(OR($E1758<>0,$C1758=\"\"),\"\",INDEX(Categories!$A:$E,Entries!$D1758,2))","v":""},{"$f":"IF(OR($E1758<>0,$C1758=\"\"),\"\",INDEX(Categories!$A:$E,Entries!$D1758,3))","v":""},{"$f":"IF(OR($E1758<>0,$C1758=\"\"),\"\",INDEX(Categories!$A:$E,Entries!$D1758,4))","v":""},{"$f":"IF(OR($E1758<>0,$C1758=\"\"),\"\",INDEX(Categories!$A:$E,Entries!$D1758,5))","v":""},"2014-01-01","2014-01-01",{"$f":"(Entries!K1759-Entries!K1758)*24*60","v":0}]
["",null,null,{"$f":"MATCH(C1759,Categories!A:A,0)","v":{"$error":"#N/A"}},0,{"$f":"IF(OR($E1759<>0,$C1759=\"\"),\"\",INDEX(Categories!$A:$E,Entries!$D1759,2))","v":""},{"$f":"IF(OR($E1759<>0,$C1759=\"\"),\"\",INDEX(Categories!$A:$E,Entries!$D1759,3))","v":""},{"$f":"IF(OR($E1759<>0,$C1759=\"\"),\"\",INDEX(Categories!$A:$E,Entries!$D1759,4))","v":""},{"$f":"IF(OR($E1759<>0,$C1759=\"\"),\"\",INDEX(Categories!$A:$E,Entries!$D1759,5))","v":""},"2014-01-01","2014-01-01",{"$f":"(Entries!K1760-Entries!K1759)*24*60","v":0}]
["",null,null,{"$f":"MATCH(C1760,Categories!A:A,0)","v":{"$error":"#N/A"}},0,{"$f":"IF(OR($E1760<>0,$C1760=\"\"),\"\",INDEX(Categories!$A:$E,Entries!$D1760,2))","v":""},{"$f":"IF(OR($E1760<>0,$C1760=\"\"),\"\",INDEX(Categories!$A:$E,Entries!$D1760,3))","v":""},{"$f":"IF(OR($E1760<>0,$C1760=\"\"),\"\",INDEX(Categories!$A:$E,Entries!$D1760,4))","v":""},{"$f":"IF(OR($E1760<>0,$C1760=\"\"),\"\",INDEX(Categories!$A:$E,Entries!$D1760,5))","v":""},"2014-01-01","2014-01-01",{"$f":"(Entries!K1761-Entries!K1760)*24*60","v":0}]
["",null,null,{"$f":"MATCH(C1761,Categories!A:A,0)","v":{"$error":"#N/A"}},0,{"$f":"IF(OR($E1761<>0,$C1761=\"\"),\"\",INDEX(Categories!$A:$E,Entries!$D1761,2))","v":""},{"$f":"IF(OR($E1761<>0,$C1761=\"\"),\"\",INDEX(Categories!$A:$E,Entries!$D1761,3))","v":""},{"$f":"IF(OR($E1761<>0,$C1761=\"\"),\"\",INDEX(Categories!$A:$E,Entries!$D1761,4))","v":""},{"$f":"IF(OR($E1761<>0,$C1761=\"\"),\"\",INDEX(Categories!$A:$E,Entries!$D1761,5))","v":""},"2014-01-01","2014-01-01",{"$f":"(Entries!K1762-Entries!K1761)*24*60","v":0}]
["",null,null,{"$f":"MATCH(C1762,Categories!A:A,0)","v":{"$error":"#N/A"}},0,{"$f":"IF(OR($E1762<>0,$C1762=\"\"),\"\",INDEX(Categories!$A:$E,Entries!$D1762,2))","v":""},{"$f":"IF(OR($E1762<>0,$C1762=\"\"),\"\",INDEX(Categories!$A:$E,Entries!$D1762,3))","v":""},{"$f":"IF(OR($E1762<>0,$C1762=\"\"),\"\",INDEX(Categories!$A:$E,Entries!$D1762,4))","v":""},{"$f":"IF(OR($E1762<>0,$C1762=\"\"),\"\",INDEX(Categories!$A:$E,Entries!$D1762,5))","v":""},"2014-01-01","2014-01-01",{"$f":"(Entries!K1763-Entries!K1762)*24*60","v":0}]
["",null,null,{"$f":"MATCH(C1763,Categories!A:A,0)","v":{"$error":"#N/A"}},0,{"$f":"IF(OR($E1763<>0,$C1763=\"\"),\"\",INDEX(Categories!$A:$E,Entries!$D1763,2))","v":""},{"$f":"IF(OR($E1763<>0,$C1763=\"\"),\"\",INDEX(Categories!$A:$E,Entries!$D1763,3))","v":""},{"$f":"IF(OR($E1763<>0,$C1763=\"\"),\"\",INDEX(Categories!$A:$E,Entries!$D1763,4))","v":""},{"$f":"IF(OR($E1763<>0,$C1763=\"\"),\"\",INDEX(Categories!$A:$E,Entries!$D1763,5))","v":""},"2014-01-01","2014-01-01",{"$f":"(Entries!K1764-Entries!K1763)*24*60","v":0}]
[{"$f":"IF(OR(B1764>=B1763,C1763=\"z\",B1764=\"\"),\"\",J1763+1)","v":""},null,null,{"$f":"MATCH(C1764,Categories!A:A,0)","v":{"$error":"#N/A"}},0,{"$f":"IF(OR($E1764<>0,$C1764=\"\"),\"\",INDEX(Categories!$A:$E,Entries!$D1764,2))","v":""},{"$f":"IF(OR($E1764<>0,$C1764=\"\"),\"\",INDEX(Categories!$A:$E,Entries!$D1764,3))","v":""},{"$f":"IF(OR($E1764<>0,$C1764=\"\"),\"\",INDEX(Categories!$A:$E,Entries!$D1764,4))","v":""},{"$f":"IF(OR($E1764<>0,$C1764=\"\"),\"\",INDEX(Categories!$A:$E,Entries!$D1764,5))","v":""},"2014-01-01","2014-01-01",{"$f":"(Entries!K1765-Entries!K1764)*24*60","v":0}]
["",null,null,{"$f":"MATCH(C1765,Categories!A:A,0)","v":{"$error":"#N/A"}},0,{"$f":"IF(OR($E1765<>0,$C1765=\"\"),\"\",INDEX(Categories!$A:$E,Entries!$D1765,2))","v":""},{"$f":"IF(OR($E1765<>0,$C1765=\"\"),\"\",INDEX(Categories!$A:$E,Entries!$D1765,3))","v":""},{"$f":"IF(OR($E1765<>0,$C1765=\"\"),\"\",INDEX(Categories!$A:$E,Entries!$D1765,4))","v":""},{"$f":"IF(OR($E1765<>0,$C1765=\"\"),\"\",INDEX(Categories!$A:$E,Entries!$D1765,5))","v":""},"2014-01-01","2014-01-01",{"$f":"(Entries!K1766-Entries!K1765)*24*60","v":0}]
["",null,null,{"$f":"MATCH(C1766,Categories!A:A,0)","v":{"$error":"#N/A"}},0,{"$f":"IF(OR($E1766<>0,$C1766=\"\"),\"\",INDEX(Categories!$A:$E,Entries!$D1766,2))","v":""},{"$f":"IF(OR($E1766<>0,$C1766=\"\"),\"\",INDEX(Categories!$A:$E,Entries!$D1766,3))","v":""},{"$f":"IF(OR($E1766<>0,$C1766=\"\"),\"\",INDEX(Categories!$A:$E,Entries!$D1766,4))","v":""},{"$f":"IF(OR($E1766<>0,$C1766=\"\"),\"\",INDEX(Categories!$A:$E,Entries!$D1766,5))","v":""},"2014-01-01","2014-01-01",{"$f":"(Entries!K1767-Entries!K1766)*24*60","v":0}]
["",null,null,{"$f":"MATCH(C1767,Categories!A:A,0)","v":{"$error":"#N/A"}},0,{"$f":"IF(OR($E1767<>0,$C1767=\"\"),\"\",INDEX(Categories!$A:$E,Entries!$D1767,2))","v":""},{"$f":"IF(OR($E1767<>0,$C1767=\"\"),\"\",INDEX(Categories!$A:$E,Entries!$D1767,3))","v":""},{"$f":"IF(OR($E1767<>0,$C1767=\"\"),\"\",INDEX(Categories!$A:$E,Entries!$D1767,4))","v":""},{"$f":"IF(OR($E1767<>0,$C1767=\"\"),\"\",INDEX(Categories!$A:$E,Entries!$D1767,5))","v":""},"2014-01-01","2014-01-01",{"$f":"(Entries!K1768-Entries!K1767)*24*60","v":0}]
["",null,null,{"$f":"MATCH(C1768,Categories!A:A,0)","v":{"$error":"#N/A"}},0,{"$f":"IF(OR($E1768<>0,$C1768=\"\"),\"\",INDEX(Categories!$A:$E,Entries!$D1768,2))","v":""},{"$f":"IF(OR($E1768<>0,$C1768=\"\"),\"\",INDEX(Categories!$A:$E,Entries!$D1768,3))","v":""},{"$f":"IF(OR($E1768<>0,$C1768=\"\"),\"\",INDEX(Categories!$A:$E,Entries!$D1768,4))","v":""},{"$f":"IF(OR($E1768<>0,$C1768=\"\"),\"\",INDEX(Categories!$A:$E,Entries!$D1768,5))","v":""},"2014-01-01","2014-01-01",{"$f":"(Entries!K1769-Entries!K1768)*24*60","v":0}]
["",null,null,{"$f":"MATCH(C1769,Categories!A:A,0)","v":{"$error":"#N/A"}},0,{"$f":"IF(OR($E1769<>0,$C1769=\"\"),\"\",INDEX(Categories!$A:$E,Entries!$D1769,2))","v":""},{"$f":"IF(OR($E1769<>0,$C1769=\"\"),\"\",INDEX(Categories!$A:$E,Entries!$D1769,3))","v":""},{"$f":"IF(OR($E1769<>0,$C1769=\"\"),\"\",INDEX(Categories!$A:$E,Entries!$D1769,4))","v":""},{"$f":"IF(OR($E1769<>0,$C1769=\"\"),\"\",INDEX(Categories!$A:$E,Entries!$D1769,5))","v":""},"2014-01-01","2014-01-01",{"$f":"(Entries!K1770-Entries!K1769)*24*60","v":0}]
["",null,null,{"$f":"MATCH(C1770,Categories!A:A,0)","v":{"$error":"#N/A"}},0,{"$f":"IF(OR($E1770<>0,$C1770=\"\"),\"\",INDEX(Categories!$A:$E,Entries!$D1770,2))","v":""},{"$f":"IF(OR($E1770<>0,$C1770=\"\"),\"\",INDEX(Categories!$A:$E,Entries!$D1770,3))","v":""},{"$f":"IF(OR($E1770<>0,$C1770=\"\"),\"\",INDEX(Categories!$A:$E,Entries!$D1770,4))","v":""},{"$f":"IF(OR($E1770<>0,$C1770=\"\"),\"\",INDEX(Categories!$A:$E,Entries!$D1770,5))","v":""},"2014-01-01","2014-01-01",{"$f":"(Entries!K1771-Entries!K1770)*24*60","v":0}]
["",null,null,{"$f":"MATCH(C1771,Categories!A:A,0)","v":{"$error":"#N/A"}},0,{"$f":"IF(OR($E1771<>0,$C1771=\"\"),\"\",INDEX(Categories!$A:$E,Entries!$D1771,2))","v":""},{"$f":"IF(OR($E1771<>0,$C1771=\"\"),\"\",INDEX(Categories!$A:$E,Entries!$D1771,3))","v":""},{"$f":"IF(OR($E1771<>0,$C1771=\"\"),\"\",INDEX(Categories!$A:$E,Entries!$D1771,4))","v":""},{"$f":"IF(OR($E1771<>0,$C1771=\"\"),\"\",INDEX(Categories!$A:$E,Entries!$D1771,5))","v":""},"2014-01-01","2014-01-01",{"$f":"(Entries!K1772-Entries!K1771)*24*60","v":0}]
["",null,null,{"$f":"MATCH(C1772,Categories!A:A,0)","v":{"$error":"#N/A"}},0,{"$f":"IF(OR($E1772<>0,$C1772=\"\"),\"\",INDEX(Categories!$A:$E,Entries!$D1772,2))","v":""},{"$f":"IF(OR($E1772<>0,$C1772=\"\"),\"\",INDEX(Categories!$A:$E,Entries!$D1772,3))","v":""},{"$f":"IF(OR($E1772<>0,$C1772=\"\"),\"\",INDEX(Categories!$A:$E,Entries!$D1772,4))","v":""},{"$f":"IF(OR($E1772<>0,$C1772=\"\"),\"\",INDEX(Categories!$A:$E,Entries!$D1772,5))","v":""},"2014-01-01","2014-01-01",{"$f":"(Entries!K1773-Entries!K1772)*24*60","v":0}]
["",null,null,{"$f":"MATCH(C1773,Categories!A:A,0)","v":{"$error":"#N/A"}},0,{"$f":"IF(OR($E1773<>0,$C1773=\"\"),\"\",INDEX(Categories!$A:$E,Entries!$D1773,2))","v":""},{"$f":"IF(OR($E1773<>0,$C1773=\"\"),\"\",INDEX(Categories!$A:$E,Entries!$D1773,3))","v":""},{"$f":"IF(OR($E1773<>0,$C1773=\"\"),\"\",INDEX(Categories!$A:$E,Entries!$D1773,4))","v":""},{"$f":"IF(OR($E1773<>0,$C1773=\"\"),\"\",INDEX(Categories!$A:$E,Entries!$D1773,5))","v":""},"2014-01-01","2014-01-01",{"$f":"(Entries!K1774-Entries!K1773)*24*60","v":0}]
["",null,null,{"$f":"MATCH(C1774,Categories!A:A,0)","v":{"$error":"#N/A"}},0,{"$f":"IF(OR($E1774<>0,$C1774=\"\"),\"\",INDEX(Categories!$A:$E,Entries!$D1774,2))","v":""},{"$f":"IF(OR($E1774<>0,$C1774=\"\"),\"\",INDEX(Categories!$A:$E,Entries!$D1774,3))","v":""},{"$f":"IF(OR($E1774<>0,$C1774=\"\"),\"\",INDEX(Categories!$A:$E,Entries!$D1774,4))","v":""},{"$f":"IF(OR($E1774<>0,$C1774=\"\"),\"\",INDEX(Categories!$A:$E,Entries!$D1774,5))","v":""},"2014-01-01","2014-01-01",{"$f":"(Entries!K1775-Entries!K1774)*24*60","v":0}]
["",null,null,{"$f":"MATCH(C1775,Categories!A:A,0)","v":{"$error":"#N/A"}},0,{"$f":"IF(OR($E1775<>0,$C1775=\"\"),\"\",INDEX(Categories!$A:$E,Entries!$D1775,2))","v":""},{"$f":"IF(OR($E1775<>0,$C1775=\"\"),\"\",INDEX(Categories!$A:$E,Entries!$D1775,3))","v":""},{"$f":"IF(OR($E1775<>0,$C1775=\"\"),\"\",INDEX(Categories!$A:$E,Entries!$D1775,4))","v":""},{"$f":"IF(OR($E1775<>0,$C1775=\"\"),\"\",INDEX(Categories!$A:$E,Entries!$D1775,5))","v":""},"2014-01-01","2014-01-01",{"$f":"(Entries!K1776-Entries!K1775)*24*60","v":0}]
["",null,null,{"$f":"MATCH(C1776,Categories!A:A,0)","v":{"$error":"#N/A"}},0,{"$f":"IF(OR($E1776<>0,$C1776=\"\"),\"\",INDEX(Categories!$A:$E,Entries!$D1776,2))","v":""},{"$f":"IF(OR($E1776<>0,$C1776=\"\"),\"\",INDEX(Categories!$A:$E,Entries!$D1776,3))","v":""},{"$f":"IF(OR($E1776<>0,$C1776=\"\"),\"\",INDEX(Categories!$A:$E,Entries!$D1776,4))","v":""},{"$f":"IF(OR($E1776<>0,$C1776=\"\"),\"\",INDEX(Categories!$A:$E,Entries!$D1776,5))","v":""},"2014-01-01","2014-01-01",{"$f":"(Entries!K1777-Entries!K1776)*24*60","v":0}]
["",null,null,{"$f":"MATCH(C1777,Categories!A:A,0)","v":{"$error":"#N/A"}},0,{"$f":"IF(OR($E1777<>0,$C1777=\"\"),\"\",INDEX(Categories!$A:$E,Entries!$D1777,2))","v":""},{"$f":"IF(OR($E1777<>0,$C1777=\"\"),\"\",INDEX(Categories!$A:$E,Entries!$D1777,3))","v":""},{"$f":"IF(OR($E1777<>0,$C1777=\"\"),\"\",INDEX(Categories!$A:$E,Entries!$D1777,4))","v":""},{"$f":"IF(OR($E1777<>0,$C1777=\"\"),\"\",INDEX(Categories!$A:$E,Entries!$D1777,5))","v":""},"2014-01-01","2014-01-01",{"$f":"(Entries!K1778-Entries!K1777)*24*60","v":0}]
["",null,null,{"$f":"MATCH(C1778,Categories!A:A,0)","v":{"$error":"#N/A"}},0,{"$f":"IF(OR($E1778<>0,$C1778=\"\"),\"\",INDEX(Categories!$A:$E,Entries!$D1778,2))","v":""},{"$f":"IF(OR($E1778<>0,$C1778=\"\"),\"\",INDEX(Categories!$A:$E,Entries!$D1778,3))","v":""},{"$f":"IF(OR($E1778<>0,$C1778=\"\"),\"\",INDEX(Categories!$A:$E,Entries!$D1778,4))","v":""},{"$f":"IF(OR($E1778<>0,$C1778=\"\"),\"\",INDEX(Categories!$A:$E,Entries!$D1778,5))","v":""},"2014-01-01","2014-01-01",{"$f":"(Entries!K1779-Entries!K1778)*24*60","v":0}]
["",null,null,{"$f":"MATCH(C1779,Categories!A:A,0)","v":{"$error":"#N/A"}},0,{"$f":"IF(OR($E1779<>0,$C1779=\"\"),\"\",INDEX(Categories!$A:$E,Entries!$D1779,2))","v":""},{"$f":"IF(OR($E1779<>0,$C1779=\"\"),\"\",INDEX(Categories!$A:$E,Entries!$D1779,3))","v":""},{"$f":"IF(OR($E1779<>0,$C1779=\"\"),\"\",INDEX(Categories!$A:$E,Entries!$D1779,4))","v":""},{"$f":"IF(OR($E1779<>0,$C1779=\"\"),\"\",INDEX(Categories!$A:$E,Entries!$D1779,5))","v":""},"2014-01-01","2014-01-01",{"$f":"(Entries!K1780-Entries!K1779)*24*60","v":0}]
["",null,null,{"$f":"MATCH(C1780,Categories!A:A,0)","v":{"$error":"#N/A"}},0,{"$f":"IF(OR($E1780<>0,$C1780=\"\"),\"\",INDEX(Categories!$A:$E,Entries!$D1780,2))","v":""},{"$f":"IF(OR($E1780<>0,$C1780=\"\"),\"\",INDEX(Categories!$A:$E,Entries!$D1780,3))","v":""},{"$f":"IF(OR($E1780<>0,$C1780=\"\"),\"\",INDEX(Categories!$A:$E,Entries!$D1780,4))","v":""},{"$f":"IF(OR($E1780<>0,$C1780=\"\"),\"\",INDEX(Categories!$A:$E,Entries!$D1780,5))","v":""},"2014-01-01","2014-01-01",{"$f":"(Entries!K1781-Entries!K1780)*24*60","v":0}]
["",null,null,{"$f":"MATCH(C1781,Categories!A:A,0)","v":{"$error":"#N/A"}},0,{"$f":"IF(OR($E1781<>0,$C1781=\"\"),\"\",INDEX(Categories!$A:$E,Entries!$D1781,2))","v":""},{"$f":"IF(OR($E1781<>0,$C1781=\"\"),\"\",INDEX(Categories!$A:$E,Entries!$D1781,3))","v":""},{"$f":"IF(OR($E1781<>0,$C1781=\"\"),\"\",INDEX(Categories!$A:$E,Entries!$D1781,4))","v":""},{"$f":"IF(OR($E1781<>0,$C1781=\"\"),\"\",INDEX(Categories!$A:$E,Entries!$D1781,5))","v":""},"2014-01-01","2014-01-01",{"$f":"(Entries!K1782-Entries!K1781)*24*60","v":0}]
["",null,null,{"$f":"MATCH(C1782,Categories!A:A,0)","v":{"$error":"#N/A"}},0,{"$f":"IF(OR($E1782<>0,$C1782=\"\"),\"\",INDEX(Categories!$A:$E,Entries!$D1782,2))","v":""},{"$f":"IF(OR($E1782<>0,$C1782=\"\"),\"\",INDEX(Categories!$A:$E,Entries!$D1782,3))","v":""},{"$f":"IF(OR($E1782<>0,$C1782=\"\"),\"\",INDEX(Categories!$A:$E,Entries!$D1782,4))","v":""},{"$f":"IF(OR($E1782<>0,$C1782=\"\"),\"\",INDEX(Categories!$A:$E,Entries!$D1782,5))","v":""},"2014-01-01","2014-01-01",{"$f":"(Entries!K1783-Entries!K1782)*24*60","v":0}]
["",null,null,{"$f":"MATCH(C1783,Categories!A:A,0)","v":{"$error":"#N/A"}},0,{"$f":"IF(OR($E1783<>0,$C1783=\"\"),\"\",INDEX(Categories!$A:$E,Entries!$D1783,2))","v":""},{"$f":"IF(OR($E1783<>0,$C1783=\"\"),\"\",INDEX(Categories!$A:$E,Entries!$D1783,3))","v":""},{"$f":"IF(OR($E1783<>0,$C1783=\"\"),\"\",INDEX(Categories!$A:$E,Entries!$D1783,4))","v":""},{"$f":"IF(OR($E1783<>0,$C1783=\"\"),\"\",INDEX(Categories!$A:$E,Entries!$D1783,5))","v":""},"2014-01-01","2014-01-01",{"$f":"(Entries!K1784-Entries!K1783)*24*60","v":0}]
["",null,null,{"$f":"MATCH(C1784,Categories!A:A,0)","v":{"$error":"#N/A"}},0,{"$f":"IF(OR($E1784<>0,$C1784=\"\"),\"\",INDEX(Categories!$A:$E,Entries!$D1784,2))","v":""},{"$f":"IF(OR($E1784<>0,$C1784=\"\"),\"\",INDEX(Categories!$A:$E,Entries!$D1784,3))","v":""},{"$f":"IF(OR($E1784<>0,$C1784=\"\"),\"\",INDEX(Categories!$A:$E,Entries!$D1784,4))","v":""},{"$f":"IF(OR($E1784<>0,$C1784=\"\"),\"\",INDEX(Categories!$A:$E,Entries!$D1784,5))","v":""},"2014-01-01","2014-01-01",{"$f":"(Entries!K1785-Entries!K1784)*24*60","v":0}]
["",null,null,{"$f":"MATCH(C1785,Categories!A:A,0)","v":{"$error":"#N/A"}},0,{"$f":"IF(OR($E1785<>0,$C1785=\"\"),\"\",INDEX(Categories!$A:$E,Entries!$D1785,2))","v":""},{"$f":"IF(OR($E1785<>0,$C1785=\"\"),\"\",INDEX(Categories!$A:$E,Entries!$D1785,3))","v":""},{"$f":"IF(OR($E1785<>0,$C1785=\"\"),\"\",INDEX(Categories!$A:$E,Entries!$D1785,4))","v":""},{"$f":"IF(OR($E1785<>0,$C1785=\"\"),\"\",INDEX(Categories!$A:$E,Entries!$D1785,5))","v":""},"2014-01-01","2014-01-01",{"$f":"(Entries!K1786-Entries!K1785)*24*60","v":0}]
["",null,null,{"$f":"MATCH(C1786,Categories!A:A,0)","v":{"$error":"#N/A"}},0,{"$f":"IF(OR($E1786<>0,$C1786=\"\"),\"\",INDEX(Categories!$A:$E,Entries!$D1786,2))","v":""},{"$f":"IF(OR($E1786<>0,$C1786=\"\"),\"\",INDEX(Categories!$A:$E,Entries!$D1786,3))","v":""},{"$f":"IF(OR($E1786<>0,$C1786=\"\"),\"\",INDEX(Categories!$A:$E,Entries!$D1786,4))","v":""},{"$f":"IF(OR($E1786<>0,$C1786=\"\"),\"\",INDEX(Categories!$A:$E,Entries!$D1786,5))","v":""},"2014-01-01","2014-01-01",{"$f":"(Entries!K1787-Entries!K1786)*24*60","v":0}]
["",null,null,{"$f":"MATCH(C1787,Categories!A:A,0)","v":{"$error":"#N/A"}},0,{"$f":"IF(OR($E1787<>0,$C1787=\"\"),\"\",INDEX(Categories!$A:$E,Entries!$D1787,2))","v":""},{"$f":"IF(OR($E1787<>0,$C1787=\"\"),\"\",INDEX(Categories!$A:$E,Entries!$D1787,3))","v":""},{"$f":"IF(OR($E1787<>0,$C1787=\"\"),\"\",INDEX(Categories!$A:$E,Entries!$D1787,4))","v":""},{"$f":"IF(OR($E1787<>0,$C1787=\"\"),\"\",INDEX(Categories!$A:$E,Entries!$D1787,5))","v":""},"2014-01-01","2014-01-01",{"$f":"(Entries!K1788-Entries!K1787)*24*60","v":0}]
["",null,null,{"$f":"MATCH(C1788,Categories!A:A,0)","v":{"$error":"#N/A"}},0,{"$f":"IF(OR($E1788<>0,$C1788=\"\"),\"\",INDEX(Categories!$A:$E,Entries!$D1788,2))","v":""},{"$f":"IF(OR($E1788<>0,$C1788=\"\"),\"\",INDEX(Categories!$A:$E,Entries!$D1788,3))","v":""},{"$f":"IF(OR($E1788<>0,$C1788=\"\"),\"\",INDEX(Categories!$A:$E,Entries!$D1788,4))","v":""},{"$f":"IF(OR($E1788<>0,$C1788=\"\"),\"\",INDEX(Categories!$A:$E,Entries!$D1788,5))","v":""},"2014-01-01","2014-01-01",{"$f":"(Entries!K1789-Entries!K1788)*24*60","v":0}]
["",null,null,{"$f":"MATCH(C1789,Categories!A:A,0)","v":{"$error":"#N/A"}},0,{"$f":"IF(OR($E1789<>0,$C1789=\"\"),\"\",INDEX(Categories!$A:$E,Entries!$D1789,2))","v":""},{"$f":"IF(OR($E1789<>0,$C1789=\"\"),\"\",INDEX(Categories!$A:$E,Entries!$D1789,3))","v":""},{"$f":"IF(OR($E1789<>0,$C1789=\"\"),\"\",INDEX(Categories!$A:$E,Entries!$D1789,4))","v":""},{"$f":"IF(OR($E1789<>0,$C1789=\"\"),\"\",INDEX(Categories!$A:$E,Entries!$D1789,5))","v":""},"2014-01-01","2014-01-01",{"$f":"(Entries!K1790-Entries!K1789)*24*60","v":0}]
["",null,null,{"$f":"MATCH(C1790,Categories!A:A,0)","v":{"$error":"#N/A"}},0,{"$f":"IF(OR($E1790<>0,$C1790=\"\"),\"\",INDEX(Categories!$A:$E,Entries!$D1790,2))","v":""},{"$f":"IF(OR($E1790<>0,$C1790=\"\"),\"\",INDEX(Categories!$A:$E,Entries!$D1790,3))","v":""},{"$f":"IF(OR($E1790<>0,$C1790=\"\"),\"\",INDEX(Categories!$A:$E,Entries!$D1790,4))","v":""},{"$f":"IF(OR($E1790<>0,$C1790=\"\"),\"\",INDEX(Categories!$A:$E,Entries!$D1790,5))","v":""},"2014-01-01","2014-01-01",{"$f":"(Entries!K1791-Entries!K1790)*24*60","v":0}]
["",null,null,{"$f":"MATCH(C1791,Categories!A:A,0)","v":{"$error":"#N/A"}},0,{"$f":"IF(OR($E1791<>0,$C1791=\"\"),\"\",INDEX(Categories!$A:$E,Entries!$D1791,2))","v":""},{"$f":"IF(OR($E1791<>0,$C1791=\"\"),\"\",INDEX(Categories!$A:$E,Entries!$D1791,3))","v":""},{"$f":"IF(OR($E1791<>0,$C1791=\"\"),\"\",INDEX(Categories!$A:$E,Entries!$D1791,4))","v":""},{"$f":"IF(OR($E1791<>0,$C1791=\"\"),\"\",INDEX(Categories!$A:$E,Entries!$D1791,5))","v":""},"2014-01-01","2014-01-01",{"$f":"(Entries!K1792-Entries!K1791)*24*60","v":0}]
["",null,null,{"$f":"MATCH(C1792,Categories!A:A,0)","v":{"$error":"#N/A"}},0,{"$f":"IF(OR($E1792<>0,$C1792=\"\"),\"\",INDEX(Categories!$A:$E,Entries!$D1792,2))","v":""},{"$f":"IF(OR($E1792<>0,$C1792=\"\"),\"\",INDEX(Categories!$A:$E,Entries!$D1792,3))","v":""},{"$f":"IF(OR($E1792<>0,$C1792=\"\"),\"\",INDEX(Categories!$A:$E,Entries!$D1792,4))","v":""},{"$f":"IF(OR($E1792<>0,$C1792=\"\"),\"\",INDEX(Categories!$A:$E,Entries!$D1792,5))","v":""},"2014-01-01","2014-01-01",{"$f":"(Entries!K1793-Entries!K1792)*24*60","v":0}]
["",null,null,{"$f":"MATCH(C1793,Categories!A:A,0)","v":{"$error":"#N/A"}},0,{"$f":"IF(OR($E1793<>0,$C1793=\"\"),\"\",INDEX(Categories!$A:$E,Entries!$D1793,2))","v":""},{"$f":"IF(OR($E1793<>0,$C1793=\"\"),\"\",INDEX(Categories!$A:$E,Entries!$D1793,3))","v":""},{"$f":"IF(OR($E1793<>0,$C1793=\"\"),\"\",INDEX(Categories!$A:$E,Entries!$D1793,4))","v":""},{"$f":"IF(OR($E1793<>0,$C1793=\"\"),\"\",INDEX(Categories!$A:$E,Entries!$D1793,5))","v":""},"2014-01-01","2014-01-01",{"$f":"(Entries!K1794-Entries!K1793)*24*60","v":0}]
["",null,null,{"$f":"MATCH(C1794,Categories!A:A,0)","v":{"$error":"#N/A"}},{"$f":"IF(AND(ISERROR(D1794),C1794<>\"\"),ROW(D1794),0)","v":0},{"$f":"IF(OR($E1794<>0,$C1794=\"\"),\"\",INDEX(Categories!$A:$E,Entries!$D1794,2))","v":""},{"$f":"IF(OR($E1794<>0,$C1794=\"\"),\"\",INDEX(Categories!$A:$E,Entries!$D1794,3))","v":""},{"$f":"IF(OR($E1794<>0,$C1794=\"\"),\"\",INDEX(Categories!$A:$E,Entries!$D1794,4))","v":""},{"$f":"IF(OR($E1794<>0,$C1794=\"\"),\"\",INDEX(Categories!$A:$E,Entries!$D1794,5))","v":""},{"$f":"IF(A1794=\"\",J1793,A1794)","v":"2014-01-01"},{"$f":"J1794+B1794","v":"2014-01-01"},{"$f":"(Entries!K1795-Entries!K1794)*24*60","v":0}]
["",null,null,{"$f":"MATCH(C1795,Categories!A:A,0)","v":{"$error":"#N/A"}},0,{"$f":"IF(OR($E1795<>0,$C1795=\"\"),\"\",INDEX(Categories!$A:$E,Entries!$D1795,2))","v":""},{"$f":"IF(OR($E1795<>0,$C1795=\"\"),\"\",INDEX(Categories!$A:$E,Entries!$D1795,3))","v":""},{"$f":"IF(OR($E1795<>0,$C1795=\"\"),\"\",INDEX(Categories!$A:$E,Entries!$D1795,4))","v":""},{"$f":"IF(OR($E1795<>0,$C1795=\"\"),\"\",INDEX(Categories!$A:$E,Entries!$D1795,5))","v":""},"2014-01-01","2014-01-01",{"$f":"(Entries!K1796-Entries!K1795)*24*60","v":0}]
["",null,null,{"$f":"MATCH(C1796,Categories!A:A,0)","v":{"$error":"#N/A"}},0,{"$f":"IF(OR($E1796<>0,$C1796=\"\"),\"\",INDEX(Categories!$A:$E,Entries!$D1796,2))","v":""},{"$f":"IF(OR($E1796<>0,$C1796=\"\"),\"\",INDEX(Categories!$A:$E,Entries!$D1796,3))","v":""},{"$f":"IF(OR($E1796<>0,$C1796=\"\"),\"\",INDEX(Categories!$A:$E,Entries!$D1796,4))","v":""},{"$f":"IF(OR($E1796<>0,$C1796=\"\"),\"\",INDEX(Categories!$A:$E,Entries!$D1796,5))","v":""},"2014-01-01","2014-01-01",{"$f":"(Entries!K1797-Entries!K1796)*24*60","v":0}]
["",null,null,{"$f":"MATCH(C1797,Categories!A:A,0)","v":{"$error":"#N/A"}},0,{"$f":"IF(OR($E1797<>0,$C1797=\"\"),\"\",INDEX(Categories!$A:$E,Entries!$D1797,2))","v":""},{"$f":"IF(OR($E1797<>0,$C1797=\"\"),\"\",INDEX(Categories!$A:$E,Entries!$D1797,3))","v":""},{"$f":"IF(OR($E1797<>0,$C1797=\"\"),\"\",INDEX(Categories!$A:$E,Entries!$D1797,4))","v":""},{"$f":"IF(OR($E1797<>0,$C1797=\"\"),\"\",INDEX(Categories!$A:$E,Entries!$D1797,5))","v":""},"2014-01-01","2014-01-01",{"$f":"(Entries!K1798-Entries!K1797)*24*60","v":0}]
["",null,null,{"$f":"MATCH(C1798,Categories!A:A,0)","v":{"$error":"#N/A"}},0,{"$f":"IF(OR($E1798<>0,$C1798=\"\"),\"\",INDEX(Categories!$A:$E,Entries!$D1798,2))","v":""},{"$f":"IF(OR($E1798<>0,$C1798=\"\"),\"\",INDEX(Categories!$A:$E,Entries!$D1798,3))","v":""},{"$f":"IF(OR($E1798<>0,$C1798=\"\"),\"\",INDEX(Categories!$A:$E,Entries!$D1798,4))","v":""},{"$f":"IF(OR($E1798<>0,$C1798=\"\"),\"\",INDEX(Categories!$A:$E,Entries!$D1798,5))","v":""},"2014-01-01","2014-01-01",{"$f":"(Entries!K1799-Entries!K1798)*24*60","v":0}]
["",null,null,{"$f":"MATCH(C1799,Categories!A:A,0)","v":{"$error":"#N/A"}},0,{"$f":"IF(OR($E1799<>0,$C1799=\"\"),\"\",INDEX(Categories!$A:$E,Entries!$D1799,2))","v":""},{"$f":"IF(OR($E1799<>0,$C1799=\"\"),\"\",INDEX(Categories!$A:$E,Entries!$D1799,3))","v":""},{"$f":"IF(OR($E1799<>0,$C1799=\"\"),\"\",INDEX(Categories!$A:$E,Entries!$D1799,4))","v":""},{"$f":"IF(OR($E1799<>0,$C1799=\"\"),\"\",INDEX(Categories!$A:$E,Entries!$D1799,5))","v":""},"2014-01-01","2014-01-01",{"$f":"(Entries!K1800-Entries!K1799)*24*60","v":0}]
["",null,null,{"$f":"MATCH(C1800,Categories!A:A,0)","v":{"$error":"#N/A"}},0,{"$f":"IF(OR($E1800<>0,$C1800=\"\"),\"\",INDEX(Categories!$A:$E,Entries!$D1800,2))","v":""},{"$f":"IF(OR($E1800<>0,$C1800=\"\"),\"\",INDEX(Categories!$A:$E,Entries!$D1800,3))","v":""},{"$f":"IF(OR($E1800<>0,$C1800=\"\"),\"\",INDEX(Categories!$A:$E,Entries!$D1800,4))","v":""},{"$f":"IF(OR($E1800<>0,$C1800=\"\"),\"\",INDEX(Categories!$A:$E,Entries!$D1800,5))","v":""},"2014-01-01","2014-01-01",{"$f":"(Entries!K1801-Entries!K1800)*24*60","v":0}]
["",null,null,{"$f":"MATCH(C1801,Categories!A:A,0)","v":{"$error":"#N/A"}},0,{"$f":"IF(OR($E1801<>0,$C1801=\"\"),\"\",INDEX(Categories!$A:$E,Entries!$D1801,2))","v":""},{"$f":"IF(OR($E1801<>0,$C1801=\"\"),\"\",INDEX(Categories!$A:$E,Entries!$D1801,3))","v":""},{"$f":"IF(OR($E1801<>0,$C1801=\"\"),\"\",INDEX(Categories!$A:$E,Entries!$D1801,4))","v":""},{"$f":"IF(OR($E1801<>0,$C1801=\"\"),\"\",INDEX(Categories!$A:$E,Entries!$D1801,5))","v":""},"2014-01-01","2014-01-01",{"$f":"(Entries!K1802-Entries!K1801)*24*60","v":0}]
["",null,null,{"$f":"MATCH(C1802,Categories!A:A,0)","v":{"$error":"#N/A"}},0,{"$f":"IF(OR($E1802<>0,$C1802=\"\"),\"\",INDEX(Categories!$A:$E,Entries!$D1802,2))","v":""},{"$f":"IF(OR($E1802<>0,$C1802=\"\"),\"\",INDEX(Categories!$A:$E,Entries!$D1802,3))","v":""},{"$f":"IF(OR($E1802<>0,$C1802=\"\"),\"\",INDEX(Categories!$A:$E,Entries!$D1802,4))","v":""},{"$f":"IF(OR($E1802<>0,$C1802=\"\"),\"\",INDEX(Categories!$A:$E,Entries!$D1802,5))","v":""},"2014-01-01","2014-01-01",{"$f":"(Entries!K1803-Entries!K1802)*24*60","v":0}]
["",null,null,{"$f":"MATCH(C1803,Categories!A:A,0)","v":{"$error":"#N/A"}},0,{"$f":"IF(OR($E1803<>0,$C1803=\"\"),\"\",INDEX(Categories!$A:$E,Entries!$D1803,2))","v":""},{"$f":"IF(OR($E1803<>0,$C1803=\"\"),\"\",INDEX(Categories!$A:$E,Entries!$D1803,3))","v":""},{"$f":"IF(OR($E1803<>0,$C1803=\"\"),\"\",INDEX(Categories!$A:$E,Entries!$D1803,4))","v":""},{"$f":"IF(OR($E1803<>0,$C1803=\"\"),\"\",INDEX(Categories!$A:$E,Entries!$D1803,5))","v":""},"2014-01-01","2014-01-01",{"$f":"(Entries!K1804-Entries!K1803)*24*60","v":0}]
["",null,null,{"$f":"MATCH(C1804,Categories!A:A,0)","v":{"$error":"#N/A"}},0,{"$f":"IF(OR($E1804<>0,$C1804=\"\"),\"\",INDEX(Categories!$A:$E,Entries!$D1804,2))","v":""},{"$f":"IF(OR($E1804<>0,$C1804=\"\"),\"\",INDEX(Categories!$A:$E,Entries!$D1804,3))","v":""},{"$f":"IF(OR($E1804<>0,$C1804=\"\"),\"\",INDEX(Categories!$A:$E,Entries!$D1804,4))","v":""},{"$f":"IF(OR($E1804<>0,$C1804=\"\"),\"\",INDEX(Categories!$A:$E,Entries!$D1804,5))","v":""},"2014-01-01","2014-01-01",{"$f":"(Entries!K1805-Entries!K1804)*24*60","v":0}]
["",null,null,{"$f":"MATCH(C1805,Categories!A:A,0)","v":{"$error":"#N/A"}},0,{"$f":"IF(OR($E1805<>0,$C1805=\"\"),\"\",INDEX(Categories!$A:$E,Entries!$D1805,2))","v":""},{"$f":"IF(OR($E1805<>0,$C1805=\"\"),\"\",INDEX(Categories!$A:$E,Entries!$D1805,3))","v":""},{"$f":"IF(OR($E1805<>0,$C1805=\"\"),\"\",INDEX(Categories!$A:$E,Entries!$D1805,4))","v":""},{"$f":"IF(OR($E1805<>0,$C1805=\"\"),\"\",INDEX(Categories!$A:$E,Entries!$D1805,5))","v":""},"2014-01-01","2014-01-01",{"$f":"(Entries!K1806-Entries!K1805)*24*60","v":0}]
["",null,null,{"$f":"MATCH(C1806,Categories!A:A,0)","v":{"$error":"#N/A"}},0,{"$f":"IF(OR($E1806<>0,$C1806=\"\"),\"\",INDEX(Categories!$A:$E,Entries!$D1806,2))","v":""},{"$f":"IF(OR($E1806<>0,$C1806=\"\"),\"\",INDEX(Categories!$A:$E,Entries!$D1806,3))","v":""},{"$f":"IF(OR($E1806<>0,$C1806=\"\"),\"\",INDEX(Categories!$A:$E,Entries!$D1806,4))","v":""},{"$f":"IF(OR($E1806<>0,$C1806=\"\"),\"\",INDEX(Categories!$A:$E,Entries!$D1806,5))","v":""},"2014-01-01","2014-01-01",{"$f":"(Entries!K1807-Entries!K1806)*24*60","v":0}]
["",null,null,{"$f":"MATCH(C1807,Categories!A:A,0)","v":{"$error":"#N/A"}},0,{"$f":"IF(OR($E1807<>0,$C1807=\"\"),\"\",INDEX(Categories!$A:$E,Entries!$D1807,2))","v":""},{"$f":"IF(OR($E1807<>0,$C1807=\"\"),\"\",INDEX(Categories!$A:$E,Entries!$D1807,3))","v":""},{"$f":"IF(OR($E1807<>0,$C1807=\"\"),\"\",INDEX(Categories!$A:$E,Entries!$D1807,4))","v":""},{"$f":"IF(OR($E1807<>0,$C1807=\"\"),\"\",INDEX(Categories!$A:$E,Entries!$D1807,5))","v":""},"2014-01-01","2014-01-01",{"$f":"(Entries!K1808-Entries!K1807)*24*60","v":0}]
["",null,null,{"$f":"MATCH(C1808,Categories!A:A,0)","v":{"$error":"#N/A"}},0,{"$f":"IF(OR($E1808<>0,$C1808=\"\"),\"\",INDEX(Categories!$A:$E,Entries!$D1808,2))","v":""},{"$f":"IF(OR($E1808<>0,$C1808=\"\"),\"\",INDEX(Categories!$A:$E,Entries!$D1808,3))","v":""},{"$f":"IF(OR($E1808<>0,$C1808=\"\"),\"\",INDEX(Categories!$A:$E,Entries!$D1808,4))","v":""},{"$f":"IF(OR($E1808<>0,$C1808=\"\"),\"\",INDEX(Categories!$A:$E,Entries!$D1808,5))","v":""},"2014-01-01","2014-01-01",{"$f":"(Entries!K1809-Entries!K1808)*24*60","v":0}]
["",null,null,{"$f":"MATCH(C1809,Categories!A:A,0)","v":{"$error":"#N/A"}},0,{"$f":"IF(OR($E1809<>0,$C1809=\"\"),\"\",INDEX(Categories!$A:$E,Entries!$D1809,2))","v":""},{"$f":"IF(OR($E1809<>0,$C1809=\"\"),\"\",INDEX(Categories!$A:$E,Entries!$D1809,3))","v":""},{"$f":"IF(OR($E1809<>0,$C1809=\"\"),\"\",INDEX(Categories!$A:$E,Entries!$D1809,4))","v":""},{"$f":"IF(OR($E1809<>0,$C1809=\"\"),\"\",INDEX(Categories!$A:$E,Entries!$D1809,5))","v":""},"2014-01-01","2014-01-01",{"$f":"(Entries!K1810-Entries!K1809)*24*60","v":0}]
["",null,null,{"$f":"MATCH(C1810,Categories!A:A,0)","v":{"$error":"#N/A"}},0,{"$f":"IF(OR($E1810<>0,$C1810=\"\"),\"\",INDEX(Categories!$A:$E,Entries!$D1810,2))","v":""},{"$f":"IF(OR($E1810<>0,$C1810=\"\"),\"\",INDEX(Categories!$A:$E,Entries!$D1810,3))","v":""},{"$f":"IF(OR($E1810<>0,$C1810=\"\"),\"\",INDEX(Categories!$A:$E,Entries!$D1810,4))","v":""},{"$f":"IF(OR($E1810<>0,$C1810=\"\"),\"\",INDEX(Categories!$A:$E,Entries!$D1810,5))","v":""},"2014-01-01","2014-01-01",{"$f":"(Entries!K1811-Entries!K1810)*24*60","v":0}]
["",null,null,{"$f":"MATCH(C1811,Categories!A:A,0)","v":{"$error":"#N/A"}},0,{"$f":"IF(OR($E1811<>0,$C1811=\"\"),\"\",INDEX(Categories!$A:$E,Entries!$D1811,2))","v":""},{"$f":"IF(OR($E1811<>0,$C1811=\"\"),\"\",INDEX(Categories!$A:$E,Entries!$D1811,3))","v":""},{"$f":"IF(OR($E1811<>0,$C1811=\"\"),\"\",INDEX(Categories!$A:$E,Entries!$D1811,4))","v":""},{"$f":"IF(OR($E1811<>0,$C1811=\"\"),\"\",INDEX(Categories!$A:$E,Entries!$D1811,5))","v":""},"2014-01-01","2014-01-01",{"$f":"(Entries!K1812-Entries!K1811)*24*60","v":0}]
["",null,null,{"$f":"MATCH(C1812,Categories!A:A,0)","v":{"$error":"#N/A"}},0,{"$f":"IF(OR($E1812<>0,$C1812=\"\"),\"\",INDEX(Categories!$A:$E,Entries!$D1812,2))","v":""},{"$f":"IF(OR($E1812<>0,$C1812=\"\"),\"\",INDEX(Categories!$A:$E,Entries!$D1812,3))","v":""},{"$f":"IF(OR($E1812<>0,$C1812=\"\"),\"\",INDEX(Categories!$A:$E,Entries!$D1812,4))","v":""},{"$f":"IF(OR($E1812<>0,$C1812=\"\"),\"\",INDEX(Categories!$A:$E,Entries!$D1812,5))","v":""},"2014-01-01","2014-01-01",{"$f":"(Entries!K1813-Entries!K1812)*24*60","v":0}]
["",null,null,{"$f":"MATCH(C1813,Categories!A:A,0)","v":{"$error":"#N/A"}},0,{"$f":"IF(OR($E1813<>0,$C1813=\"\"),\"\",INDEX(Categories!$A:$E,Entries!$D1813,2))","v":""},{"$f":"IF(OR($E1813<>0,$C1813=\"\"),\"\",INDEX(Categories!$A:$E,Entries!$D1813,3))","v":""},{"$f":"IF(OR($E1813<>0,$C1813=\"\"),\"\",INDEX(Categories!$A:$E,Entries!$D1813,4))","v":""},{"$f":"IF(OR($E1813<>0,$C1813=\"\"),\"\",INDEX(Categories!$A:$E,Entries!$D1813,5))","v":""},"2014-01-01","2014-01-01",{"$f":"(Entries!K1814-Entries!K1813)*24*60","v":0}]
["",null,null,{"$f":"MATCH(C1814,Categories!A:A,0)","v":{"$error":"#N/A"}},0,{"$f":"IF(OR($E1814<>0,$C1814=\"\"),\"\",INDEX(Categories!$A:$E,Entries!$D1814,2))","v":""},{"$f":"IF(OR($E1814<>0,$C1814=\"\"),\"\",INDEX(Categories!$A:$E,Entries!$D1814,3))","v":""},{"$f":"IF(OR($E1814<>0,$C1814=\"\"),\"\",INDEX(Categories!$A:$E,Entries!$D1814,4))","v":""},{"$f":"IF(OR($E1814<>0,$C1814=\"\"),\"\",INDEX(Categories!$A:$E,Entries!$D1814,5))","v":""},"2014-01-01","2014-01-01",{"$f":"(Entries!K1815-Entries!K1814)*24*60","v":0}]
["",null,null,{"$f":"MATCH(C1815,Categories!A:A,0)","v":{"$error":"#N/A"}},0,{"$f":"IF(OR($E1815<>0,$C1815=\"\"),\"\",INDEX(Categories!$A:$E,Entries!$D1815,2))","v":""},{"$f":"IF(OR($E1815<>0,$C1815=\"\"),\"\",INDEX(Categories!$A:$E,Entries!$D1815,3))","v":""},{"$f":"IF(OR($E1815<>0,$C1815=\"\"),\"\",INDEX(Categories!$A:$E,Entries!$D1815,4))","v":""},{"$f":"IF(OR($E1815<>0,$C1815=\"\"),\"\",INDEX(Categories!$A:$E,Entries!$D1815,5))","v":""},"2014-01-01","2014-01-01",{"$f":"(Entries!K1816-Entries!K1815)*24*60","v":0}]
["",null,null,{"$f":"MATCH(C1816,Categories!A:A,0)","v":{"$error":"#N/A"}},0,{"$f":"IF(OR($E1816<>0,$C1816=\"\"),\"\",INDEX(Categories!$A:$E,Entries!$D1816,2))","v":""},{"$f":"IF(OR($E1816<>0,$C1816=\"\"),\"\",INDEX(Categories!$A:$E,Entries!$D1816,3))","v":""},{"$f":"IF(OR($E1816<>0,$C1816=\"\"),\"\",INDEX(Categories!$A:$E,Entries!$D1816,4))","v":""},{"$f":"IF(OR($E1816<>0,$C1816=\"\"),\"\",INDEX(Categories!$A:$E,Entries!$D1816,5))","v":""},"2014-01-01","2014-01-01",{"$f":"(Entries!K1817-Entries!K1816)*24*60","v":0}]
["",null,null,{"$f":"MATCH(C1817,Categories!A:A,0)","v":{"$error":"#N/A"}},0,{"$f":"IF(OR($E1817<>0,$C1817=\"\"),\"\",INDEX(Categories!$A:$E,Entries!$D1817,2))","v":""},{"$f":"IF(OR($E1817<>0,$C1817=\"\"),\"\",INDEX(Categories!$A:$E,Entries!$D1817,3))","v":""},{"$f":"IF(OR($E1817<>0,$C1817=\"\"),\"\",INDEX(Categories!$A:$E,Entries!$D1817,4))","v":""},{"$f":"IF(OR($E1817<>0,$C1817=\"\"),\"\",INDEX(Categories!$A:$E,Entries!$D1817,5))","v":""},"2014-01-01","2014-01-01",{"$f":"(Entries!K1818-Entries!K1817)*24*60","v":0}]
["",null,null,{"$f":"MATCH(C1818,Categories!A:A,0)","v":{"$error":"#N/A"}},0,{"$f":"IF(OR($E1818<>0,$C1818=\"\"),\"\",INDEX(Categories!$A:$E,Entries!$D1818,2))","v":""},{"$f":"IF(OR($E1818<>0,$C1818=\"\"),\"\",INDEX(Categories!$A:$E,Entries!$D1818,3))","v":""},{"$f":"IF(OR($E1818<>0,$C1818=\"\"),\"\",INDEX(Categories!$A:$E,Entries!$D1818,4))","v":""},{"$f":"IF(OR($E1818<>0,$C1818=\"\"),\"\",INDEX(Categories!$A:$E,Entries!$D1818,5))","v":""},"2014-01-01","2014-01-01",{"$f":"(Entries!K1819-Entries!K1818)*24*60","v":0}]
["",null,null,{"$f":"MATCH(C1819,Categories!A:A,0)","v":{"$error":"#N/A"}},0,{"$f":"IF(OR($E1819<>0,$C1819=\"\"),\"\",INDEX(Categories!$A:$E,Entries!$D1819,2))","v":""},{"$f":"IF(OR($E1819<>0,$C1819=\"\"),\"\",INDEX(Categories!$A:$E,Entries!$D1819,3))","v":""},{"$f":"IF(OR($E1819<>0,$C1819=\"\"),\"\",INDEX(Categories!$A:$E,Entries!$D1819,4))","v":""},{"$f":"IF(OR($E1819<>0,$C1819=\"\"),\"\",INDEX(Categories!$A:$E,Entries!$D1819,5))","v":""},"2014-01-01","2014-01-01",{"$f":"(Entries!K1820-Entries!K1819)*24*60","v":0}]
["",null,null,{"$f":"MATCH(C1820,Categories!A:A,0)","v":{"$error":"#N/A"}},0,{"$f":"IF(OR($E1820<>0,$C1820=\"\"),\"\",INDEX(Categories!$A:$E,Entries!$D1820,2))","v":""},{"$f":"IF(OR($E1820<>0,$C1820=\"\"),\"\",INDEX(Categories!$A:$E,Entries!$D1820,3))","v":""},{"$f":"IF(OR($E1820<>0,$C1820=\"\"),\"\",INDEX(Categories!$A:$E,Entries!$D1820,4))","v":""},{"$f":"IF(OR($E1820<>0,$C1820=\"\"),\"\",INDEX(Categories!$A:$E,Entries!$D1820,5))","v":""},"2014-01-01","2014-01-01",{"$f":"(Entries!K1821-Entries!K1820)*24*60","v":0}]
["",null,null,{"$f":"MATCH(C1821,Categories!A:A,0)","v":{"$error":"#N/A"}},0,{"$f":"IF(OR($E1821<>0,$C1821=\"\"),\"\",INDEX(Categories!$A:$E,Entries!$D1821,2))","v":""},{"$f":"IF(OR($E1821<>0,$C1821=\"\"),\"\",INDEX(Categories!$A:$E,Entries!$D1821,3))","v":""},{"$f":"IF(OR($E1821<>0,$C1821=\"\"),\"\",INDEX(Categories!$A:$E,Entries!$D1821,4))","v":""},{"$f":"IF(OR($E1821<>0,$C1821=\"\"),\"\",INDEX(Categories!$A:$E,Entries!$D1821,5))","v":""},"2014-01-01","2014-01-01",{"$f":"(Entries!K1822-Entries!K1821)*24*60","v":0}]
["",null,null,{"$f":"MATCH(C1822,Categories!A:A,0)","v":{"$error":"#N/A"}},0,{"$f":"IF(OR($E1822<>0,$C1822=\"\"),\"\",INDEX(Categories!$A:$E,Entries!$D1822,2))","v":""},{"$f":"IF(OR($E1822<>0,$C1822=\"\"),\"\",INDEX(Categories!$A:$E,Entries!$D1822,3))","v":""},{"$f":"IF(OR($E1822<>0,$C1822=\"\"),\"\",INDEX(Categories!$A:$E,Entries!$D1822,4))","v":""},{"$f":"IF(OR($E1822<>0,$C1822=\"\"),\"\",INDEX(Categories!$A:$E,Entries!$D1822,5))","v":""},"2014-01-01","2014-01-01",{"$f":"(Entries!K1823-Entries!K1822)*24*60","v":0}]
["",null,null,{"$f":"MATCH(C1823,Categories!A:A,0)","v":{"$error":"#N/A"}},0,{"$f":"IF(OR($E1823<>0,$C1823=\"\"),\"\",INDEX(Categories!$A:$E,Entries!$D1823,2))","v":""},{"$f":"IF(OR($E1823<>0,$C1823=\"\"),\"\",INDEX(Categories!$A:$E,Entries!$D1823,3))","v":""},{"$f":"IF(OR($E1823<>0,$C1823=\"\"),\"\",INDEX(Categories!$A:$E,Entries!$D1823,4))","v":""},{"$f":"IF(OR($E1823<>0,$C1823=\"\"),\"\",INDEX(Categories!$A:$E,Entries!$D1823,5))","v":""},"2014-01-01","2014-01-01",{"$f":"(Entries!K1824-Entries!K1823)*24*60","v":0}]
["",null,null,{"$f":"MATCH(C1824,Categories!A:A,0)","v":{"$error":"#N/A"}},0,{"$f":"IF(OR($E1824<>0,$C1824=\"\"),\"\",INDEX(Categories!$A:$E,Entries!$D1824,2))","v":""},{"$f":"IF(OR($E1824<>0,$C1824=\"\"),\"\",INDEX(Categories!$A:$E,Entries!$D1824,3))","v":""},{"$f":"IF(OR($E1824<>0,$C1824=\"\"),\"\",INDEX(Categories!$A:$E,Entries!$D1824,4))","v":""},{"$f":"IF(OR($E1824<>0,$C1824=\"\"),\"\",INDEX(Categories!$A:$E,Entries!$D1824,5))","v":""},"2014-01-01","2014-01-01",{"$f":"(Entries!K1825-Entries!K1824)*24*60","v":0}]
["",null,null,{"$f":"MATCH(C1825,Categories!A:A,0)","v":{"$error":"#N/A"}},0,{"$f":"IF(OR($E1825<>0,$C1825=\"\"),\"\",INDEX(Categories!$A:$E,Entries!$D1825,2))","v":""},{"$f":"IF(OR($E1825<>0,$C1825=\"\"),\"\",INDEX(Categories!$A:$E,Entries!$D1825,3))","v":""},{"$f":"IF(OR($E1825<>0,$C1825=\"\"),\"\",INDEX(Categories!$A:$E,Entries!$D1825,4))","v":""},{"$f":"IF(OR($E1825<>0,$C1825=\"\"),\"\",INDEX(Categories!$A:$E,Entries!$D1825,5))","v":""},"2014-01-01","2014-01-01",{"$f":"(Entries!K1826-Entries!K1825)*24*60","v":0}]
["",null,null,{"$f":"MATCH(C1826,Categories!A:A,0)","v":{"$error":"#N/A"}},0,{"$f":"IF(OR($E1826<>0,$C1826=\"\"),\"\",INDEX(Categories!$A:$E,Entries!$D1826,2))","v":""},{"$f":"IF(OR($E1826<>0,$C1826=\"\"),\"\",INDEX(Categories!$A:$E,Entries!$D1826,3))","v":""},{"$f":"IF(OR($E1826<>0,$C1826=\"\"),\"\",INDEX(Categories!$A:$E,Entries!$D1826,4))","v":""},{"$f":"IF(OR($E1826<>0,$C1826=\"\"),\"\",INDEX(Categories!$A:$E,Entries!$D1826,5))","v":""},"2014-01-01","2014-01-01",{"$f":"(Entries!K1827-Entries!K1826)*24*60","v":0}]
["",null,null,{"$f":"MATCH(C1827,Categories!A:A,0)","v":{"$error":"#N/A"}},0,{"$f":"IF(OR($E1827<>0,$C1827=\"\"),\"\",INDEX(Categories!$A:$E,Entries!$D1827,2))","v":""},{"$f":"IF(OR($E1827<>0,$C1827=\"\"),\"\",INDEX(Categories!$A:$E,Entries!$D1827,3))","v":""},{"$f":"IF(OR($E1827<>0,$C1827=\"\"),\"\",INDEX(Categories!$A:$E,Entries!$D1827,4))","v":""},{"$f":"IF(OR($E1827<>0,$C1827=\"\"),\"\",INDEX(Categories!$A:$E,Entries!$D1827,5))","v":""},"2014-01-01","2014-01-01",{"$f":"(Entries!K1828-Entries!K1827)*24*60","v":0}]
[{"$f":"IF(OR(B1828>=B1827,C1827=\"z\",B1828=\"\"),\"\",J1827+1)","v":""},null,null,{"$f":"MATCH(C1828,Categories!A:A,0)","v":{"$error":"#N/A"}},0,{"$f":"IF(OR($E1828<>0,$C1828=\"\"),\"\",INDEX(Categories!$A:$E,Entries!$D1828,2))","v":""},{"$f":"IF(OR($E1828<>0,$C1828=\"\"),\"\",INDEX(Categories!$A:$E,Entries!$D1828,3))","v":""},{"$f":"IF(OR($E1828<>0,$C1828=\"\"),\"\",INDEX(Categories!$A:$E,Entries!$D1828,4))","v":""},{"$f":"IF(OR($E1828<>0,$C1828=\"\"),\"\",INDEX(Categories!$A:$E,Entries!$D1828,5))","v":""},"2014-01-01","2014-01-01",{"$f":"(Entries!K1829-Entries!K1828)*24*60","v":0}]
["",null,null,{"$f":"MATCH(C1829,Categories!A:A,0)","v":{"$error":"#N/A"}},0,{"$f":"IF(OR($E1829<>0,$C1829=\"\"),\"\",INDEX(Categories!$A:$E,Entries!$D1829,2))","v":""},{"$f":"IF(OR($E1829<>0,$C1829=\"\"),\"\",INDEX(Categories!$A:$E,Entries!$D1829,3))","v":""},{"$f":"IF(OR($E1829<>0,$C1829=\"\"),\"\",INDEX(Categories!$A:$E,Entries!$D1829,4))","v":""},{"$f":"IF(OR($E1829<>0,$C1829=\"\"),\"\",INDEX(Categories!$A:$E,Entries!$D1829,5))","v":""},"2014-01-01","2014-01-01",{"$f":"(Entries!K1830-Entries!K1829)*24*60","v":0}]
["",null,null,{"$f":"MATCH(C1830,Categories!A:A,0)","v":{"$error":"#N/A"}},0,{"$f":"IF(OR($E1830<>0,$C1830=\"\"),\"\",INDEX(Categories!$A:$E,Entries!$D1830,2))","v":""},{"$f":"IF(OR($E1830<>0,$C1830=\"\"),\"\",INDEX(Categories!$A:$E,Entries!$D1830,3))","v":""},{"$f":"IF(OR($E1830<>0,$C1830=\"\"),\"\",INDEX(Categories!$A:$E,Entries!$D1830,4))","v":""},{"$f":"IF(OR($E1830<>0,$C1830=\"\"),\"\",INDEX(Categories!$A:$E,Entries!$D1830,5))","v":""},"2014-01-01","2014-01-01",{"$f":"(Entries!K1831-Entries!K1830)*24*60","v":0}]
["",null,null,{"$f":"MATCH(C1831,Categories!A:A,0)","v":{"$error":"#N/A"}},0,{"$f":"IF(OR($E1831<>0,$C1831=\"\"),\"\",INDEX(Categories!$A:$E,Entries!$D1831,2))","v":""},{"$f":"IF(OR($E1831<>0,$C1831=\"\"),\"\",INDEX(Categories!$A:$E,Entries!$D1831,3))","v":""},{"$f":"IF(OR($E1831<>0,$C1831=\"\"),\"\",INDEX(Categories!$A:$E,Entries!$D1831,4))","v":""},{"$f":"IF(OR($E1831<>0,$C1831=\"\"),\"\",INDEX(Categories!$A:$E,Entries!$D1831,5))","v":""},"2014-01-01","2014-01-01",{"$f":"(Entries!K1832-Entries!K1831)*24*60","v":0}]
["",null,null,{"$f":"MATCH(C1832,Categories!A:A,0)","v":{"$error":"#N/A"}},0,{"$f":"IF(OR($E1832<>0,$C1832=\"\"),\"\",INDEX(Categories!$A:$E,Entries!$D1832,2))","v":""},{"$f":"IF(OR($E1832<>0,$C1832=\"\"),\"\",INDEX(Categories!$A:$E,Entries!$D1832,3))","v":""},{"$f":"IF(OR($E1832<>0,$C1832=\"\"),\"\",INDEX(Categories!$A:$E,Entries!$D1832,4))","v":""},{"$f":"IF(OR($E1832<>0,$C1832=\"\"),\"\",INDEX(Categories!$A:$E,Entries!$D1832,5))","v":""},"2014-01-01","2014-01-01",{"$f":"(Entries!K1833-Entries!K1832)*24*60","v":0}]
["",null,null,{"$f":"MATCH(C1833,Categories!A:A,0)","v":{"$error":"#N/A"}},0,{"$f":"IF(OR($E1833<>0,$C1833=\"\"),\"\",INDEX(Categories!$A:$E,Entries!$D1833,2))","v":""},{"$f":"IF(OR($E1833<>0,$C1833=\"\"),\"\",INDEX(Categories!$A:$E,Entries!$D1833,3))","v":""},{"$f":"IF(OR($E1833<>0,$C1833=\"\"),\"\",INDEX(Categories!$A:$E,Entries!$D1833,4))","v":""},{"$f":"IF(OR($E1833<>0,$C1833=\"\"),\"\",INDEX(Categories!$A:$E,Entries!$D1833,5))","v":""},"2014-01-01","2014-01-01",{"$f":"(Entries!K1834-Entries!K1833)*24*60","v":0}]
["",null,null,{"$f":"MATCH(C1834,Categories!A:A,0)","v":{"$error":"#N/A"}},0,{"$f":"IF(OR($E1834<>0,$C1834=\"\"),\"\",INDEX(Categories!$A:$E,Entries!$D1834,2))","v":""},{"$f":"IF(OR($E1834<>0,$C1834=\"\"),\"\",INDEX(Categories!$A:$E,Entries!$D1834,3))","v":""},{"$f":"IF(OR($E1834<>0,$C1834=\"\"),\"\",INDEX(Categories!$A:$E,Entries!$D1834,4))","v":""},{"$f":"IF(OR($E1834<>0,$C1834=\"\"),\"\",INDEX(Categories!$A:$E,Entries!$D1834,5))","v":""},"2014-01-01","2014-01-01",{"$f":"(Entries!K1835-Entries!K1834)*24*60","v":0}]
["",null,null,{"$f":"MATCH(C1835,Categories!A:A,0)","v":{"$error":"#N/A"}},0,{"$f":"IF(OR($E1835<>0,$C1835=\"\"),\"\",INDEX(Categories!$A:$E,Entries!$D1835,2))","v":""},{"$f":"IF(OR($E1835<>0,$C1835=\"\"),\"\",INDEX(Categories!$A:$E,Entries!$D1835,3))","v":""},{"$f":"IF(OR($E1835<>0,$C1835=\"\"),\"\",INDEX(Categories!$A:$E,Entries!$D1835,4))","v":""},{"$f":"IF(OR($E1835<>0,$C1835=\"\"),\"\",INDEX(Categories!$A:$E,Entries!$D1835,5))","v":""},"2014-01-01","2014-01-01",{"$f":"(Entries!K1836-Entries!K1835)*24*60","v":0}]
["",null,null,{"$f":"MATCH(C1836,Categories!A:A,0)","v":{"$error":"#N/A"}},0,{"$f":"IF(OR($E1836<>0,$C1836=\"\"),\"\",INDEX(Categories!$A:$E,Entries!$D1836,2))","v":""},{"$f":"IF(OR($E1836<>0,$C1836=\"\"),\"\",INDEX(Categories!$A:$E,Entries!$D1836,3))","v":""},{"$f":"IF(OR($E1836<>0,$C1836=\"\"),\"\",INDEX(Categories!$A:$E,Entries!$D1836,4))","v":""},{"$f":"IF(OR($E1836<>0,$C1836=\"\"),\"\",INDEX(Categories!$A:$E,Entries!$D1836,5))","v":""},"2014-01-01","2014-01-01",{"$f":"(Entries!K1837-Entries!K1836)*24*60","v":0}]
["",null,null,{"$f":"MATCH(C1837,Categories!A:A,0)","v":{"$error":"#N/A"}},0,{"$f":"IF(OR($E1837<>0,$C1837=\"\"),\"\",INDEX(Categories!$A:$E,Entries!$D1837,2))","v":""},{"$f":"IF(OR($E1837<>0,$C1837=\"\"),\"\",INDEX(Categories!$A:$E,Entries!$D1837,3))","v":""},{"$f":"IF(OR($E1837<>0,$C1837=\"\"),\"\",INDEX(Categories!$A:$E,Entries!$D1837,4))","v":""},{"$f":"IF(OR($E1837<>0,$C1837=\"\"),\"\",INDEX(Categories!$A:$E,Entries!$D1837,5))","v":""},"2014-01-01","2014-01-01",{"$f":"(Entries!K1838-Entries!K1837)*24*60","v":0}]
["",null,null,{"$f":"MATCH(C1838,Categories!A:A,0)","v":{"$error":"#N/A"}},0,{"$f":"IF(OR($E1838<>0,$C1838=\"\"),\"\",INDEX(Categories!$A:$E,Entries!$D1838,2))","v":""},{"$f":"IF(OR($E1838<>0,$C1838=\"\"),\"\",INDEX(Categories!$A:$E,Entries!$D1838,3))","v":""},{"$f":"IF(OR($E1838<>0,$C1838=\"\"),\"\",INDEX(Categories!$A:$E,Entries!$D1838,4))","v":""},{"$f":"IF(OR($E1838<>0,$C1838=\"\"),\"\",INDEX(Categories!$A:$E,Entries!$D1838,5))","v":""},"2014-01-01","2014-01-01",{"$f":"(Entries!K1839-Entries!K1838)*24*60","v":0}]
["",null,null,{"$f":"MATCH(C1839,Categories!A:A,0)","v":{"$error":"#N/A"}},0,{"$f":"IF(OR($E1839<>0,$C1839=\"\"),\"\",INDEX(Categories!$A:$E,Entries!$D1839,2))","v":""},{"$f":"IF(OR($E1839<>0,$C1839=\"\"),\"\",INDEX(Categories!$A:$E,Entries!$D1839,3))","v":""},{"$f":"IF(OR($E1839<>0,$C1839=\"\"),\"\",INDEX(Categories!$A:$E,Entries!$D1839,4))","v":""},{"$f":"IF(OR($E1839<>0,$C1839=\"\"),\"\",INDEX(Categories!$A:$E,Entries!$D1839,5))","v":""},"2014-01-01","2014-01-01",{"$f":"(Entries!K1840-Entries!K1839)*24*60","v":0}]
["",null,null,{"$f":"MATCH(C1840,Categories!A:A,0)","v":{"$error":"#N/A"}},0,{"$f":"IF(OR($E1840<>0,$C1840=\"\"),\"\",INDEX(Categories!$A:$E,Entries!$D1840,2))","v":""},{"$f":"IF(OR($E1840<>0,$C1840=\"\"),\"\",INDEX(Categories!$A:$E,Entries!$D1840,3))","v":""},{"$f":"IF(OR($E1840<>0,$C1840=\"\"),\"\",INDEX(Categories!$A:$E,Entries!$D1840,4))","v":""},{"$f":"IF(OR($E1840<>0,$C1840=\"\"),\"\",INDEX(Categories!$A:$E,Entries!$D1840,5))","v":""},"2014-01-01","2014-01-01",{"$f":"(Entries!K1841-Entries!K1840)*24*60","v":0}]
["",null,null,{"$f":"MATCH(C1841,Categories!A:A,0)","v":{"$error":"#N/A"}},0,{"$f":"IF(OR($E1841<>0,$C1841=\"\"),\"\",INDEX(Categories!$A:$E,Entries!$D1841,2))","v":""},{"$f":"IF(OR($E1841<>0,$C1841=\"\"),\"\",INDEX(Categories!$A:$E,Entries!$D1841,3))","v":""},{"$f":"IF(OR($E1841<>0,$C1841=\"\"),\"\",INDEX(Categories!$A:$E,Entries!$D1841,4))","v":""},{"$f":"IF(OR($E1841<>0,$C1841=\"\"),\"\",INDEX(Categories!$A:$E,Entries!$D1841,5))","v":""},"2014-01-01","2014-01-01",{"$f":"(Entries!K1842-Entries!K1841)*24*60","v":0}]
["",null,null,{"$f":"MATCH(C1842,Categories!A:A,0)","v":{"$error":"#N/A"}},0,{"$f":"IF(OR($E1842<>0,$C1842=\"\"),\"\",INDEX(Categories!$A:$E,Entries!$D1842,2))","v":""},{"$f":"IF(OR($E1842<>0,$C1842=\"\"),\"\",INDEX(Categories!$A:$E,Entries!$D1842,3))","v":""},{"$f":"IF(OR($E1842<>0,$C1842=\"\"),\"\",INDEX(Categories!$A:$E,Entries!$D1842,4))","v":""},{"$f":"IF(OR($E1842<>0,$C1842=\"\"),\"\",INDEX(Categories!$A:$E,Entries!$D1842,5))","v":""},"2014-01-01","2014-01-01",{"$f":"(Entries!K1843-Entries!K1842)*24*60","v":0}]
["",null,null,{"$f":"MATCH(C1843,Categories!A:A,0)","v":{"$error":"#N/A"}},0,{"$f":"IF(OR($E1843<>0,$C1843=\"\"),\"\",INDEX(Categories!$A:$E,Entries!$D1843,2))","v":""},{"$f":"IF(OR($E1843<>0,$C1843=\"\"),\"\",INDEX(Categories!$A:$E,Entries!$D1843,3))","v":""},{"$f":"IF(OR($E1843<>0,$C1843=\"\"),\"\",INDEX(Categories!$A:$E,Entries!$D1843,4))","v":""},{"$f":"IF(OR($E1843<>0,$C1843=\"\"),\"\",INDEX(Categories!$A:$E,Entries!$D1843,5))","v":""},"2014-01-01","2014-01-01",{"$f":"(Entries!K1844-Entries!K1843)*24*60","v":0}]
["",null,null,{"$f":"MATCH(C1844,Categories!A:A,0)","v":{"$error":"#N/A"}},0,{"$f":"IF(OR($E1844<>0,$C1844=\"\"),\"\",INDEX(Categories!$A:$E,Entries!$D1844,2))","v":""},{"$f":"IF(OR($E1844<>0,$C1844=\"\"),\"\",INDEX(Categories!$A:$E,Entries!$D1844,3))","v":""},{"$f":"IF(OR($E1844<>0,$C1844=\"\"),\"\",INDEX(Categories!$A:$E,Entries!$D1844,4))","v":""},{"$f":"IF(OR($E1844<>0,$C1844=\"\"),\"\",INDEX(Categories!$A:$E,Entries!$D1844,5))","v":""},"2014-01-01","2014-01-01",{"$f":"(Entries!K1845-Entries!K1844)*24*60","v":0}]
["",null,null,{"$f":"MATCH(C1845,Categories!A:A,0)","v":{"$error":"#N/A"}},0,{"$f":"IF(OR($E1845<>0,$C1845=\"\"),\"\",INDEX(Categories!$A:$E,Entries!$D1845,2))","v":""},{"$f":"IF(OR($E1845<>0,$C1845=\"\"),\"\",INDEX(Categories!$A:$E,Entries!$D1845,3))","v":""},{"$f":"IF(OR($E1845<>0,$C1845=\"\"),\"\",INDEX(Categories!$A:$E,Entries!$D1845,4))","v":""},{"$f":"IF(OR($E1845<>0,$C1845=\"\"),\"\",INDEX(Categories!$A:$E,Entries!$D1845,5))","v":""},"2014-01-01","2014-01-01",{"$f":"(Entries!K1846-Entries!K1845)*24*60","v":0}]
["",null,null,{"$f":"MATCH(C1846,Categories!A:A,0)","v":{"$error":"#N/A"}},0,{"$f":"IF(OR($E1846<>0,$C1846=\"\"),\"\",INDEX(Categories!$A:$E,Entries!$D1846,2))","v":""},{"$f":"IF(OR($E1846<>0,$C1846=\"\"),\"\",INDEX(Categories!$A:$E,Entries!$D1846,3))","v":""},{"$f":"IF(OR($E1846<>0,$C1846=\"\"),\"\",INDEX(Categories!$A:$E,Entries!$D1846,4))","v":""},{"$f":"IF(OR($E1846<>0,$C1846=\"\"),\"\",INDEX(Categories!$A:$E,Entries!$D1846,5))","v":""},"2014-01-01","2014-01-01",{"$f":"(Entries!K1847-Entries!K1846)*24*60","v":0}]
["",null,null,{"$f":"MATCH(C1847,Categories!A:A,0)","v":{"$error":"#N/A"}},0,{"$f":"IF(OR($E1847<>0,$C1847=\"\"),\"\",INDEX(Categories!$A:$E,Entries!$D1847,2))","v":""},{"$f":"IF(OR($E1847<>0,$C1847=\"\"),\"\",INDEX(Categories!$A:$E,Entries!$D1847,3))","v":""},{"$f":"IF(OR($E1847<>0,$C1847=\"\"),\"\",INDEX(Categories!$A:$E,Entries!$D1847,4))","v":""},{"$f":"IF(OR($E1847<>0,$C1847=\"\"),\"\",INDEX(Categories!$A:$E,Entries!$D1847,5))","v":""},"2014-01-01","2014-01-01",{"$f":"(Entries!K1848-Entries!K1847)*24*60","v":0}]
["",null,null,{"$f":"MATCH(C1848,Categories!A:A,0)","v":{"$error":"#N/A"}},0,{"$f":"IF(OR($E1848<>0,$C1848=\"\"),\"\",INDEX(Categories!$A:$E,Entries!$D1848,2))","v":""},{"$f":"IF(OR($E1848<>0,$C1848=\"\"),\"\",INDEX(Categories!$A:$E,Entries!$D1848,3))","v":""},{"$f":"IF(OR($E1848<>0,$C1848=\"\"),\"\",INDEX(Categories!$A:$E,Entries!$D1848,4))","v":""},{"$f":"IF(OR($E1848<>0,$C1848=\"\"),\"\",INDEX(Categories!$A:$E,Entries!$D1848,5))","v":""},"2014-01-01","2014-01-01",{"$f":"(Entries!K1849-Entries!K1848)*24*60","v":0}]
["",null,null,{"$f":"MATCH(C1849,Categories!A:A,0)","v":{"$error":"#N/A"}},0,{"$f":"IF(OR($E1849<>0,$C1849=\"\"),\"\",INDEX(Categories!$A:$E,Entries!$D1849,2))","v":""},{"$f":"IF(OR($E1849<>0,$C1849=\"\"),\"\",INDEX(Categories!$A:$E,Entries!$D1849,3))","v":""},{"$f":"IF(OR($E1849<>0,$C1849=\"\"),\"\",INDEX(Categories!$A:$E,Entries!$D1849,4))","v":""},{"$f":"IF(OR($E1849<>0,$C1849=\"\"),\"\",INDEX(Categories!$A:$E,Entries!$D1849,5))","v":""},"2014-01-01","2014-01-01",{"$f":"(Entries!K1850-Entries!K1849)*24*60","v":0}]
["",null,null,{"$f":"MATCH(C1850,Categories!A:A,0)","v":{"$error":"#N/A"}},0,{"$f":"IF(OR($E1850<>0,$C1850=\"\"),\"\",INDEX(Categories!$A:$E,Entries!$D1850,2))","v":""},{"$f":"IF(OR($E1850<>0,$C1850=\"\"),\"\",INDEX(Categories!$A:$E,Entries!$D1850,3))","v":""},{"$f":"IF(OR($E1850<>0,$C1850=\"\"),\"\",INDEX(Categories!$A:$E,Entries!$D1850,4))","v":""},{"$f":"IF(OR($E1850<>0,$C1850=\"\"),\"\",INDEX(Categories!$A:$E,Entries!$D1850,5))","v":""},"2014-01-01","2014-01-01",{"$f":"(Entries!K1851-Entries!K1850)*24*60","v":0}]
["",null,null,{"$f":"MATCH(C1851,Categories!A:A,0)","v":{"$error":"#N/A"}},0,{"$f":"IF(OR($E1851<>0,$C1851=\"\"),\"\",INDEX(Categories!$A:$E,Entries!$D1851,2))","v":""},{"$f":"IF(OR($E1851<>0,$C1851=\"\"),\"\",INDEX(Categories!$A:$E,Entries!$D1851,3))","v":""},{"$f":"IF(OR($E1851<>0,$C1851=\"\"),\"\",INDEX(Categories!$A:$E,Entries!$D1851,4))","v":""},{"$f":"IF(OR($E1851<>0,$C1851=\"\"),\"\",INDEX(Categories!$A:$E,Entries!$D1851,5))","v":""},"2014-01-01","2014-01-01",{"$f":"(Entries!K1852-Entries!K1851)*24*60","v":0}]
["",null,null,{"$f":"MATCH(C1852,Categories!A:A,0)","v":{"$error":"#N/A"}},0,{"$f":"IF(OR($E1852<>0,$C1852=\"\"),\"\",INDEX(Categories!$A:$E,Entries!$D1852,2))","v":""},{"$f":"IF(OR($E1852<>0,$C1852=\"\"),\"\",INDEX(Categories!$A:$E,Entries!$D1852,3))","v":""},{"$f":"IF(OR($E1852<>0,$C1852=\"\"),\"\",INDEX(Categories!$A:$E,Entries!$D1852,4))","v":""},{"$f":"IF(OR($E1852<>0,$C1852=\"\"),\"\",INDEX(Categories!$A:$E,Entries!$D1852,5))","v":""},"2014-01-01","2014-01-01",{"$f":"(Entries!K1853-Entries!K1852)*24*60","v":0}]
["",null,null,{"$f":"MATCH(C1853,Categories!A:A,0)","v":{"$error":"#N/A"}},0,{"$f":"IF(OR($E1853<>0,$C1853=\"\"),\"\",INDEX(Categories!$A:$E,Entries!$D1853,2))","v":""},{"$f":"IF(OR($E1853<>0,$C1853=\"\"),\"\",INDEX(Categories!$A:$E,Entries!$D1853,3))","v":""},{"$f":"IF(OR($E1853<>0,$C1853=\"\"),\"\",INDEX(Categories!$A:$E,Entries!$D1853,4))","v":""},{"$f":"IF(OR($E1853<>0,$C1853=\"\"),\"\",INDEX(Categories!$A:$E,Entries!$D1853,5))","v":""},"2014-01-01","2014-01-01",{"$f":"(Entries!K1854-Entries!K1853)*24*60","v":0}]
["",null,null,{"$f":"MATCH(C1854,Categories!A:A,0)","v":{"$error":"#N/A"}},0,{"$f":"IF(OR($E1854<>0,$C1854=\"\"),\"\",INDEX(Categories!$A:$E,Entries!$D1854,2))","v":""},{"$f":"IF(OR($E1854<>0,$C1854=\"\"),\"\",INDEX(Categories!$A:$E,Entries!$D1854,3))","v":""},{"$f":"IF(OR($E1854<>0,$C1854=\"\"),\"\",INDEX(Categories!$A:$E,Entries!$D1854,4))","v":""},{"$f":"IF(OR($E1854<>0,$C1854=\"\"),\"\",INDEX(Categories!$A:$E,Entries!$D1854,5))","v":""},"2014-01-01","2014-01-01",{"$f":"(Entries!K1855-Entries!K1854)*24*60","v":0}]
["",null,null,{"$f":"MATCH(C1855,Categories!A:A,0)","v":{"$error":"#N/A"}},0,{"$f":"IF(OR($E1855<>0,$C1855=\"\"),\"\",INDEX(Categories!$A:$E,Entries!$D1855,2))","v":""},{"$f":"IF(OR($E1855<>0,$C1855=\"\"),\"\",INDEX(Categories!$A:$E,Entries!$D1855,3))","v":""},{"$f":"IF(OR($E1855<>0,$C1855=\"\"),\"\",INDEX(Categories!$A:$E,Entries!$D1855,4))","v":""},{"$f":"IF(OR($E1855<>0,$C1855=\"\"),\"\",INDEX(Categories!$A:$E,Entries!$D1855,5))","v":""},"2014-01-01","2014-01-01",{"$f":"(Entries!K1856-Entries!K1855)*24*60","v":0}]
["",null,null,{"$f":"MATCH(C1856,Categories!A:A,0)","v":{"$error":"#N/A"}},0,{"$f":"IF(OR($E1856<>0,$C1856=\"\"),\"\",INDEX(Categories!$A:$E,Entries!$D1856,2))","v":""},{"$f":"IF(OR($E1856<>0,$C1856=\"\"),\"\",INDEX(Categories!$A:$E,Entries!$D1856,3))","v":""},{"$f":"IF(OR($E1856<>0,$C1856=\"\"),\"\",INDEX(Categories!$A:$E,Entries!$D1856,4))","v":""},{"$f":"IF(OR($E1856<>0,$C1856=\"\"),\"\",INDEX(Categories!$A:$E,Entries!$D1856,5))","v":""},"2014-01-01","2014-01-01",{"$f":"(Entries!K1857-Entries!K1856)*24*60","v":0}]
["",null,null,{"$f":"MATCH(C1857,Categories!A:A,0)","v":{"$error":"#N/A"}},0,{"$f":"IF(OR($E1857<>0,$C1857=\"\"),\"\",INDEX(Categories!$A:$E,Entries!$D1857,2))","v":""},{"$f":"IF(OR($E1857<>0,$C1857=\"\"),\"\",INDEX(Categories!$A:$E,Entries!$D1857,3))","v":""},{"$f":"IF(OR($E1857<>0,$C1857=\"\"),\"\",INDEX(Categories!$A:$E,Entries!$D1857,4))","v":""},{"$f":"IF(OR($E1857<>0,$C1857=\"\"),\"\",INDEX(Categories!$A:$E,Entries!$D1857,5))","v":""},"2014-01-01","2014-01-01",{"$f":"(Entries!K1858-Entries!K1857)*24*60","v":0}]
["",null,null,{"$f":"MATCH(C1858,Categories!A:A,0)","v":{"$error":"#N/A"}},{"$f":"IF(AND(ISERROR(D1858),C1858<>\"\"),ROW(D1858),0)","v":0},{"$f":"IF(OR($E1858<>0,$C1858=\"\"),\"\",INDEX(Categories!$A:$E,Entries!$D1858,2))","v":""},{"$f":"IF(OR($E1858<>0,$C1858=\"\"),\"\",INDEX(Categories!$A:$E,Entries!$D1858,3))","v":""},{"$f":"IF(OR($E1858<>0,$C1858=\"\"),\"\",INDEX(Categories!$A:$E,Entries!$D1858,4))","v":""},{"$f":"IF(OR($E1858<>0,$C1858=\"\"),\"\",INDEX(Categories!$A:$E,Entries!$D1858,5))","v":""},{"$f":"IF(A1858=\"\",J1857,A1858)","v":"2014-01-01"},{"$f":"J1858+B1858","v":"2014-01-01"},{"$f":"(Entries!K1859-Entries!K1858)*24*60","v":0}]
["",null,null,{"$f":"MATCH(C1859,Categories!A:A,0)","v":{"$error":"#N/A"}},0,{"$f":"IF(OR($E1859<>0,$C1859=\"\"),\"\",INDEX(Categories!$A:$E,Entries!$D1859,2))","v":""},{"$f":"IF(OR($E1859<>0,$C1859=\"\"),\"\",INDEX(Categories!$A:$E,Entries!$D1859,3))","v":""},{"$f":"IF(OR($E1859<>0,$C1859=\"\"),\"\",INDEX(Categories!$A:$E,Entries!$D1859,4))","v":""},{"$f":"IF(OR($E1859<>0,$C1859=\"\"),\"\",INDEX(Categories!$A:$E,Entries!$D1859,5))","v":""},"2014-01-01","2014-01-01",{"$f":"(Entries!K1860-Entries!K1859)*24*60","v":0}]
["",null,null,{"$f":"MATCH(C1860,Categories!A:A,0)","v":{"$error":"#N/A"}},0,{"$f":"IF(OR($E1860<>0,$C1860=\"\"),\"\",INDEX(Categories!$A:$E,Entries!$D1860,2))","v":""},{"$f":"IF(OR($E1860<>0,$C1860=\"\"),\"\",INDEX(Categories!$A:$E,Entries!$D1860,3))","v":""},{"$f":"IF(OR($E1860<>0,$C1860=\"\"),\"\",INDEX(Categories!$A:$E,Entries!$D1860,4))","v":""},{"$f":"IF(OR($E1860<>0,$C1860=\"\"),\"\",INDEX(Categories!$A:$E,Entries!$D1860,5))","v":""},"2014-01-01","2014-01-01",{"$f":"(Entries!K1861-Entries!K1860)*24*60","v":0}]
["",null,null,{"$f":"MATCH(C1861,Categories!A:A,0)","v":{"$error":"#N/A"}},0,{"$f":"IF(OR($E1861<>0,$C1861=\"\"),\"\",INDEX(Categories!$A:$E,Entries!$D1861,2))","v":""},{"$f":"IF(OR($E1861<>0,$C1861=\"\"),\"\",INDEX(Categories!$A:$E,Entries!$D1861,3))","v":""},{"$f":"IF(OR($E1861<>0,$C1861=\"\"),\"\",INDEX(Categories!$A:$E,Entries!$D1861,4))","v":""},{"$f":"IF(OR($E1861<>0,$C1861=\"\"),\"\",INDEX(Categories!$A:$E,Entries!$D1861,5))","v":""},"2014-01-01","2014-01-01",{"$f":"(Entries!K1862-Entries!K1861)*24*60","v":0}]
["",null,null,{"$f":"MATCH(C1862,Categories!A:A,0)","v":{"$error":"#N/A"}},0,{"$f":"IF(OR($E1862<>0,$C1862=\"\"),\"\",INDEX(Categories!$A:$E,Entries!$D1862,2))","v":""},{"$f":"IF(OR($E1862<>0,$C1862=\"\"),\"\",INDEX(Categories!$A:$E,Entries!$D1862,3))","v":""},{"$f":"IF(OR($E1862<>0,$C1862=\"\"),\"\",INDEX(Categories!$A:$E,Entries!$D1862,4))","v":""},{"$f":"IF(OR($E1862<>0,$C1862=\"\"),\"\",INDEX(Categories!$A:$E,Entries!$D1862,5))","v":""},"2014-01-01","2014-01-01",{"$f":"(Entries!K1863-Entries!K1862)*24*60","v":0}]
["",null,null,{"$f":"MATCH(C1863,Categories!A:A,0)","v":{"$error":"#N/A"}},0,{"$f":"IF(OR($E1863<>0,$C1863=\"\"),\"\",INDEX(Categories!$A:$E,Entries!$D1863,2))","v":""},{"$f":"IF(OR($E1863<>0,$C1863=\"\"),\"\",INDEX(Categories!$A:$E,Entries!$D1863,3))","v":""},{"$f":"IF(OR($E1863<>0,$C1863=\"\"),\"\",INDEX(Categories!$A:$E,Entries!$D1863,4))","v":""},{"$f":"IF(OR($E1863<>0,$C1863=\"\"),\"\",INDEX(Categories!$A:$E,Entries!$D1863,5))","v":""},"2014-01-01","2014-01-01",{"$f":"(Entries!K1864-Entries!K1863)*24*60","v":0}]
["",null,null,{"$f":"MATCH(C1864,Categories!A:A,0)","v":{"$error":"#N/A"}},0,{"$f":"IF(OR($E1864<>0,$C1864=\"\"),\"\",INDEX(Categories!$A:$E,Entries!$D1864,2))","v":""},{"$f":"IF(OR($E1864<>0,$C1864=\"\"),\"\",INDEX(Categories!$A:$E,Entries!$D1864,3))","v":""},{"$f":"IF(OR($E1864<>0,$C1864=\"\"),\"\",INDEX(Categories!$A:$E,Entries!$D1864,4))","v":""},{"$f":"IF(OR($E1864<>0,$C1864=\"\"),\"\",INDEX(Categories!$A:$E,Entries!$D1864,5))","v":""},"2014-01-01","2014-01-01",{"$f":"(Entries!K1865-Entries!K1864)*24*60","v":0}]
["",null,null,{"$f":"MATCH(C1865,Categories!A:A,0)","v":{"$error":"#N/A"}},0,{"$f":"IF(OR($E1865<>0,$C1865=\"\"),\"\",INDEX(Categories!$A:$E,Entries!$D1865,2))","v":""},{"$f":"IF(OR($E1865<>0,$C1865=\"\"),\"\",INDEX(Categories!$A:$E,Entries!$D1865,3))","v":""},{"$f":"IF(OR($E1865<>0,$C1865=\"\"),\"\",INDEX(Categories!$A:$E,Entries!$D1865,4))","v":""},{"$f":"IF(OR($E1865<>0,$C1865=\"\"),\"\",INDEX(Categories!$A:$E,Entries!$D1865,5))","v":""},"2014-01-01","2014-01-01",{"$f":"(Entries!K1866-Entries!K1865)*24*60","v":0}]
["",null,null,{"$f":"MATCH(C1866,Categories!A:A,0)","v":{"$error":"#N/A"}},0,{"$f":"IF(OR($E1866<>0,$C1866=\"\"),\"\",INDEX(Categories!$A:$E,Entries!$D1866,2))","v":""},{"$f":"IF(OR($E1866<>0,$C1866=\"\"),\"\",INDEX(Categories!$A:$E,Entries!$D1866,3))","v":""},{"$f":"IF(OR($E1866<>0,$C1866=\"\"),\"\",INDEX(Categories!$A:$E,Entries!$D1866,4))","v":""},{"$f":"IF(OR($E1866<>0,$C1866=\"\"),\"\",INDEX(Categories!$A:$E,Entries!$D1866,5))","v":""},"2014-01-01","2014-01-01",{"$f":"(Entries!K1867-Entries!K1866)*24*60","v":0}]
["",null,null,{"$f":"MATCH(C1867,Categories!A:A,0)","v":{"$error":"#N/A"}},0,{"$f":"IF(OR($E1867<>0,$C1867=\"\"),\"\",INDEX(Categories!$A:$E,Entries!$D1867,2))","v":""},{"$f":"IF(OR($E1867<>0,$C1867=\"\"),\"\",INDEX(Categories!$A:$E,Entries!$D1867,3))","v":""},{"$f":"IF(OR($E1867<>0,$C1867=\"\"),\"\",INDEX(Categories!$A:$E,Entries!$D1867,4))","v":""},{"$f":"IF(OR($E1867<>0,$C1867=\"\"),\"\",INDEX(Categories!$A:$E,Entries!$D1867,5))","v":""},"2014-01-01","2014-01-01",{"$f":"(Entries!K1868-Entries!K1867)*24*60","v":0}]
["",null,null,{"$f":"MATCH(C1868,Categories!A:A,0)","v":{"$error":"#N/A"}},0,{"$f":"IF(OR($E1868<>0,$C1868=\"\"),\"\",INDEX(Categories!$A:$E,Entries!$D1868,2))","v":""},{"$f":"IF(OR($E1868<>0,$C1868=\"\"),\"\",INDEX(Categories!$A:$E,Entries!$D1868,3))","v":""},{"$f":"IF(OR($E1868<>0,$C1868=\"\"),\"\",INDEX(Categories!$A:$E,Entries!$D1868,4))","v":""},{"$f":"IF(OR($E1868<>0,$C1868=\"\"),\"\",INDEX(Categories!$A:$E,Entries!$D1868,5))","v":""},"2014-01-01","2014-01-01",{"$f":"(Entries!K1869-Entries!K1868)*24*60","v":0}]
["",null,null,{"$f":"MATCH(C1869,Categories!A:A,0)","v":{"$error":"#N/A"}},0,{"$f":"IF(OR($E1869<>0,$C1869=\"\"),\"\",INDEX(Categories!$A:$E,Entries!$D1869,2))","v":""},{"$f":"IF(OR($E1869<>0,$C1869=\"\"),\"\",INDEX(Categories!$A:$E,Entries!$D1869,3))","v":""},{"$f":"IF(OR($E1869<>0,$C1869=\"\"),\"\",INDEX(Categories!$A:$E,Entries!$D1869,4))","v":""},{"$f":"IF(OR($E1869<>0,$C1869=\"\"),\"\",INDEX(Categories!$A:$E,Entries!$D1869,5))","v":""},"2014-01-01","2014-01-01",{"$f":"(Entries!K1870-Entries!K1869)*24*60","v":0}]
["",null,null,{"$f":"MATCH(C1870,Categories!A:A,0)","v":{"$error":"#N/A"}},0,{"$f":"IF(OR($E1870<>0,$C1870=\"\"),\"\",INDEX(Categories!$A:$E,Entries!$D1870,2))","v":""},{"$f":"IF(OR($E1870<>0,$C1870=\"\"),\"\",INDEX(Categories!$A:$E,Entries!$D1870,3))","v":""},{"$f":"IF(OR($E1870<>0,$C1870=\"\"),\"\",INDEX(Categories!$A:$E,Entries!$D1870,4))","v":""},{"$f":"IF(OR($E1870<>0,$C1870=\"\"),\"\",INDEX(Categories!$A:$E,Entries!$D1870,5))","v":""},"2014-01-01","2014-01-01",{"$f":"(Entries!K1871-Entries!K1870)*24*60","v":0}]
["",null,null,{"$f":"MATCH(C1871,Categories!A:A,0)","v":{"$error":"#N/A"}},0,{"$f":"IF(OR($E1871<>0,$C1871=\"\"),\"\",INDEX(Categories!$A:$E,Entries!$D1871,2))","v":""},{"$f":"IF(OR($E1871<>0,$C1871=\"\"),\"\",INDEX(Categories!$A:$E,Entries!$D1871,3))","v":""},{"$f":"IF(OR($E1871<>0,$C1871=\"\"),\"\",INDEX(Categories!$A:$E,Entries!$D1871,4))","v":""},{"$f":"IF(OR($E1871<>0,$C1871=\"\"),\"\",INDEX(Categories!$A:$E,Entries!$D1871,5))","v":""},"2014-01-01","2014-01-01",{"$f":"(Entries!K1872-Entries!K1871)*24*60","v":0}]
["",null,null,{"$f":"MATCH(C1872,Categories!A:A,0)","v":{"$error":"#N/A"}},0,{"$f":"IF(OR($E1872<>0,$C1872=\"\"),\"\",INDEX(Categories!$A:$E,Entries!$D1872,2))","v":""},{"$f":"IF(OR($E1872<>0,$C1872=\"\"),\"\",INDEX(Categories!$A:$E,Entries!$D1872,3))","v":""},{"$f":"IF(OR($E1872<>0,$C1872=\"\"),\"\",INDEX(Categories!$A:$E,Entries!$D1872,4))","v":""},{"$f":"IF(OR($E1872<>0,$C1872=\"\"),\"\",INDEX(Categories!$A:$E,Entries!$D1872,5))","v":""},"2014-01-01","2014-01-01",{"$f":"(Entries!K1873-Entries!K1872)*24*60","v":0}]
["",null,null,{"$f":"MATCH(C1873,Categories!A:A,0)","v":{"$error":"#N/A"}},0,{"$f":"IF(OR($E1873<>0,$C1873=\"\"),\"\",INDEX(Categories!$A:$E,Entries!$D1873,2))","v":""},{"$f":"IF(OR($E1873<>0,$C1873=\"\"),\"\",INDEX(Categories!$A:$E,Entries!$D1873,3))","v":""},{"$f":"IF(OR($E1873<>0,$C1873=\"\"),\"\",INDEX(Categories!$A:$E,Entries!$D1873,4))","v":""},{"$f":"IF(OR($E1873<>0,$C1873=\"\"),\"\",INDEX(Categories!$A:$E,Entries!$D1873,5))","v":""},"2014-01-01","2014-01-01",{"$f":"(Entries!K1874-Entries!K1873)*24*60","v":0}]
["",null,null,{"$f":"MATCH(C1874,Categories!A:A,0)","v":{"$error":"#N/A"}},0,{"$f":"IF(OR($E1874<>0,$C1874=\"\"),\"\",INDEX(Categories!$A:$E,Entries!$D1874,2))","v":""},{"$f":"IF(OR($E1874<>0,$C1874=\"\"),\"\",INDEX(Categories!$A:$E,Entries!$D1874,3))","v":""},{"$f":"IF(OR($E1874<>0,$C1874=\"\"),\"\",INDEX(Categories!$A:$E,Entries!$D1874,4))","v":""},{"$f":"IF(OR($E1874<>0,$C1874=\"\"),\"\",INDEX(Categories!$A:$E,Entries!$D1874,5))","v":""},"2014-01-01","2014-01-01",{"$f":"(Entries!K1875-Entries!K1874)*24*60","v":0}]
["",null,null,{"$f":"MATCH(C1875,Categories!A:A,0)","v":{"$error":"#N/A"}},0,{"$f":"IF(OR($E1875<>0,$C1875=\"\"),\"\",INDEX(Categories!$A:$E,Entries!$D1875,2))","v":""},{"$f":"IF(OR($E1875<>0,$C1875=\"\"),\"\",INDEX(Categories!$A:$E,Entries!$D1875,3))","v":""},{"$f":"IF(OR($E1875<>0,$C1875=\"\"),\"\",INDEX(Categories!$A:$E,Entries!$D1875,4))","v":""},{"$f":"IF(OR($E1875<>0,$C1875=\"\"),\"\",INDEX(Categories!$A:$E,Entries!$D1875,5))","v":""},"2014-01-01","2014-01-01",{"$f":"(Entries!K1876-Entries!K1875)*24*60","v":0}]
["",null,null,{"$f":"MATCH(C1876,Categories!A:A,0)","v":{"$error":"#N/A"}},0,{"$f":"IF(OR($E1876<>0,$C1876=\"\"),\"\",INDEX(Categories!$A:$E,Entries!$D1876,2))","v":""},{"$f":"IF(OR($E1876<>0,$C1876=\"\"),\"\",INDEX(Categories!$A:$E,Entries!$D1876,3))","v":""},{"$f":"IF(OR($E1876<>0,$C1876=\"\"),\"\",INDEX(Categories!$A:$E,Entries!$D1876,4))","v":""},{"$f":"IF(OR($E1876<>0,$C1876=\"\"),\"\",INDEX(Categories!$A:$E,Entries!$D1876,5))","v":""},"2014-01-01","2014-01-01",{"$f":"(Entries!K1877-Entries!K1876)*24*60","v":0}]
["",null,null,{"$f":"MATCH(C1877,Categories!A:A,0)","v":{"$error":"#N/A"}},0,{"$f":"IF(OR($E1877<>0,$C1877=\"\"),\"\",INDEX(Categories!$A:$E,Entries!$D1877,2))","v":""},{"$f":"IF(OR($E1877<>0,$C1877=\"\"),\"\",INDEX(Categories!$A:$E,Entries!$D1877,3))","v":""},{"$f":"IF(OR($E1877<>0,$C1877=\"\"),\"\",INDEX(Categories!$A:$E,Entries!$D1877,4))","v":""},{"$f":"IF(OR($E1877<>0,$C1877=\"\"),\"\",INDEX(Categories!$A:$E,Entries!$D1877,5))","v":""},"2014-01-01","2014-01-01",{"$f":"(Entries!K1878-Entries!K1877)*24*60","v":0}]
["",null,null,{"$f":"MATCH(C1878,Categories!A:A,0)","v":{"$error":"#N/A"}},0,{"$f":"IF(OR($E1878<>0,$C1878=\"\"),\"\",INDEX(Categories!$A:$E,Entries!$D1878,2))","v":""},{"$f":"IF(OR($E1878<>0,$C1878=\"\"),\"\",INDEX(Categories!$A:$E,Entries!$D1878,3))","v":""},{"$f":"IF(OR($E1878<>0,$C1878=\"\"),\"\",INDEX(Categories!$A:$E,Entries!$D1878,4))","v":""},{"$f":"IF(OR($E1878<>0,$C1878=\"\"),\"\",INDEX(Categories!$A:$E,Entries!$D1878,5))","v":""},"2014-01-01","2014-01-01",{"$f":"(Entries!K1879-Entries!K1878)*24*60","v":0}]
["",null,null,{"$f":"MATCH(C1879,Categories!A:A,0)","v":{"$error":"#N/A"}},0,{"$f":"IF(OR($E1879<>0,$C1879=\"\"),\"\",INDEX(Categories!$A:$E,Entries!$D1879,2))","v":""},{"$f":"IF(OR($E1879<>0,$C1879=\"\"),\"\",INDEX(Categories!$A:$E,Entries!$D1879,3))","v":""},{"$f":"IF(OR($E1879<>0,$C1879=\"\"),\"\",INDEX(Categories!$A:$E,Entries!$D1879,4))","v":""},{"$f":"IF(OR($E1879<>0,$C1879=\"\"),\"\",INDEX(Categories!$A:$E,Entries!$D1879,5))","v":""},"2014-01-01","2014-01-01",{"$f":"(Entries!K1880-Entries!K1879)*24*60","v":0}]
["",null,null,{"$f":"MATCH(C1880,Categories!A:A,0)","v":{"$error":"#N/A"}},0,{"$f":"IF(OR($E1880<>0,$C1880=\"\"),\"\",INDEX(Categories!$A:$E,Entries!$D1880,2))","v":""},{"$f":"IF(OR($E1880<>0,$C1880=\"\"),\"\",INDEX(Categories!$A:$E,Entries!$D1880,3))","v":""},{"$f":"IF(OR($E1880<>0,$C1880=\"\"),\"\",INDEX(Categories!$A:$E,Entries!$D1880,4))","v":""},{"$f":"IF(OR($E1880<>0,$C1880=\"\"),\"\",INDEX(Categories!$A:$E,Entries!$D1880,5))","v":""},"2014-01-01","2014-01-01",{"$f":"(Entries!K1881-Entries!K1880)*24*60","v":0}]
["",null,null,{"$f":"MATCH(C1881,Categories!A:A,0)","v":{"$error":"#N/A"}},0,{"$f":"IF(OR($E1881<>0,$C1881=\"\"),\"\",INDEX(Categories!$A:$E,Entries!$D1881,2))","v":""},{"$f":"IF(OR($E1881<>0,$C1881=\"\"),\"\",INDEX(Categories!$A:$E,Entries!$D1881,3))","v":""},{"$f":"IF(OR($E1881<>0,$C1881=\"\"),\"\",INDEX(Categories!$A:$E,Entries!$D1881,4))","v":""},{"$f":"IF(OR($E1881<>0,$C1881=\"\"),\"\",INDEX(Categories!$A:$E,Entries!$D1881,5))","v":""},"2014-01-01","2014-01-01",{"$f":"(Entries!K1882-Entries!K1881)*24*60","v":0}]
["",null,null,{"$f":"MATCH(C1882,Categories!A:A,0)","v":{"$error":"#N/A"}},0,{"$f":"IF(OR($E1882<>0,$C1882=\"\"),\"\",INDEX(Categories!$A:$E,Entries!$D1882,2))","v":""},{"$f":"IF(OR($E1882<>0,$C1882=\"\"),\"\",INDEX(Categories!$A:$E,Entries!$D1882,3))","v":""},{"$f":"IF(OR($E1882<>0,$C1882=\"\"),\"\",INDEX(Categories!$A:$E,Entries!$D1882,4))","v":""},{"$f":"IF(OR($E1882<>0,$C1882=\"\"),\"\",INDEX(Categories!$A:$E,Entries!$D1882,5))","v":""},"2014-01-01","2014-01-01",{"$f":"(Entries!K1883-Entries!K1882)*24*60","v":0}]
["",null,null,{"$f":"MATCH(C1883,Categories!A:A,0)","v":{"$error":"#N/A"}},0,{"$f":"IF(OR($E1883<>0,$C1883=\"\"),\"\",INDEX(Categories!$A:$E,Entries!$D1883,2))","v":""},{"$f":"IF(OR($E1883<>0,$C1883=\"\"),\"\",INDEX(Categories!$A:$E,Entries!$D1883,3))","v":""},{"$f":"IF(OR($E1883<>0,$C1883=\"\"),\"\",INDEX(Categories!$A:$E,Entries!$D1883,4))","v":""},{"$f":"IF(OR($E1883<>0,$C1883=\"\"),\"\",INDEX(Categories!$A:$E,Entries!$D1883,5))","v":""},"2014-01-01","2014-01-01",{"$f":"(Entries!K1884-Entries!K1883)*24*60","v":0}]
["",null,null,{"$f":"MATCH(C1884,Categories!A:A,0)","v":{"$error":"#N/A"}},0,{"$f":"IF(OR($E1884<>0,$C1884=\"\"),\"\",INDEX(Categories!$A:$E,Entries!$D1884,2))","v":""},{"$f":"IF(OR($E1884<>0,$C1884=\"\"),\"\",INDEX(Categories!$A:$E,Entries!$D1884,3))","v":""},{"$f":"IF(OR($E1884<>0,$C1884=\"\"),\"\",INDEX(Categories!$A:$E,Entries!$D1884,4))","v":""},{"$f":"IF(OR($E1884<>0,$C1884=\"\"),\"\",INDEX(Categories!$A:$E,Entries!$D1884,5))","v":""},"2014-01-01","2014-01-01",{"$f":"(Entries!K1885-Entries!K1884)*24*60","v":0}]
["",null,null,{"$f":"MATCH(C1885,Categories!A:A,0)","v":{"$error":"#N/A"}},0,{"$f":"IF(OR($E1885<>0,$C1885=\"\"),\"\",INDEX(Categories!$A:$E,Entries!$D1885,2))","v":""},{"$f":"IF(OR($E1885<>0,$C1885=\"\"),\"\",INDEX(Categories!$A:$E,Entries!$D1885,3))","v":""},{"$f":"IF(OR($E1885<>0,$C1885=\"\"),\"\",INDEX(Categories!$A:$E,Entries!$D1885,4))","v":""},{"$f":"IF(OR($E1885<>0,$C1885=\"\"),\"\",INDEX(Categories!$A:$E,Entries!$D1885,5))","v":""},"2014-01-01","2014-01-01",{"$f":"(Entries!K1886-Entries!K1885)*24*60","v":0}]
["",null,null,{"$f":"MATCH(C1886,Categories!A:A,0)","v":{"$error":"#N/A"}},0,{"$f":"IF(OR($E1886<>0,$C1886=\"\"),\"\",INDEX(Categories!$A:$E,Entries!$D1886,2))","v":""},{"$f":"IF(OR($E1886<>0,$C1886=\"\"),\"\",INDEX(Categories!$A:$E,Entries!$D1886,3))","v":""},{"$f":"IF(OR($E1886<>0,$C1886=\"\"),\"\",INDEX(Categories!$A:$E,Entries!$D1886,4))","v":""},{"$f":"IF(OR($E1886<>0,$C1886=\"\"),\"\",INDEX(Categories!$A:$E,Entries!$D1886,5))","v":""},"2014-01-01","2014-01-01",{"$f":"(Entries!K1887-Entries!K1886)*24*60","v":0}]
["",null,null,{"$f":"MATCH(C1887,Categories!A:A,0)","v":{"$error":"#N/A"}},0,{"$f":"IF(OR($E1887<>0,$C1887=\"\"),\"\",INDEX(Categories!$A:$E,Entries!$D1887,2))","v":""},{"$f":"IF(OR($E1887<>0,$C1887=\"\"),\"\",INDEX(Categories!$A:$E,Entries!$D1887,3))","v":""},{"$f":"IF(OR($E1887<>0,$C1887=\"\"),\"\",INDEX(Categories!$A:$E,Entries!$D1887,4))","v":""},{"$f":"IF(OR($E1887<>0,$C1887=\"\"),\"\",INDEX(Categories!$A:$E,Entries!$D1887,5))","v":""},"2014-01-01","2014-01-01",{"$f":"(Entries!K1888-Entries!K1887)*24*60","v":0}]
["",null,null,{"$f":"MATCH(C1888,Categories!A:A,0)","v":{"$error":"#N/A"}},0,{"$f":"IF(OR($E1888<>0,$C1888=\"\"),\"\",INDEX(Categories!$A:$E,Entries!$D1888,2))","v":""},{"$f":"IF(OR($E1888<>0,$C1888=\"\"),\"\",INDEX(Categories!$A:$E,Entries!$D1888,3))","v":""},{"$f":"IF(OR($E1888<>0,$C1888=\"\"),\"\",INDEX(Categories!$A:$E,Entries!$D1888,4))","v":""},{"$f":"IF(OR($E1888<>0,$C1888=\"\"),\"\",INDEX(Categories!$A:$E,Entries!$D1888,5))","v":""},"2014-01-01","2014-01-01",{"$f":"(Entries!K1889-Entries!K1888)*24*60","v":0}]
["",null,null,{"$f":"MATCH(C1889,Categories!A:A,0)","v":{"$error":"#N/A"}},0,{"$f":"IF(OR($E1889<>0,$C1889=\"\"),\"\",INDEX(Categories!$A:$E,Entries!$D1889,2))","v":""},{"$f":"IF(OR($E1889<>0,$C1889=\"\"),\"\",INDEX(Categories!$A:$E,Entries!$D1889,3))","v":""},{"$f":"IF(OR($E1889<>0,$C1889=\"\"),\"\",INDEX(Categories!$A:$E,Entries!$D1889,4))","v":""},{"$f":"IF(OR($E1889<>0,$C1889=\"\"),\"\",INDEX(Categories!$A:$E,Entries!$D1889,5))","v":""},"2014-01-01","2014-01-01",{"$f":"(Entries!K1890-Entries!K1889)*24*60","v":0}]
["",null,null,{"$f":"MATCH(C1890,Categories!A:A,0)","v":{"$error":"#N/A"}},0,{"$f":"IF(OR($E1890<>0,$C1890=\"\"),\"\",INDEX(Categories!$A:$E,Entries!$D1890,2))","v":""},{"$f":"IF(OR($E1890<>0,$C1890=\"\"),\"\",INDEX(Categories!$A:$E,Entries!$D1890,3))","v":""},{"$f":"IF(OR($E1890<>0,$C1890=\"\"),\"\",INDEX(Categories!$A:$E,Entries!$D1890,4))","v":""},{"$f":"IF(OR($E1890<>0,$C1890=\"\"),\"\",INDEX(Categories!$A:$E,Entries!$D1890,5))","v":""},"2014-01-01","2014-01-01",{"$f":"(Entries!K1891-Entries!K1890)*24*60","v":0}]
["",null,null,{"$f":"MATCH(C1891,Categories!A:A,0)","v":{"$error":"#N/A"}},0,{"$f":"IF(OR($E1891<>0,$C1891=\"\"),\"\",INDEX(Categories!$A:$E,Entries!$D1891,2))","v":""},{"$f":"IF(OR($E1891<>0,$C1891=\"\"),\"\",INDEX(Categories!$A:$E,Entries!$D1891,3))","v":""},{"$f":"IF(OR($E1891<>0,$C1891=\"\"),\"\",INDEX(Categories!$A:$E,Entries!$D1891,4))","v":""},{"$f":"IF(OR($E1891<>0,$C1891=\"\"),\"\",INDEX(Categories!$A:$E,Entries!$D1891,5))","v":""},"2014-01-01","2014-01-01",{"$f":"(Entries!K1892-Entries!K1891)*24*60","v":0}]
[{"$f":"IF(OR(B1892>=B1891,C1891=\"z\",B1892=\"\"),\"\",J1891+1)","v":""},null,null,{"$f":"MATCH(C1892,Categories!A:A,0)","v":{"$error":"#N/A"}},0,{"$f":"IF(OR($E1892<>0,$C1892=\"\"),\"\",INDEX(Categories!$A:$E,Entries!$D1892,2))","v":""},{"$f":"IF(OR($E1892<>0,$C1892=\"\"),\"\",INDEX(Categories!$A:$E,Entries!$D1892,3))","v":""},{"$f":"IF(OR($E1892<>0,$C1892=\"\"),\"\",INDEX(Categories!$A:$E,Entries!$D1892,4))","v":""},{"$f":"IF(OR($E1892<>0,$C1892=\"\"),\"\",INDEX(Categories!$A:$E,Entries!$D1892,5))","v":""},"2014-01-01","2014-01-01",{"$f":"(Entries!K1893-Entries!K1892)*24*60","v":0}]
["",null,null,{"$f":"MATCH(C1893,Categories!A:A,0)","v":{"$error":"#N/A"}},0,{"$f":"IF(OR($E1893<>0,$C1893=\"\"),\"\",INDEX(Categories!$A:$E,Entries!$D1893,2))","v":""},{"$f":"IF(OR($E1893<>0,$C1893=\"\"),\"\",INDEX(Categories!$A:$E,Entries!$D1893,3))","v":""},{"$f":"IF(OR($E1893<>0,$C1893=\"\"),\"\",INDEX(Categories!$A:$E,Entries!$D1893,4))","v":""},{"$f":"IF(OR($E1893<>0,$C1893=\"\"),\"\",INDEX(Categories!$A:$E,Entries!$D1893,5))","v":""},"2014-01-01","2014-01-01",{"$f":"(Entries!K1894-Entries!K1893)*24*60","v":0}]
["",null,null,{"$f":"MATCH(C1894,Categories!A:A,0)","v":{"$error":"#N/A"}},0,{"$f":"IF(OR($E1894<>0,$C1894=\"\"),\"\",INDEX(Categories!$A:$E,Entries!$D1894,2))","v":""},{"$f":"IF(OR($E1894<>0,$C1894=\"\"),\"\",INDEX(Categories!$A:$E,Entries!$D1894,3))","v":""},{"$f":"IF(OR($E1894<>0,$C1894=\"\"),\"\",INDEX(Categories!$A:$E,Entries!$D1894,4))","v":""},{"$f":"IF(OR($E1894<>0,$C1894=\"\"),\"\",INDEX(Categories!$A:$E,Entries!$D1894,5))","v":""},"2014-01-01","2014-01-01",{"$f":"(Entries!K1895-Entries!K1894)*24*60","v":0}]
["",null,null,{"$f":"MATCH(C1895,Categories!A:A,0)","v":{"$error":"#N/A"}},0,{"$f":"IF(OR($E1895<>0,$C1895=\"\"),\"\",INDEX(Categories!$A:$E,Entries!$D1895,2))","v":""},{"$f":"IF(OR($E1895<>0,$C1895=\"\"),\"\",INDEX(Categories!$A:$E,Entries!$D1895,3))","v":""},{"$f":"IF(OR($E1895<>0,$C1895=\"\"),\"\",INDEX(Categories!$A:$E,Entries!$D1895,4))","v":""},{"$f":"IF(OR($E1895<>0,$C1895=\"\"),\"\",INDEX(Categories!$A:$E,Entries!$D1895,5))","v":""},"2014-01-01","2014-01-01",{"$f":"(Entries!K1896-Entries!K1895)*24*60","v":0}]
["",null,null,{"$f":"MATCH(C1896,Categories!A:A,0)","v":{"$error":"#N/A"}},0,{"$f":"IF(OR($E1896<>0,$C1896=\"\"),\"\",INDEX(Categories!$A:$E,Entries!$D1896,2))","v":""},{"$f":"IF(OR($E1896<>0,$C1896=\"\"),\"\",INDEX(Categories!$A:$E,Entries!$D1896,3))","v":""},{"$f":"IF(OR($E1896<>0,$C1896=\"\"),\"\",INDEX(Categories!$A:$E,Entries!$D1896,4))","v":""},{"$f":"IF(OR($E1896<>0,$C1896=\"\"),\"\",INDEX(Categories!$A:$E,Entries!$D1896,5))","v":""},"2014-01-01","2014-01-01",{"$f":"(Entries!K1897-Entries!K1896)*24*60","v":0}]
["",null,null,{"$f":"MATCH(C1897,Categories!A:A,0)","v":{"$error":"#N/A"}},0,{"$f":"IF(OR($E1897<>0,$C1897=\"\"),\"\",INDEX(Categories!$A:$E,Entries!$D1897,2))","v":""},{"$f":"IF(OR($E1897<>0,$C1897=\"\"),\"\",INDEX(Categories!$A:$E,Entries!$D1897,3))","v":""},{"$f":"IF(OR($E1897<>0,$C1897=\"\"),\"\",INDEX(Categories!$A:$E,Entries!$D1897,4))","v":""},{"$f":"IF(OR($E1897<>0,$C1897=\"\"),\"\",INDEX(Categories!$A:$E,Entries!$D1897,5))","v":""},"2014-01-01","2014-01-01",{"$f":"(Entries!K1898-Entries!K1897)*24*60","v":0}]
["",null,null,{"$f":"MATCH(C1898,Categories!A:A,0)","v":{"$error":"#N/A"}},0,{"$f":"IF(OR($E1898<>0,$C1898=\"\"),\"\",INDEX(Categories!$A:$E,Entries!$D1898,2))","v":""},{"$f":"IF(OR($E1898<>0,$C1898=\"\"),\"\",INDEX(Categories!$A:$E,Entries!$D1898,3))","v":""},{"$f":"IF(OR($E1898<>0,$C1898=\"\"),\"\",INDEX(Categories!$A:$E,Entries!$D1898,4))","v":""},{"$f":"IF(OR($E1898<>0,$C1898=\"\"),\"\",INDEX(Categories!$A:$E,Entries!$D1898,5))","v":""},"2014-01-01","2014-01-01",{"$f":"(Entries!K1899-Entries!K1898)*24*60","v":0}]
["",null,null,{"$f":"MATCH(C1899,Categories!A:A,0)","v":{"$error":"#N/A"}},0,{"$f":"IF(OR($E1899<>0,$C1899=\"\"),\"\",INDEX(Categories!$A:$E,Entries!$D1899,2))","v":""},{"$f":"IF(OR($E1899<>0,$C1899=\"\"),\"\",INDEX(Categories!$A:$E,Entries!$D1899,3))","v":""},{"$f":"IF(OR($E1899<>0,$C1899=\"\"),\"\",INDEX(Categories!$A:$E,Entries!$D1899,4))","v":""},{"$f":"IF(OR($E1899<>0,$C1899=\"\"),\"\",INDEX(Categories!$A:$E,Entries!$D1899,5))","v":""},"2014-01-01","2014-01-01",{"$f":"(Entries!K1900-Entries!K1899)*24*60","v":0}]
["",null,null,{"$f":"MATCH(C1900,Categories!A:A,0)","v":{"$error":"#N/A"}},0,{"$f":"IF(OR($E1900<>0,$C1900=\"\"),\"\",INDEX(Categories!$A:$E,Entries!$D1900,2))","v":""},{"$f":"IF(OR($E1900<>0,$C1900=\"\"),\"\",INDEX(Categories!$A:$E,Entries!$D1900,3))","v":""},{"$f":"IF(OR($E1900<>0,$C1900=\"\"),\"\",INDEX(Categories!$A:$E,Entries!$D1900,4))","v":""},{"$f":"IF(OR($E1900<>0,$C1900=\"\"),\"\",INDEX(Categories!$A:$E,Entries!$D1900,5))","v":""},"2014-01-01","2014-01-01",{"$f":"(Entries!K1901-Entries!K1900)*24*60","v":0}]
["",null,null,{"$f":"MATCH(C1901,Categories!A:A,0)","v":{"$error":"#N/A"}},0,{"$f":"IF(OR($E1901<>0,$C1901=\"\"),\"\",INDEX(Categories!$A:$E,Entries!$D1901,2))","v":""},{"$f":"IF(OR($E1901<>0,$C1901=\"\"),\"\",INDEX(Categories!$A:$E,Entries!$D1901,3))","v":""},{"$f":"IF(OR($E1901<>0,$C1901=\"\"),\"\",INDEX(Categories!$A:$E,Entries!$D1901,4))","v":""},{"$f":"IF(OR($E1901<>0,$C1901=\"\"),\"\",INDEX(Categories!$A:$E,Entries!$D1901,5))","v":""},"2014-01-01","2014-01-01",{"$f":"(Entries!K1902-Entries!K1901)*24*60","v":0}]
["",null,null,{"$f":"MATCH(C1902,Categories!A:A,0)","v":{"$error":"#N/A"}},0,{"$f":"IF(OR($E1902<>0,$C1902=\"\"),\"\",INDEX(Categories!$A:$E,Entries!$D1902,2))","v":""},{"$f":"IF(OR($E1902<>0,$C1902=\"\"),\"\",INDEX(Categories!$A:$E,Entries!$D1902,3))","v":""},{"$f":"IF(OR($E1902<>0,$C1902=\"\"),\"\",INDEX(Categories!$A:$E,Entries!$D1902,4))","v":""},{"$f":"IF(OR($E1902<>0,$C1902=\"\"),\"\",INDEX(Categories!$A:$E,Entries!$D1902,5))","v":""},"2014-01-01","2014-01-01",{"$f":"(Entries!K1903-Entries!K1902)*24*60","v":0}]
["",null,null,{"$f":"MATCH(C1903,Categories!A:A,0)","v":{"$error":"#N/A"}},0,{"$f":"IF(OR($E1903<>0,$C1903=\"\"),\"\",INDEX(Categories!$A:$E,Entries!$D1903,2))","v":""},{"$f":"IF(OR($E1903<>0,$C1903=\"\"),\"\",INDEX(Categories!$A:$E,Entries!$D1903,3))","v":""},{"$f":"IF(OR($E1903<>0,$C1903=\"\"),\"\",INDEX(Categories!$A:$E,Entries!$D1903,4))","v":""},{"$f":"IF(OR($E1903<>0,$C1903=\"\"),\"\",INDEX(Categories!$A:$E,Entries!$D1903,5))","v":""},"2014-01-01","2014-01-01",{"$f":"(Entries!K1904-Entries!K1903)*24*60","v":0}]
["",null,null,{"$f":"MATCH(C1904,Categories!A:A,0)","v":{"$error":"#N/A"}},0,{"$f":"IF(OR($E1904<>0,$C1904=\"\"),\"\",INDEX(Categories!$A:$E,Entries!$D1904,2))","v":""},{"$f":"IF(OR($E1904<>0,$C1904=\"\"),\"\",INDEX(Categories!$A:$E,Entries!$D1904,3))","v":""},{"$f":"IF(OR($E1904<>0,$C1904=\"\"),\"\",INDEX(Categories!$A:$E,Entries!$D1904,4))","v":""},{"$f":"IF(OR($E1904<>0,$C1904=\"\"),\"\",INDEX(Categories!$A:$E,Entries!$D1904,5))","v":""},"2014-01-01","2014-01-01",{"$f":"(Entries!K1905-Entries!K1904)*24*60","v":0}]
["",null,null,{"$f":"MATCH(C1905,Categories!A:A,0)","v":{"$error":"#N/A"}},0,{"$f":"IF(OR($E1905<>0,$C1905=\"\"),\"\",INDEX(Categories!$A:$E,Entries!$D1905,2))","v":""},{"$f":"IF(OR($E1905<>0,$C1905=\"\"),\"\",INDEX(Categories!$A:$E,Entries!$D1905,3))","v":""},{"$f":"IF(OR($E1905<>0,$C1905=\"\"),\"\",INDEX(Categories!$A:$E,Entries!$D1905,4))","v":""},{"$f":"IF(OR($E1905<>0,$C1905=\"\"),\"\",INDEX(Categories!$A:$E,Entries!$D1905,5))","v":""},"2014-01-01","2014-01-01",{"$f":"(Entries!K1906-Entries!K1905)*24*60","v":0}]
["",null,null,{"$f":"MATCH(C1906,Categories!A:A,0)","v":{"$error":"#N/A"}},0,{"$f":"IF(OR($E1906<>0,$C1906=\"\"),\"\",INDEX(Categories!$A:$E,Entries!$D1906,2))","v":""},{"$f":"IF(OR($E1906<>0,$C1906=\"\"),\"\",INDEX(Categories!$A:$E,Entries!$D1906,3))","v":""},{"$f":"IF(OR($E1906<>0,$C1906=\"\"),\"\",INDEX(Categories!$A:$E,Entries!$D1906,4))","v":""},{"$f":"IF(OR($E1906<>0,$C1906=\"\"),\"\",INDEX(Categories!$A:$E,Entries!$D1906,5))","v":""},"2014-01-01","2014-01-01",{"$f":"(Entries!K1907-Entries!K1906)*24*60","v":0}]
["",null,null,{"$f":"MATCH(C1907,Categories!A:A,0)","v":{"$error":"#N/A"}},0,{"$f":"IF(OR($E1907<>0,$C1907=\"\"),\"\",INDEX(Categories!$A:$E,Entries!$D1907,2))","v":""},{"$f":"IF(OR($E1907<>0,$C1907=\"\"),\"\",INDEX(Categories!$A:$E,Entries!$D1907,3))","v":""},{"$f":"IF(OR($E1907<>0,$C1907=\"\"),\"\",INDEX(Categories!$A:$E,Entries!$D1907,4))","v":""},{"$f":"IF(OR($E1907<>0,$C1907=\"\"),\"\",INDEX(Categories!$A:$E,Entries!$D1907,5))","v":""},"2014-01-01","2014-01-01",{"$f":"(Entries!K1908-Entries!K1907)*24*60","v":0}]
["",null,null,{"$f":"MATCH(C1908,Categories!A:A,0)","v":{"$error":"#N/A"}},0,{"$f":"IF(OR($E1908<>0,$C1908=\"\"),\"\",INDEX(Categories!$A:$E,Entries!$D1908,2))","v":""},{"$f":"IF(OR($E1908<>0,$C1908=\"\"),\"\",INDEX(Categories!$A:$E,Entries!$D1908,3))","v":""},{"$f":"IF(OR($E1908<>0,$C1908=\"\"),\"\",INDEX(Categories!$A:$E,Entries!$D1908,4))","v":""},{"$f":"IF(OR($E1908<>0,$C1908=\"\"),\"\",INDEX(Categories!$A:$E,Entries!$D1908,5))","v":""},"2014-01-01","2014-01-01",{"$f":"(Entries!K1909-Entries!K1908)*24*60","v":0}]
["",null,null,{"$f":"MATCH(C1909,Categories!A:A,0)","v":{"$error":"#N/A"}},0,{"$f":"IF(OR($E1909<>0,$C1909=\"\"),\"\",INDEX(Categories!$A:$E,Entries!$D1909,2))","v":""},{"$f":"IF(OR($E1909<>0,$C1909=\"\"),\"\",INDEX(Categories!$A:$E,Entries!$D1909,3))","v":""},{"$f":"IF(OR($E1909<>0,$C1909=\"\"),\"\",INDEX(Categories!$A:$E,Entries!$D1909,4))","v":""},{"$f":"IF(OR($E1909<>0,$C1909=\"\"),\"\",INDEX(Categories!$A:$E,Entries!$D1909,5))","v":""},"2014-01-01","2014-01-01",{"$f":"(Entries!K1910-Entries!K1909)*24*60","v":0}]
["",null,null,{"$f":"MATCH(C1910,Categories!A:A,0)","v":{"$error":"#N/A"}},0,{"$f":"IF(OR($E1910<>0,$C1910=\"\"),\"\",INDEX(Categories!$A:$E,Entries!$D1910,2))","v":""},{"$f":"IF(OR($E1910<>0,$C1910=\"\"),\"\",INDEX(Categories!$A:$E,Entries!$D1910,3))","v":""},{"$f":"IF(OR($E1910<>0,$C1910=\"\"),\"\",INDEX(Categories!$A:$E,Entries!$D1910,4))","v":""},{"$f":"IF(OR($E1910<>0,$C1910=\"\"),\"\",INDEX(Categories!$A:$E,Entries!$D1910,5))","v":""},"2014-01-01","2014-01-01",{"$f":"(Entries!K1911-Entries!K1910)*24*60","v":0}]
["",null,null,{"$f":"MATCH(C1911,Categories!A:A,0)","v":{"$error":"#N/A"}},0,{"$f":"IF(OR($E1911<>0,$C1911=\"\"),\"\",INDEX(Categories!$A:$E,Entries!$D1911,2))","v":""},{"$f":"IF(OR($E1911<>0,$C1911=\"\"),\"\",INDEX(Categories!$A:$E,Entries!$D1911,3))","v":""},{"$f":"IF(OR($E1911<>0,$C1911=\"\"),\"\",INDEX(Categories!$A:$E,Entries!$D1911,4))","v":""},{"$f":"IF(OR($E1911<>0,$C1911=\"\"),\"\",INDEX(Categories!$A:$E,Entries!$D1911,5))","v":""},"2014-01-01","2014-01-01",{"$f":"(Entries!K1912-Entries!K1911)*24*60","v":0}]
["",null,null,{"$f":"MATCH(C1912,Categories!A:A,0)","v":{"$error":"#N/A"}},0,{"$f":"IF(OR($E1912<>0,$C1912=\"\"),\"\",INDEX(Categories!$A:$E,Entries!$D1912,2))","v":""},{"$f":"IF(OR($E1912<>0,$C1912=\"\"),\"\",INDEX(Categories!$A:$E,Entries!$D1912,3))","v":""},{"$f":"IF(OR($E1912<>0,$C1912=\"\"),\"\",INDEX(Categories!$A:$E,Entries!$D1912,4))","v":""},{"$f":"IF(OR($E1912<>0,$C1912=\"\"),\"\",INDEX(Categories!$A:$E,Entries!$D1912,5))","v":""},"2014-01-01","2014-01-01",{"$f":"(Entries!K1913-Entries!K1912)*24*60","v":0}]
["",null,null,{"$f":"MATCH(C1913,Categories!A:A,0)","v":{"$error":"#N/A"}},0,{"$f":"IF(OR($E1913<>0,$C1913=\"\"),\"\",INDEX(Categories!$A:$E,Entries!$D1913,2))","v":""},{"$f":"IF(OR($E1913<>0,$C1913=\"\"),\"\",INDEX(Categories!$A:$E,Entries!$D1913,3))","v":""},{"$f":"IF(OR($E1913<>0,$C1913=\"\"),\"\",INDEX(Categories!$A:$E,Entries!$D1913,4))","v":""},{"$f":"IF(OR($E1913<>0,$C1913=\"\"),\"\",INDEX(Categories!$A:$E,Entries!$D1913,5))","v":""},"2014-01-01","2014-01-01",{"$f":"(Entries!K1914-Entries!K1913)*24*60","v":0}]
["",null,null,{"$f":"MATCH(C1914,Categories!A:A,0)","v":{"$error":"#N/A"}},0,{"$f":"IF(OR($E1914<>0,$C1914=\"\"),\"\",INDEX(Categories!$A:$E,Entries!$D1914,2))","v":""},{"$f":"IF(OR($E1914<>0,$C1914=\"\"),\"\",INDEX(Categories!$A:$E,Entries!$D1914,3))","v":""},{"$f":"IF(OR($E1914<>0,$C1914=\"\"),\"\",INDEX(Categories!$A:$E,Entries!$D1914,4))","v":""},{"$f":"IF(OR($E1914<>0,$C1914=\"\"),\"\",INDEX(Categories!$A:$E,Entries!$D1914,5))","v":""},"2014-01-01","2014-01-01",{"$f":"(Entries!K1915-Entries!K1914)*24*60","v":0}]
["",null,null,{"$f":"MATCH(C1915,Categories!A:A,0)","v":{"$error":"#N/A"}},0,{"$f":"IF(OR($E1915<>0,$C1915=\"\"),\"\",INDEX(Categories!$A:$E,Entries!$D1915,2))","v":""},{"$f":"IF(OR($E1915<>0,$C1915=\"\"),\"\",INDEX(Categories!$A:$E,Entries!$D1915,3))","v":""},{"$f":"IF(OR($E1915<>0,$C1915=\"\"),\"\",INDEX(Categories!$A:$E,Entries!$D1915,4))","v":""},{"$f":"IF(OR($E1915<>0,$C1915=\"\"),\"\",INDEX(Categories!$A:$E,Entries!$D1915,5))","v":""},"2014-01-01","2014-01-01",{"$f":"(Entries!K1916-Entries!K1915)*24*60","v":0}]
["",null,null,{"$f":"MATCH(C1916,Categories!A:A,0)","v":{"$error":"#N/A"}},0,{"$f":"IF(OR($E1916<>0,$C1916=\"\"),\"\",INDEX(Categories!$A:$E,Entries!$D1916,2))","v":""},{"$f":"IF(OR($E1916<>0,$C1916=\"\"),\"\",INDEX(Categories!$A:$E,Entries!$D1916,3))","v":""},{"$f":"IF(OR($E1916<>0,$C1916=\"\"),\"\",INDEX(Categories!$A:$E,Entries!$D1916,4))","v":""},{"$f":"IF(OR($E1916<>0,$C1916=\"\"),\"\",INDEX(Categories!$A:$E,Entries!$D1916,5))","v":""},"2014-01-01","2014-01-01",{"$f":"(Entries!K1917-Entries!K1916)*24*60","v":0}]
["",null,null,{"$f":"MATCH(C1917,Categories!A:A,0)","v":{"$error":"#N/A"}},0,{"$f":"IF(OR($E1917<>0,$C1917=\"\"),\"\",INDEX(Categories!$A:$E,Entries!$D1917,2))","v":""},{"$f":"IF(OR($E1917<>0,$C1917=\"\"),\"\",INDEX(Categories!$A:$E,Entries!$D1917,3))","v":""},{"$f":"IF(OR($E1917<>0,$C1917=\"\"),\"\",INDEX(Categories!$A:$E,Entries!$D1917,4))","v":""},{"$f":"IF(OR($E1917<>0,$C1917=\"\"),\"\",INDEX(Categories!$A:$E,Entries!$D1917,5))","v":""},"2014-01-01","2014-01-01",{"$f":"(Entries!K1918-Entries!K1917)*24*60","v":0}]
["",null,null,{"$f":"MATCH(C1918,Categories!A:A,0)","v":{"$error":"#N/A"}},0,{"$f":"IF(OR($E1918<>0,$C1918=\"\"),\"\",INDEX(Categories!$A:$E,Entries!$D1918,2))","v":""},{"$f":"IF(OR($E1918<>0,$C1918=\"\"),\"\",INDEX(Categories!$A:$E,Entries!$D1918,3))","v":""},{"$f":"IF(OR($E1918<>0,$C1918=\"\"),\"\",INDEX(Categories!$A:$E,Entries!$D1918,4))","v":""},{"$f":"IF(OR($E1918<>0,$C1918=\"\"),\"\",INDEX(Categories!$A:$E,Entries!$D1918,5))","v":""},"2014-01-01","2014-01-01",{"$f":"(Entries!K1919-Entries!K1918)*24*60","v":0}]
["",null,null,{"$f":"MATCH(C1919,Categories!A:A,0)","v":{"$error":"#N/A"}},0,{"$f":"IF(OR($E1919<>0,$C1919=\"\"),\"\",INDEX(Categories!$A:$E,Entries!$D1919,2))","v":""},{"$f":"IF(OR($E1919<>0,$C1919=\"\"),\"\",INDEX(Categories!$A:$E,Entries!$D1919,3))","v":""},{"$f":"IF(OR($E1919<>0,$C1919=\"\"),\"\",INDEX(Categories!$A:$E,Entries!$D1919,4))","v":""},{"$f":"IF(OR($E1919<>0,$C1919=\"\"),\"\",INDEX(Categories!$A:$E,Entries!$D1919,5))","v":""},"2014-01-01","2014-01-01",{"$f":"(Entries!K1920-Entries!K1919)*24*60","v":0}]
["",null,null,{"$f":"MATCH(C1920,Categories!A:A,0)","v":{"$error":"#N/A"}},0,{"$f":"IF(OR($E1920<>0,$C1920=\"\"),\"\",INDEX(Categories!$A:$E,Entries!$D1920,2))","v":""},{"$f":"IF(OR($E1920<>0,$C1920=\"\"),\"\",INDEX(Categories!$A:$E,Entries!$D1920,3))","v":""},{"$f":"IF(OR($E1920<>0,$C1920=\"\"),\"\",INDEX(Categories!$A:$E,Entries!$D1920,4))","v":""},{"$f":"IF(OR($E1920<>0,$C1920=\"\"),\"\",INDEX(Categories!$A:$E,Entries!$D1920,5))","v":""},"2014-01-01","2014-01-01",{"$f":"(Entries!K1921-Entries!K1920)*24*60","v":0}]
["",null,null,{"$f":"MATCH(C1921,Categories!A:A,0)","v":{"$error":"#N/A"}},0,{"$f":"IF(OR($E1921<>0,$C1921=\"\"),\"\",INDEX(Categories!$A:$E,Entries!$D1921,2))","v":""},{"$f":"IF(OR($E1921<>0,$C1921=\"\"),\"\",INDEX(Categories!$A:$E,Entries!$D1921,3))","v":""},{"$f":"IF(OR($E1921<>0,$C1921=\"\"),\"\",INDEX(Categories!$A:$E,Entries!$D1921,4))","v":""},{"$f":"IF(OR($E1921<>0,$C1921=\"\"),\"\",INDEX(Categories!$A:$E,Entries!$D1921,5))","v":""},"2014-01-01","2014-01-01",{"$f":"(Entries!K1922-Entries!K1921)*24*60","v":0}]
["",null,null,{"$f":"MATCH(C1922,Categories!A:A,0)","v":{"$error":"#N/A"}},{"$f":"IF(AND(ISERROR(D1922),C1922<>\"\"),ROW(D1922),0)","v":0},{"$f":"IF(OR($E1922<>0,$C1922=\"\"),\"\",INDEX(Categories!$A:$E,Entries!$D1922,2))","v":""},{"$f":"IF(OR($E1922<>0,$C1922=\"\"),\"\",INDEX(Categories!$A:$E,Entries!$D1922,3))","v":""},{"$f":"IF(OR($E1922<>0,$C1922=\"\"),\"\",INDEX(Categories!$A:$E,Entries!$D1922,4))","v":""},{"$f":"IF(OR($E1922<>0,$C1922=\"\"),\"\",INDEX(Categories!$A:$E,Entries!$D1922,5))","v":""},{"$f":"IF(A1922=\"\",J1921,A1922)","v":"2014-01-01"},{"$f":"J1922+B1922","v":"2014-01-01"},{"$f":"(Entries!K1923-Entries!K1922)*24*60","v":0}]
["",null,null,{"$f":"MATCH(C1923,Categories!A:A,0)","v":{"$error":"#N/A"}},0,{"$f":"IF(OR($E1923<>0,$C1923=\"\"),\"\",INDEX(Categories!$A:$E,Entries!$D1923,2))","v":""},{"$f":"IF(OR($E1923<>0,$C1923=\"\"),\"\",INDEX(Categories!$A:$E,Entries!$D1923,3))","v":""},{"$f":"IF(OR($E1923<>0,$C1923=\"\"),\"\",INDEX(Categories!$A:$E,Entries!$D1923,4))","v":""},{"$f":"IF(OR($E1923<>0,$C1923=\"\"),\"\",INDEX(Categories!$A:$E,Entries!$D1923,5))","v":""},"2014-01-01","2014-01-01",{"$f":"(Entries!K1924-Entries!K1923)*24*60","v":0}]
["",null,null,{"$f":"MATCH(C1924,Categories!A:A,0)","v":{"$error":"#N/A"}},0,{"$f":"IF(OR($E1924<>0,$C1924=\"\"),\"\",INDEX(Categories!$A:$E,Entries!$D1924,2))","v":""},{"$f":"IF(OR($E1924<>0,$C1924=\"\"),\"\",INDEX(Categories!$A:$E,Entries!$D1924,3))","v":""},{"$f":"IF(OR($E1924<>0,$C1924=\"\"),\"\",INDEX(Categories!$A:$E,Entries!$D1924,4))","v":""},{"$f":"IF(OR($E1924<>0,$C1924=\"\"),\"\",INDEX(Categories!$A:$E,Entries!$D1924,5))","v":""},"2014-01-01","2014-01-01",{"$f":"(Entries!K1925-Entries!K1924)*24*60","v":0}]
["",null,null,{"$f":"MATCH(C1925,Categories!A:A,0)","v":{"$error":"#N/A"}},0,{"$f":"IF(OR($E1925<>0,$C1925=\"\"),\"\",INDEX(Categories!$A:$E,Entries!$D1925,2))","v":""},{"$f":"IF(OR($E1925<>0,$C1925=\"\"),\"\",INDEX(Categories!$A:$E,Entries!$D1925,3))","v":""},{"$f":"IF(OR($E1925<>0,$C1925=\"\"),\"\",INDEX(Categories!$A:$E,Entries!$D1925,4))","v":""},{"$f":"IF(OR($E1925<>0,$C1925=\"\"),\"\",INDEX(Categories!$A:$E,Entries!$D1925,5))","v":""},"2014-01-01","2014-01-01",{"$f":"(Entries!K1926-Entries!K1925)*24*60","v":0}]
["",null,null,{"$f":"MATCH(C1926,Categories!A:A,0)","v":{"$error":"#N/A"}},0,{"$f":"IF(OR($E1926<>0,$C1926=\"\"),\"\",INDEX(Categories!$A:$E,Entries!$D1926,2))","v":""},{"$f":"IF(OR($E1926<>0,$C1926=\"\"),\"\",INDEX(Categories!$A:$E,Entries!$D1926,3))","v":""},{"$f":"IF(OR($E1926<>0,$C1926=\"\"),\"\",INDEX(Categories!$A:$E,Entries!$D1926,4))","v":""},{"$f":"IF(OR($E1926<>0,$C1926=\"\"),\"\",INDEX(Categories!$A:$E,Entries!$D1926,5))","v":""},"2014-01-01","2014-01-01",{"$f":"(Entries!K1927-Entries!K1926)*24*60","v":0}]
["",null,null,{"$f":"MATCH(C1927,Categories!A:A,0)","v":{"$error":"#N/A"}},0,{"$f":"IF(OR($E1927<>0,$C1927=\"\"),\"\",INDEX(Categories!$A:$E,Entries!$D1927,2))","v":""},{"$f":"IF(OR($E1927<>0,$C1927=\"\"),\"\",INDEX(Categories!$A:$E,Entries!$D1927,3))","v":""},{"$f":"IF(OR($E1927<>0,$C1927=\"\"),\"\",INDEX(Categories!$A:$E,Entries!$D1927,4))","v":""},{"$f":"IF(OR($E1927<>0,$C1927=\"\"),\"\",INDEX(Categories!$A:$E,Entries!$D1927,5))","v":""},"2014-01-01","2014-01-01",{"$f":"(Entries!K1928-Entries!K1927)*24*60","v":0}]
["",null,null,{"$f":"MATCH(C1928,Categories!A:A,0)","v":{"$error":"#N/A"}},0,{"$f":"IF(OR($E1928<>0,$C1928=\"\"),\"\",INDEX(Categories!$A:$E,Entries!$D1928,2))","v":""},{"$f":"IF(OR($E1928<>0,$C1928=\"\"),\"\",INDEX(Categories!$A:$E,Entries!$D1928,3))","v":""},{"$f":"IF(OR($E1928<>0,$C1928=\"\"),\"\",INDEX(Categories!$A:$E,Entries!$D1928,4))","v":""},{"$f":"IF(OR($E1928<>0,$C1928=\"\"),\"\",INDEX(Categories!$A:$E,Entries!$D1928,5))","v":""},"2014-01-01","2014-01-01",{"$f":"(Entries!K1929-Entries!K1928)*24*60","v":0}]
["",null,null,{"$f":"MATCH(C1929,Categories!A:A,0)","v":{"$error":"#N/A"}},0,{"$f":"IF(OR($E1929<>0,$C1929=\"\"),\"\",INDEX(Categories!$A:$E,Entries!$D1929,2))","v":""},{"$f":"IF(OR($E1929<>0,$C1929=\"\"),\"\",INDEX(Categories!$A:$E,Entries!$D1929,3))","v":""},{"$f":"IF(OR($E1929<>0,$C1929=\"\"),\"\",INDEX(Categories!$A:$E,Entries!$D1929,4))","v":""},{"$f":"IF(OR($E1929<>0,$C1929=\"\"),\"\",INDEX(Categories!$A:$E,Entries!$D1929,5))","v":""},"2014-01-01","2014-01-01",{"$f":"(Entries!K1930-Entries!K1929)*24*60","v":0}]
["",null,null,{"$f":"MATCH(C1930,Categories!A:A,0)","v":{"$error":"#N/A"}},0,{"$f":"IF(OR($E1930<>0,$C1930=\"\"),\"\",INDEX(Categories!$A:$E,Entries!$D1930,2))","v":""},{"$f":"IF(OR($E1930<>0,$C1930=\"\"),\"\",INDEX(Categories!$A:$E,Entries!$D1930,3))","v":""},{"$f":"IF(OR($E1930<>0,$C1930=\"\"),\"\",INDEX(Categories!$A:$E,Entries!$D1930,4))","v":""},{"$f":"IF(OR($E1930<>0,$C1930=\"\"),\"\",INDEX(Categories!$A:$E,Entries!$D1930,5))","v":""},"2014-01-01","2014-01-01",{"$f":"(Entries!K1931-Entries!K1930)*24*60","v":0}]
["",null,null,{"$f":"MATCH(C1931,Categories!A:A,0)","v":{"$error":"#N/A"}},0,{"$f":"IF(OR($E1931<>0,$C1931=\"\"),\"\",INDEX(Categories!$A:$E,Entries!$D1931,2))","v":""},{"$f":"IF(OR($E1931<>0,$C1931=\"\"),\"\",INDEX(Categories!$A:$E,Entries!$D1931,3))","v":""},{"$f":"IF(OR($E1931<>0,$C1931=\"\"),\"\",INDEX(Categories!$A:$E,Entries!$D1931,4))","v":""},{"$f":"IF(OR($E1931<>0,$C1931=\"\"),\"\",INDEX(Categories!$A:$E,Entries!$D1931,5))","v":""},"2014-01-01","2014-01-01",{"$f":"(Entries!K1932-Entries!K1931)*24*60","v":0}]
["",null,null,{"$f":"MATCH(C1932,Categories!A:A,0)","v":{"$error":"#N/A"}},0,{"$f":"IF(OR($E1932<>0,$C1932=\"\"),\"\",INDEX(Categories!$A:$E,Entries!$D1932,2))","v":""},{"$f":"IF(OR($E1932<>0,$C1932=\"\"),\"\",INDEX(Categories!$A:$E,Entries!$D1932,3))","v":""},{"$f":"IF(OR($E1932<>0,$C1932=\"\"),\"\",INDEX(Categories!$A:$E,Entries!$D1932,4))","v":""},{"$f":"IF(OR($E1932<>0,$C1932=\"\"),\"\",INDEX(Categories!$A:$E,Entries!$D1932,5))","v":""},"2014-01-01","2014-01-01",{"$f":"(Entries!K1933-Entries!K1932)*24*60","v":0}]
["",null,null,{"$f":"MATCH(C1933,Categories!A:A,0)","v":{"$error":"#N/A"}},0,{"$f":"IF(OR($E1933<>0,$C1933=\"\"),\"\",INDEX(Categories!$A:$E,Entries!$D1933,2))","v":""},{"$f":"IF(OR($E1933<>0,$C1933=\"\"),\"\",INDEX(Categories!$A:$E,Entries!$D1933,3))","v":""},{"$f":"IF(OR($E1933<>0,$C1933=\"\"),\"\",INDEX(Categories!$A:$E,Entries!$D1933,4))","v":""},{"$f":"IF(OR($E1933<>0,$C1933=\"\"),\"\",INDEX(Categories!$A:$E,Entries!$D1933,5))","v":""},"2014-01-01","2014-01-01",{"$f":"(Entries!K1934-Entries!K1933)*24*60","v":0}]
["",null,null,{"$f":"MATCH(C1934,Categories!A:A,0)","v":{"$error":"#N/A"}},0,{"$f":"IF(OR($E1934<>0,$C1934=\"\"),\"\",INDEX(Categories!$A:$E,Entries!$D1934,2))","v":""},{"$f":"IF(OR($E1934<>0,$C1934=\"\"),\"\",INDEX(Categories!$A:$E,Entries!$D1934,3))","v":""},{"$f":"IF(OR($E1934<>0,$C1934=\"\"),\"\",INDEX(Categories!$A:$E,Entries!$D1934,4))","v":""},{"$f":"IF(OR($E1934<>0,$C1934=\"\"),\"\",INDEX(Categories!$A:$E,Entries!$D1934,5))","v":""},"2014-01-01","2014-01-01",{"$f":"(Entries!K1935-Entries!K1934)*24*60","v":0}]
["",null,null,{"$f":"MATCH(C1935,Categories!A:A,0)","v":{"$error":"#N/A"}},0,{"$f":"IF(OR($E1935<>0,$C1935=\"\"),\"\",INDEX(Categories!$A:$E,Entries!$D1935,2))","v":""},{"$f":"IF(OR($E1935<>0,$C1935=\"\"),\"\",INDEX(Categories!$A:$E,Entries!$D1935,3))","v":""},{"$f":"IF(OR($E1935<>0,$C1935=\"\"),\"\",INDEX(Categories!$A:$E,Entries!$D1935,4))","v":""},{"$f":"IF(OR($E1935<>0,$C1935=\"\"),\"\",INDEX(Categories!$A:$E,Entries!$D1935,5))","v":""},"2014-01-01","2014-01-01",{"$f":"(Entries!K1936-Entries!K1935)*24*60","v":0}]
["",null,null,{"$f":"MATCH(C1936,Categories!A:A,0)","v":{"$error":"#N/A"}},0,{"$f":"IF(OR($E1936<>0,$C1936=\"\"),\"\",INDEX(Categories!$A:$E,Entries!$D1936,2))","v":""},{"$f":"IF(OR($E1936<>0,$C1936=\"\"),\"\",INDEX(Categories!$A:$E,Entries!$D1936,3))","v":""},{"$f":"IF(OR($E1936<>0,$C1936=\"\"),\"\",INDEX(Categories!$A:$E,Entries!$D1936,4))","v":""},{"$f":"IF(OR($E1936<>0,$C1936=\"\"),\"\",INDEX(Categories!$A:$E,Entries!$D1936,5))","v":""},"2014-01-01","2014-01-01",{"$f":"(Entries!K1937-Entries!K1936)*24*60","v":0}]
["",null,null,{"$f":"MATCH(C1937,Categories!A:A,0)","v":{"$error":"#N/A"}},0,{"$f":"IF(OR($E1937<>0,$C1937=\"\"),\"\",INDEX(Categories!$A:$E,Entries!$D1937,2))","v":""},{"$f":"IF(OR($E1937<>0,$C1937=\"\"),\"\",INDEX(Categories!$A:$E,Entries!$D1937,3))","v":""},{"$f":"IF(OR($E1937<>0,$C1937=\"\"),\"\",INDEX(Categories!$A:$E,Entries!$D1937,4))","v":""},{"$f":"IF(OR($E1937<>0,$C1937=\"\"),\"\",INDEX(Categories!$A:$E,Entries!$D1937,5))","v":""},"2014-01-01","2014-01-01",{"$f":"(Entries!K1938-Entries!K1937)*24*60","v":0}]
["",null,null,{"$f":"MATCH(C1938,Categories!A:A,0)","v":{"$error":"#N/A"}},0,{"$f":"IF(OR($E1938<>0,$C1938=\"\"),\"\",INDEX(Categories!$A:$E,Entries!$D1938,2))","v":""},{"$f":"IF(OR($E1938<>0,$C1938=\"\"),\"\",INDEX(Categories!$A:$E,Entries!$D1938,3))","v":""},{"$f":"IF(OR($E1938<>0,$C1938=\"\"),\"\",INDEX(Categories!$A:$E,Entries!$D1938,4))","v":""},{"$f":"IF(OR($E1938<>0,$C1938=\"\"),\"\",INDEX(Categories!$A:$E,Entries!$D1938,5))","v":""},"2014-01-01","2014-01-01",{"$f":"(Entries!K1939-Entries!K1938)*24*60","v":0}]
["",null,null,{"$f":"MATCH(C1939,Categories!A:A,0)","v":{"$error":"#N/A"}},0,{"$f":"IF(OR($E1939<>0,$C1939=\"\"),\"\",INDEX(Categories!$A:$E,Entries!$D1939,2))","v":""},{"$f":"IF(OR($E1939<>0,$C1939=\"\"),\"\",INDEX(Categories!$A:$E,Entries!$D1939,3))","v":""},{"$f":"IF(OR($E1939<>0,$C1939=\"\"),\"\",INDEX(Categories!$A:$E,Entries!$D1939,4))","v":""},{"$f":"IF(OR($E1939<>0,$C1939=\"\"),\"\",INDEX(Categories!$A:$E,Entries!$D1939,5))","v":""},"2014-01-01","2014-01-01",{"$f":"(Entries!K1940-Entries!K1939)*24*60","v":0}]
["",null,null,{"$f":"MATCH(C1940,Categories!A:A,0)","v":{"$error":"#N/A"}},0,{"$f":"IF(OR($E1940<>0,$C1940=\"\"),\"\",INDEX(Categories!$A:$E,Entries!$D1940,2))","v":""},{"$f":"IF(OR($E1940<>0,$C1940=\"\"),\"\",INDEX(Categories!$A:$E,Entries!$D1940,3))","v":""},{"$f":"IF(OR($E1940<>0,$C1940=\"\"),\"\",INDEX(Categories!$A:$E,Entries!$D1940,4))","v":""},{"$f":"IF(OR($E1940<>0,$C1940=\"\"),\"\",INDEX(Categories!$A:$E,Entries!$D1940,5))","v":""},"2014-01-01","2014-01-01",{"$f":"(Entries!K1941-Entries!K1940)*24*60","v":0}]
["",null,null,{"$f":"MATCH(C1941,Categories!A:A,0)","v":{"$error":"#N/A"}},0,{"$f":"IF(OR($E1941<>0,$C1941=\"\"),\"\",INDEX(Categories!$A:$E,Entries!$D1941,2))","v":""},{"$f":"IF(OR($E1941<>0,$C1941=\"\"),\"\",INDEX(Categories!$A:$E,Entries!$D1941,3))","v":""},{"$f":"IF(OR($E1941<>0,$C1941=\"\"),\"\",INDEX(Categories!$A:$E,Entries!$D1941,4))","v":""},{"$f":"IF(OR($E1941<>0,$C1941=\"\"),\"\",INDEX(Categories!$A:$E,Entries!$D1941,5))","v":""},"2014-01-01","2014-01-01",{"$f":"(Entries!K1942-Entries!K1941)*24*60","v":0}]
["",null,null,{"$f":"MATCH(C1942,Categories!A:A,0)","v":{"$error":"#N/A"}},0,{"$f":"IF(OR($E1942<>0,$C1942=\"\"),\"\",INDEX(Categories!$A:$E,Entries!$D1942,2))","v":""},{"$f":"IF(OR($E1942<>0,$C1942=\"\"),\"\",INDEX(Categories!$A:$E,Entries!$D1942,3))","v":""},{"$f":"IF(OR($E1942<>0,$C1942=\"\"),\"\",INDEX(Categories!$A:$E,Entries!$D1942,4))","v":""},{"$f":"IF(OR($E1942<>0,$C1942=\"\"),\"\",INDEX(Categories!$A:$E,Entries!$D1942,5))","v":""},"2014-01-01","2014-01-01",{"$f":"(Entries!K1943-Entries!K1942)*24*60","v":0}]
["",null,null,{"$f":"MATCH(C1943,Categories!A:A,0)","v":{"$error":"#N/A"}},0,{"$f":"IF(OR($E1943<>0,$C1943=\"\"),\"\",INDEX(Categories!$A:$E,Entries!$D1943,2))","v":""},{"$f":"IF(OR($E1943<>0,$C1943=\"\"),\"\",INDEX(Categories!$A:$E,Entries!$D1943,3))","v":""},{"$f":"IF(OR($E1943<>0,$C1943=\"\"),\"\",INDEX(Categories!$A:$E,Entries!$D1943,4))","v":""},{"$f":"IF(OR($E1943<>0,$C1943=\"\"),\"\",INDEX(Categories!$A:$E,Entries!$D1943,5))","v":""},"2014-01-01","2014-01-01",{"$f":"(Entries!K1944-Entries!K1943)*24*60","v":0}]
["",null,null,{"$f":"MATCH(C1944,Categories!A:A,0)","v":{"$error":"#N/A"}},0,{"$f":"IF(OR($E1944<>0,$C1944=\"\"),\"\",INDEX(Categories!$A:$E,Entries!$D1944,2))","v":""},{"$f":"IF(OR($E1944<>0,$C1944=\"\"),\"\",INDEX(Categories!$A:$E,Entries!$D1944,3))","v":""},{"$f":"IF(OR($E1944<>0,$C1944=\"\"),\"\",INDEX(Categories!$A:$E,Entries!$D1944,4))","v":""},{"$f":"IF(OR($E1944<>0,$C1944=\"\"),\"\",INDEX(Categories!$A:$E,Entries!$D1944,5))","v":""},"2014-01-01","2014-01-01",{"$f":"(Entries!K1945-Entries!K1944)*24*60","v":0}]
["",null,null,{"$f":"MATCH(C1945,Categories!A:A,0)","v":{"$error":"#N/A"}},0,{"$f":"IF(OR($E1945<>0,$C1945=\"\"),\"\",INDEX(Categories!$A:$E,Entries!$D1945,2))","v":""},{"$f":"IF(OR($E1945<>0,$C1945=\"\"),\"\",INDEX(Categories!$A:$E,Entries!$D1945,3))","v":""},{"$f":"IF(OR($E1945<>0,$C1945=\"\"),\"\",INDEX(Categories!$A:$E,Entries!$D1945,4))","v":""},{"$f":"IF(OR($E1945<>0,$C1945=\"\"),\"\",INDEX(Categories!$A:$E,Entries!$D1945,5))","v":""},"2014-01-01","2014-01-01",{"$f":"(Entries!K1946-Entries!K1945)*24*60","v":0}]
["",null,null,{"$f":"MATCH(C1946,Categories!A:A,0)","v":{"$error":"#N/A"}},0,{"$f":"IF(OR($E1946<>0,$C1946=\"\"),\"\",INDEX(Categories!$A:$E,Entries!$D1946,2))","v":""},{"$f":"IF(OR($E1946<>0,$C1946=\"\"),\"\",INDEX(Categories!$A:$E,Entries!$D1946,3))","v":""},{"$f":"IF(OR($E1946<>0,$C1946=\"\"),\"\",INDEX(Categories!$A:$E,Entries!$D1946,4))","v":""},{"$f":"IF(OR($E1946<>0,$C1946=\"\"),\"\",INDEX(Categories!$A:$E,Entries!$D1946,5))","v":""},"2014-01-01","2014-01-01",{"$f":"(Entries!K1947-Entries!K1946)*24*60","v":0}]
["",null,null,{"$f":"MATCH(C1947,Categories!A:A,0)","v":{"$error":"#N/A"}},0,{"$f":"IF(OR($E1947<>0,$C1947=\"\"),\"\",INDEX(Categories!$A:$E,Entries!$D1947,2))","v":""},{"$f":"IF(OR($E1947<>0,$C1947=\"\"),\"\",INDEX(Categories!$A:$E,Entries!$D1947,3))","v":""},{"$f":"IF(OR($E1947<>0,$C1947=\"\"),\"\",INDEX(Categories!$A:$E,Entries!$D1947,4))","v":""},{"$f":"IF(OR($E1947<>0,$C1947=\"\"),\"\",INDEX(Categories!$A:$E,Entries!$D1947,5))","v":""},"2014-01-01","2014-01-01",{"$f":"(Entries!K1948-Entries!K1947)*24*60","v":0}]
["",null,null,{"$f":"MATCH(C1948,Categories!A:A,0)","v":{"$error":"#N/A"}},0,{"$f":"IF(OR($E1948<>0,$C1948=\"\"),\"\",INDEX(Categories!$A:$E,Entries!$D1948,2))","v":""},{"$f":"IF(OR($E1948<>0,$C1948=\"\"),\"\",INDEX(Categories!$A:$E,Entries!$D1948,3))","v":""},{"$f":"IF(OR($E1948<>0,$C1948=\"\"),\"\",INDEX(Categories!$A:$E,Entries!$D1948,4))","v":""},{"$f":"IF(OR($E1948<>0,$C1948=\"\"),\"\",INDEX(Categories!$A:$E,Entries!$D1948,5))","v":""},"2014-01-01","2014-01-01",{"$f":"(Entries!K1949-Entries!K1948)*24*60","v":0}]
["",null,null,{"$f":"MATCH(C1949,Categories!A:A,0)","v":{"$error":"#N/A"}},0,{"$f":"IF(OR($E1949<>0,$C1949=\"\"),\"\",INDEX(Categories!$A:$E,Entries!$D1949,2))","v":""},{"$f":"IF(OR($E1949<>0,$C1949=\"\"),\"\",INDEX(Categories!$A:$E,Entries!$D1949,3))","v":""},{"$f":"IF(OR($E1949<>0,$C1949=\"\"),\"\",INDEX(Categories!$A:$E,Entries!$D1949,4))","v":""},{"$f":"IF(OR($E1949<>0,$C1949=\"\"),\"\",INDEX(Categories!$A:$E,Entries!$D1949,5))","v":""},"2014-01-01","2014-01-01",{"$f":"(Entries!K1950-Entries!K1949)*24*60","v":0}]
["",null,null,{"$f":"MATCH(C1950,Categories!A:A,0)","v":{"$error":"#N/A"}},0,{"$f":"IF(OR($E1950<>0,$C1950=\"\"),\"\",INDEX(Categories!$A:$E,Entries!$D1950,2))","v":""},{"$f":"IF(OR($E1950<>0,$C1950=\"\"),\"\",INDEX(Categories!$A:$E,Entries!$D1950,3))","v":""},{"$f":"IF(OR($E1950<>0,$C1950=\"\"),\"\",INDEX(Categories!$A:$E,Entries!$D1950,4))","v":""},{"$f":"IF(OR($E1950<>0,$C1950=\"\"),\"\",INDEX(Categories!$A:$E,Entries!$D1950,5))","v":""},"2014-01-01","2014-01-01",{"$f":"(Entries!K1951-Entries!K1950)*24*60","v":0}]
["",null,null,{"$f":"MATCH(C1951,Categories!A:A,0)","v":{"$error":"#N/A"}},0,{"$f":"IF(OR($E1951<>0,$C1951=\"\"),\"\",INDEX(Categories!$A:$E,Entries!$D1951,2))","v":""},{"$f":"IF(OR($E1951<>0,$C1951=\"\"),\"\",INDEX(Categories!$A:$E,Entries!$D1951,3))","v":""},{"$f":"IF(OR($E1951<>0,$C1951=\"\"),\"\",INDEX(Categories!$A:$E,Entries!$D1951,4))","v":""},{"$f":"IF(OR($E1951<>0,$C1951=\"\"),\"\",INDEX(Categories!$A:$E,Entries!$D1951,5))","v":""},"2014-01-01","2014-01-01",{"$f":"(Entries!K1952-Entries!K1951)*24*60","v":0}]
["",null,null,{"$f":"MATCH(C1952,Categories!A:A,0)","v":{"$error":"#N/A"}},0,{"$f":"IF(OR($E1952<>0,$C1952=\"\"),\"\",INDEX(Categories!$A:$E,Entries!$D1952,2))","v":""},{"$f":"IF(OR($E1952<>0,$C1952=\"\"),\"\",INDEX(Categories!$A:$E,Entries!$D1952,3))","v":""},{"$f":"IF(OR($E1952<>0,$C1952=\"\"),\"\",INDEX(Categories!$A:$E,Entries!$D1952,4))","v":""},{"$f":"IF(OR($E1952<>0,$C1952=\"\"),\"\",INDEX(Categories!$A:$E,Entries!$D1952,5))","v":""},"2014-01-01","2014-01-01",{"$f":"(Entries!K1953-Entries!K1952)*24*60","v":0}]
["",null,null,{"$f":"MATCH(C1953,Categories!A:A,0)","v":{"$error":"#N/A"}},0,{"$f":"IF(OR($E1953<>0,$C1953=\"\"),\"\",INDEX(Categories!$A:$E,Entries!$D1953,2))","v":""},{"$f":"IF(OR($E1953<>0,$C1953=\"\"),\"\",INDEX(Categories!$A:$E,Entries!$D1953,3))","v":""},{"$f":"IF(OR($E1953<>0,$C1953=\"\"),\"\",INDEX(Categories!$A:$E,Entries!$D1953,4))","v":""},{"$f":"IF(OR($E1953<>0,$C1953=\"\"),\"\",INDEX(Categories!$A:$E,Entries!$D1953,5))","v":""},"2014-01-01","2014-01-01",{"$f":"(Entries!K1954-Entries!K1953)*24*60","v":0}]
["",null,null,{"$f":"MATCH(C1954,Categories!A:A,0)","v":{"$error":"#N/A"}},0,{"$f":"IF(OR($E1954<>0,$C1954=\"\"),\"\",INDEX(Categories!$A:$E,Entries!$D1954,2))","v":""},{"$f":"IF(OR($E1954<>0,$C1954=\"\"),\"\",INDEX(Categories!$A:$E,Entries!$D1954,3))","v":""},{"$f":"IF(OR($E1954<>0,$C1954=\"\"),\"\",INDEX(Categories!$A:$E,Entries!$D1954,4))","v":""},{"$f":"IF(OR($E1954<>0,$C1954=\"\"),\"\",INDEX(Categories!$A:$E,Entries!$D1954,5))","v":""},"2014-01-01","2014-01-01",{"$f":"(Entries!K1955-Entries!K1954)*24*60","v":0}]
["",null,null,{"$f":"MATCH(C1955,Categories!A:A,0)","v":{"$error":"#N/A"}},0,{"$f":"IF(OR($E1955<>0,$C1955=\"\"),\"\",INDEX(Categories!$A:$E,Entries!$D1955,2))","v":""},{"$f":"IF(OR($E1955<>0,$C1955=\"\"),\"\",INDEX(Categories!$A:$E,Entries!$D1955,3))","v":""},{"$f":"IF(OR($E1955<>0,$C1955=\"\"),\"\",INDEX(Categories!$A:$E,Entries!$D1955,4))","v":""},{"$f":"IF(OR($E1955<>0,$C1955=\"\"),\"\",INDEX(Categories!$A:$E,Entries!$D1955,5))","v":""},"2014-01-01","2014-01-01",{"$f":"(Entries!K1956-Entries!K1955)*24*60","v":0}]
[{"$f":"IF(OR(B1956>=B1955,C1955=\"z\",B1956=\"\"),\"\",J1955+1)","v":""},null,null,{"$f":"MATCH(C1956,Categories!A:A,0)","v":{"$error":"#N/A"}},0,{"$f":"IF(OR($E1956<>0,$C1956=\"\"),\"\",INDEX(Categories!$A:$E,Entries!$D1956,2))","v":""},{"$f":"IF(OR($E1956<>0,$C1956=\"\"),\"\",INDEX(Categories!$A:$E,Entries!$D1956,3))","v":""},{"$f":"IF(OR($E1956<>0,$C1956=\"\"),\"\",INDEX(Categories!$A:$E,Entries!$D1956,4))","v":""},{"$f":"IF(OR($E1956<>0,$C1956=\"\"),\"\",INDEX(Categories!$A:$E,Entries!$D1956,5))","v":""},"2014-01-01","2014-01-01",{"$f":"(Entries!K1957-Entries!K1956)*24*60","v":0}]
["",null,null,{"$f":"MATCH(C1957,Categories!A:A,0)","v":{"$error":"#N/A"}},0,{"$f":"IF(OR($E1957<>0,$C1957=\"\"),\"\",INDEX(Categories!$A:$E,Entries!$D1957,2))","v":""},{"$f":"IF(OR($E1957<>0,$C1957=\"\"),\"\",INDEX(Categories!$A:$E,Entries!$D1957,3))","v":""},{"$f":"IF(OR($E1957<>0,$C1957=\"\"),\"\",INDEX(Categories!$A:$E,Entries!$D1957,4))","v":""},{"$f":"IF(OR($E1957<>0,$C1957=\"\"),\"\",INDEX(Categories!$A:$E,Entries!$D1957,5))","v":""},"2014-01-01","2014-01-01",{"$f":"(Entries!K1958-Entries!K1957)*24*60","v":0}]
["",null,null,{"$f":"MATCH(C1958,Categories!A:A,0)","v":{"$error":"#N/A"}},0,{"$f":"IF(OR($E1958<>0,$C1958=\"\"),\"\",INDEX(Categories!$A:$E,Entries!$D1958,2))","v":""},{"$f":"IF(OR($E1958<>0,$C1958=\"\"),\"\",INDEX(Categories!$A:$E,Entries!$D1958,3))","v":""},{"$f":"IF(OR($E1958<>0,$C1958=\"\"),\"\",INDEX(Categories!$A:$E,Entries!$D1958,4))","v":""},{"$f":"IF(OR($E1958<>0,$C1958=\"\"),\"\",INDEX(Categories!$A:$E,Entries!$D1958,5))","v":""},"2014-01-01","2014-01-01",{"$f":"(Entries!K1959-Entries!K1958)*24*60","v":0}]
["",null,null,{"$f":"MATCH(C1959,Categories!A:A,0)","v":{"$error":"#N/A"}},0,{"$f":"IF(OR($E1959<>0,$C1959=\"\"),\"\",INDEX(Categories!$A:$E,Entries!$D1959,2))","v":""},{"$f":"IF(OR($E1959<>0,$C1959=\"\"),\"\",INDEX(Categories!$A:$E,Entries!$D1959,3))","v":""},{"$f":"IF(OR($E1959<>0,$C1959=\"\"),\"\",INDEX(Categories!$A:$E,Entries!$D1959,4))","v":""},{"$f":"IF(OR($E1959<>0,$C1959=\"\"),\"\",INDEX(Categories!$A:$E,Entries!$D1959,5))","v":""},"2014-01-01","2014-01-01",{"$f":"(Entries!K1960-Entries!K1959)*24*60","v":0}]
["",null,null,{"$f":"MATCH(C1960,Categories!A:A,0)","v":{"$error":"#N/A"}},0,{"$f":"IF(OR($E1960<>0,$C1960=\"\"),\"\",INDEX(Categories!$A:$E,Entries!$D1960,2))","v":""},{"$f":"IF(OR($E1960<>0,$C1960=\"\"),\"\",INDEX(Categories!$A:$E,Entries!$D1960,3))","v":""},{"$f":"IF(OR($E1960<>0,$C1960=\"\"),\"\",INDEX(Categories!$A:$E,Entries!$D1960,4))","v":""},{"$f":"IF(OR($E1960<>0,$C1960=\"\"),\"\",INDEX(Categories!$A:$E,Entries!$D1960,5))","v":""},"2014-01-01","2014-01-01",{"$f":"(Entries!K1961-Entries!K1960)*24*60","v":0}]
["",null,null,{"$f":"MATCH(C1961,Categories!A:A,0)","v":{"$error":"#N/A"}},0,{"$f":"IF(OR($E1961<>0,$C1961=\"\"),\"\",INDEX(Categories!$A:$E,Entries!$D1961,2))","v":""},{"$f":"IF(OR($E1961<>0,$C1961=\"\"),\"\",INDEX(Categories!$A:$E,Entries!$D1961,3))","v":""},{"$f":"IF(OR($E1961<>0,$C1961=\"\"),\"\",INDEX(Categories!$A:$E,Entries!$D1961,4))","v":""},{"$f":"IF(OR($E1961<>0,$C1961=\"\"),\"\",INDEX(Categories!$A:$E,Entries!$D1961,5))","v":""},"2014-01-01","2014-01-01",{"$f":"(Entries!K1962-Entries!K1961)*24*60","v":0}]
["",null,null,{"$f":"MATCH(C1962,Categories!A:A,0)","v":{"$error":"#N/A"}},0,{"$f":"IF(OR($E1962<>0,$C1962=\"\"),\"\",INDEX(Categories!$A:$E,Entries!$D1962,2))","v":""},{"$f":"IF(OR($E1962<>0,$C1962=\"\"),\"\",INDEX(Categories!$A:$E,Entries!$D1962,3))","v":""},{"$f":"IF(OR($E1962<>0,$C1962=\"\"),\"\",INDEX(Categories!$A:$E,Entries!$D1962,4))","v":""},{"$f":"IF(OR($E1962<>0,$C1962=\"\"),\"\",INDEX(Categories!$A:$E,Entries!$D1962,5))","v":""},"2014-01-01","2014-01-01",{"$f":"(Entries!K1963-Entries!K1962)*24*60","v":0}]
["",null,null,{"$f":"MATCH(C1963,Categories!A:A,0)","v":{"$error":"#N/A"}},0,{"$f":"IF(OR($E1963<>0,$C1963=\"\"),\"\",INDEX(Categories!$A:$E,Entries!$D1963,2))","v":""},{"$f":"IF(OR($E1963<>0,$C1963=\"\"),\"\",INDEX(Categories!$A:$E,Entries!$D1963,3))","v":""},{"$f":"IF(OR($E1963<>0,$C1963=\"\"),\"\",INDEX(Categories!$A:$E,Entries!$D1963,4))","v":""},{"$f":"IF(OR($E1963<>0,$C1963=\"\"),\"\",INDEX(Categories!$A:$E,Entries!$D1963,5))","v":""},"2014-01-01","2014-01-01",{"$f":"(Entries!K1964-Entries!K1963)*24*60","v":0}]
["",null,null,{"$f":"MATCH(C1964,Categories!A:A,0)","v":{"$error":"#N/A"}},0,{"$f":"IF(OR($E1964<>0,$C1964=\"\"),\"\",INDEX(Categories!$A:$E,Entries!$D1964,2))","v":""},{"$f":"IF(OR($E1964<>0,$C1964=\"\"),\"\",INDEX(Categories!$A:$E,Entries!$D1964,3))","v":""},{"$f":"IF(OR($E1964<>0,$C1964=\"\"),\"\",INDEX(Categories!$A:$E,Entries!$D1964,4))","v":""},{"$f":"IF(OR($E1964<>0,$C1964=\"\"),\"\",INDEX(Categories!$A:$E,Entries!$D1964,5))","v":""},"2014-01-01","2014-01-01",{"$f":"(Entries!K1965-Entries!K1964)*24*60","v":0}]
["",null,null,{"$f":"MATCH(C1965,Categories!A:A,0)","v":{"$error":"#N/A"}},0,{"$f":"IF(OR($E1965<>0,$C1965=\"\"),\"\",INDEX(Categories!$A:$E,Entries!$D1965,2))","v":""},{"$f":"IF(OR($E1965<>0,$C1965=\"\"),\"\",INDEX(Categories!$A:$E,Entries!$D1965,3))","v":""},{"$f":"IF(OR($E1965<>0,$C1965=\"\"),\"\",INDEX(Categories!$A:$E,Entries!$D1965,4))","v":""},{"$f":"IF(OR($E1965<>0,$C1965=\"\"),\"\",INDEX(Categories!$A:$E,Entries!$D1965,5))","v":""},"2014-01-01","2014-01-01",{"$f":"(Entries!K1966-Entries!K1965)*24*60","v":0}]
["",null,null,{"$f":"MATCH(C1966,Categories!A:A,0)","v":{"$error":"#N/A"}},0,{"$f":"IF(OR($E1966<>0,$C1966=\"\"),\"\",INDEX(Categories!$A:$E,Entries!$D1966,2))","v":""},{"$f":"IF(OR($E1966<>0,$C1966=\"\"),\"\",INDEX(Categories!$A:$E,Entries!$D1966,3))","v":""},{"$f":"IF(OR($E1966<>0,$C1966=\"\"),\"\",INDEX(Categories!$A:$E,Entries!$D1966,4))","v":""},{"$f":"IF(OR($E1966<>0,$C1966=\"\"),\"\",INDEX(Categories!$A:$E,Entries!$D1966,5))","v":""},"2014-01-01","2014-01-01",{"$f":"(Entries!K1967-Entries!K1966)*24*60","v":0}]
["",null,null,{"$f":"MATCH(C1967,Categories!A:A,0)","v":{"$error":"#N/A"}},0,{"$f":"IF(OR($E1967<>0,$C1967=\"\"),\"\",INDEX(Categories!$A:$E,Entries!$D1967,2))","v":""},{"$f":"IF(OR($E1967<>0,$C1967=\"\"),\"\",INDEX(Categories!$A:$E,Entries!$D1967,3))","v":""},{"$f":"IF(OR($E1967<>0,$C1967=\"\"),\"\",INDEX(Categories!$A:$E,Entries!$D1967,4))","v":""},{"$f":"IF(OR($E1967<>0,$C1967=\"\"),\"\",INDEX(Categories!$A:$E,Entries!$D1967,5))","v":""},"2014-01-01","2014-01-01",{"$f":"(Entries!K1968-Entries!K1967)*24*60","v":0}]
["",null,null,{"$f":"MATCH(C1968,Categories!A:A,0)","v":{"$error":"#N/A"}},0,{"$f":"IF(OR($E1968<>0,$C1968=\"\"),\"\",INDEX(Categories!$A:$E,Entries!$D1968,2))","v":""},{"$f":"IF(OR($E1968<>0,$C1968=\"\"),\"\",INDEX(Categories!$A:$E,Entries!$D1968,3))","v":""},{"$f":"IF(OR($E1968<>0,$C1968=\"\"),\"\",INDEX(Categories!$A:$E,Entries!$D1968,4))","v":""},{"$f":"IF(OR($E1968<>0,$C1968=\"\"),\"\",INDEX(Categories!$A:$E,Entries!$D1968,5))","v":""},"2014-01-01","2014-01-01",{"$f":"(Entries!K1969-Entries!K1968)*24*60","v":0}]
["",null,null,{"$f":"MATCH(C1969,Categories!A:A,0)","v":{"$error":"#N/A"}},0,{"$f":"IF(OR($E1969<>0,$C1969=\"\"),\"\",INDEX(Categories!$A:$E,Entries!$D1969,2))","v":""},{"$f":"IF(OR($E1969<>0,$C1969=\"\"),\"\",INDEX(Categories!$A:$E,Entries!$D1969,3))","v":""},{"$f":"IF(OR($E1969<>0,$C1969=\"\"),\"\",INDEX(Categories!$A:$E,Entries!$D1969,4))","v":""},{"$f":"IF(OR($E1969<>0,$C1969=\"\"),\"\",INDEX(Categories!$A:$E,Entries!$D1969,5))","v":""},"2014-01-01","2014-01-01",{"$f":"(Entries!K1970-Entries!K1969)*24*60","v":0}]
["",null,null,{"$f":"MATCH(C1970,Categories!A:A,0)","v":{"$error":"#N/A"}},0,{"$f":"IF(OR($E1970<>0,$C1970=\"\"),\"\",INDEX(Categories!$A:$E,Entries!$D1970,2))","v":""},{"$f":"IF(OR($E1970<>0,$C1970=\"\"),\"\",INDEX(Categories!$A:$E,Entries!$D1970,3))","v":""},{"$f":"IF(OR($E1970<>0,$C1970=\"\"),\"\",INDEX(Categories!$A:$E,Entries!$D1970,4))","v":""},{"$f":"IF(OR($E1970<>0,$C1970=\"\"),\"\",INDEX(Categories!$A:$E,Entries!$D1970,5))","v":""},"2014-01-01","2014-01-01",{"$f":"(Entries!K1971-Entries!K1970)*24*60","v":0}]
["",null,null,{"$f":"MATCH(C1971,Categories!A:A,0)","v":{"$error":"#N/A"}},0,{"$f":"IF(OR($E1971<>0,$C1971=\"\"),\"\",INDEX(Categories!$A:$E,Entries!$D1971,2))","v":""},{"$f":"IF(OR($E1971<>0,$C1971=\"\"),\"\",INDEX(Categories!$A:$E,Entries!$D1971,3))","v":""},{"$f":"IF(OR($E1971<>0,$C1971=\"\"),\"\",INDEX(Categories!$A:$E,Entries!$D1971,4))","v":""},{"$f":"IF(OR($E1971<>0,$C1971=\"\"),\"\",INDEX(Categories!$A:$E,Entries!$D1971,5))","v":""},"2014-01-01","2014-01-01",{"$f":"(Entries!K1972-Entries!K1971)*24*60","v":0}]
["",null,null,{"$f":"MATCH(C1972,Categories!A:A,0)","v":{"$error":"#N/A"}},0,{"$f":"IF(OR($E1972<>0,$C1972=\"\"),\"\",INDEX(Categories!$A:$E,Entries!$D1972,2))","v":""},{"$f":"IF(OR($E1972<>0,$C1972=\"\"),\"\",INDEX(Categories!$A:$E,Entries!$D1972,3))","v":""},{"$f":"IF(OR($E1972<>0,$C1972=\"\"),\"\",INDEX(Categories!$A:$E,Entries!$D1972,4))","v":""},{"$f":"IF(OR($E1972<>0,$C1972=\"\"),\"\",INDEX(Categories!$A:$E,Entries!$D1972,5))","v":""},"2014-01-01","2014-01-01",{"$f":"(Entries!K1973-Entries!K1972)*24*60","v":0}]
["",null,null,{"$f":"MATCH(C1973,Categories!A:A,0)","v":{"$error":"#N/A"}},0,{"$f":"IF(OR($E1973<>0,$C1973=\"\"),\"\",INDEX(Categories!$A:$E,Entries!$D1973,2))","v":""},{"$f":"IF(OR($E1973<>0,$C1973=\"\"),\"\",INDEX(Categories!$A:$E,Entries!$D1973,3))","v":""},{"$f":"IF(OR($E1973<>0,$C1973=\"\"),\"\",INDEX(Categories!$A:$E,Entries!$D1973,4))","v":""},{"$f":"IF(OR($E1973<>0,$C1973=\"\"),\"\",INDEX(Categories!$A:$E,Entries!$D1973,5))","v":""},"2014-01-01","2014-01-01",{"$f":"(Entries!K1974-Entries!K1973)*24*60","v":0}]
["",null,null,{"$f":"MATCH(C1974,Categories!A:A,0)","v":{"$error":"#N/A"}},0,{"$f":"IF(OR($E1974<>0,$C1974=\"\"),\"\",INDEX(Categories!$A:$E,Entries!$D1974,2))","v":""},{"$f":"IF(OR($E1974<>0,$C1974=\"\"),\"\",INDEX(Categories!$A:$E,Entries!$D1974,3))","v":""},{"$f":"IF(OR($E1974<>0,$C1974=\"\"),\"\",INDEX(Categories!$A:$E,Entries!$D1974,4))","v":""},{"$f":"IF(OR($E1974<>0,$C1974=\"\"),\"\",INDEX(Categories!$A:$E,Entries!$D1974,5))","v":""},"2014-01-01","2014-01-01",{"$f":"(Entries!K1975-Entries!K1974)*24*60","v":0}]
["",null,null,{"$f":"MATCH(C1975,Categories!A:A,0)","v":{"$error":"#N/A"}},0,{"$f":"IF(OR($E1975<>0,$C1975=\"\"),\"\",INDEX(Categories!$A:$E,Entries!$D1975,2))","v":""},{"$f":"IF(OR($E1975<>0,$C1975=\"\"),\"\",INDEX(Categories!$A:$E,Entries!$D1975,3))","v":""},{"$f":"IF(OR($E1975<>0,$C1975=\"\"),\"\",INDEX(Categories!$A:$E,Entries!$D1975,4))","v":""},{"$f":"IF(OR($E1975<>0,$C1975=\"\"),\"\",INDEX(Categories!$A:$E,Entries!$D1975,5))","v":""},"2014-01-01","2014-01-01",{"$f":"(Entries!K1976-Entries!K1975)*24*60","v":0}]
["",null,null,{"$f":"MATCH(C1976,Categories!A:A,0)","v":{"$error":"#N/A"}},0,{"$f":"IF(OR($E1976<>0,$C1976=\"\"),\"\",INDEX(Categories!$A:$E,Entries!$D1976,2))","v":""},{"$f":"IF(OR($E1976<>0,$C1976=\"\"),\"\",INDEX(Categories!$A:$E,Entries!$D1976,3))","v":""},{"$f":"IF(OR($E1976<>0,$C1976=\"\"),\"\",INDEX(Categories!$A:$E,Entries!$D1976,4))","v":""},{"$f":"IF(OR($E1976<>0,$C1976=\"\"),\"\",INDEX(Categories!$A:$E,Entries!$D1976,5))","v":""},"2014-01-01","2014-01-01",{"$f":"(Entries!K1977-Entries!K1976)*24*60","v":0}]
["",null,null,{"$f":"MATCH(C1977,Categories!A:A,0)","v":{"$error":"#N/A"}},0,{"$f":"IF(OR($E1977<>0,$C1977=\"\"),\"\",INDEX(Categories!$A:$E,Entries!$D1977,2))","v":""},{"$f":"IF(OR($E1977<>0,$C1977=\"\"),\"\",INDEX(Categories!$A:$E,Entries!$D1977,3))","v":""},{"$f":"IF(OR($E1977<>0,$C1977=\"\"),\"\",INDEX(Categories!$A:$E,Entries!$D1977,4))","v":""},{"$f":"IF(OR($E1977<>0,$C1977=\"\"),\"\",INDEX(Categories!$A:$E,Entries!$D1977,5))","v":""},"2014-01-01","2014-01-01",{"$f":"(Entries!K1978-Entries!K1977)*24*60","v":0}]
["",null,null,{"$f":"MATCH(C1978,Categories!A:A,0)","v":{"$error":"#N/A"}},0,{"$f":"IF(OR($E1978<>0,$C1978=\"\"),\"\",INDEX(Categories!$A:$E,Entries!$D1978,2))","v":""},{"$f":"IF(OR($E1978<>0,$C1978=\"\"),\"\",INDEX(Categories!$A:$E,Entries!$D1978,3))","v":""},{"$f":"IF(OR($E1978<>0,$C1978=\"\"),\"\",INDEX(Categories!$A:$E,Entries!$D1978,4))","v":""},{"$f":"IF(OR($E1978<>0,$C1978=\"\"),\"\",INDEX(Categories!$A:$E,Entries!$D1978,5))","v":""},"2014-01-01","2014-01-01",{"$f":"(Entries!K1979-Entries!K1978)*24*60","v":0}]
["",null,null,{"$f":"MATCH(C1979,Categories!A:A,0)","v":{"$error":"#N/A"}},0,{"$f":"IF(OR($E1979<>0,$C1979=\"\"),\"\",INDEX(Categories!$A:$E,Entries!$D1979,2))","v":""},{"$f":"IF(OR($E1979<>0,$C1979=\"\"),\"\",INDEX(Categories!$A:$E,Entries!$D1979,3))","v":""},{"$f":"IF(OR($E1979<>0,$C1979=\"\"),\"\",INDEX(Categories!$A:$E,Entries!$D1979,4))","v":""},{"$f":"IF(OR($E1979<>0,$C1979=\"\"),\"\",INDEX(Categories!$A:$E,Entries!$D1979,5))","v":""},"2014-01-01","2014-01-01",{"$f":"(Entries!K1980-Entries!K1979)*24*60","v":0}]
["",null,null,{"$f":"MATCH(C1980,Categories!A:A,0)","v":{"$error":"#N/A"}},0,{"$f":"IF(OR($E1980<>0,$C1980=\"\"),\"\",INDEX(Categories!$A:$E,Entries!$D1980,2))","v":""},{"$f":"IF(OR($E1980<>0,$C1980=\"\"),\"\",INDEX(Categories!$A:$E,Entries!$D1980,3))","v":""},{"$f":"IF(OR($E1980<>0,$C1980=\"\"),\"\",INDEX(Categories!$A:$E,Entries!$D1980,4))","v":""},{"$f":"IF(OR($E1980<>0,$C1980=\"\"),\"\",INDEX(Categories!$A:$E,Entries!$D1980,5))","v":""},"2014-01-01","2014-01-01",{"$f":"(Entries!K1981-Entries!K1980)*24*60","v":0}]
["",null,null,{"$f":"MATCH(C1981,Categories!A:A,0)","v":{"$error":"#N/A"}},0,{"$f":"IF(OR($E1981<>0,$C1981=\"\"),\"\",INDEX(Categories!$A:$E,Entries!$D1981,2))","v":""},{"$f":"IF(OR($E1981<>0,$C1981=\"\"),\"\",INDEX(Categories!$A:$E,Entries!$D1981,3))","v":""},{"$f":"IF(OR($E1981<>0,$C1981=\"\"),\"\",INDEX(Categories!$A:$E,Entries!$D1981,4))","v":""},{"$f":"IF(OR($E1981<>0,$C1981=\"\"),\"\",INDEX(Categories!$A:$E,Entries!$D1981,5))","v":""},"2014-01-01","2014-01-01",{"$f":"(Entries!K1982-Entries!K1981)*24*60","v":0}]
["",null,null,{"$f":"MATCH(C1982,Categories!A:A,0)","v":{"$error":"#N/A"}},0,{"$f":"IF(OR($E1982<>0,$C1982=\"\"),\"\",INDEX(Categories!$A:$E,Entries!$D1982,2))","v":""},{"$f":"IF(OR($E1982<>0,$C1982=\"\"),\"\",INDEX(Categories!$A:$E,Entries!$D1982,3))","v":""},{"$f":"IF(OR($E1982<>0,$C1982=\"\"),\"\",INDEX(Categories!$A:$E,Entries!$D1982,4))","v":""},{"$f":"IF(OR($E1982<>0,$C1982=\"\"),\"\",INDEX(Categories!$A:$E,Entries!$D1982,5))","v":""},"2014-01-01","2014-01-01",{"$f":"(Entries!K1983-Entries!K1982)*24*60","v":0}]
["",null,null,{"$f":"MATCH(C1983,Categories!A:A,0)","v":{"$error":"#N/A"}},0,{"$f":"IF(OR($E1983<>0,$C1983=\"\"),\"\",INDEX(Categories!$A:$E,Entries!$D1983,2))","v":""},{"$f":"IF(OR($E1983<>0,$C1983=\"\"),\"\",INDEX(Categories!$A:$E,Entries!$D1983,3))","v":""},{"$f":"IF(OR($E1983<>0,$C1983=\"\"),\"\",INDEX(Categories!$A:$E,Entries!$D1983,4))","v":""},{"$f":"IF(OR($E1983<>0,$C1983=\"\"),\"\",INDEX(Categories!$A:$E,Entries!$D1983,5))","v":""},"2014-01-01","2014-01-01",{"$f":"(Entries!K1984-Entries!K1983)*24*60","v":0}]
["",null,null,{"$f":"MATCH(C1984,Categories!A:A,0)","v":{"$error":"#N/A"}},0,{"$f":"IF(OR($E1984<>0,$C1984=\"\"),\"\",INDEX(Categories!$A:$E,Entries!$D1984,2))","v":""},{"$f":"IF(OR($E1984<>0,$C1984=\"\"),\"\",INDEX(Categories!$A:$E,Entries!$D1984,3))","v":""},{"$f":"IF(OR($E1984<>0,$C1984=\"\"),\"\",INDEX(Categories!$A:$E,Entries!$D1984,4))","v":""},{"$f":"IF(OR($E1984<>0,$C1984=\"\"),\"\",INDEX(Categories!$A:$E,Entries!$D1984,5))","v":""},"2014-01-01","2014-01-01",{"$f":"(Entries!K1985-Entries!K1984)*24*60","v":0}]
["",null,null,{"$f":"MATCH(C1985,Categories!A:A,0)","v":{"$error":"#N/A"}},0,{"$f":"IF(OR($E1985<>0,$C1985=\"\"),\"\",INDEX(Categories!$A:$E,Entries!$D1985,2))","v":""},{"$f":"IF(OR($E1985<>0,$C1985=\"\"),\"\",INDEX(Categories!$A:$E,Entries!$D1985,3))","v":""},{"$f":"IF(OR($E1985<>0,$C1985=\"\"),\"\",INDEX(Categories!$A:$E,Entries!$D1985,4))","v":""},{"$f":"IF(OR($E1985<>0,$C1985=\"\"),\"\",INDEX(Categories!$A:$E,Entries!$D1985,5))","v":""},"2014-01-01","2014-01-01",{"$f":"(Entries!K1986-Entries!K1985)*24*60","v":0}]
["",null,null,{"$f":"MATCH(C1986,Categories!A:A,0)","v":{"$error":"#N/A"}},{"$f":"IF(AND(ISERROR(D1986),C1986<>\"\"),ROW(D1986),0)","v":0},{"$f":"IF(OR($E1986<>0,$C1986=\"\"),\"\",INDEX(Categories!$A:$E,Entries!$D1986,2))","v":""},{"$f":"IF(OR($E1986<>0,$C1986=\"\"),\"\",INDEX(Categories!$A:$E,Entries!$D1986,3))","v":""},{"$f":"IF(OR($E1986<>0,$C1986=\"\"),\"\",INDEX(Categories!$A:$E,Entries!$D1986,4))","v":""},{"$f":"IF(OR($E1986<>0,$C1986=\"\"),\"\",INDEX(Categories!$A:$E,Entries!$D1986,5))","v":""},{"$f":"IF(A1986=\"\",J1985,A1986)","v":"2014-01-01"},{"$f":"J1986+B1986","v":"2014-01-01"},{"$f":"(Entries!K1987-Entries!K1986)*24*60","v":0}]
["",null,null,{"$f":"MATCH(C1987,Categories!A:A,0)","v":{"$error":"#N/A"}},0,{"$f":"IF(OR($E1987<>0,$C1987=\"\"),\"\",INDEX(Categories!$A:$E,Entries!$D1987,2))","v":""},{"$f":"IF(OR($E1987<>0,$C1987=\"\"),\"\",INDEX(Categories!$A:$E,Entries!$D1987,3))","v":""},{"$f":"IF(OR($E1987<>0,$C1987=\"\"),\"\",INDEX(Categories!$A:$E,Entries!$D1987,4))","v":""},{"$f":"IF(OR($E1987<>0,$C1987=\"\"),\"\",INDEX(Categories!$A:$E,Entries!$D1987,5))","v":""},"2014-01-01","2014-01-01",{"$f":"(Entries!K1988-Entries!K1987)*24*60","v":0}]
["",null,null,{"$f":"MATCH(C1988,Categories!A:A,0)","v":{"$error":"#N/A"}},0,{"$f":"IF(OR($E1988<>0,$C1988=\"\"),\"\",INDEX(Categories!$A:$E,Entries!$D1988,2))","v":""},{"$f":"IF(OR($E1988<>0,$C1988=\"\"),\"\",INDEX(Categories!$A:$E,Entries!$D1988,3))","v":""},{"$f":"IF(OR($E1988<>0,$C1988=\"\"),\"\",INDEX(Categories!$A:$E,Entries!$D1988,4))","v":""},{"$f":"IF(OR($E1988<>0,$C1988=\"\"),\"\",INDEX(Categories!$A:$E,Entries!$D1988,5))","v":""},"2014-01-01","2014-01-01",{"$f":"(Entries!K1989-Entries!K1988)*24*60","v":0}]
["",null,null,{"$f":"MATCH(C1989,Categories!A:A,0)","v":{"$error":"#N/A"}},0,{"$f":"IF(OR($E1989<>0,$C1989=\"\"),\"\",INDEX(Categories!$A:$E,Entries!$D1989,2))","v":""},{"$f":"IF(OR($E1989<>0,$C1989=\"\"),\"\",INDEX(Categories!$A:$E,Entries!$D1989,3))","v":""},{"$f":"IF(OR($E1989<>0,$C1989=\"\"),\"\",INDEX(Categories!$A:$E,Entries!$D1989,4))","v":""},{"$f":"IF(OR($E1989<>0,$C1989=\"\"),\"\",INDEX(Categories!$A:$E,Entries!$D1989,5))","v":""},"2014-01-01","2014-01-01",{"$f":"(Entries!K1990-Entries!K1989)*24*60","v":0}]
["",null,null,{"$f":"MATCH(C1990,Categories!A:A,0)","v":{"$error":"#N/A"}},0,{"$f":"IF(OR($E1990<>0,$C1990=\"\"),\"\",INDEX(Categories!$A:$E,Entries!$D1990,2))","v":""},{"$f":"IF(OR($E1990<>0,$C1990=\"\"),\"\",INDEX(Categories!$A:$E,Entries!$D1990,3))","v":""},{"$f":"IF(OR($E1990<>0,$C1990=\"\"),\"\",INDEX(Categories!$A:$E,Entries!$D1990,4))","v":""},{"$f":"IF(OR($E1990<>0,$C1990=\"\"),\"\",INDEX(Categories!$A:$E,Entries!$D1990,5))","v":""},"2014-01-01","2014-01-01",{"$f":"(Entries!K1991-Entries!K1990)*24*60","v":0}]
["",null,null,{"$f":"MATCH(C1991,Categories!A:A,0)","v":{"$error":"#N/A"}},0,{"$f":"IF(OR($E1991<>0,$C1991=\"\"),\"\",INDEX(Categories!$A:$E,Entries!$D1991,2))","v":""},{"$f":"IF(OR($E1991<>0,$C1991=\"\"),\"\",INDEX(Categories!$A:$E,Entries!$D1991,3))","v":""},{"$f":"IF(OR($E1991<>0,$C1991=\"\"),\"\",INDEX(Categories!$A:$E,Entries!$D1991,4))","v":""},{"$f":"IF(OR($E1991<>0,$C1991=\"\"),\"\",INDEX(Categories!$A:$E,Entries!$D1991,5))","v":""},"2014-01-01","2014-01-01",{"$f":"(Entries!K1992-Entries!K1991)*24*60","v":0}]
["",null,null,{"$f":"MATCH(C1992,Categories!A:A,0)","v":{"$error":"#N/A"}},0,{"$f":"IF(OR($E1992<>0,$C1992=\"\"),\"\",INDEX(Categories!$A:$E,Entries!$D1992,2))","v":""},{"$f":"IF(OR($E1992<>0,$C1992=\"\"),\"\",INDEX(Categories!$A:$E,Entries!$D1992,3))","v":""},{"$f":"IF(OR($E1992<>0,$C1992=\"\"),\"\",INDEX(Categories!$A:$E,Entries!$D1992,4))","v":""},{"$f":"IF(OR($E1992<>0,$C1992=\"\"),\"\",INDEX(Categories!$A:$E,Entries!$D1992,5))","v":""},"2014-01-01","2014-01-01",{"$f":"(Entries!K1993-Entries!K1992)*24*60","v":0}]
["",null,null,{"$f":"MATCH(C1993,Categories!A:A,0)","v":{"$error":"#N/A"}},0,{"$f":"IF(OR($E1993<>0,$C1993=\"\"),\"\",INDEX(Categories!$A:$E,Entries!$D1993,2))","v":""},{"$f":"IF(OR($E1993<>0,$C1993=\"\"),\"\",INDEX(Categories!$A:$E,Entries!$D1993,3))","v":""},{"$f":"IF(OR($E1993<>0,$C1993=\"\"),\"\",INDEX(Categories!$A:$E,Entries!$D1993,4))","v":""},{"$f":"IF(OR($E1993<>0,$C1993=\"\"),\"\",INDEX(Categories!$A:$E,Entries!$D1993,5))","v":""},"2014-01-01","2014-01-01",{"$f":"(Entries!K1994-Entries!K1993)*24*60","v":0}]
["",null,null,{"$f":"MATCH(C1994,Categories!A:A,0)","v":{"$error":"#N/A"}},0,{"$f":"IF(OR($E1994<>0,$C1994=\"\"),\"\",INDEX(Categories!$A:$E,Entries!$D1994,2))","v":""},{"$f":"IF(OR($E1994<>0,$C1994=\"\"),\"\",INDEX(Categories!$A:$E,Entries!$D1994,3))","v":""},{"$f":"IF(OR($E1994<>0,$C1994=\"\"),\"\",INDEX(Categories!$A:$E,Entries!$D1994,4))","v":""},{"$f":"IF(OR($E1994<>0,$C1994=\"\"),\"\",INDEX(Categories!$A:$E,Entries!$D1994,5))","v":""},"2014-01-01","2014-01-01",{"$f":"(Entries!K1995-Entries!K1994)*24*60","v":0}]
["",null,null,{"$f":"MATCH(C1995,Categories!A:A,0)","v":{"$error":"#N/A"}},0,{"$f":"IF(OR($E1995<>0,$C1995=\"\"),\"\",INDEX(Categories!$A:$E,Entries!$D1995,2))","v":""},{"$f":"IF(OR($E1995<>0,$C1995=\"\"),\"\",INDEX(Categories!$A:$E,Entries!$D1995,3))","v":""},{"$f":"IF(OR($E1995<>0,$C1995=\"\"),\"\",INDEX(Categories!$A:$E,Entries!$D1995,4))","v":""},{"$f":"IF(OR($E1995<>0,$C1995=\"\"),\"\",INDEX(Categories!$A:$E,Entries!$D1995,5))","v":""},"2014-01-01","2014-01-01",{"$f":"(Entries!K1996-Entries!K1995)*24*60","v":0}]
["",null,null,{"$f":"MATCH(C1996,Categories!A:A,0)","v":{"$error":"#N/A"}},0,{"$f":"IF(OR($E1996<>0,$C1996=\"\"),\"\",INDEX(Categories!$A:$E,Entries!$D1996,2))","v":""},{"$f":"IF(OR($E1996<>0,$C1996=\"\"),\"\",INDEX(Categories!$A:$E,Entries!$D1996,3))","v":""},{"$f":"IF(OR($E1996<>0,$C1996=\"\"),\"\",INDEX(Categories!$A:$E,Entries!$D1996,4))","v":""},{"$f":"IF(OR($E1996<>0,$C1996=\"\"),\"\",INDEX(Categories!$A:$E,Entries!$D1996,5))","v":""},"2014-01-01","2014-01-01",{"$f":"(Entries!K1997-Entries!K1996)*24*60","v":0}]
["",null,null,{"$f":"MATCH(C1997,Categories!A:A,0)","v":{"$error":"#N/A"}},0,{"$f":"IF(OR($E1997<>0,$C1997=\"\"),\"\",INDEX(Categories!$A:$E,Entries!$D1997,2))","v":""},{"$f":"IF(OR($E1997<>0,$C1997=\"\"),\"\",INDEX(Categories!$A:$E,Entries!$D1997,3))","v":""},{"$f":"IF(OR($E1997<>0,$C1997=\"\"),\"\",INDEX(Categories!$A:$E,Entries!$D1997,4))","v":""},{"$f":"IF(OR($E1997<>0,$C1997=\"\"),\"\",INDEX(Categories!$A:$E,Entries!$D1997,5))","v":""},"2014-01-01","2014-01-01",{"$f":"(Entries!K1998-Entries!K1997)*24*60","v":0}]
["",null,null,{"$f":"MATCH(C1998,Categories!A:A,0)","v":{"$error":"#N/A"}},0,{"$f":"IF(OR($E1998<>0,$C1998=\"\"),\"\",INDEX(Categories!$A:$E,Entries!$D1998,2))","v":""},{"$f":"IF(OR($E1998<>0,$C1998=\"\"),\"\",INDEX(Categories!$A:$E,Entries!$D1998,3))","v":""},{"$f":"IF(OR($E1998<>0,$C1998=\"\"),\"\",INDEX(Categories!$A:$E,Entries!$D1998,4))","v":""},{"$f":"IF(OR($E1998<>0,$C1998=\"\"),\"\",INDEX(Categories!$A:$E,Entries!$D1998,5))","v":""},"2014-01-01","2014-01-01",{"$f":"(Entries!K1999-Entries!K1998)*24*60","v":0}]
["",null,null,{"$f":"MATCH(C1999,Categories!A:A,0)","v":{"$error":"#N/A"}},0,{"$f":"IF(OR($E1999<>0,$C1999=\"\"),\"\",INDEX(Categories!$A:$E,Entries!$D1999,2))","v":""},{"$f":"IF(OR($E1999<>0,$C1999=\"\"),\"\",INDEX(Categories!$A:$E,Entries!$D1999,3))","v":""},{"$f":"IF(OR($E1999<>0,$C1999=\"\"),\"\",INDEX(Categories!$A:$E,Entries!$D1999,4))","v":""},{"$f":"IF(OR($E1999<>0,$C1999=\"\"),\"\",INDEX(Categories!$A:$E,Entries!$D1999,5))","v":""},"2014-01-01","2014-01-01",{"$f":"(Entries!K2000-Entries!K1999)*24*60","v":0}]
["",null,null,{"$f":"MATCH(C2000,Categories!A:A,0)","v":{"$error":"#N/A"}},0,{"$f":"IF(OR($E2000<>0,$C2000=\"\"),\"\",INDEX(Categories!$A:$E,Entries!$D2000,2))","v":""},{"$f":"IF(OR($E2000<>0,$C2000=\"\"),\"\",INDEX(Categories!$A:$E,Entries!$D2000,3))","v":""},{"$f":"IF(OR($E2000<>0,$C2000=\"\"),\"\",INDEX(Categories!$A:$E,Entries!$D2000,4))","v":""},{"$f":"IF(OR($E2000<>0,$C2000=\"\"),\"\",INDEX(Categories!$A:$E,Entries!$D2000,5))","v":""},"2014-01-01","2014-01-01",{"$f":"(Entries!K2001-Entries!K2000)*24*60","v":-59961600}]

{"sheet":"Categories","index":1,"n_rows":2,"n_cols":10,"rows_kept":2,"cut":false,"hidden":false,"merged":[]}
["Shorthand","Rating","Level 1","Level 2","Level 3"]
["z",0,"Time Zones",null,null,null,null,null,null,"rjtlr"]

{"sheet":"Results","index":2,"n_rows":6,"n_cols":18,"rows_kept":6,"cut":false,"hidden":false,"merged":[]}
[null,{"$f":"SUM(C1:Z1)/COUNT(C1:Z1)","v":{"$error":"#REF!"}},{"$f":"(GETPIVOTDATA(\"Duration\",$A$2,\"Code\",1,\"Day\",C3)+2*GETPIVOTDATA(\"Duration\",$A$2,\"Code\",2,\"Day\",C3)+3*GETPIVOTDATA(\"Duration\",$A$2,\"Code\",3,\"Day\",C3)+4*GETPIVOTDATA(\"Duration\",$A$2,\"Code\",4,\"Day\",C3))/(1440-GETPIVOTDATA(\"Duration\",$A$2,\"Code\",0,\"Day\",C3))","v":{"$error":"#REF!"}},{"$f":"(GETPIVOTDATA(\"Duration\",$A$2,\"Code\",1,\"Day\",D3)+2*GETPIVOTDATA(\"Duration\",$A$2,\"Code\",2,\"Day\",D3)+3*GETPIVOTDATA(\"Duration\",$A$2,\"Code\",3,\"Day\",D3)+4*GETPIVOTDATA(\"Duration\",$A$2,\"Code\",4,\"Day\",D3))/(1440-GETPIVOTDATA(\"Duration\",$A$2,\"Code\",0,\"Day\",D3))","v":{"$error":"#REF!"}},{"$error":"#REF!"},{"$error":"#REF!"},{"$error":"#REF!"},{"$error":"#REF!"},{"$error":"#REF!"},{"$error":"#REF!"},{"$error":"#REF!"},{"$error":"#REF!"},{"$error":"#REF!"},{"$error":"#REF!"},{"$error":"#REF!"},{"$error":"#REF!"},{"$error":"#REF!"},{"$error":"#REF!"}]
["Sum of Duration",null,null,null,"Date"]
["Rating","Level 1","Level 2","Level 3","Grand Total"]
["Grand Total"]
[]
["Right-click the table and select \"Refresh\" to view changes to the data"]

{"sheet":"Processing","index":3,"n_rows":369,"n_cols":9,"rows_kept":369,"cut":false,"hidden":false,"merged":[]}
["Date",0,1,2,3,4,"Ratio","7-day","Running"]
[null,{"$f":"SUM(B3:B60)-SUMIF(B3:B60,\"=-100000\")","v":0},{"$f":"SUM(C3:C60)-SUMIF(C3:C60,\"=-100000\")","v":0},{"$f":"SUM(D3:D60)-SUMIF(D3:D60,\"=-100000\")","v":0},{"$f":"SUM(E3:E60)-SUMIF(E3:E60,\"=-100000\")","v":0},{"$f":"SUM(F3:F60)-SUMIF(F3:F60,\"=-100000\")","v":0},null,null,{"$f":"IF(SUM(B2:F2)=-500000,-1000,(C2+2*D2+3*E2+4*F2)/(C2+D2+E2+F2))","v":{"$error":"#DIV/0!"}}]
[{"$f":"Entries!A2","v":"2014-01-01"},{"$f":"IF(ISERROR(GETPIVOTDATA(\"Duration\",Results!$A$2,\"Rating\",B$1,\"Date\",$A3)),-100000,GETPIVOTDATA(\"Duration\",Results!$A$2,\"Rating\",B$1,\"Date\",$A3))","v":-100000},{"$f":"IF(ISERROR(GETPIVOTDATA(\"Duration\",Results!$A$2,\"Rating\",C$1,\"Date\",$A3)),-100000,GETPIVOTDATA(\"Duration\",Results!$A$2,\"Rating\",C$1,\"Date\",$A3))","v":-100000},{"$f":"IF(ISERROR(GETPIVOTDATA(\"Duration\",Results!$A$2,\"Rating\",D$1,\"Date\",$A3)),-100000,GETPIVOTDATA(\"Duration\",Results!$A$2,\"Rating\",D$1,\"Date\",$A3))","v":-100000},{"$f":"IF(ISERROR(GETPIVOTDATA(\"Duration\",Results!$A$2,\"Rating\",E$1,\"Date\",$A3)),-100000,GETPIVOTDATA(\"Duration\",Results!$A$2,\"Rating\",E$1,\"Date\",$A3))","v":-100000},{"$f":"IF(ISERROR(GETPIVOTDATA(\"Duration\",Results!$A$2,\"Rating\",F$1,\"Date\",$A3)),-100000,GETPIVOTDATA(\"Duration\",Results!$A$2,\"Rating\",F$1,\"Date\",$A3))","v":-100000},{"$f":"IF(SUM(B3:F3)=-500000,1000,(C3+2*D3+3*E3+4*F3)/(C3+D3+E3+F3))","v":1000},null,{"$f":"AVERAGE(G$3:G3)","v":1000}]
[{"$f":"A3+1","v":"2014-01-02"},{"$f":"IF(ISERROR(GETPIVOTDATA(\"Duration\",Results!$A$2,\"Rating\",B$1,\"Date\",$A4)),-100000,GETPIVOTDATA(\"Duration\",Results!$A$2,\"Rating\",B$1,\"Date\",$A4))","v":-100000},{"$f":"IF(ISERROR(GETPIVOTDATA(\"Duration\",Results!$A$2,\"Rating\",C$1,\"Date\",$A4)),-100000,GETPIVOTDATA(\"Duration\",Results!$A$2,\"Rating\",C$1,\"Date\",$A4))","v":-100000},{"$f":"IF(ISERROR(GETPIVOTDATA(\"Duration\",Results!$A$2,\"Rating\",D$1,\"Date\",$A4)),-100000,GETPIVOTDATA(\"Duration\",Results!$A$2,\"Rating\",D$1,\"Date\",$A4))","v":-100000},{"$f":"IF(ISERROR(GETPIVOTDATA(\"Duration\",Results!$A$2,\"Rating\",E$1,\"Date\",$A4)),-100000,GETPIVOTDATA(\"Duration\",Results!$A$2,\"Rating\",E$1,\"Date\",$A4))","v":-100000},{"$f":"IF(ISERROR(GETPIVOTDATA(\"Duration\",Results!$A$2,\"Rating\",F$1,\"Date\",$A4)),-100000,GETPIVOTDATA(\"Duration\",Results!$A$2,\"Rating\",F$1,\"Date\",$A4))","v":-100000},1000,null,{"$f":"AVERAGE(G$3:G4)","v":1000}]
[{"$f":"A4+1","v":"2014-01-03"},{"$f":"IF(ISERROR(GETPIVOTDATA(\"Duration\",Results!$A$2,\"Rating\",B$1,\"Date\",$A5)),-100000,GETPIVOTDATA(\"Duration\",Results!$A$2,\"Rating\",B$1,\"Date\",$A5))","v":-100000},{"$f":"IF(ISERROR(GETPIVOTDATA(\"Duration\",Results!$A$2,\"Rating\",C$1,\"Date\",$A5)),-100000,GETPIVOTDATA(\"Duration\",Results!$A$2,\"Rating\",C$1,\"Date\",$A5))","v":-100000},{"$f":"IF(ISERROR(GETPIVOTDATA(\"Duration\",Results!$A$2,\"Rating\",D$1,\"Date\",$A5)),-100000,GETPIVOTDATA(\"Duration\",Results!$A$2,\"Rating\",D$1,\"Date\",$A5))","v":-100000},{"$f":"IF(ISERROR(GETPIVOTDATA(\"Duration\",Results!$A$2,\"Rating\",E$1,\"Date\",$A5)),-100000,GETPIVOTDATA(\"Duration\",Results!$A$2,\"Rating\",E$1,\"Date\",$A5))","v":-100000},{"$f":"IF(ISERROR(GETPIVOTDATA(\"Duration\",Results!$A$2,\"Rating\",F$1,\"Date\",$A5)),-100000,GETPIVOTDATA(\"Duration\",Results!$A$2,\"Rating\",F$1,\"Date\",$A5))","v":-100000},1000,null,{"$f":"AVERAGE(G$3:G5)","v":1000}]
["2014-01-04",{"$f":"IF(ISERROR(GETPIVOTDATA(\"Duration\",Results!$A$2,\"Rating\",B$1,\"Date\",$A6)),-100000,GETPIVOTDATA(\"Duration\",Results!$A$2,\"Rating\",B$1,\"Date\",$A6))","v":-100000},{"$f":"IF(ISERROR(GETPIVOTDATA(\"Duration\",Results!$A$2,\"Rating\",C$1,\"Date\",$A6)),-100000,GETPIVOTDATA(\"Duration\",Results!$A$2,\"Rating\",C$1,\"Date\",$A6))","v":-100000},{"$f":"IF(ISERROR(GETPIVOTDATA(\"Duration\",Results!$A$2,\"Rating\",D$1,\"Date\",$A6)),-100000,GETPIVOTDATA(\"Duration\",Results!$A$2,\"Rating\",D$1,\"Date\",$A6))","v":-100000},{"$f":"IF(ISERROR(GETPIVOTDATA(\"Duration\",Results!$A$2,\"Rating\",E$1,\"Date\",$A6)),-100000,GETPIVOTDATA(\"Duration\",Results!$A$2,\"Rating\",E$1,\"Date\",$A6))","v":-100000},{"$f":"IF(ISERROR(GETPIVOTDATA(\"Duration\",Results!$A$2,\"Rating\",F$1,\"Date\",$A6)),-100000,GETPIVOTDATA(\"Duration\",Results!$A$2,\"Rating\",F$1,\"Date\",$A6))","v":-100000},1000,null,{"$f":"AVERAGE(G$3:G6)","v":1000}]
["2014-01-05",{"$f":"IF(ISERROR(GETPIVOTDATA(\"Duration\",Results!$A$2,\"Rating\",B$1,\"Date\",$A7)),-100000,GETPIVOTDATA(\"Duration\",Results!$A$2,\"Rating\",B$1,\"Date\",$A7))","v":-100000},{"$f":"IF(ISERROR(GETPIVOTDATA(\"Duration\",Results!$A$2,\"Rating\",C$1,\"Date\",$A7)),-100000,GETPIVOTDATA(\"Duration\",Results!$A$2,\"Rating\",C$1,\"Date\",$A7))","v":-100000},{"$f":"IF(ISERROR(GETPIVOTDATA(\"Duration\",Results!$A$2,\"Rating\",D$1,\"Date\",$A7)),-100000,GETPIVOTDATA(\"Duration\",Results!$A$2,\"Rating\",D$1,\"Date\",$A7))","v":-100000},{"$f":"IF(ISERROR(GETPIVOTDATA(\"Duration\",Results!$A$2,\"Rating\",E$1,\"Date\",$A7)),-100000,GETPIVOTDATA(\"Duration\",Results!$A$2,\"Rating\",E$1,\"Date\",$A7))","v":-100000},{"$f":"IF(ISERROR(GETPIVOTDATA(\"Duration\",Results!$A$2,\"Rating\",F$1,\"Date\",$A7)),-100000,GETPIVOTDATA(\"Duration\",Results!$A$2,\"Rating\",F$1,\"Date\",$A7))","v":-100000},1000,null,{"$f":"AVERAGE(G$3:G7)","v":1000}]
["2014-01-06",{"$f":"IF(ISERROR(GETPIVOTDATA(\"Duration\",Results!$A$2,\"Rating\",B$1,\"Date\",$A8)),-100000,GETPIVOTDATA(\"Duration\",Results!$A$2,\"Rating\",B$1,\"Date\",$A8))","v":-100000},{"$f":"IF(ISERROR(GETPIVOTDATA(\"Duration\",Results!$A$2,\"Rating\",C$1,\"Date\",$A8)),-100000,GETPIVOTDATA(\"Duration\",Results!$A$2,\"Rating\",C$1,\"Date\",$A8))","v":-100000},{"$f":"IF(ISERROR(GETPIVOTDATA(\"Duration\",Results!$A$2,\"Rating\",D$1,\"Date\",$A8)),-100000,GETPIVOTDATA(\"Duration\",Results!$A$2,\"Rating\",D$1,\"Date\",$A8))","v":-100000},{"$f":"IF(ISERROR(GETPIVOTDATA(\"Duration\",Results!$A$2,\"Rating\",E$1,\"Date\",$A8)),-100000,GETPIVOTDATA(\"Duration\",Results!$A$2,\"Rating\",E$1,\"Date\",$A8))","v":-100000},{"$f":"IF(ISERROR(GETPIVOTDATA(\"Duration\",Results!$A$2,\"Rating\",F$1,\"Date\",$A8)),-100000,GETPIVOTDATA(\"Duration\",Results!$A$2,\"Rating\",F$1,\"Date\",$A8))","v":-100000},1000,null,{"$f":"AVERAGE(G$3:G8)","v":1000}]
["2014-01-07",{"$f":"IF(ISERROR(GETPIVOTDATA(\"Duration\",Results!$A$2,\"Rating\",B$1,\"Date\",$A9)),-100000,GETPIVOTDATA(\"Duration\",Results!$A$2,\"Rating\",B$1,\"Date\",$A9))","v":-100000},{"$f":"IF(ISERROR(GETPIVOTDATA(\"Duration\",Results!$A$2,\"Rating\",C$1,\"Date\",$A9)),-100000,GETPIVOTDATA(\"Duration\",Results!$A$2,\"Rating\",C$1,\"Date\",$A9))","v":-100000},{"$f":"IF(ISERROR(GETPIVOTDATA(\"Duration\",Results!$A$2,\"Rating\",D$1,\"Date\",$A9)),-100000,GETPIVOTDATA(\"Duration\",Results!$A$2,\"Rating\",D$1,\"Date\",$A9))","v":-100000},{"$f":"IF(ISERROR(GETPIVOTDATA(\"Duration\",Results!$A$2,\"Rating\",E$1,\"Date\",$A9)),-100000,GETPIVOTDATA(\"Duration\",Results!$A$2,\"Rating\",E$1,\"Date\",$A9))","v":-100000},{"$f":"IF(ISERROR(GETPIVOTDATA(\"Duration\",Results!$A$2,\"Rating\",F$1,\"Date\",$A9)),-100000,GETPIVOTDATA(\"Duration\",Results!$A$2,\"Rating\",F$1,\"Date\",$A9))","v":-100000},1000,{"$f":"AVERAGE(G3:G9)","v":1000},{"$f":"AVERAGE(G$3:G9)","v":1000}]
["2014-01-08",{"$f":"IF(ISERROR(GETPIVOTDATA(\"Duration\",Results!$A$2,\"Rating\",B$1,\"Date\",$A10)),-100000,GETPIVOTDATA(\"Duration\",Results!$A$2,\"Rating\",B$1,\"Date\",$A10))","v":-100000},{"$f":"IF(ISERROR(GETPIVOTDATA(\"Duration\",Results!$A$2,\"Rating\",C$1,\"Date\",$A10)),-100000,GETPIVOTDATA(\"Duration\",Results!$A$2,\"Rating\",C$1,\"Date\",$A10))","v":-100000},{"$f":"IF(ISERROR(GETPIVOTDATA(\"Duration\",Results!$A$2,\"Rating\",D$1,\"Date\",$A10)),-100000,GETPIVOTDATA(\"Duration\",Results!$A$2,\"Rating\",D$1,\"Date\",$A10))","v":-100000},{"$f":"IF(ISERROR(GETPIVOTDATA(\"Duration\",Results!$A$2,\"Rating\",E$1,\"Date\",$A10)),-100000,GETPIVOTDATA(\"Duration\",Results!$A$2,\"Rating\",E$1,\"Date\",$A10))","v":-100000},{"$f":"IF(ISERROR(GETPIVOTDATA(\"Duration\",Results!$A$2,\"Rating\",F$1,\"Date\",$A10)),-100000,GETPIVOTDATA(\"Duration\",Results!$A$2,\"Rating\",F$1,\"Date\",$A10))","v":-100000},1000,1000,{"$f":"AVERAGE(G$3:G10)","v":1000}]
["2014-01-09",{"$f":"IF(ISERROR(GETPIVOTDATA(\"Duration\",Results!$A$2,\"Rating\",B$1,\"Date\",$A11)),-100000,GETPIVOTDATA(\"Duration\",Results!$A$2,\"Rating\",B$1,\"Date\",$A11))","v":-100000},{"$f":"IF(ISERROR(GETPIVOTDATA(\"Duration\",Results!$A$2,\"Rating\",C$1,\"Date\",$A11)),-100000,GETPIVOTDATA(\"Duration\",Results!$A$2,\"Rating\",C$1,\"Date\",$A11))","v":-100000},{"$f":"IF(ISERROR(GETPIVOTDATA(\"Duration\",Results!$A$2,\"Rating\",D$1,\"Date\",$A11)),-100000,GETPIVOTDATA(\"Duration\",Results!$A$2,\"Rating\",D$1,\"Date\",$A11))","v":-100000},{"$f":"IF(ISERROR(GETPIVOTDATA(\"Duration\",Results!$A$2,\"Rating\",E$1,\"Date\",$A11)),-100000,GETPIVOTDATA(\"Duration\",Results!$A$2,\"Rating\",E$1,\"Date\",$A11))","v":-100000},{"$f":"IF(ISERROR(GETPIVOTDATA(\"Duration\",Results!$A$2,\"Rating\",F$1,\"Date\",$A11)),-100000,GETPIVOTDATA(\"Duration\",Results!$A$2,\"Rating\",F$1,\"Date\",$A11))","v":-100000},1000,1000,{"$f":"AVERAGE(G$3:G11)","v":1000}]
["2014-01-10",{"$f":"IF(ISERROR(GETPIVOTDATA(\"Duration\",Results!$A$2,\"Rating\",B$1,\"Date\",$A12)),-100000,GETPIVOTDATA(\"Duration\",Results!$A$2,\"Rating\",B$1,\"Date\",$A12))","v":-100000},{"$f":"IF(ISERROR(GETPIVOTDATA(\"Duration\",Results!$A$2,\"Rating\",C$1,\"Date\",$A12)),-100000,GETPIVOTDATA(\"Duration\",Results!$A$2,\"Rating\",C$1,\"Date\",$A12))","v":-100000},{"$f":"IF(ISERROR(GETPIVOTDATA(\"Duration\",Results!$A$2,\"Rating\",D$1,\"Date\",$A12)),-100000,GETPIVOTDATA(\"Duration\",Results!$A$2,\"Rating\",D$1,\"Date\",$A12))","v":-100000},{"$f":"IF(ISERROR(GETPIVOTDATA(\"Duration\",Results!$A$2,\"Rating\",E$1,\"Date\",$A12)),-100000,GETPIVOTDATA(\"Duration\",Results!$A$2,\"Rating\",E$1,\"Date\",$A12))","v":-100000},{"$f":"IF(ISERROR(GETPIVOTDATA(\"Duration\",Results!$A$2,\"Rating\",F$1,\"Date\",$A12)),-100000,GETPIVOTDATA(\"Duration\",Results!$A$2,\"Rating\",F$1,\"Date\",$A12))","v":-100000},1000,1000,{"$f":"AVERAGE(G$3:G12)","v":1000}]
["2014-01-11",{"$f":"IF(ISERROR(GETPIVOTDATA(\"Duration\",Results!$A$2,\"Rating\",B$1,\"Date\",$A13)),-100000,GETPIVOTDATA(\"Duration\",Results!$A$2,\"Rating\",B$1,\"Date\",$A13))","v":-100000},{"$f":"IF(ISERROR(GETPIVOTDATA(\"Duration\",Results!$A$2,\"Rating\",C$1,\"Date\",$A13)),-100000,GETPIVOTDATA(\"Duration\",Results!$A$2,\"Rating\",C$1,\"Date\",$A13))","v":-100000},{"$f":"IF(ISERROR(GETPIVOTDATA(\"Duration\",Results!$A$2,\"Rating\",D$1,\"Date\",$A13)),-100000,GETPIVOTDATA(\"Duration\",Results!$A$2,\"Rating\",D$1,\"Date\",$A13))","v":-100000},{"$f":"IF(ISERROR(GETPIVOTDATA(\"Duration\",Results!$A$2,\"Rating\",E$1,\"Date\",$A13)),-100000,GETPIVOTDATA(\"Duration\",Results!$A$2,\"Rating\",E$1,\"Date\",$A13))","v":-100000},{"$f":"IF(ISERROR(GETPIVOTDATA(\"Duration\",Results!$A$2,\"Rating\",F$1,\"Date\",$A13)),-100000,GETPIVOTDATA(\"Duration\",Results!$A$2,\"Rating\",F$1,\"Date\",$A13))","v":-100000},1000,1000,{"$f":"AVERAGE(G$3:G13)","v":1000}]
["2014-01-12",{"$f":"IF(ISERROR(GETPIVOTDATA(\"Duration\",Results!$A$2,\"Rating\",B$1,\"Date\",$A14)),-100000,GETPIVOTDATA(\"Duration\",Results!$A$2,\"Rating\",B$1,\"Date\",$A14))","v":-100000},{"$f":"IF(ISERROR(GETPIVOTDATA(\"Duration\",Results!$A$2,\"Rating\",C$1,\"Date\",$A14)),-100000,GETPIVOTDATA(\"Duration\",Results!$A$2,\"Rating\",C$1,\"Date\",$A14))","v":-100000},{"$f":"IF(ISERROR(GETPIVOTDATA(\"Duration\",Results!$A$2,\"Rating\",D$1,\"Date\",$A14)),-100000,GETPIVOTDATA(\"Duration\",Results!$A$2,\"Rating\",D$1,\"Date\",$A14))","v":-100000},{"$f":"IF(ISERROR(GETPIVOTDATA(\"Duration\",Results!$A$2,\"Rating\",E$1,\"Date\",$A14)),-100000,GETPIVOTDATA(\"Duration\",Results!$A$2,\"Rating\",E$1,\"Date\",$A14))","v":-100000},{"$f":"IF(ISERROR(GETPIVOTDATA(\"Duration\",Results!$A$2,\"Rating\",F$1,\"Date\",$A14)),-100000,GETPIVOTDATA(\"Duration\",Results!$A$2,\"Rating\",F$1,\"Date\",$A14))","v":-100000},1000,1000,{"$f":"AVERAGE(G$3:G14)","v":1000}]
["2014-01-13",{"$f":"IF(ISERROR(GETPIVOTDATA(\"Duration\",Results!$A$2,\"Rating\",B$1,\"Date\",$A15)),-100000,GETPIVOTDATA(\"Duration\",Results!$A$2,\"Rating\",B$1,\"Date\",$A15))","v":-100000},{"$f":"IF(ISERROR(GETPIVOTDATA(\"Duration\",Results!$A$2,\"Rating\",C$1,\"Date\",$A15)),-100000,GETPIVOTDATA(\"Duration\",Results!$A$2,\"Rating\",C$1,\"Date\",$A15))","v":-100000},{"$f":"IF(ISERROR(GETPIVOTDATA(\"Duration\",Results!$A$2,\"Rating\",D$1,\"Date\",$A15)),-100000,GETPIVOTDATA(\"Duration\",Results!$A$2,\"Rating\",D$1,\"Date\",$A15))","v":-100000},{"$f":"IF(ISERROR(GETPIVOTDATA(\"Duration\",Results!$A$2,\"Rating\",E$1,\"Date\",$A15)),-100000,GETPIVOTDATA(\"Duration\",Results!$A$2,\"Rating\",E$1,\"Date\",$A15))","v":-100000},{"$f":"IF(ISERROR(GETPIVOTDATA(\"Duration\",Results!$A$2,\"Rating\",F$1,\"Date\",$A15)),-100000,GETPIVOTDATA(\"Duration\",Results!$A$2,\"Rating\",F$1,\"Date\",$A15))","v":-100000},1000,1000,{"$f":"AVERAGE(G$3:G15)","v":1000}]
["2014-01-14",{"$f":"IF(ISERROR(GETPIVOTDATA(\"Duration\",Results!$A$2,\"Rating\",B$1,\"Date\",$A16)),-100000,GETPIVOTDATA(\"Duration\",Results!$A$2,\"Rating\",B$1,\"Date\",$A16))","v":-100000},{"$f":"IF(ISERROR(GETPIVOTDATA(\"Duration\",Results!$A$2,\"Rating\",C$1,\"Date\",$A16)),-100000,GETPIVOTDATA(\"Duration\",Results!$A$2,\"Rating\",C$1,\"Date\",$A16))","v":-100000},{"$f":"IF(ISERROR(GETPIVOTDATA(\"Duration\",Results!$A$2,\"Rating\",D$1,\"Date\",$A16)),-100000,GETPIVOTDATA(\"Duration\",Results!$A$2,\"Rating\",D$1,\"Date\",$A16))","v":-100000},{"$f":"IF(ISERROR(GETPIVOTDATA(\"Duration\",Results!$A$2,\"Rating\",E$1,\"Date\",$A16)),-100000,GETPIVOTDATA(\"Duration\",Results!$A$2,\"Rating\",E$1,\"Date\",$A16))","v":-100000},{"$f":"IF(ISERROR(GETPIVOTDATA(\"Duration\",Results!$A$2,\"Rating\",F$1,\"Date\",$A16)),-100000,GETPIVOTDATA(\"Duration\",Results!$A$2,\"Rating\",F$1,\"Date\",$A16))","v":-100000},1000,1000,{"$f":"AVERAGE(G$3:G16)","v":1000}]
["2014-01-15",{"$f":"IF(ISERROR(GETPIVOTDATA(\"Duration\",Results!$A$2,\"Rating\",B$1,\"Date\",$A17)),-100000,GETPIVOTDATA(\"Duration\",Results!$A$2,\"Rating\",B$1,\"Date\",$A17))","v":-100000},{"$f":"IF(ISERROR(GETPIVOTDATA(\"Duration\",Results!$A$2,\"Rating\",C$1,\"Date\",$A17)),-100000,GETPIVOTDATA(\"Duration\",Results!$A$2,\"Rating\",C$1,\"Date\",$A17))","v":-100000},{"$f":"IF(ISERROR(GETPIVOTDATA(\"Duration\",Results!$A$2,\"Rating\",D$1,\"Date\",$A17)),-100000,GETPIVOTDATA(\"Duration\",Results!$A$2,\"Rating\",D$1,\"Date\",$A17))","v":-100000},{"$f":"IF(ISERROR(GETPIVOTDATA(\"Duration\",Results!$A$2,\"Rating\",E$1,\"Date\",$A17)),-100000,GETPIVOTDATA(\"Duration\",Results!$A$2,\"Rating\",E$1,\"Date\",$A17))","v":-100000},{"$f":"IF(ISERROR(GETPIVOTDATA(\"Duration\",Results!$A$2,\"Rating\",F$1,\"Date\",$A17)),-100000,GETPIVOTDATA(\"Duration\",Results!$A$2,\"Rating\",F$1,\"Date\",$A17))","v":-100000},1000,1000,{"$f":"AVERAGE(G$3:G17)","v":1000}]
["2014-01-16",{"$f":"IF(ISERROR(GETPIVOTDATA(\"Duration\",Results!$A$2,\"Rating\",B$1,\"Date\",$A18)),-100000,GETPIVOTDATA(\"Duration\",Results!$A$2,\"Rating\",B$1,\"Date\",$A18))","v":-100000},{"$f":"IF(ISERROR(GETPIVOTDATA(\"Duration\",Results!$A$2,\"Rating\",C$1,\"Date\",$A18)),-100000,GETPIVOTDATA(\"Duration\",Results!$A$2,\"Rating\",C$1,\"Date\",$A18))","v":-100000},{"$f":"IF(ISERROR(GETPIVOTDATA(\"Duration\",Results!$A$2,\"Rating\",D$1,\"Date\",$A18)),-100000,GETPIVOTDATA(\"Duration\",Results!$A$2,\"Rating\",D$1,\"Date\",$A18))","v":-100000},{"$f":"IF(ISERROR(GETPIVOTDATA(\"Duration\",Results!$A$2,\"Rating\",E$1,\"Date\",$A18)),-100000,GETPIVOTDATA(\"Duration\",Results!$A$2,\"Rating\",E$1,\"Date\",$A18))","v":-100000},{"$f":"IF(ISERROR(GETPIVOTDATA(\"Duration\",Results!$A$2,\"Rating\",F$1,\"Date\",$A18)),-100000,GETPIVOTDATA(\"Duration\",Results!$A$2,\"Rating\",F$1,\"Date\",$A18))","v":-100000},1000,1000,{"$f":"AVERAGE(G$3:G18)","v":1000}]
["2014-01-17",{"$f":"IF(ISERROR(GETPIVOTDATA(\"Duration\",Results!$A$2,\"Rating\",B$1,\"Date\",$A19)),-100000,GETPIVOTDATA(\"Duration\",Results!$A$2,\"Rating\",B$1,\"Date\",$A19))","v":-100000},{"$f":"IF(ISERROR(GETPIVOTDATA(\"Duration\",Results!$A$2,\"Rating\",C$1,\"Date\",$A19)),-100000,GETPIVOTDATA(\"Duration\",Results!$A$2,\"Rating\",C$1,\"Date\",$A19))","v":-100000},{"$f":"IF(ISERROR(GETPIVOTDATA(\"Duration\",Results!$A$2,\"Rating\",D$1,\"Date\",$A19)),-100000,GETPIVOTDATA(\"Duration\",Results!$A$2,\"Rating\",D$1,\"Date\",$A19))","v":-100000},{"$f":"IF(ISERROR(GETPIVOTDATA(\"Duration\",Results!$A$2,\"Rating\",E$1,\"Date\",$A19)),-100000,GETPIVOTDATA(\"Duration\",Results!$A$2,\"Rating\",E$1,\"Date\",$A19))","v":-100000},{"$f":"IF(ISERROR(GETPIVOTDATA(\"Duration\",Results!$A$2,\"Rating\",F$1,\"Date\",$A19)),-100000,GETPIVOTDATA(\"Duration\",Results!$A$2,\"Rating\",F$1,\"Date\",$A19))","v":-100000},1000,1000,{"$f":"AVERAGE(G$3:G19)","v":1000}]
["2014-01-18",{"$f":"IF(ISERROR(GETPIVOTDATA(\"Duration\",Results!$A$2,\"Rating\",B$1,\"Date\",$A20)),-100000,GETPIVOTDATA(\"Duration\",Results!$A$2,\"Rating\",B$1,\"Date\",$A20))","v":-100000},{"$f":"IF(ISERROR(GETPIVOTDATA(\"Duration\",Results!$A$2,\"Rating\",C$1,\"Date\",$A20)),-100000,GETPIVOTDATA(\"Duration\",Results!$A$2,\"Rating\",C$1,\"Date\",$A20))","v":-100000},{"$f":"IF(ISERROR(GETPIVOTDATA(\"Duration\",Results!$A$2,\"Rating\",D$1,\"Date\",$A20)),-100000,GETPIVOTDATA(\"Duration\",Results!$A$2,\"Rating\",D$1,\"Date\",$A20))","v":-100000},{"$f":"IF(ISERROR(GETPIVOTDATA(\"Duration\",Results!$A$2,\"Rating\",E$1,\"Date\",$A20)),-100000,GETPIVOTDATA(\"Duration\",Results!$A$2,\"Rating\",E$1,\"Date\",$A20))","v":-100000},{"$f":"IF(ISERROR(GETPIVOTDATA(\"Duration\",Results!$A$2,\"Rating\",F$1,\"Date\",$A20)),-100000,GETPIVOTDATA(\"Duration\",Results!$A$2,\"Rating\",F$1,\"Date\",$A20))","v":-100000},1000,1000,{"$f":"AVERAGE(G$3:G20)","v":1000}]
["2014-01-19",{"$f":"IF(ISERROR(GETPIVOTDATA(\"Duration\",Results!$A$2,\"Rating\",B$1,\"Date\",$A21)),-100000,GETPIVOTDATA(\"Duration\",Results!$A$2,\"Rating\",B$1,\"Date\",$A21))","v":-100000},{"$f":"IF(ISERROR(GETPIVOTDATA(\"Duration\",Results!$A$2,\"Rating\",C$1,\"Date\",$A21)),-100000,GETPIVOTDATA(\"Duration\",Results!$A$2,\"Rating\",C$1,\"Date\",$A21))","v":-100000},{"$f":"IF(ISERROR(GETPIVOTDATA(\"Duration\",Results!$A$2,\"Rating\",D$1,\"Date\",$A21)),-100000,GETPIVOTDATA(\"Duration\",Results!$A$2,\"Rating\",D$1,\"Date\",$A21))","v":-100000},{"$f":"IF(ISERROR(GETPIVOTDATA(\"Duration\",Results!$A$2,\"Rating\",E$1,\"Date\",$A21)),-100000,GETPIVOTDATA(\"Duration\",Results!$A$2,\"Rating\",E$1,\"Date\",$A21))","v":-100000},{"$f":"IF(ISERROR(GETPIVOTDATA(\"Duration\",Results!$A$2,\"Rating\",F$1,\"Date\",$A21)),-100000,GETPIVOTDATA(\"Duration\",Results!$A$2,\"Rating\",F$1,\"Date\",$A21))","v":-100000},1000,1000,{"$f":"AVERAGE(G$3:G21)","v":1000}]
["2014-01-20",{"$f":"IF(ISERROR(GETPIVOTDATA(\"Duration\",Results!$A$2,\"Rating\",B$1,\"Date\",$A22)),-100000,GETPIVOTDATA(\"Duration\",Results!$A$2,\"Rating\",B$1,\"Date\",$A22))","v":-100000},{"$f":"IF(ISERROR(GETPIVOTDATA(\"Duration\",Results!$A$2,\"Rating\",C$1,\"Date\",$A22)),-100000,GETPIVOTDATA(\"Duration\",Results!$A$2,\"Rating\",C$1,\"Date\",$A22))","v":-100000},{"$f":"IF(ISERROR(GETPIVOTDATA(\"Duration\",Results!$A$2,\"Rating\",D$1,\"Date\",$A22)),-100000,GETPIVOTDATA(\"Duration\",Results!$A$2,\"Rating\",D$1,\"Date\",$A22))","v":-100000},{"$f":"IF(ISERROR(GETPIVOTDATA(\"Duration\",Results!$A$2,\"Rating\",E$1,\"Date\",$A22)),-100000,GETPIVOTDATA(\"Duration\",Results!$A$2,\"Rating\",E$1,\"Date\",$A22))","v":-100000},{"$f":"IF(ISERROR(GETPIVOTDATA(\"Duration\",Results!$A$2,\"Rating\",F$1,\"Date\",$A22)),-100000,GETPIVOTDATA(\"Duration\",Results!$A$2,\"Rating\",F$1,\"Date\",$A22))","v":-100000},1000,1000,{"$f":"AVERAGE(G$3:G22)","v":1000}]
["2014-01-21",{"$f":"IF(ISERROR(GETPIVOTDATA(\"Duration\",Results!$A$2,\"Rating\",B$1,\"Date\",$A23)),-100000,GETPIVOTDATA(\"Duration\",Results!$A$2,\"Rating\",B$1,\"Date\",$A23))","v":-100000},{"$f":"IF(ISERROR(GETPIVOTDATA(\"Duration\",Results!$A$2,\"Rating\",C$1,\"Date\",$A23)),-100000,GETPIVOTDATA(\"Duration\",Results!$A$2,\"Rating\",C$1,\"Date\",$A23))","v":-100000},{"$f":"IF(ISERROR(GETPIVOTDATA(\"Duration\",Results!$A$2,\"Rating\",D$1,\"Date\",$A23)),-100000,GETPIVOTDATA(\"Duration\",Results!$A$2,\"Rating\",D$1,\"Date\",$A23))","v":-100000},{"$f":"IF(ISERROR(GETPIVOTDATA(\"Duration\",Results!$A$2,\"Rating\",E$1,\"Date\",$A23)),-100000,GETPIVOTDATA(\"Duration\",Results!$A$2,\"Rating\",E$1,\"Date\",$A23))","v":-100000},{"$f":"IF(ISERROR(GETPIVOTDATA(\"Duration\",Results!$A$2,\"Rating\",F$1,\"Date\",$A23)),-100000,GETPIVOTDATA(\"Duration\",Results!$A$2,\"Rating\",F$1,\"Date\",$A23))","v":-100000},1000,1000,{"$f":"AVERAGE(G$3:G23)","v":1000}]
["2014-01-22",{"$f":"IF(ISERROR(GETPIVOTDATA(\"Duration\",Results!$A$2,\"Rating\",B$1,\"Date\",$A24)),-100000,GETPIVOTDATA(\"Duration\",Results!$A$2,\"Rating\",B$1,\"Date\",$A24))","v":-100000},{"$f":"IF(ISERROR(GETPIVOTDATA(\"Duration\",Results!$A$2,\"Rating\",C$1,\"Date\",$A24)),-100000,GETPIVOTDATA(\"Duration\",Results!$A$2,\"Rating\",C$1,\"Date\",$A24))","v":-100000},{"$f":"IF(ISERROR(GETPIVOTDATA(\"Duration\",Results!$A$2,\"Rating\",D$1,\"Date\",$A24)),-100000,GETPIVOTDATA(\"Duration\",Results!$A$2,\"Rating\",D$1,\"Date\",$A24))","v":-100000},{"$f":"IF(ISERROR(GETPIVOTDATA(\"Duration\",Results!$A$2,\"Rating\",E$1,\"Date\",$A24)),-100000,GETPIVOTDATA(\"Duration\",Results!$A$2,\"Rating\",E$1,\"Date\",$A24))","v":-100000},{"$f":"IF(ISERROR(GETPIVOTDATA(\"Duration\",Results!$A$2,\"Rating\",F$1,\"Date\",$A24)),-100000,GETPIVOTDATA(\"Duration\",Results!$A$2,\"Rating\",F$1,\"Date\",$A24))","v":-100000},1000,1000,{"$f":"AVERAGE(G$3:G24)","v":1000}]
["2014-01-23",{"$f":"IF(ISERROR(GETPIVOTDATA(\"Duration\",Results!$A$2,\"Rating\",B$1,\"Date\",$A25)),-100000,GETPIVOTDATA(\"Duration\",Results!$A$2,\"Rating\",B$1,\"Date\",$A25))","v":-100000},{"$f":"IF(ISERROR(GETPIVOTDATA(\"Duration\",Results!$A$2,\"Rating\",C$1,\"Date\",$A25)),-100000,GETPIVOTDATA(\"Duration\",Results!$A$2,\"Rating\",C$1,\"Date\",$A25))","v":-100000},{"$f":"IF(ISERROR(GETPIVOTDATA(\"Duration\",Results!$A$2,\"Rating\",D$1,\"Date\",$A25)),-100000,GETPIVOTDATA(\"Duration\",Results!$A$2,\"Rating\",D$1,\"Date\",$A25))","v":-100000},{"$f":"IF(ISERROR(GETPIVOTDATA(\"Duration\",Results!$A$2,\"Rating\",E$1,\"Date\",$A25)),-100000,GETPIVOTDATA(\"Duration\",Results!$A$2,\"Rating\",E$1,\"Date\",$A25))","v":-100000},{"$f":"IF(ISERROR(GETPIVOTDATA(\"Duration\",Results!$A$2,\"Rating\",F$1,\"Date\",$A25)),-100000,GETPIVOTDATA(\"Duration\",Results!$A$2,\"Rating\",F$1,\"Date\",$A25))","v":-100000},1000,1000,{"$f":"AVERAGE(G$3:G25)","v":1000}]
["2014-01-24",{"$f":"IF(ISERROR(GETPIVOTDATA(\"Duration\",Results!$A$2,\"Rating\",B$1,\"Date\",$A26)),-100000,GETPIVOTDATA(\"Duration\",Results!$A$2,\"Rating\",B$1,\"Date\",$A26))","v":-100000},{"$f":"IF(ISERROR(GETPIVOTDATA(\"Duration\",Results!$A$2,\"Rating\",C$1,\"Date\",$A26)),-100000,GETPIVOTDATA(\"Duration\",Results!$A$2,\"Rating\",C$1,\"Date\",$A26))","v":-100000},{"$f":"IF(ISERROR(GETPIVOTDATA(\"Duration\",Results!$A$2,\"Rating\",D$1,\"Date\",$A26)),-100000,GETPIVOTDATA(\"Duration\",Results!$A$2,\"Rating\",D$1,\"Date\",$A26))","v":-100000},{"$f":"IF(ISERROR(GETPIVOTDATA(\"Duration\",Results!$A$2,\"Rating\",E$1,\"Date\",$A26)),-100000,GETPIVOTDATA(\"Duration\",Results!$A$2,\"Rating\",E$1,\"Date\",$A26))","v":-100000},{"$f":"IF(ISERROR(GETPIVOTDATA(\"Duration\",Results!$A$2,\"Rating\",F$1,\"Date\",$A26)),-100000,GETPIVOTDATA(\"Duration\",Results!$A$2,\"Rating\",F$1,\"Date\",$A26))","v":-100000},1000,1000,{"$f":"AVERAGE(G$3:G26)","v":1000}]
["2014-01-25",{"$f":"IF(ISERROR(GETPIVOTDATA(\"Duration\",Results!$A$2,\"Rating\",B$1,\"Date\",$A27)),-100000,GETPIVOTDATA(\"Duration\",Results!$A$2,\"Rating\",B$1,\"Date\",$A27))","v":-100000},{"$f":"IF(ISERROR(GETPIVOTDATA(\"Duration\",Results!$A$2,\"Rating\",C$1,\"Date\",$A27)),-100000,GETPIVOTDATA(\"Duration\",Results!$A$2,\"Rating\",C$1,\"Date\",$A27))","v":-100000},{"$f":"IF(ISERROR(GETPIVOTDATA(\"Duration\",Results!$A$2,\"Rating\",D$1,\"Date\",$A27)),-100000,GETPIVOTDATA(\"Duration\",Results!$A$2,\"Rating\",D$1,\"Date\",$A27))","v":-100000},{"$f":"IF(ISERROR(GETPIVOTDATA(\"Duration\",Results!$A$2,\"Rating\",E$1,\"Date\",$A27)),-100000,GETPIVOTDATA(\"Duration\",Results!$A$2,\"Rating\",E$1,\"Date\",$A27))","v":-100000},{"$f":"IF(ISERROR(GETPIVOTDATA(\"Duration\",Results!$A$2,\"Rating\",F$1,\"Date\",$A27)),-100000,GETPIVOTDATA(\"Duration\",Results!$A$2,\"Rating\",F$1,\"Date\",$A27))","v":-100000},1000,1000,{"$f":"AVERAGE(G$3:G27)","v":1000}]
["2014-01-26",{"$f":"IF(ISERROR(GETPIVOTDATA(\"Duration\",Results!$A$2,\"Rating\",B$1,\"Date\",$A28)),-100000,GETPIVOTDATA(\"Duration\",Results!$A$2,\"Rating\",B$1,\"Date\",$A28))","v":-100000},{"$f":"IF(ISERROR(GETPIVOTDATA(\"Duration\",Results!$A$2,\"Rating\",C$1,\"Date\",$A28)),-100000,GETPIVOTDATA(\"Duration\",Results!$A$2,\"Rating\",C$1,\"Date\",$A28))","v":-100000},{"$f":"IF(ISERROR(GETPIVOTDATA(\"Duration\",Results!$A$2,\"Rating\",D$1,\"Date\",$A28)),-100000,GETPIVOTDATA(\"Duration\",Results!$A$2,\"Rating\",D$1,\"Date\",$A28))","v":-100000},{"$f":"IF(ISERROR(GETPIVOTDATA(\"Duration\",Results!$A$2,\"Rating\",E$1,\"Date\",$A28)),-100000,GETPIVOTDATA(\"Duration\",Results!$A$2,\"Rating\",E$1,\"Date\",$A28))","v":-100000},{"$f":"IF(ISERROR(GETPIVOTDATA(\"Duration\",Results!$A$2,\"Rating\",F$1,\"Date\",$A28)),-100000,GETPIVOTDATA(\"Duration\",Results!$A$2,\"Rating\",F$1,\"Date\",$A28))","v":-100000},1000,1000,{"$f":"AVERAGE(G$3:G28)","v":1000}]
["2014-01-27",{"$f":"IF(ISERROR(GETPIVOTDATA(\"Duration\",Results!$A$2,\"Rating\",B$1,\"Date\",$A29)),-100000,GETPIVOTDATA(\"Duration\",Results!$A$2,\"Rating\",B$1,\"Date\",$A29))","v":-100000},{"$f":"IF(ISERROR(GETPIVOTDATA(\"Duration\",Results!$A$2,\"Rating\",C$1,\"Date\",$A29)),-100000,GETPIVOTDATA(\"Duration\",Results!$A$2,\"Rating\",C$1,\"Date\",$A29))","v":-100000},{"$f":"IF(ISERROR(GETPIVOTDATA(\"Duration\",Results!$A$2,\"Rating\",D$1,\"Date\",$A29)),-100000,GETPIVOTDATA(\"Duration\",Results!$A$2,\"Rating\",D$1,\"Date\",$A29))","v":-100000},{"$f":"IF(ISERROR(GETPIVOTDATA(\"Duration\",Results!$A$2,\"Rating\",E$1,\"Date\",$A29)),-100000,GETPIVOTDATA(\"Duration\",Results!$A$2,\"Rating\",E$1,\"Date\",$A29))","v":-100000},{"$f":"IF(ISERROR(GETPIVOTDATA(\"Duration\",Results!$A$2,\"Rating\",F$1,\"Date\",$A29)),-100000,GETPIVOTDATA(\"Duration\",Results!$A$2,\"Rating\",F$1,\"Date\",$A29))","v":-100000},1000,1000,{"$f":"AVERAGE(G$3:G29)","v":1000}]
["2014-01-28",{"$f":"IF(ISERROR(GETPIVOTDATA(\"Duration\",Results!$A$2,\"Rating\",B$1,\"Date\",$A30)),-100000,GETPIVOTDATA(\"Duration\",Results!$A$2,\"Rating\",B$1,\"Date\",$A30))","v":-100000},{"$f":"IF(ISERROR(GETPIVOTDATA(\"Duration\",Results!$A$2,\"Rating\",C$1,\"Date\",$A30)),-100000,GETPIVOTDATA(\"Duration\",Results!$A$2,\"Rating\",C$1,\"Date\",$A30))","v":-100000},{"$f":"IF(ISERROR(GETPIVOTDATA(\"Duration\",Results!$A$2,\"Rating\",D$1,\"Date\",$A30)),-100000,GETPIVOTDATA(\"Duration\",Results!$A$2,\"Rating\",D$1,\"Date\",$A30))","v":-100000},{"$f":"IF(ISERROR(GETPIVOTDATA(\"Duration\",Results!$A$2,\"Rating\",E$1,\"Date\",$A30)),-100000,GETPIVOTDATA(\"Duration\",Results!$A$2,\"Rating\",E$1,\"Date\",$A30))","v":-100000},{"$f":"IF(ISERROR(GETPIVOTDATA(\"Duration\",Results!$A$2,\"Rating\",F$1,\"Date\",$A30)),-100000,GETPIVOTDATA(\"Duration\",Results!$A$2,\"Rating\",F$1,\"Date\",$A30))","v":-100000},1000,1000,{"$f":"AVERAGE(G$3:G30)","v":1000}]
["2014-01-29",{"$f":"IF(ISERROR(GETPIVOTDATA(\"Duration\",Results!$A$2,\"Rating\",B$1,\"Date\",$A31)),-100000,GETPIVOTDATA(\"Duration\",Results!$A$2,\"Rating\",B$1,\"Date\",$A31))","v":-100000},{"$f":"IF(ISERROR(GETPIVOTDATA(\"Duration\",Results!$A$2,\"Rating\",C$1,\"Date\",$A31)),-100000,GETPIVOTDATA(\"Duration\",Results!$A$2,\"Rating\",C$1,\"Date\",$A31))","v":-100000},{"$f":"IF(ISERROR(GETPIVOTDATA(\"Duration\",Results!$A$2,\"Rating\",D$1,\"Date\",$A31)),-100000,GETPIVOTDATA(\"Duration\",Results!$A$2,\"Rating\",D$1,\"Date\",$A31))","v":-100000},{"$f":"IF(ISERROR(GETPIVOTDATA(\"Duration\",Results!$A$2,\"Rating\",E$1,\"Date\",$A31)),-100000,GETPIVOTDATA(\"Duration\",Results!$A$2,\"Rating\",E$1,\"Date\",$A31))","v":-100000},{"$f":"IF(ISERROR(GETPIVOTDATA(\"Duration\",Results!$A$2,\"Rating\",F$1,\"Date\",$A31)),-100000,GETPIVOTDATA(\"Duration\",Results!$A$2,\"Rating\",F$1,\"Date\",$A31))","v":-100000},1000,1000,{"$f":"AVERAGE(G$3:G31)","v":1000}]
["2014-01-30",{"$f":"IF(ISERROR(GETPIVOTDATA(\"Duration\",Results!$A$2,\"Rating\",B$1,\"Date\",$A32)),-100000,GETPIVOTDATA(\"Duration\",Results!$A$2,\"Rating\",B$1,\"Date\",$A32))","v":-100000},{"$f":"IF(ISERROR(GETPIVOTDATA(\"Duration\",Results!$A$2,\"Rating\",C$1,\"Date\",$A32)),-100000,GETPIVOTDATA(\"Duration\",Results!$A$2,\"Rating\",C$1,\"Date\",$A32))","v":-100000},{"$f":"IF(ISERROR(GETPIVOTDATA(\"Duration\",Results!$A$2,\"Rating\",D$1,\"Date\",$A32)),-100000,GETPIVOTDATA(\"Duration\",Results!$A$2,\"Rating\",D$1,\"Date\",$A32))","v":-100000},{"$f":"IF(ISERROR(GETPIVOTDATA(\"Duration\",Results!$A$2,\"Rating\",E$1,\"Date\",$A32)),-100000,GETPIVOTDATA(\"Duration\",Results!$A$2,\"Rating\",E$1,\"Date\",$A32))","v":-100000},{"$f":"IF(ISERROR(GETPIVOTDATA(\"Duration\",Results!$A$2,\"Rating\",F$1,\"Date\",$A32)),-100000,GETPIVOTDATA(\"Duration\",Results!$A$2,\"Rating\",F$1,\"Date\",$A32))","v":-100000},1000,1000,{"$f":"AVERAGE(G$3:G32)","v":1000}]
["2014-01-31",{"$f":"IF(ISERROR(GETPIVOTDATA(\"Duration\",Results!$A$2,\"Rating\",B$1,\"Date\",$A33)),-100000,GETPIVOTDATA(\"Duration\",Results!$A$2,\"Rating\",B$1,\"Date\",$A33))","v":-100000},{"$f":"IF(ISERROR(GETPIVOTDATA(\"Duration\",Results!$A$2,\"Rating\",C$1,\"Date\",$A33)),-100000,GETPIVOTDATA(\"Duration\",Results!$A$2,\"Rating\",C$1,\"Date\",$A33))","v":-100000},{"$f":"IF(ISERROR(GETPIVOTDATA(\"Duration\",Results!$A$2,\"Rating\",D$1,\"Date\",$A33)),-100000,GETPIVOTDATA(\"Duration\",Results!$A$2,\"Rating\",D$1,\"Date\",$A33))","v":-100000},{"$f":"IF(ISERROR(GETPIVOTDATA(\"Duration\",Results!$A$2,\"Rating\",E$1,\"Date\",$A33)),-100000,GETPIVOTDATA(\"Duration\",Results!$A$2,\"Rating\",E$1,\"Date\",$A33))","v":-100000},{"$f":"IF(ISERROR(GETPIVOTDATA(\"Duration\",Results!$A$2,\"Rating\",F$1,\"Date\",$A33)),-100000,GETPIVOTDATA(\"Duration\",Results!$A$2,\"Rating\",F$1,\"Date\",$A33))","v":-100000},1000,1000,{"$f":"AVERAGE(G$3:G33)","v":1000}]
["2014-02-01",{"$f":"IF(ISERROR(GETPIVOTDATA(\"Duration\",Results!$A$2,\"Rating\",B$1,\"Date\",$A34)),-100000,GETPIVOTDATA(\"Duration\",Results!$A$2,\"Rating\",B$1,\"Date\",$A34))","v":-100000},{"$f":"IF(ISERROR(GETPIVOTDATA(\"Duration\",Results!$A$2,\"Rating\",C$1,\"Date\",$A34)),-100000,GETPIVOTDATA(\"Duration\",Results!$A$2,\"Rating\",C$1,\"Date\",$A34))","v":-100000},{"$f":"IF(ISERROR(GETPIVOTDATA(\"Duration\",Results!$A$2,\"Rating\",D$1,\"Date\",$A34)),-100000,GETPIVOTDATA(\"Duration\",Results!$A$2,\"Rating\",D$1,\"Date\",$A34))","v":-100000},{"$f":"IF(ISERROR(GETPIVOTDATA(\"Duration\",Results!$A$2,\"Rating\",E$1,\"Date\",$A34)),-100000,GETPIVOTDATA(\"Duration\",Results!$A$2,\"Rating\",E$1,\"Date\",$A34))","v":-100000},{"$f":"IF(ISERROR(GETPIVOTDATA(\"Duration\",Results!$A$2,\"Rating\",F$1,\"Date\",$A34)),-100000,GETPIVOTDATA(\"Duration\",Results!$A$2,\"Rating\",F$1,\"Date\",$A34))","v":-100000},1000,1000,{"$f":"AVERAGE(G$3:G34)","v":1000}]
["2014-02-02",{"$f":"IF(ISERROR(GETPIVOTDATA(\"Duration\",Results!$A$2,\"Rating\",B$1,\"Date\",$A35)),-100000,GETPIVOTDATA(\"Duration\",Results!$A$2,\"Rating\",B$1,\"Date\",$A35))","v":-100000},{"$f":"IF(ISERROR(GETPIVOTDATA(\"Duration\",Results!$A$2,\"Rating\",C$1,\"Date\",$A35)),-100000,GETPIVOTDATA(\"Duration\",Results!$A$2,\"Rating\",C$1,\"Date\",$A35))","v":-100000},{"$f":"IF(ISERROR(GETPIVOTDATA(\"Duration\",Results!$A$2,\"Rating\",D$1,\"Date\",$A35)),-100000,GETPIVOTDATA(\"Duration\",Results!$A$2,\"Rating\",D$1,\"Date\",$A35))","v":-100000},{"$f":"IF(ISERROR(GETPIVOTDATA(\"Duration\",Results!$A$2,\"Rating\",E$1,\"Date\",$A35)),-100000,GETPIVOTDATA(\"Duration\",Results!$A$2,\"Rating\",E$1,\"Date\",$A35))","v":-100000},{"$f":"IF(ISERROR(GETPIVOTDATA(\"Duration\",Results!$A$2,\"Rating\",F$1,\"Date\",$A35)),-100000,GETPIVOTDATA(\"Duration\",Results!$A$2,\"Rating\",F$1,\"Date\",$A35))","v":-100000},1000,1000,{"$f":"AVERAGE(G$3:G35)","v":1000}]
["2014-02-03",{"$f":"IF(ISERROR(GETPIVOTDATA(\"Duration\",Results!$A$2,\"Rating\",B$1,\"Date\",$A36)),-100000,GETPIVOTDATA(\"Duration\",Results!$A$2,\"Rating\",B$1,\"Date\",$A36))","v":-100000},{"$f":"IF(ISERROR(GETPIVOTDATA(\"Duration\",Results!$A$2,\"Rating\",C$1,\"Date\",$A36)),-100000,GETPIVOTDATA(\"Duration\",Results!$A$2,\"Rating\",C$1,\"Date\",$A36))","v":-100000},{"$f":"IF(ISERROR(GETPIVOTDATA(\"Duration\",Results!$A$2,\"Rating\",D$1,\"Date\",$A36)),-100000,GETPIVOTDATA(\"Duration\",Results!$A$2,\"Rating\",D$1,\"Date\",$A36))","v":-100000},{"$f":"IF(ISERROR(GETPIVOTDATA(\"Duration\",Results!$A$2,\"Rating\",E$1,\"Date\",$A36)),-100000,GETPIVOTDATA(\"Duration\",Results!$A$2,\"Rating\",E$1,\"Date\",$A36))","v":-100000},{"$f":"IF(ISERROR(GETPIVOTDATA(\"Duration\",Results!$A$2,\"Rating\",F$1,\"Date\",$A36)),-100000,GETPIVOTDATA(\"Duration\",Results!$A$2,\"Rating\",F$1,\"Date\",$A36))","v":-100000},1000,1000,{"$f":"AVERAGE(G$3:G36)","v":1000}]
["2014-02-04",{"$f":"IF(ISERROR(GETPIVOTDATA(\"Duration\",Results!$A$2,\"Rating\",B$1,\"Date\",$A37)),-100000,GETPIVOTDATA(\"Duration\",Results!$A$2,\"Rating\",B$1,\"Date\",$A37))","v":-100000},{"$f":"IF(ISERROR(GETPIVOTDATA(\"Duration\",Results!$A$2,\"Rating\",C$1,\"Date\",$A37)),-100000,GETPIVOTDATA(\"Duration\",Results!$A$2,\"Rating\",C$1,\"Date\",$A37))","v":-100000},{"$f":"IF(ISERROR(GETPIVOTDATA(\"Duration\",Results!$A$2,\"Rating\",D$1,\"Date\",$A37)),-100000,GETPIVOTDATA(\"Duration\",Results!$A$2,\"Rating\",D$1,\"Date\",$A37))","v":-100000},{"$f":"IF(ISERROR(GETPIVOTDATA(\"Duration\",Results!$A$2,\"Rating\",E$1,\"Date\",$A37)),-100000,GETPIVOTDATA(\"Duration\",Results!$A$2,\"Rating\",E$1,\"Date\",$A37))","v":-100000},{"$f":"IF(ISERROR(GETPIVOTDATA(\"Duration\",Results!$A$2,\"Rating\",F$1,\"Date\",$A37)),-100000,GETPIVOTDATA(\"Duration\",Results!$A$2,\"Rating\",F$1,\"Date\",$A37))","v":-100000},1000,1000,{"$f":"AVERAGE(G$3:G37)","v":1000}]
["2014-02-05",{"$f":"IF(ISERROR(GETPIVOTDATA(\"Duration\",Results!$A$2,\"Rating\",B$1,\"Date\",$A38)),-100000,GETPIVOTDATA(\"Duration\",Results!$A$2,\"Rating\",B$1,\"Date\",$A38))","v":-100000},{"$f":"IF(ISERROR(GETPIVOTDATA(\"Duration\",Results!$A$2,\"Rating\",C$1,\"Date\",$A38)),-100000,GETPIVOTDATA(\"Duration\",Results!$A$2,\"Rating\",C$1,\"Date\",$A38))","v":-100000},{"$f":"IF(ISERROR(GETPIVOTDATA(\"Duration\",Results!$A$2,\"Rating\",D$1,\"Date\",$A38)),-100000,GETPIVOTDATA(\"Duration\",Results!$A$2,\"Rating\",D$1,\"Date\",$A38))","v":-100000},{"$f":"IF(ISERROR(GETPIVOTDATA(\"Duration\",Results!$A$2,\"Rating\",E$1,\"Date\",$A38)),-100000,GETPIVOTDATA(\"Duration\",Results!$A$2,\"Rating\",E$1,\"Date\",$A38))","v":-100000},{"$f":"IF(ISERROR(GETPIVOTDATA(\"Duration\",Results!$A$2,\"Rating\",F$1,\"Date\",$A38)),-100000,GETPIVOTDATA(\"Duration\",Results!$A$2,\"Rating\",F$1,\"Date\",$A38))","v":-100000},1000,1000,{"$f":"AVERAGE(G$3:G38)","v":1000}]
["2014-02-06",{"$f":"IF(ISERROR(GETPIVOTDATA(\"Duration\",Results!$A$2,\"Rating\",B$1,\"Date\",$A39)),-100000,GETPIVOTDATA(\"Duration\",Results!$A$2,\"Rating\",B$1,\"Date\",$A39))","v":-100000},{"$f":"IF(ISERROR(GETPIVOTDATA(\"Duration\",Results!$A$2,\"Rating\",C$1,\"Date\",$A39)),-100000,GETPIVOTDATA(\"Duration\",Results!$A$2,\"Rating\",C$1,\"Date\",$A39))","v":-100000},{"$f":"IF(ISERROR(GETPIVOTDATA(\"Duration\",Results!$A$2,\"Rating\",D$1,\"Date\",$A39)),-100000,GETPIVOTDATA(\"Duration\",Results!$A$2,\"Rating\",D$1,\"Date\",$A39))","v":-100000},{"$f":"IF(ISERROR(GETPIVOTDATA(\"Duration\",Results!$A$2,\"Rating\",E$1,\"Date\",$A39)),-100000,GETPIVOTDATA(\"Duration\",Results!$A$2,\"Rating\",E$1,\"Date\",$A39))","v":-100000},{"$f":"IF(ISERROR(GETPIVOTDATA(\"Duration\",Results!$A$2,\"Rating\",F$1,\"Date\",$A39)),-100000,GETPIVOTDATA(\"Duration\",Results!$A$2,\"Rating\",F$1,\"Date\",$A39))","v":-100000},1000,1000,{"$f":"AVERAGE(G$3:G39)","v":1000}]
["2014-02-07",{"$f":"IF(ISERROR(GETPIVOTDATA(\"Duration\",Results!$A$2,\"Rating\",B$1,\"Date\",$A40)),-100000,GETPIVOTDATA(\"Duration\",Results!$A$2,\"Rating\",B$1,\"Date\",$A40))","v":-100000},{"$f":"IF(ISERROR(GETPIVOTDATA(\"Duration\",Results!$A$2,\"Rating\",C$1,\"Date\",$A40)),-100000,GETPIVOTDATA(\"Duration\",Results!$A$2,\"Rating\",C$1,\"Date\",$A40))","v":-100000},{"$f":"IF(ISERROR(GETPIVOTDATA(\"Duration\",Results!$A$2,\"Rating\",D$1,\"Date\",$A40)),-100000,GETPIVOTDATA(\"Duration\",Results!$A$2,\"Rating\",D$1,\"Date\",$A40))","v":-100000},{"$f":"IF(ISERROR(GETPIVOTDATA(\"Duration\",Results!$A$2,\"Rating\",E$1,\"Date\",$A40)),-100000,GETPIVOTDATA(\"Duration\",Results!$A$2,\"Rating\",E$1,\"Date\",$A40))","v":-100000},{"$f":"IF(ISERROR(GETPIVOTDATA(\"Duration\",Results!$A$2,\"Rating\",F$1,\"Date\",$A40)),-100000,GETPIVOTDATA(\"Duration\",Results!$A$2,\"Rating\",F$1,\"Date\",$A40))","v":-100000},1000,1000,{"$f":"AVERAGE(G$3:G40)","v":1000}]
["2014-02-08",{"$f":"IF(ISERROR(GETPIVOTDATA(\"Duration\",Results!$A$2,\"Rating\",B$1,\"Date\",$A41)),-100000,GETPIVOTDATA(\"Duration\",Results!$A$2,\"Rating\",B$1,\"Date\",$A41))","v":-100000},{"$f":"IF(ISERROR(GETPIVOTDATA(\"Duration\",Results!$A$2,\"Rating\",C$1,\"Date\",$A41)),-100000,GETPIVOTDATA(\"Duration\",Results!$A$2,\"Rating\",C$1,\"Date\",$A41))","v":-100000},{"$f":"IF(ISERROR(GETPIVOTDATA(\"Duration\",Results!$A$2,\"Rating\",D$1,\"Date\",$A41)),-100000,GETPIVOTDATA(\"Duration\",Results!$A$2,\"Rating\",D$1,\"Date\",$A41))","v":-100000},{"$f":"IF(ISERROR(GETPIVOTDATA(\"Duration\",Results!$A$2,\"Rating\",E$1,\"Date\",$A41)),-100000,GETPIVOTDATA(\"Duration\",Results!$A$2,\"Rating\",E$1,\"Date\",$A41))","v":-100000},{"$f":"IF(ISERROR(GETPIVOTDATA(\"Duration\",Results!$A$2,\"Rating\",F$1,\"Date\",$A41)),-100000,GETPIVOTDATA(\"Duration\",Results!$A$2,\"Rating\",F$1,\"Date\",$A41))","v":-100000},1000,1000,{"$f":"AVERAGE(G$3:G41)","v":1000}]
["2014-02-09",{"$f":"IF(ISERROR(GETPIVOTDATA(\"Duration\",Results!$A$2,\"Rating\",B$1,\"Date\",$A42)),-100000,GETPIVOTDATA(\"Duration\",Results!$A$2,\"Rating\",B$1,\"Date\",$A42))","v":-100000},{"$f":"IF(ISERROR(GETPIVOTDATA(\"Duration\",Results!$A$2,\"Rating\",C$1,\"Date\",$A42)),-100000,GETPIVOTDATA(\"Duration\",Results!$A$2,\"Rating\",C$1,\"Date\",$A42))","v":-100000},{"$f":"IF(ISERROR(GETPIVOTDATA(\"Duration\",Results!$A$2,\"Rating\",D$1,\"Date\",$A42)),-100000,GETPIVOTDATA(\"Duration\",Results!$A$2,\"Rating\",D$1,\"Date\",$A42))","v":-100000},{"$f":"IF(ISERROR(GETPIVOTDATA(\"Duration\",Results!$A$2,\"Rating\",E$1,\"Date\",$A42)),-100000,GETPIVOTDATA(\"Duration\",Results!$A$2,\"Rating\",E$1,\"Date\",$A42))","v":-100000},{"$f":"IF(ISERROR(GETPIVOTDATA(\"Duration\",Results!$A$2,\"Rating\",F$1,\"Date\",$A42)),-100000,GETPIVOTDATA(\"Duration\",Results!$A$2,\"Rating\",F$1,\"Date\",$A42))","v":-100000},1000,1000,{"$f":"AVERAGE(G$3:G42)","v":1000}]
["2014-02-10",{"$f":"IF(ISERROR(GETPIVOTDATA(\"Duration\",Results!$A$2,\"Rating\",B$1,\"Date\",$A43)),-100000,GETPIVOTDATA(\"Duration\",Results!$A$2,\"Rating\",B$1,\"Date\",$A43))","v":-100000},{"$f":"IF(ISERROR(GETPIVOTDATA(\"Duration\",Results!$A$2,\"Rating\",C$1,\"Date\",$A43)),-100000,GETPIVOTDATA(\"Duration\",Results!$A$2,\"Rating\",C$1,\"Date\",$A43))","v":-100000},{"$f":"IF(ISERROR(GETPIVOTDATA(\"Duration\",Results!$A$2,\"Rating\",D$1,\"Date\",$A43)),-100000,GETPIVOTDATA(\"Duration\",Results!$A$2,\"Rating\",D$1,\"Date\",$A43))","v":-100000},{"$f":"IF(ISERROR(GETPIVOTDATA(\"Duration\",Results!$A$2,\"Rating\",E$1,\"Date\",$A43)),-100000,GETPIVOTDATA(\"Duration\",Results!$A$2,\"Rating\",E$1,\"Date\",$A43))","v":-100000},{"$f":"IF(ISERROR(GETPIVOTDATA(\"Duration\",Results!$A$2,\"Rating\",F$1,\"Date\",$A43)),-100000,GETPIVOTDATA(\"Duration\",Results!$A$2,\"Rating\",F$1,\"Date\",$A43))","v":-100000},1000,1000,{"$f":"AVERAGE(G$3:G43)","v":1000}]
["2014-02-11",{"$f":"IF(ISERROR(GETPIVOTDATA(\"Duration\",Results!$A$2,\"Rating\",B$1,\"Date\",$A44)),-100000,GETPIVOTDATA(\"Duration\",Results!$A$2,\"Rating\",B$1,\"Date\",$A44))","v":-100000},{"$f":"IF(ISERROR(GETPIVOTDATA(\"Duration\",Results!$A$2,\"Rating\",C$1,\"Date\",$A44)),-100000,GETPIVOTDATA(\"Duration\",Results!$A$2,\"Rating\",C$1,\"Date\",$A44))","v":-100000},{"$f":"IF(ISERROR(GETPIVOTDATA(\"Duration\",Results!$A$2,\"Rating\",D$1,\"Date\",$A44)),-100000,GETPIVOTDATA(\"Duration\",Results!$A$2,\"Rating\",D$1,\"Date\",$A44))","v":-100000},{"$f":"IF(ISERROR(GETPIVOTDATA(\"Duration\",Results!$A$2,\"Rating\",E$1,\"Date\",$A44)),-100000,GETPIVOTDATA(\"Duration\",Results!$A$2,\"Rating\",E$1,\"Date\",$A44))","v":-100000},{"$f":"IF(ISERROR(GETPIVOTDATA(\"Duration\",Results!$A$2,\"Rating\",F$1,\"Date\",$A44)),-100000,GETPIVOTDATA(\"Duration\",Results!$A$2,\"Rating\",F$1,\"Date\",$A44))","v":-100000},1000,1000,{"$f":"AVERAGE(G$3:G44)","v":1000}]
["2014-02-12",{"$f":"IF(ISERROR(GETPIVOTDATA(\"Duration\",Results!$A$2,\"Rating\",B$1,\"Date\",$A45)),-100000,GETPIVOTDATA(\"Duration\",Results!$A$2,\"Rating\",B$1,\"Date\",$A45))","v":-100000},{"$f":"IF(ISERROR(GETPIVOTDATA(\"Duration\",Results!$A$2,\"Rating\",C$1,\"Date\",$A45)),-100000,GETPIVOTDATA(\"Duration\",Results!$A$2,\"Rating\",C$1,\"Date\",$A45))","v":-100000},{"$f":"IF(ISERROR(GETPIVOTDATA(\"Duration\",Results!$A$2,\"Rating\",D$1,\"Date\",$A45)),-100000,GETPIVOTDATA(\"Duration\",Results!$A$2,\"Rating\",D$1,\"Date\",$A45))","v":-100000},{"$f":"IF(ISERROR(GETPIVOTDATA(\"Duration\",Results!$A$2,\"Rating\",E$1,\"Date\",$A45)),-100000,GETPIVOTDATA(\"Duration\",Results!$A$2,\"Rating\",E$1,\"Date\",$A45))","v":-100000},{"$f":"IF(ISERROR(GETPIVOTDATA(\"Duration\",Results!$A$2,\"Rating\",F$1,\"Date\",$A45)),-100000,GETPIVOTDATA(\"Duration\",Results!$A$2,\"Rating\",F$1,\"Date\",$A45))","v":-100000},1000,1000,{"$f":"AVERAGE(G$3:G45)","v":1000}]
["2014-02-13",{"$f":"IF(ISERROR(GETPIVOTDATA(\"Duration\",Results!$A$2,\"Rating\",B$1,\"Date\",$A46)),-100000,GETPIVOTDATA(\"Duration\",Results!$A$2,\"Rating\",B$1,\"Date\",$A46))","v":-100000},{"$f":"IF(ISERROR(GETPIVOTDATA(\"Duration\",Results!$A$2,\"Rating\",C$1,\"Date\",$A46)),-100000,GETPIVOTDATA(\"Duration\",Results!$A$2,\"Rating\",C$1,\"Date\",$A46))","v":-100000},{"$f":"IF(ISERROR(GETPIVOTDATA(\"Duration\",Results!$A$2,\"Rating\",D$1,\"Date\",$A46)),-100000,GETPIVOTDATA(\"Duration\",Results!$A$2,\"Rating\",D$1,\"Date\",$A46))","v":-100000},{"$f":"IF(ISERROR(GETPIVOTDATA(\"Duration\",Results!$A$2,\"Rating\",E$1,\"Date\",$A46)),-100000,GETPIVOTDATA(\"Duration\",Results!$A$2,\"Rating\",E$1,\"Date\",$A46))","v":-100000},{"$f":"IF(ISERROR(GETPIVOTDATA(\"Duration\",Results!$A$2,\"Rating\",F$1,\"Date\",$A46)),-100000,GETPIVOTDATA(\"Duration\",Results!$A$2,\"Rating\",F$1,\"Date\",$A46))","v":-100000},1000,1000,{"$f":"AVERAGE(G$3:G46)","v":1000}]
["2014-02-14",{"$f":"IF(ISERROR(GETPIVOTDATA(\"Duration\",Results!$A$2,\"Rating\",B$1,\"Date\",$A47)),-100000,GETPIVOTDATA(\"Duration\",Results!$A$2,\"Rating\",B$1,\"Date\",$A47))","v":-100000},{"$f":"IF(ISERROR(GETPIVOTDATA(\"Duration\",Results!$A$2,\"Rating\",C$1,\"Date\",$A47)),-100000,GETPIVOTDATA(\"Duration\",Results!$A$2,\"Rating\",C$1,\"Date\",$A47))","v":-100000},{"$f":"IF(ISERROR(GETPIVOTDATA(\"Duration\",Results!$A$2,\"Rating\",D$1,\"Date\",$A47)),-100000,GETPIVOTDATA(\"Duration\",Results!$A$2,\"Rating\",D$1,\"Date\",$A47))","v":-100000},{"$f":"IF(ISERROR(GETPIVOTDATA(\"Duration\",Results!$A$2,\"Rating\",E$1,\"Date\",$A47)),-100000,GETPIVOTDATA(\"Duration\",Results!$A$2,\"Rating\",E$1,\"Date\",$A47))","v":-100000},{"$f":"IF(ISERROR(GETPIVOTDATA(\"Duration\",Results!$A$2,\"Rating\",F$1,\"Date\",$A47)),-100000,GETPIVOTDATA(\"Duration\",Results!$A$2,\"Rating\",F$1,\"Date\",$A47))","v":-100000},1000,1000,{"$f":"AVERAGE(G$3:G47)","v":1000}]
["2014-02-15",{"$f":"IF(ISERROR(GETPIVOTDATA(\"Duration\",Results!$A$2,\"Rating\",B$1,\"Date\",$A48)),-100000,GETPIVOTDATA(\"Duration\",Results!$A$2,\"Rating\",B$1,\"Date\",$A48))","v":-100000},{"$f":"IF(ISERROR(GETPIVOTDATA(\"Duration\",Results!$A$2,\"Rating\",C$1,\"Date\",$A48)),-100000,GETPIVOTDATA(\"Duration\",Results!$A$2,\"Rating\",C$1,\"Date\",$A48))","v":-100000},{"$f":"IF(ISERROR(GETPIVOTDATA(\"Duration\",Results!$A$2,\"Rating\",D$1,\"Date\",$A48)),-100000,GETPIVOTDATA(\"Duration\",Results!$A$2,\"Rating\",D$1,\"Date\",$A48))","v":-100000},{"$f":"IF(ISERROR(GETPIVOTDATA(\"Duration\",Results!$A$2,\"Rating\",E$1,\"Date\",$A48)),-100000,GETPIVOTDATA(\"Duration\",Results!$A$2,\"Rating\",E$1,\"Date\",$A48))","v":-100000},{"$f":"IF(ISERROR(GETPIVOTDATA(\"Duration\",Results!$A$2,\"Rating\",F$1,\"Date\",$A48)),-100000,GETPIVOTDATA(\"Duration\",Results!$A$2,\"Rating\",F$1,\"Date\",$A48))","v":-100000},1000,1000,{"$f":"AVERAGE(G$3:G48)","v":1000}]
["2014-02-16",{"$f":"IF(ISERROR(GETPIVOTDATA(\"Duration\",Results!$A$2,\"Rating\",B$1,\"Date\",$A49)),-100000,GETPIVOTDATA(\"Duration\",Results!$A$2,\"Rating\",B$1,\"Date\",$A49))","v":-100000},{"$f":"IF(ISERROR(GETPIVOTDATA(\"Duration\",Results!$A$2,\"Rating\",C$1,\"Date\",$A49)),-100000,GETPIVOTDATA(\"Duration\",Results!$A$2,\"Rating\",C$1,\"Date\",$A49))","v":-100000},{"$f":"IF(ISERROR(GETPIVOTDATA(\"Duration\",Results!$A$2,\"Rating\",D$1,\"Date\",$A49)),-100000,GETPIVOTDATA(\"Duration\",Results!$A$2,\"Rating\",D$1,\"Date\",$A49))","v":-100000},{"$f":"IF(ISERROR(GETPIVOTDATA(\"Duration\",Results!$A$2,\"Rating\",E$1,\"Date\",$A49)),-100000,GETPIVOTDATA(\"Duration\",Results!$A$2,\"Rating\",E$1,\"Date\",$A49))","v":-100000},{"$f":"IF(ISERROR(GETPIVOTDATA(\"Duration\",Results!$A$2,\"Rating\",F$1,\"Date\",$A49)),-100000,GETPIVOTDATA(\"Duration\",Results!$A$2,\"Rating\",F$1,\"Date\",$A49))","v":-100000},1000,1000,{"$f":"AVERAGE(G$3:G49)","v":1000}]
["2014-02-17",{"$f":"IF(ISERROR(GETPIVOTDATA(\"Duration\",Results!$A$2,\"Rating\",B$1,\"Date\",$A50)),-100000,GETPIVOTDATA(\"Duration\",Results!$A$2,\"Rating\",B$1,\"Date\",$A50))","v":-100000},{"$f":"IF(ISERROR(GETPIVOTDATA(\"Duration\",Results!$A$2,\"Rating\",C$1,\"Date\",$A50)),-100000,GETPIVOTDATA(\"Duration\",Results!$A$2,\"Rating\",C$1,\"Date\",$A50))","v":-100000},{"$f":"IF(ISERROR(GETPIVOTDATA(\"Duration\",Results!$A$2,\"Rating\",D$1,\"Date\",$A50)),-100000,GETPIVOTDATA(\"Duration\",Results!$A$2,\"Rating\",D$1,\"Date\",$A50))","v":-100000},{"$f":"IF(ISERROR(GETPIVOTDATA(\"Duration\",Results!$A$2,\"Rating\",E$1,\"Date\",$A50)),-100000,GETPIVOTDATA(\"Duration\",Results!$A$2,\"Rating\",E$1,\"Date\",$A50))","v":-100000},{"$f":"IF(ISERROR(GETPIVOTDATA(\"Duration\",Results!$A$2,\"Rating\",F$1,\"Date\",$A50)),-100000,GETPIVOTDATA(\"Duration\",Results!$A$2,\"Rating\",F$1,\"Date\",$A50))","v":-100000},1000,1000,{"$f":"AVERAGE(G$3:G50)","v":1000}]
["2014-02-18",{"$f":"IF(ISERROR(GETPIVOTDATA(\"Duration\",Results!$A$2,\"Rating\",B$1,\"Date\",$A51)),-100000,GETPIVOTDATA(\"Duration\",Results!$A$2,\"Rating\",B$1,\"Date\",$A51))","v":-100000},{"$f":"IF(ISERROR(GETPIVOTDATA(\"Duration\",Results!$A$2,\"Rating\",C$1,\"Date\",$A51)),-100000,GETPIVOTDATA(\"Duration\",Results!$A$2,\"Rating\",C$1,\"Date\",$A51))","v":-100000},{"$f":"IF(ISERROR(GETPIVOTDATA(\"Duration\",Results!$A$2,\"Rating\",D$1,\"Date\",$A51)),-100000,GETPIVOTDATA(\"Duration\",Results!$A$2,\"Rating\",D$1,\"Date\",$A51))","v":-100000},{"$f":"IF(ISERROR(GETPIVOTDATA(\"Duration\",Results!$A$2,\"Rating\",E$1,\"Date\",$A51)),-100000,GETPIVOTDATA(\"Duration\",Results!$A$2,\"Rating\",E$1,\"Date\",$A51))","v":-100000},{"$f":"IF(ISERROR(GETPIVOTDATA(\"Duration\",Results!$A$2,\"Rating\",F$1,\"Date\",$A51)),-100000,GETPIVOTDATA(\"Duration\",Results!$A$2,\"Rating\",F$1,\"Date\",$A51))","v":-100000},1000,1000,{"$f":"AVERAGE(G$3:G51)","v":1000}]
["2014-02-19",{"$f":"IF(ISERROR(GETPIVOTDATA(\"Duration\",Results!$A$2,\"Rating\",B$1,\"Date\",$A52)),-100000,GETPIVOTDATA(\"Duration\",Results!$A$2,\"Rating\",B$1,\"Date\",$A52))","v":-100000},{"$f":"IF(ISERROR(GETPIVOTDATA(\"Duration\",Results!$A$2,\"Rating\",C$1,\"Date\",$A52)),-100000,GETPIVOTDATA(\"Duration\",Results!$A$2,\"Rating\",C$1,\"Date\",$A52))","v":-100000},{"$f":"IF(ISERROR(GETPIVOTDATA(\"Duration\",Results!$A$2,\"Rating\",D$1,\"Date\",$A52)),-100000,GETPIVOTDATA(\"Duration\",Results!$A$2,\"Rating\",D$1,\"Date\",$A52))","v":-100000},{"$f":"IF(ISERROR(GETPIVOTDATA(\"Duration\",Results!$A$2,\"Rating\",E$1,\"Date\",$A52)),-100000,GETPIVOTDATA(\"Duration\",Results!$A$2,\"Rating\",E$1,\"Date\",$A52))","v":-100000},{"$f":"IF(ISERROR(GETPIVOTDATA(\"Duration\",Results!$A$2,\"Rating\",F$1,\"Date\",$A52)),-100000,GETPIVOTDATA(\"Duration\",Results!$A$2,\"Rating\",F$1,\"Date\",$A52))","v":-100000},1000,1000,{"$f":"AVERAGE(G$3:G52)","v":1000}]
["2014-02-20",{"$f":"IF(ISERROR(GETPIVOTDATA(\"Duration\",Results!$A$2,\"Rating\",B$1,\"Date\",$A53)),-100000,GETPIVOTDATA(\"Duration\",Results!$A$2,\"Rating\",B$1,\"Date\",$A53))","v":-100000},{"$f":"IF(ISERROR(GETPIVOTDATA(\"Duration\",Results!$A$2,\"Rating\",C$1,\"Date\",$A53)),-100000,GETPIVOTDATA(\"Duration\",Results!$A$2,\"Rating\",C$1,\"Date\",$A53))","v":-100000},{"$f":"IF(ISERROR(GETPIVOTDATA(\"Duration\",Results!$A$2,\"Rating\",D$1,\"Date\",$A53)),-100000,GETPIVOTDATA(\"Duration\",Results!$A$2,\"Rating\",D$1,\"Date\",$A53))","v":-100000},{"$f":"IF(ISERROR(GETPIVOTDATA(\"Duration\",Results!$A$2,\"Rating\",E$1,\"Date\",$A53)),-100000,GETPIVOTDATA(\"Duration\",Results!$A$2,\"Rating\",E$1,\"Date\",$A53))","v":-100000},{"$f":"IF(ISERROR(GETPIVOTDATA(\"Duration\",Results!$A$2,\"Rating\",F$1,\"Date\",$A53)),-100000,GETPIVOTDATA(\"Duration\",Results!$A$2,\"Rating\",F$1,\"Date\",$A53))","v":-100000},1000,1000,{"$f":"AVERAGE(G$3:G53)","v":1000}]
["2014-02-21",{"$f":"IF(ISERROR(GETPIVOTDATA(\"Duration\",Results!$A$2,\"Rating\",B$1,\"Date\",$A54)),-100000,GETPIVOTDATA(\"Duration\",Results!$A$2,\"Rating\",B$1,\"Date\",$A54))","v":-100000},{"$f":"IF(ISERROR(GETPIVOTDATA(\"Duration\",Results!$A$2,\"Rating\",C$1,\"Date\",$A54)),-100000,GETPIVOTDATA(\"Duration\",Results!$A$2,\"Rating\",C$1,\"Date\",$A54))","v":-100000},{"$f":"IF(ISERROR(GETPIVOTDATA(\"Duration\",Results!$A$2,\"Rating\",D$1,\"Date\",$A54)),-100000,GETPIVOTDATA(\"Duration\",Results!$A$2,\"Rating\",D$1,\"Date\",$A54))","v":-100000},{"$f":"IF(ISERROR(GETPIVOTDATA(\"Duration\",Results!$A$2,\"Rating\",E$1,\"Date\",$A54)),-100000,GETPIVOTDATA(\"Duration\",Results!$A$2,\"Rating\",E$1,\"Date\",$A54))","v":-100000},{"$f":"IF(ISERROR(GETPIVOTDATA(\"Duration\",Results!$A$2,\"Rating\",F$1,\"Date\",$A54)),-100000,GETPIVOTDATA(\"Duration\",Results!$A$2,\"Rating\",F$1,\"Date\",$A54))","v":-100000},1000,1000,{"$f":"AVERAGE(G$3:G54)","v":1000}]
["2014-02-22",{"$f":"IF(ISERROR(GETPIVOTDATA(\"Duration\",Results!$A$2,\"Rating\",B$1,\"Date\",$A55)),-100000,GETPIVOTDATA(\"Duration\",Results!$A$2,\"Rating\",B$1,\"Date\",$A55))","v":-100000},{"$f":"IF(ISERROR(GETPIVOTDATA(\"Duration\",Results!$A$2,\"Rating\",C$1,\"Date\",$A55)),-100000,GETPIVOTDATA(\"Duration\",Results!$A$2,\"Rating\",C$1,\"Date\",$A55))","v":-100000},{"$f":"IF(ISERROR(GETPIVOTDATA(\"Duration\",Results!$A$2,\"Rating\",D$1,\"Date\",$A55)),-100000,GETPIVOTDATA(\"Duration\",Results!$A$2,\"Rating\",D$1,\"Date\",$A55))","v":-100000},{"$f":"IF(ISERROR(GETPIVOTDATA(\"Duration\",Results!$A$2,\"Rating\",E$1,\"Date\",$A55)),-100000,GETPIVOTDATA(\"Duration\",Results!$A$2,\"Rating\",E$1,\"Date\",$A55))","v":-100000},{"$f":"IF(ISERROR(GETPIVOTDATA(\"Duration\",Results!$A$2,\"Rating\",F$1,\"Date\",$A55)),-100000,GETPIVOTDATA(\"Duration\",Results!$A$2,\"Rating\",F$1,\"Date\",$A55))","v":-100000},1000,1000,{"$f":"AVERAGE(G$3:G55)","v":1000}]
["2014-02-23",{"$f":"IF(ISERROR(GETPIVOTDATA(\"Duration\",Results!$A$2,\"Rating\",B$1,\"Date\",$A56)),-100000,GETPIVOTDATA(\"Duration\",Results!$A$2,\"Rating\",B$1,\"Date\",$A56))","v":-100000},{"$f":"IF(ISERROR(GETPIVOTDATA(\"Duration\",Results!$A$2,\"Rating\",C$1,\"Date\",$A56)),-100000,GETPIVOTDATA(\"Duration\",Results!$A$2,\"Rating\",C$1,\"Date\",$A56))","v":-100000},{"$f":"IF(ISERROR(GETPIVOTDATA(\"Duration\",Results!$A$2,\"Rating\",D$1,\"Date\",$A56)),-100000,GETPIVOTDATA(\"Duration\",Results!$A$2,\"Rating\",D$1,\"Date\",$A56))","v":-100000},{"$f":"IF(ISERROR(GETPIVOTDATA(\"Duration\",Results!$A$2,\"Rating\",E$1,\"Date\",$A56)),-100000,GETPIVOTDATA(\"Duration\",Results!$A$2,\"Rating\",E$1,\"Date\",$A56))","v":-100000},{"$f":"IF(ISERROR(GETPIVOTDATA(\"Duration\",Results!$A$2,\"Rating\",F$1,\"Date\",$A56)),-100000,GETPIVOTDATA(\"Duration\",Results!$A$2,\"Rating\",F$1,\"Date\",$A56))","v":-100000},1000,1000,{"$f":"AVERAGE(G$3:G56)","v":1000}]
["2014-02-24",{"$f":"IF(ISERROR(GETPIVOTDATA(\"Duration\",Results!$A$2,\"Rating\",B$1,\"Date\",$A57)),-100000,GETPIVOTDATA(\"Duration\",Results!$A$2,\"Rating\",B$1,\"Date\",$A57))","v":-100000},{"$f":"IF(ISERROR(GETPIVOTDATA(\"Duration\",Results!$A$2,\"Rating\",C$1,\"Date\",$A57)),-100000,GETPIVOTDATA(\"Duration\",Results!$A$2,\"Rating\",C$1,\"Date\",$A57))","v":-100000},{"$f":"IF(ISERROR(GETPIVOTDATA(\"Duration\",Results!$A$2,\"Rating\",D$1,\"Date\",$A57)),-100000,GETPIVOTDATA(\"Duration\",Results!$A$2,\"Rating\",D$1,\"Date\",$A57))","v":-100000},{"$f":"IF(ISERROR(GETPIVOTDATA(\"Duration\",Results!$A$2,\"Rating\",E$1,\"Date\",$A57)),-100000,GETPIVOTDATA(\"Duration\",Results!$A$2,\"Rating\",E$1,\"Date\",$A57))","v":-100000},{"$f":"IF(ISERROR(GETPIVOTDATA(\"Duration\",Results!$A$2,\"Rating\",F$1,\"Date\",$A57)),-100000,GETPIVOTDATA(\"Duration\",Results!$A$2,\"Rating\",F$1,\"Date\",$A57))","v":-100000},1000,1000,{"$f":"AVERAGE(G$3:G57)","v":1000}]
["2014-02-25",{"$f":"IF(ISERROR(GETPIVOTDATA(\"Duration\",Results!$A$2,\"Rating\",B$1,\"Date\",$A58)),-100000,GETPIVOTDATA(\"Duration\",Results!$A$2,\"Rating\",B$1,\"Date\",$A58))","v":-100000},{"$f":"IF(ISERROR(GETPIVOTDATA(\"Duration\",Results!$A$2,\"Rating\",C$1,\"Date\",$A58)),-100000,GETPIVOTDATA(\"Duration\",Results!$A$2,\"Rating\",C$1,\"Date\",$A58))","v":-100000},{"$f":"IF(ISERROR(GETPIVOTDATA(\"Duration\",Results!$A$2,\"Rating\",D$1,\"Date\",$A58)),-100000,GETPIVOTDATA(\"Duration\",Results!$A$2,\"Rating\",D$1,\"Date\",$A58))","v":-100000},{"$f":"IF(ISERROR(GETPIVOTDATA(\"Duration\",Results!$A$2,\"Rating\",E$1,\"Date\",$A58)),-100000,GETPIVOTDATA(\"Duration\",Results!$A$2,\"Rating\",E$1,\"Date\",$A58))","v":-100000},{"$f":"IF(ISERROR(GETPIVOTDATA(\"Duration\",Results!$A$2,\"Rating\",F$1,\"Date\",$A58)),-100000,GETPIVOTDATA(\"Duration\",Results!$A$2,\"Rating\",F$1,\"Date\",$A58))","v":-100000},1000,1000,{"$f":"AVERAGE(G$3:G58)","v":1000}]
["2014-02-26",{"$f":"IF(ISERROR(GETPIVOTDATA(\"Duration\",Results!$A$2,\"Rating\",B$1,\"Date\",$A59)),-100000,GETPIVOTDATA(\"Duration\",Results!$A$2,\"Rating\",B$1,\"Date\",$A59))","v":-100000},{"$f":"IF(ISERROR(GETPIVOTDATA(\"Duration\",Results!$A$2,\"Rating\",C$1,\"Date\",$A59)),-100000,GETPIVOTDATA(\"Duration\",Results!$A$2,\"Rating\",C$1,\"Date\",$A59))","v":-100000},{"$f":"IF(ISERROR(GETPIVOTDATA(\"Duration\",Results!$A$2,\"Rating\",D$1,\"Date\",$A59)),-100000,GETPIVOTDATA(\"Duration\",Results!$A$2,\"Rating\",D$1,\"Date\",$A59))","v":-100000},{"$f":"IF(ISERROR(GETPIVOTDATA(\"Duration\",Results!$A$2,\"Rating\",E$1,\"Date\",$A59)),-100000,GETPIVOTDATA(\"Duration\",Results!$A$2,\"Rating\",E$1,\"Date\",$A59))","v":-100000},{"$f":"IF(ISERROR(GETPIVOTDATA(\"Duration\",Results!$A$2,\"Rating\",F$1,\"Date\",$A59)),-100000,GETPIVOTDATA(\"Duration\",Results!$A$2,\"Rating\",F$1,\"Date\",$A59))","v":-100000},1000,1000,{"$f":"AVERAGE(G$3:G59)","v":1000}]
["2014-02-27",{"$f":"IF(ISERROR(GETPIVOTDATA(\"Duration\",Results!$A$2,\"Rating\",B$1,\"Date\",$A60)),-100000,GETPIVOTDATA(\"Duration\",Results!$A$2,\"Rating\",B$1,\"Date\",$A60))","v":-100000},{"$f":"IF(ISERROR(GETPIVOTDATA(\"Duration\",Results!$A$2,\"Rating\",C$1,\"Date\",$A60)),-100000,GETPIVOTDATA(\"Duration\",Results!$A$2,\"Rating\",C$1,\"Date\",$A60))","v":-100000},{"$f":"IF(ISERROR(GETPIVOTDATA(\"Duration\",Results!$A$2,\"Rating\",D$1,\"Date\",$A60)),-100000,GETPIVOTDATA(\"Duration\",Results!$A$2,\"Rating\",D$1,\"Date\",$A60))","v":-100000},{"$f":"IF(ISERROR(GETPIVOTDATA(\"Duration\",Results!$A$2,\"Rating\",E$1,\"Date\",$A60)),-100000,GETPIVOTDATA(\"Duration\",Results!$A$2,\"Rating\",E$1,\"Date\",$A60))","v":-100000},{"$f":"IF(ISERROR(GETPIVOTDATA(\"Duration\",Results!$A$2,\"Rating\",F$1,\"Date\",$A60)),-100000,GETPIVOTDATA(\"Duration\",Results!$A$2,\"Rating\",F$1,\"Date\",$A60))","v":-100000},1000,1000,{"$f":"AVERAGE(G$3:G60)","v":1000}]
[{"$f":"A60+1","v":"2014-02-28"},{"$f":"IF(ISERROR(GETPIVOTDATA(\"Duration\",Results!$A$2,\"Rating\",B$1,\"Date\",$A61)),-100000,GETPIVOTDATA(\"Duration\",Results!$A$2,\"Rating\",B$1,\"Date\",$A61))","v":-100000},{"$f":"IF(ISERROR(GETPIVOTDATA(\"Duration\",Results!$A$2,\"Rating\",C$1,\"Date\",$A61)),-100000,GETPIVOTDATA(\"Duration\",Results!$A$2,\"Rating\",C$1,\"Date\",$A61))","v":-100000},{"$f":"IF(ISERROR(GETPIVOTDATA(\"Duration\",Results!$A$2,\"Rating\",D$1,\"Date\",$A61)),-100000,GETPIVOTDATA(\"Duration\",Results!$A$2,\"Rating\",D$1,\"Date\",$A61))","v":-100000},{"$f":"IF(ISERROR(GETPIVOTDATA(\"Duration\",Results!$A$2,\"Rating\",E$1,\"Date\",$A61)),-100000,GETPIVOTDATA(\"Duration\",Results!$A$2,\"Rating\",E$1,\"Date\",$A61))","v":-100000},{"$f":"IF(ISERROR(GETPIVOTDATA(\"Duration\",Results!$A$2,\"Rating\",F$1,\"Date\",$A61)),-100000,GETPIVOTDATA(\"Duration\",Results!$A$2,\"Rating\",F$1,\"Date\",$A61))","v":-100000},{"$f":"IF(SUM(B61:F61)=-500000,1000,(C61+2*D61+3*E61+4*F61)/(C61+D61+E61+F61))","v":1000},{"$f":"AVERAGE(G55:G61)","v":1000},{"$f":"AVERAGE(G$3:G61)","v":1000}]
["2014-03-01",{"$f":"IF(ISERROR(GETPIVOTDATA(\"Duration\",Results!$A$2,\"Rating\",B$1,\"Date\",$A62)),-100000,GETPIVOTDATA(\"Duration\",Results!$A$2,\"Rating\",B$1,\"Date\",$A62))","v":-100000},{"$f":"IF(ISERROR(GETPIVOTDATA(\"Duration\",Results!$A$2,\"Rating\",C$1,\"Date\",$A62)),-100000,GETPIVOTDATA(\"Duration\",Results!$A$2,\"Rating\",C$1,\"Date\",$A62))","v":-100000},{"$f":"IF(ISERROR(GETPIVOTDATA(\"Duration\",Results!$A$2,\"Rating\",D$1,\"Date\",$A62)),-100000,GETPIVOTDATA(\"Duration\",Results!$A$2,\"Rating\",D$1,\"Date\",$A62))","v":-100000},{"$f":"IF(ISERROR(GETPIVOTDATA(\"Duration\",Results!$A$2,\"Rating\",E$1,\"Date\",$A62)),-100000,GETPIVOTDATA(\"Duration\",Results!$A$2,\"Rating\",E$1,\"Date\",$A62))","v":-100000},{"$f":"IF(ISERROR(GETPIVOTDATA(\"Duration\",Results!$A$2,\"Rating\",F$1,\"Date\",$A62)),-100000,GETPIVOTDATA(\"Duration\",Results!$A$2,\"Rating\",F$1,\"Date\",$A62))","v":-100000},1000,1000,{"$f":"AVERAGE(G$3:G62)","v":1000}]
["2014-03-02",{"$f":"IF(ISERROR(GETPIVOTDATA(\"Duration\",Results!$A$2,\"Rating\",B$1,\"Date\",$A63)),-100000,GETPIVOTDATA(\"Duration\",Results!$A$2,\"Rating\",B$1,\"Date\",$A63))","v":-100000},{"$f":"IF(ISERROR(GETPIVOTDATA(\"Duration\",Results!$A$2,\"Rating\",C$1,\"Date\",$A63)),-100000,GETPIVOTDATA(\"Duration\",Results!$A$2,\"Rating\",C$1,\"Date\",$A63))","v":-100000},{"$f":"IF(ISERROR(GETPIVOTDATA(\"Duration\",Results!$A$2,\"Rating\",D$1,\"Date\",$A63)),-100000,GETPIVOTDATA(\"Duration\",Results!$A$2,\"Rating\",D$1,\"Date\",$A63))","v":-100000},{"$f":"IF(ISERROR(GETPIVOTDATA(\"Duration\",Results!$A$2,\"Rating\",E$1,\"Date\",$A63)),-100000,GETPIVOTDATA(\"Duration\",Results!$A$2,\"Rating\",E$1,\"Date\",$A63))","v":-100000},{"$f":"IF(ISERROR(GETPIVOTDATA(\"Duration\",Results!$A$2,\"Rating\",F$1,\"Date\",$A63)),-100000,GETPIVOTDATA(\"Duration\",Results!$A$2,\"Rating\",F$1,\"Date\",$A63))","v":-100000},1000,1000,{"$f":"AVERAGE(G$3:G63)","v":1000}]
["2014-03-03",{"$f":"IF(ISERROR(GETPIVOTDATA(\"Duration\",Results!$A$2,\"Rating\",B$1,\"Date\",$A64)),-100000,GETPIVOTDATA(\"Duration\",Results!$A$2,\"Rating\",B$1,\"Date\",$A64))","v":-100000},{"$f":"IF(ISERROR(GETPIVOTDATA(\"Duration\",Results!$A$2,\"Rating\",C$1,\"Date\",$A64)),-100000,GETPIVOTDATA(\"Duration\",Results!$A$2,\"Rating\",C$1,\"Date\",$A64))","v":-100000},{"$f":"IF(ISERROR(GETPIVOTDATA(\"Duration\",Results!$A$2,\"Rating\",D$1,\"Date\",$A64)),-100000,GETPIVOTDATA(\"Duration\",Results!$A$2,\"Rating\",D$1,\"Date\",$A64))","v":-100000},{"$f":"IF(ISERROR(GETPIVOTDATA(\"Duration\",Results!$A$2,\"Rating\",E$1,\"Date\",$A64)),-100000,GETPIVOTDATA(\"Duration\",Results!$A$2,\"Rating\",E$1,\"Date\",$A64))","v":-100000},{"$f":"IF(ISERROR(GETPIVOTDATA(\"Duration\",Results!$A$2,\"Rating\",F$1,\"Date\",$A64)),-100000,GETPIVOTDATA(\"Duration\",Results!$A$2,\"Rating\",F$1,\"Date\",$A64))","v":-100000},1000,1000,{"$f":"AVERAGE(G$3:G64)","v":1000}]
["2014-03-04",{"$f":"IF(ISERROR(GETPIVOTDATA(\"Duration\",Results!$A$2,\"Rating\",B$1,\"Date\",$A65)),-100000,GETPIVOTDATA(\"Duration\",Results!$A$2,\"Rating\",B$1,\"Date\",$A65))","v":-100000},{"$f":"IF(ISERROR(GETPIVOTDATA(\"Duration\",Results!$A$2,\"Rating\",C$1,\"Date\",$A65)),-100000,GETPIVOTDATA(\"Duration\",Results!$A$2,\"Rating\",C$1,\"Date\",$A65))","v":-100000},{"$f":"IF(ISERROR(GETPIVOTDATA(\"Duration\",Results!$A$2,\"Rating\",D$1,\"Date\",$A65)),-100000,GETPIVOTDATA(\"Duration\",Results!$A$2,\"Rating\",D$1,\"Date\",$A65))","v":-100000},{"$f":"IF(ISERROR(GETPIVOTDATA(\"Duration\",Results!$A$2,\"Rating\",E$1,\"Date\",$A65)),-100000,GETPIVOTDATA(\"Duration\",Results!$A$2,\"Rating\",E$1,\"Date\",$A65))","v":-100000},{"$f":"IF(ISERROR(GETPIVOTDATA(\"Duration\",Results!$A$2,\"Rating\",F$1,\"Date\",$A65)),-100000,GETPIVOTDATA(\"Duration\",Results!$A$2,\"Rating\",F$1,\"Date\",$A65))","v":-100000},1000,1000,{"$f":"AVERAGE(G$3:G65)","v":1000}]
["2014-03-05",{"$f":"IF(ISERROR(GETPIVOTDATA(\"Duration\",Results!$A$2,\"Rating\",B$1,\"Date\",$A66)),-100000,GETPIVOTDATA(\"Duration\",Results!$A$2,\"Rating\",B$1,\"Date\",$A66))","v":-100000},{"$f":"IF(ISERROR(GETPIVOTDATA(\"Duration\",Results!$A$2,\"Rating\",C$1,\"Date\",$A66)),-100000,GETPIVOTDATA(\"Duration\",Results!$A$2,\"Rating\",C$1,\"Date\",$A66))","v":-100000},{"$f":"IF(ISERROR(GETPIVOTDATA(\"Duration\",Results!$A$2,\"Rating\",D$1,\"Date\",$A66)),-100000,GETPIVOTDATA(\"Duration\",Results!$A$2,\"Rating\",D$1,\"Date\",$A66))","v":-100000},{"$f":"IF(ISERROR(GETPIVOTDATA(\"Duration\",Results!$A$2,\"Rating\",E$1,\"Date\",$A66)),-100000,GETPIVOTDATA(\"Duration\",Results!$A$2,\"Rating\",E$1,\"Date\",$A66))","v":-100000},{"$f":"IF(ISERROR(GETPIVOTDATA(\"Duration\",Results!$A$2,\"Rating\",F$1,\"Date\",$A66)),-100000,GETPIVOTDATA(\"Duration\",Results!$A$2,\"Rating\",F$1,\"Date\",$A66))","v":-100000},1000,1000,{"$f":"AVERAGE(G$3:G66)","v":1000}]
["2014-03-06",{"$f":"IF(ISERROR(GETPIVOTDATA(\"Duration\",Results!$A$2,\"Rating\",B$1,\"Date\",$A67)),-100000,GETPIVOTDATA(\"Duration\",Results!$A$2,\"Rating\",B$1,\"Date\",$A67))","v":-100000},{"$f":"IF(ISERROR(GETPIVOTDATA(\"Duration\",Results!$A$2,\"Rating\",C$1,\"Date\",$A67)),-100000,GETPIVOTDATA(\"Duration\",Results!$A$2,\"Rating\",C$1,\"Date\",$A67))","v":-100000},{"$f":"IF(ISERROR(GETPIVOTDATA(\"Duration\",Results!$A$2,\"Rating\",D$1,\"Date\",$A67)),-100000,GETPIVOTDATA(\"Duration\",Results!$A$2,\"Rating\",D$1,\"Date\",$A67))","v":-100000},{"$f":"IF(ISERROR(GETPIVOTDATA(\"Duration\",Results!$A$2,\"Rating\",E$1,\"Date\",$A67)),-100000,GETPIVOTDATA(\"Duration\",Results!$A$2,\"Rating\",E$1,\"Date\",$A67))","v":-100000},{"$f":"IF(ISERROR(GETPIVOTDATA(\"Duration\",Results!$A$2,\"Rating\",F$1,\"Date\",$A67)),-100000,GETPIVOTDATA(\"Duration\",Results!$A$2,\"Rating\",F$1,\"Date\",$A67))","v":-100000},1000,1000,{"$f":"AVERAGE(G$3:G67)","v":1000}]
["2014-03-07",{"$f":"IF(ISERROR(GETPIVOTDATA(\"Duration\",Results!$A$2,\"Rating\",B$1,\"Date\",$A68)),-100000,GETPIVOTDATA(\"Duration\",Results!$A$2,\"Rating\",B$1,\"Date\",$A68))","v":-100000},{"$f":"IF(ISERROR(GETPIVOTDATA(\"Duration\",Results!$A$2,\"Rating\",C$1,\"Date\",$A68)),-100000,GETPIVOTDATA(\"Duration\",Results!$A$2,\"Rating\",C$1,\"Date\",$A68))","v":-100000},{"$f":"IF(ISERROR(GETPIVOTDATA(\"Duration\",Results!$A$2,\"Rating\",D$1,\"Date\",$A68)),-100000,GETPIVOTDATA(\"Duration\",Results!$A$2,\"Rating\",D$1,\"Date\",$A68))","v":-100000},{"$f":"IF(ISERROR(GETPIVOTDATA(\"Duration\",Results!$A$2,\"Rating\",E$1,\"Date\",$A68)),-100000,GETPIVOTDATA(\"Duration\",Results!$A$2,\"Rating\",E$1,\"Date\",$A68))","v":-100000},{"$f":"IF(ISERROR(GETPIVOTDATA(\"Duration\",Results!$A$2,\"Rating\",F$1,\"Date\",$A68)),-100000,GETPIVOTDATA(\"Duration\",Results!$A$2,\"Rating\",F$1,\"Date\",$A68))","v":-100000},1000,1000,{"$f":"AVERAGE(G$3:G68)","v":1000}]
["2014-03-08",{"$f":"IF(ISERROR(GETPIVOTDATA(\"Duration\",Results!$A$2,\"Rating\",B$1,\"Date\",$A69)),-100000,GETPIVOTDATA(\"Duration\",Results!$A$2,\"Rating\",B$1,\"Date\",$A69))","v":-100000},{"$f":"IF(ISERROR(GETPIVOTDATA(\"Duration\",Results!$A$2,\"Rating\",C$1,\"Date\",$A69)),-100000,GETPIVOTDATA(\"Duration\",Results!$A$2,\"Rating\",C$1,\"Date\",$A69))","v":-100000},{"$f":"IF(ISERROR(GETPIVOTDATA(\"Duration\",Results!$A$2,\"Rating\",D$1,\"Date\",$A69)),-100000,GETPIVOTDATA(\"Duration\",Results!$A$2,\"Rating\",D$1,\"Date\",$A69))","v":-100000},{"$f":"IF(ISERROR(GETPIVOTDATA(\"Duration\",Results!$A$2,\"Rating\",E$1,\"Date\",$A69)),-100000,GETPIVOTDATA(\"Duration\",Results!$A$2,\"Rating\",E$1,\"Date\",$A69))","v":-100000},{"$f":"IF(ISERROR(GETPIVOTDATA(\"Duration\",Results!$A$2,\"Rating\",F$1,\"Date\",$A69)),-100000,GETPIVOTDATA(\"Duration\",Results!$A$2,\"Rating\",F$1,\"Date\",$A69))","v":-100000},1000,1000,{"$f":"AVERAGE(G$3:G69)","v":1000}]
["2014-03-09",{"$f":"IF(ISERROR(GETPIVOTDATA(\"Duration\",Results!$A$2,\"Rating\",B$1,\"Date\",$A70)),-100000,GETPIVOTDATA(\"Duration\",Results!$A$2,\"Rating\",B$1,\"Date\",$A70))","v":-100000},{"$f":"IF(ISERROR(GETPIVOTDATA(\"Duration\",Results!$A$2,\"Rating\",C$1,\"Date\",$A70)),-100000,GETPIVOTDATA(\"Duration\",Results!$A$2,\"Rating\",C$1,\"Date\",$A70))","v":-100000},{"$f":"IF(ISERROR(GETPIVOTDATA(\"Duration\",Results!$A$2,\"Rating\",D$1,\"Date\",$A70)),-100000,GETPIVOTDATA(\"Duration\",Results!$A$2,\"Rating\",D$1,\"Date\",$A70))","v":-100000},{"$f":"IF(ISERROR(GETPIVOTDATA(\"Duration\",Results!$A$2,\"Rating\",E$1,\"Date\",$A70)),-100000,GETPIVOTDATA(\"Duration\",Results!$A$2,\"Rating\",E$1,\"Date\",$A70))","v":-100000},{"$f":"IF(ISERROR(GETPIVOTDATA(\"Duration\",Results!$A$2,\"Rating\",F$1,\"Date\",$A70)),-100000,GETPIVOTDATA(\"Duration\",Results!$A$2,\"Rating\",F$1,\"Date\",$A70))","v":-100000},1000,1000,{"$f":"AVERAGE(G$3:G70)","v":1000}]
["2014-03-10",{"$f":"IF(ISERROR(GETPIVOTDATA(\"Duration\",Results!$A$2,\"Rating\",B$1,\"Date\",$A71)),-100000,GETPIVOTDATA(\"Duration\",Results!$A$2,\"Rating\",B$1,\"Date\",$A71))","v":-100000},{"$f":"IF(ISERROR(GETPIVOTDATA(\"Duration\",Results!$A$2,\"Rating\",C$1,\"Date\",$A71)),-100000,GETPIVOTDATA(\"Duration\",Results!$A$2,\"Rating\",C$1,\"Date\",$A71))","v":-100000},{"$f":"IF(ISERROR(GETPIVOTDATA(\"Duration\",Results!$A$2,\"Rating\",D$1,\"Date\",$A71)),-100000,GETPIVOTDATA(\"Duration\",Results!$A$2,\"Rating\",D$1,\"Date\",$A71))","v":-100000},{"$f":"IF(ISERROR(GETPIVOTDATA(\"Duration\",Results!$A$2,\"Rating\",E$1,\"Date\",$A71)),-100000,GETPIVOTDATA(\"Duration\",Results!$A$2,\"Rating\",E$1,\"Date\",$A71))","v":-100000},{"$f":"IF(ISERROR(GETPIVOTDATA(\"Duration\",Results!$A$2,\"Rating\",F$1,\"Date\",$A71)),-100000,GETPIVOTDATA(\"Duration\",Results!$A$2,\"Rating\",F$1,\"Date\",$A71))","v":-100000},1000,1000,{"$f":"AVERAGE(G$3:G71)","v":1000}]
["2014-03-11",{"$f":"IF(ISERROR(GETPIVOTDATA(\"Duration\",Results!$A$2,\"Rating\",B$1,\"Date\",$A72)),-100000,GETPIVOTDATA(\"Duration\",Results!$A$2,\"Rating\",B$1,\"Date\",$A72))","v":-100000},{"$f":"IF(ISERROR(GETPIVOTDATA(\"Duration\",Results!$A$2,\"Rating\",C$1,\"Date\",$A72)),-100000,GETPIVOTDATA(\"Duration\",Results!$A$2,\"Rating\",C$1,\"Date\",$A72))","v":-100000},{"$f":"IF(ISERROR(GETPIVOTDATA(\"Duration\",Results!$A$2,\"Rating\",D$1,\"Date\",$A72)),-100000,GETPIVOTDATA(\"Duration\",Results!$A$2,\"Rating\",D$1,\"Date\",$A72))","v":-100000},{"$f":"IF(ISERROR(GETPIVOTDATA(\"Duration\",Results!$A$2,\"Rating\",E$1,\"Date\",$A72)),-100000,GETPIVOTDATA(\"Duration\",Results!$A$2,\"Rating\",E$1,\"Date\",$A72))","v":-100000},{"$f":"IF(ISERROR(GETPIVOTDATA(\"Duration\",Results!$A$2,\"Rating\",F$1,\"Date\",$A72)),-100000,GETPIVOTDATA(\"Duration\",Results!$A$2,\"Rating\",F$1,\"Date\",$A72))","v":-100000},1000,1000,{"$f":"AVERAGE(G$3:G72)","v":1000}]
["2014-03-12",{"$f":"IF(ISERROR(GETPIVOTDATA(\"Duration\",Results!$A$2,\"Rating\",B$1,\"Date\",$A73)),-100000,GETPIVOTDATA(\"Duration\",Results!$A$2,\"Rating\",B$1,\"Date\",$A73))","v":-100000},{"$f":"IF(ISERROR(GETPIVOTDATA(\"Duration\",Results!$A$2,\"Rating\",C$1,\"Date\",$A73)),-100000,GETPIVOTDATA(\"Duration\",Results!$A$2,\"Rating\",C$1,\"Date\",$A73))","v":-100000},{"$f":"IF(ISERROR(GETPIVOTDATA(\"Duration\",Results!$A$2,\"Rating\",D$1,\"Date\",$A73)),-100000,GETPIVOTDATA(\"Duration\",Results!$A$2,\"Rating\",D$1,\"Date\",$A73))","v":-100000},{"$f":"IF(ISERROR(GETPIVOTDATA(\"Duration\",Results!$A$2,\"Rating\",E$1,\"Date\",$A73)),-100000,GETPIVOTDATA(\"Duration\",Results!$A$2,\"Rating\",E$1,\"Date\",$A73))","v":-100000},{"$f":"IF(ISERROR(GETPIVOTDATA(\"Duration\",Results!$A$2,\"Rating\",F$1,\"Date\",$A73)),-100000,GETPIVOTDATA(\"Duration\",Results!$A$2,\"Rating\",F$1,\"Date\",$A73))","v":-100000},1000,1000,{"$f":"AVERAGE(G$3:G73)","v":1000}]
["2014-03-13",{"$f":"IF(ISERROR(GETPIVOTDATA(\"Duration\",Results!$A$2,\"Rating\",B$1,\"Date\",$A74)),-100000,GETPIVOTDATA(\"Duration\",Results!$A$2,\"Rating\",B$1,\"Date\",$A74))","v":-100000},{"$f":"IF(ISERROR(GETPIVOTDATA(\"Duration\",Results!$A$2,\"Rating\",C$1,\"Date\",$A74)),-100000,GETPIVOTDATA(\"Duration\",Results!$A$2,\"Rating\",C$1,\"Date\",$A74))","v":-100000},{"$f":"IF(ISERROR(GETPIVOTDATA(\"Duration\",Results!$A$2,\"Rating\",D$1,\"Date\",$A74)),-100000,GETPIVOTDATA(\"Duration\",Results!$A$2,\"Rating\",D$1,\"Date\",$A74))","v":-100000},{"$f":"IF(ISERROR(GETPIVOTDATA(\"Duration\",Results!$A$2,\"Rating\",E$1,\"Date\",$A74)),-100000,GETPIVOTDATA(\"Duration\",Results!$A$2,\"Rating\",E$1,\"Date\",$A74))","v":-100000},{"$f":"IF(ISERROR(GETPIVOTDATA(\"Duration\",Results!$A$2,\"Rating\",F$1,\"Date\",$A74)),-100000,GETPIVOTDATA(\"Duration\",Results!$A$2,\"Rating\",F$1,\"Date\",$A74))","v":-100000},1000,1000,{"$f":"AVERAGE(G$3:G74)","v":1000}]
["2014-03-14",{"$f":"IF(ISERROR(GETPIVOTDATA(\"Duration\",Results!$A$2,\"Rating\",B$1,\"Date\",$A75)),-100000,GETPIVOTDATA(\"Duration\",Results!$A$2,\"Rating\",B$1,\"Date\",$A75))","v":-100000},{"$f":"IF(ISERROR(GETPIVOTDATA(\"Duration\",Results!$A$2,\"Rating\",C$1,\"Date\",$A75)),-100000,GETPIVOTDATA(\"Duration\",Results!$A$2,\"Rating\",C$1,\"Date\",$A75))","v":-100000},{"$f":"IF(ISERROR(GETPIVOTDATA(\"Duration\",Results!$A$2,\"Rating\",D$1,\"Date\",$A75)),-100000,GETPIVOTDATA(\"Duration\",Results!$A$2,\"Rating\",D$1,\"Date\",$A75))","v":-100000},{"$f":"IF(ISERROR(GETPIVOTDATA(\"Duration\",Results!$A$2,\"Rating\",E$1,\"Date\",$A75)),-100000,GETPIVOTDATA(\"Duration\",Results!$A$2,\"Rating\",E$1,\"Date\",$A75))","v":-100000},{"$f":"IF(ISERROR(GETPIVOTDATA(\"Duration\",Results!$A$2,\"Rating\",F$1,\"Date\",$A75)),-100000,GETPIVOTDATA(\"Duration\",Results!$A$2,\"Rating\",F$1,\"Date\",$A75))","v":-100000},1000,1000,{"$f":"AVERAGE(G$3:G75)","v":1000}]
["2014-03-15",{"$f":"IF(ISERROR(GETPIVOTDATA(\"Duration\",Results!$A$2,\"Rating\",B$1,\"Date\",$A76)),-100000,GETPIVOTDATA(\"Duration\",Results!$A$2,\"Rating\",B$1,\"Date\",$A76))","v":-100000},{"$f":"IF(ISERROR(GETPIVOTDATA(\"Duration\",Results!$A$2,\"Rating\",C$1,\"Date\",$A76)),-100000,GETPIVOTDATA(\"Duration\",Results!$A$2,\"Rating\",C$1,\"Date\",$A76))","v":-100000},{"$f":"IF(ISERROR(GETPIVOTDATA(\"Duration\",Results!$A$2,\"Rating\",D$1,\"Date\",$A76)),-100000,GETPIVOTDATA(\"Duration\",Results!$A$2,\"Rating\",D$1,\"Date\",$A76))","v":-100000},{"$f":"IF(ISERROR(GETPIVOTDATA(\"Duration\",Results!$A$2,\"Rating\",E$1,\"Date\",$A76)),-100000,GETPIVOTDATA(\"Duration\",Results!$A$2,\"Rating\",E$1,\"Date\",$A76))","v":-100000},{"$f":"IF(ISERROR(GETPIVOTDATA(\"Duration\",Results!$A$2,\"Rating\",F$1,\"Date\",$A76)),-100000,GETPIVOTDATA(\"Duration\",Results!$A$2,\"Rating\",F$1,\"Date\",$A76))","v":-100000},1000,1000,{"$f":"AVERAGE(G$3:G76)","v":1000}]
["2014-03-16",{"$f":"IF(ISERROR(GETPIVOTDATA(\"Duration\",Results!$A$2,\"Rating\",B$1,\"Date\",$A77)),-100000,GETPIVOTDATA(\"Duration\",Results!$A$2,\"Rating\",B$1,\"Date\",$A77))","v":-100000},{"$f":"IF(ISERROR(GETPIVOTDATA(\"Duration\",Results!$A$2,\"Rating\",C$1,\"Date\",$A77)),-100000,GETPIVOTDATA(\"Duration\",Results!$A$2,\"Rating\",C$1,\"Date\",$A77))","v":-100000},{"$f":"IF(ISERROR(GETPIVOTDATA(\"Duration\",Results!$A$2,\"Rating\",D$1,\"Date\",$A77)),-100000,GETPIVOTDATA(\"Duration\",Results!$A$2,\"Rating\",D$1,\"Date\",$A77))","v":-100000},{"$f":"IF(ISERROR(GETPIVOTDATA(\"Duration\",Results!$A$2,\"Rating\",E$1,\"Date\",$A77)),-100000,GETPIVOTDATA(\"Duration\",Results!$A$2,\"Rating\",E$1,\"Date\",$A77))","v":-100000},{"$f":"IF(ISERROR(GETPIVOTDATA(\"Duration\",Results!$A$2,\"Rating\",F$1,\"Date\",$A77)),-100000,GETPIVOTDATA(\"Duration\",Results!$A$2,\"Rating\",F$1,\"Date\",$A77))","v":-100000},1000,1000,{"$f":"AVERAGE(G$3:G77)","v":1000}]
["2014-03-17",{"$f":"IF(ISERROR(GETPIVOTDATA(\"Duration\",Results!$A$2,\"Rating\",B$1,\"Date\",$A78)),-100000,GETPIVOTDATA(\"Duration\",Results!$A$2,\"Rating\",B$1,\"Date\",$A78))","v":-100000},{"$f":"IF(ISERROR(GETPIVOTDATA(\"Duration\",Results!$A$2,\"Rating\",C$1,\"Date\",$A78)),-100000,GETPIVOTDATA(\"Duration\",Results!$A$2,\"Rating\",C$1,\"Date\",$A78))","v":-100000},{"$f":"IF(ISERROR(GETPIVOTDATA(\"Duration\",Results!$A$2,\"Rating\",D$1,\"Date\",$A78)),-100000,GETPIVOTDATA(\"Duration\",Results!$A$2,\"Rating\",D$1,\"Date\",$A78))","v":-100000},{"$f":"IF(ISERROR(GETPIVOTDATA(\"Duration\",Results!$A$2,\"Rating\",E$1,\"Date\",$A78)),-100000,GETPIVOTDATA(\"Duration\",Results!$A$2,\"Rating\",E$1,\"Date\",$A78))","v":-100000},{"$f":"IF(ISERROR(GETPIVOTDATA(\"Duration\",Results!$A$2,\"Rating\",F$1,\"Date\",$A78)),-100000,GETPIVOTDATA(\"Duration\",Results!$A$2,\"Rating\",F$1,\"Date\",$A78))","v":-100000},1000,1000,{"$f":"AVERAGE(G$3:G78)","v":1000}]
["2014-03-18",{"$f":"IF(ISERROR(GETPIVOTDATA(\"Duration\",Results!$A$2,\"Rating\",B$1,\"Date\",$A79)),-100000,GETPIVOTDATA(\"Duration\",Results!$A$2,\"Rating\",B$1,\"Date\",$A79))","v":-100000},{"$f":"IF(ISERROR(GETPIVOTDATA(\"Duration\",Results!$A$2,\"Rating\",C$1,\"Date\",$A79)),-100000,GETPIVOTDATA(\"Duration\",Results!$A$2,\"Rating\",C$1,\"Date\",$A79))","v":-100000},{"$f":"IF(ISERROR(GETPIVOTDATA(\"Duration\",Results!$A$2,\"Rating\",D$1,\"Date\",$A79)),-100000,GETPIVOTDATA(\"Duration\",Results!$A$2,\"Rating\",D$1,\"Date\",$A79))","v":-100000},{"$f":"IF(ISERROR(GETPIVOTDATA(\"Duration\",Results!$A$2,\"Rating\",E$1,\"Date\",$A79)),-100000,GETPIVOTDATA(\"Duration\",Results!$A$2,\"Rating\",E$1,\"Date\",$A79))","v":-100000},{"$f":"IF(ISERROR(GETPIVOTDATA(\"Duration\",Results!$A$2,\"Rating\",F$1,\"Date\",$A79)),-100000,GETPIVOTDATA(\"Duration\",Results!$A$2,\"Rating\",F$1,\"Date\",$A79))","v":-100000},1000,1000,{"$f":"AVERAGE(G$3:G79)","v":1000}]
["2014-03-19",{"$f":"IF(ISERROR(GETPIVOTDATA(\"Duration\",Results!$A$2,\"Rating\",B$1,\"Date\",$A80)),-100000,GETPIVOTDATA(\"Duration\",Results!$A$2,\"Rating\",B$1,\"Date\",$A80))","v":-100000},{"$f":"IF(ISERROR(GETPIVOTDATA(\"Duration\",Results!$A$2,\"Rating\",C$1,\"Date\",$A80)),-100000,GETPIVOTDATA(\"Duration\",Results!$A$2,\"Rating\",C$1,\"Date\",$A80))","v":-100000},{"$f":"IF(ISERROR(GETPIVOTDATA(\"Duration\",Results!$A$2,\"Rating\",D$1,\"Date\",$A80)),-100000,GETPIVOTDATA(\"Duration\",Results!$A$2,\"Rating\",D$1,\"Date\",$A80))","v":-100000},{"$f":"IF(ISERROR(GETPIVOTDATA(\"Duration\",Results!$A$2,\"Rating\",E$1,\"Date\",$A80)),-100000,GETPIVOTDATA(\"Duration\",Results!$A$2,\"Rating\",E$1,\"Date\",$A80))","v":-100000},{"$f":"IF(ISERROR(GETPIVOTDATA(\"Duration\",Results!$A$2,\"Rating\",F$1,\"Date\",$A80)),-100000,GETPIVOTDATA(\"Duration\",Results!$A$2,\"Rating\",F$1,\"Date\",$A80))","v":-100000},1000,1000,{"$f":"AVERAGE(G$3:G80)","v":1000}]
["2014-03-20",{"$f":"IF(ISERROR(GETPIVOTDATA(\"Duration\",Results!$A$2,\"Rating\",B$1,\"Date\",$A81)),-100000,GETPIVOTDATA(\"Duration\",Results!$A$2,\"Rating\",B$1,\"Date\",$A81))","v":-100000},{"$f":"IF(ISERROR(GETPIVOTDATA(\"Duration\",Results!$A$2,\"Rating\",C$1,\"Date\",$A81)),-100000,GETPIVOTDATA(\"Duration\",Results!$A$2,\"Rating\",C$1,\"Date\",$A81))","v":-100000},{"$f":"IF(ISERROR(GETPIVOTDATA(\"Duration\",Results!$A$2,\"Rating\",D$1,\"Date\",$A81)),-100000,GETPIVOTDATA(\"Duration\",Results!$A$2,\"Rating\",D$1,\"Date\",$A81))","v":-100000},{"$f":"IF(ISERROR(GETPIVOTDATA(\"Duration\",Results!$A$2,\"Rating\",E$1,\"Date\",$A81)),-100000,GETPIVOTDATA(\"Duration\",Results!$A$2,\"Rating\",E$1,\"Date\",$A81))","v":-100000},{"$f":"IF(ISERROR(GETPIVOTDATA(\"Duration\",Results!$A$2,\"Rating\",F$1,\"Date\",$A81)),-100000,GETPIVOTDATA(\"Duration\",Results!$A$2,\"Rating\",F$1,\"Date\",$A81))","v":-100000},1000,1000,{"$f":"AVERAGE(G$3:G81)","v":1000}]
["2014-03-21",{"$f":"IF(ISERROR(GETPIVOTDATA(\"Duration\",Results!$A$2,\"Rating\",B$1,\"Date\",$A82)),-100000,GETPIVOTDATA(\"Duration\",Results!$A$2,\"Rating\",B$1,\"Date\",$A82))","v":-100000},{"$f":"IF(ISERROR(GETPIVOTDATA(\"Duration\",Results!$A$2,\"Rating\",C$1,\"Date\",$A82)),-100000,GETPIVOTDATA(\"Duration\",Results!$A$2,\"Rating\",C$1,\"Date\",$A82))","v":-100000},{"$f":"IF(ISERROR(GETPIVOTDATA(\"Duration\",Results!$A$2,\"Rating\",D$1,\"Date\",$A82)),-100000,GETPIVOTDATA(\"Duration\",Results!$A$2,\"Rating\",D$1,\"Date\",$A82))","v":-100000},{"$f":"IF(ISERROR(GETPIVOTDATA(\"Duration\",Results!$A$2,\"Rating\",E$1,\"Date\",$A82)),-100000,GETPIVOTDATA(\"Duration\",Results!$A$2,\"Rating\",E$1,\"Date\",$A82))","v":-100000},{"$f":"IF(ISERROR(GETPIVOTDATA(\"Duration\",Results!$A$2,\"Rating\",F$1,\"Date\",$A82)),-100000,GETPIVOTDATA(\"Duration\",Results!$A$2,\"Rating\",F$1,\"Date\",$A82))","v":-100000},1000,1000,{"$f":"AVERAGE(G$3:G82)","v":1000}]
["2014-03-22",{"$f":"IF(ISERROR(GETPIVOTDATA(\"Duration\",Results!$A$2,\"Rating\",B$1,\"Date\",$A83)),-100000,GETPIVOTDATA(\"Duration\",Results!$A$2,\"Rating\",B$1,\"Date\",$A83))","v":-100000},{"$f":"IF(ISERROR(GETPIVOTDATA(\"Duration\",Results!$A$2,\"Rating\",C$1,\"Date\",$A83)),-100000,GETPIVOTDATA(\"Duration\",Results!$A$2,\"Rating\",C$1,\"Date\",$A83))","v":-100000},{"$f":"IF(ISERROR(GETPIVOTDATA(\"Duration\",Results!$A$2,\"Rating\",D$1,\"Date\",$A83)),-100000,GETPIVOTDATA(\"Duration\",Results!$A$2,\"Rating\",D$1,\"Date\",$A83))","v":-100000},{"$f":"IF(ISERROR(GETPIVOTDATA(\"Duration\",Results!$A$2,\"Rating\",E$1,\"Date\",$A83)),-100000,GETPIVOTDATA(\"Duration\",Results!$A$2,\"Rating\",E$1,\"Date\",$A83))","v":-100000},{"$f":"IF(ISERROR(GETPIVOTDATA(\"Duration\",Results!$A$2,\"Rating\",F$1,\"Date\",$A83)),-100000,GETPIVOTDATA(\"Duration\",Results!$A$2,\"Rating\",F$1,\"Date\",$A83))","v":-100000},1000,1000,{"$f":"AVERAGE(G$3:G83)","v":1000}]
["2014-03-23",{"$f":"IF(ISERROR(GETPIVOTDATA(\"Duration\",Results!$A$2,\"Rating\",B$1,\"Date\",$A84)),-100000,GETPIVOTDATA(\"Duration\",Results!$A$2,\"Rating\",B$1,\"Date\",$A84))","v":-100000},{"$f":"IF(ISERROR(GETPIVOTDATA(\"Duration\",Results!$A$2,\"Rating\",C$1,\"Date\",$A84)),-100000,GETPIVOTDATA(\"Duration\",Results!$A$2,\"Rating\",C$1,\"Date\",$A84))","v":-100000},{"$f":"IF(ISERROR(GETPIVOTDATA(\"Duration\",Results!$A$2,\"Rating\",D$1,\"Date\",$A84)),-100000,GETPIVOTDATA(\"Duration\",Results!$A$2,\"Rating\",D$1,\"Date\",$A84))","v":-100000},{"$f":"IF(ISERROR(GETPIVOTDATA(\"Duration\",Results!$A$2,\"Rating\",E$1,\"Date\",$A84)),-100000,GETPIVOTDATA(\"Duration\",Results!$A$2,\"Rating\",E$1,\"Date\",$A84))","v":-100000},{"$f":"IF(ISERROR(GETPIVOTDATA(\"Duration\",Results!$A$2,\"Rating\",F$1,\"Date\",$A84)),-100000,GETPIVOTDATA(\"Duration\",Results!$A$2,\"Rating\",F$1,\"Date\",$A84))","v":-100000},1000,1000,{"$f":"AVERAGE(G$3:G84)","v":1000}]
["2014-03-24",{"$f":"IF(ISERROR(GETPIVOTDATA(\"Duration\",Results!$A$2,\"Rating\",B$1,\"Date\",$A85)),-100000,GETPIVOTDATA(\"Duration\",Results!$A$2,\"Rating\",B$1,\"Date\",$A85))","v":-100000},{"$f":"IF(ISERROR(GETPIVOTDATA(\"Duration\",Results!$A$2,\"Rating\",C$1,\"Date\",$A85)),-100000,GETPIVOTDATA(\"Duration\",Results!$A$2,\"Rating\",C$1,\"Date\",$A85))","v":-100000},{"$f":"IF(ISERROR(GETPIVOTDATA(\"Duration\",Results!$A$2,\"Rating\",D$1,\"Date\",$A85)),-100000,GETPIVOTDATA(\"Duration\",Results!$A$2,\"Rating\",D$1,\"Date\",$A85))","v":-100000},{"$f":"IF(ISERROR(GETPIVOTDATA(\"Duration\",Results!$A$2,\"Rating\",E$1,\"Date\",$A85)),-100000,GETPIVOTDATA(\"Duration\",Results!$A$2,\"Rating\",E$1,\"Date\",$A85))","v":-100000},{"$f":"IF(ISERROR(GETPIVOTDATA(\"Duration\",Results!$A$2,\"Rating\",F$1,\"Date\",$A85)),-100000,GETPIVOTDATA(\"Duration\",Results!$A$2,\"Rating\",F$1,\"Date\",$A85))","v":-100000},1000,1000,{"$f":"AVERAGE(G$3:G85)","v":1000}]
["2014-03-25",{"$f":"IF(ISERROR(GETPIVOTDATA(\"Duration\",Results!$A$2,\"Rating\",B$1,\"Date\",$A86)),-100000,GETPIVOTDATA(\"Duration\",Results!$A$2,\"Rating\",B$1,\"Date\",$A86))","v":-100000},{"$f":"IF(ISERROR(GETPIVOTDATA(\"Duration\",Results!$A$2,\"Rating\",C$1,\"Date\",$A86)),-100000,GETPIVOTDATA(\"Duration\",Results!$A$2,\"Rating\",C$1,\"Date\",$A86))","v":-100000},{"$f":"IF(ISERROR(GETPIVOTDATA(\"Duration\",Results!$A$2,\"Rating\",D$1,\"Date\",$A86)),-100000,GETPIVOTDATA(\"Duration\",Results!$A$2,\"Rating\",D$1,\"Date\",$A86))","v":-100000},{"$f":"IF(ISERROR(GETPIVOTDATA(\"Duration\",Results!$A$2,\"Rating\",E$1,\"Date\",$A86)),-100000,GETPIVOTDATA(\"Duration\",Results!$A$2,\"Rating\",E$1,\"Date\",$A86))","v":-100000},{"$f":"IF(ISERROR(GETPIVOTDATA(\"Duration\",Results!$A$2,\"Rating\",F$1,\"Date\",$A86)),-100000,GETPIVOTDATA(\"Duration\",Results!$A$2,\"Rating\",F$1,\"Date\",$A86))","v":-100000},1000,1000,{"$f":"AVERAGE(G$3:G86)","v":1000}]
["2014-03-26",{"$f":"IF(ISERROR(GETPIVOTDATA(\"Duration\",Results!$A$2,\"Rating\",B$1,\"Date\",$A87)),-100000,GETPIVOTDATA(\"Duration\",Results!$A$2,\"Rating\",B$1,\"Date\",$A87))","v":-100000},{"$f":"IF(ISERROR(GETPIVOTDATA(\"Duration\",Results!$A$2,\"Rating\",C$1,\"Date\",$A87)),-100000,GETPIVOTDATA(\"Duration\",Results!$A$2,\"Rating\",C$1,\"Date\",$A87))","v":-100000},{"$f":"IF(ISERROR(GETPIVOTDATA(\"Duration\",Results!$A$2,\"Rating\",D$1,\"Date\",$A87)),-100000,GETPIVOTDATA(\"Duration\",Results!$A$2,\"Rating\",D$1,\"Date\",$A87))","v":-100000},{"$f":"IF(ISERROR(GETPIVOTDATA(\"Duration\",Results!$A$2,\"Rating\",E$1,\"Date\",$A87)),-100000,GETPIVOTDATA(\"Duration\",Results!$A$2,\"Rating\",E$1,\"Date\",$A87))","v":-100000},{"$f":"IF(ISERROR(GETPIVOTDATA(\"Duration\",Results!$A$2,\"Rating\",F$1,\"Date\",$A87)),-100000,GETPIVOTDATA(\"Duration\",Results!$A$2,\"Rating\",F$1,\"Date\",$A87))","v":-100000},1000,1000,{"$f":"AVERAGE(G$3:G87)","v":1000}]
["2014-03-27",{"$f":"IF(ISERROR(GETPIVOTDATA(\"Duration\",Results!$A$2,\"Rating\",B$1,\"Date\",$A88)),-100000,GETPIVOTDATA(\"Duration\",Results!$A$2,\"Rating\",B$1,\"Date\",$A88))","v":-100000},{"$f":"IF(ISERROR(GETPIVOTDATA(\"Duration\",Results!$A$2,\"Rating\",C$1,\"Date\",$A88)),-100000,GETPIVOTDATA(\"Duration\",Results!$A$2,\"Rating\",C$1,\"Date\",$A88))","v":-100000},{"$f":"IF(ISERROR(GETPIVOTDATA(\"Duration\",Results!$A$2,\"Rating\",D$1,\"Date\",$A88)),-100000,GETPIVOTDATA(\"Duration\",Results!$A$2,\"Rating\",D$1,\"Date\",$A88))","v":-100000},{"$f":"IF(ISERROR(GETPIVOTDATA(\"Duration\",Results!$A$2,\"Rating\",E$1,\"Date\",$A88)),-100000,GETPIVOTDATA(\"Duration\",Results!$A$2,\"Rating\",E$1,\"Date\",$A88))","v":-100000},{"$f":"IF(ISERROR(GETPIVOTDATA(\"Duration\",Results!$A$2,\"Rating\",F$1,\"Date\",$A88)),-100000,GETPIVOTDATA(\"Duration\",Results!$A$2,\"Rating\",F$1,\"Date\",$A88))","v":-100000},1000,1000,{"$f":"AVERAGE(G$3:G88)","v":1000}]
["2014-03-28",{"$f":"IF(ISERROR(GETPIVOTDATA(\"Duration\",Results!$A$2,\"Rating\",B$1,\"Date\",$A89)),-100000,GETPIVOTDATA(\"Duration\",Results!$A$2,\"Rating\",B$1,\"Date\",$A89))","v":-100000},{"$f":"IF(ISERROR(GETPIVOTDATA(\"Duration\",Results!$A$2,\"Rating\",C$1,\"Date\",$A89)),-100000,GETPIVOTDATA(\"Duration\",Results!$A$2,\"Rating\",C$1,\"Date\",$A89))","v":-100000},{"$f":"IF(ISERROR(GETPIVOTDATA(\"Duration\",Results!$A$2,\"Rating\",D$1,\"Date\",$A89)),-100000,GETPIVOTDATA(\"Duration\",Results!$A$2,\"Rating\",D$1,\"Date\",$A89))","v":-100000},{"$f":"IF(ISERROR(GETPIVOTDATA(\"Duration\",Results!$A$2,\"Rating\",E$1,\"Date\",$A89)),-100000,GETPIVOTDATA(\"Duration\",Results!$A$2,\"Rating\",E$1,\"Date\",$A89))","v":-100000},{"$f":"IF(ISERROR(GETPIVOTDATA(\"Duration\",Results!$A$2,\"Rating\",F$1,\"Date\",$A89)),-100000,GETPIVOTDATA(\"Duration\",Results!$A$2,\"Rating\",F$1,\"Date\",$A89))","v":-100000},1000,1000,{"$f":"AVERAGE(G$3:G89)","v":1000}]
["2014-03-29",{"$f":"IF(ISERROR(GETPIVOTDATA(\"Duration\",Results!$A$2,\"Rating\",B$1,\"Date\",$A90)),-100000,GETPIVOTDATA(\"Duration\",Results!$A$2,\"Rating\",B$1,\"Date\",$A90))","v":-100000},{"$f":"IF(ISERROR(GETPIVOTDATA(\"Duration\",Results!$A$2,\"Rating\",C$1,\"Date\",$A90)),-100000,GETPIVOTDATA(\"Duration\",Results!$A$2,\"Rating\",C$1,\"Date\",$A90))","v":-100000},{"$f":"IF(ISERROR(GETPIVOTDATA(\"Duration\",Results!$A$2,\"Rating\",D$1,\"Date\",$A90)),-100000,GETPIVOTDATA(\"Duration\",Results!$A$2,\"Rating\",D$1,\"Date\",$A90))","v":-100000},{"$f":"IF(ISERROR(GETPIVOTDATA(\"Duration\",Results!$A$2,\"Rating\",E$1,\"Date\",$A90)),-100000,GETPIVOTDATA(\"Duration\",Results!$A$2,\"Rating\",E$1,\"Date\",$A90))","v":-100000},{"$f":"IF(ISERROR(GETPIVOTDATA(\"Duration\",Results!$A$2,\"Rating\",F$1,\"Date\",$A90)),-100000,GETPIVOTDATA(\"Duration\",Results!$A$2,\"Rating\",F$1,\"Date\",$A90))","v":-100000},1000,1000,{"$f":"AVERAGE(G$3:G90)","v":1000}]
["2014-03-30",{"$f":"IF(ISERROR(GETPIVOTDATA(\"Duration\",Results!$A$2,\"Rating\",B$1,\"Date\",$A91)),-100000,GETPIVOTDATA(\"Duration\",Results!$A$2,\"Rating\",B$1,\"Date\",$A91))","v":-100000},{"$f":"IF(ISERROR(GETPIVOTDATA(\"Duration\",Results!$A$2,\"Rating\",C$1,\"Date\",$A91)),-100000,GETPIVOTDATA(\"Duration\",Results!$A$2,\"Rating\",C$1,\"Date\",$A91))","v":-100000},{"$f":"IF(ISERROR(GETPIVOTDATA(\"Duration\",Results!$A$2,\"Rating\",D$1,\"Date\",$A91)),-100000,GETPIVOTDATA(\"Duration\",Results!$A$2,\"Rating\",D$1,\"Date\",$A91))","v":-100000},{"$f":"IF(ISERROR(GETPIVOTDATA(\"Duration\",Results!$A$2,\"Rating\",E$1,\"Date\",$A91)),-100000,GETPIVOTDATA(\"Duration\",Results!$A$2,\"Rating\",E$1,\"Date\",$A91))","v":-100000},{"$f":"IF(ISERROR(GETPIVOTDATA(\"Duration\",Results!$A$2,\"Rating\",F$1,\"Date\",$A91)),-100000,GETPIVOTDATA(\"Duration\",Results!$A$2,\"Rating\",F$1,\"Date\",$A91))","v":-100000},1000,1000,{"$f":"AVERAGE(G$3:G91)","v":1000}]
["2014-03-31",{"$f":"IF(ISERROR(GETPIVOTDATA(\"Duration\",Results!$A$2,\"Rating\",B$1,\"Date\",$A92)),-100000,GETPIVOTDATA(\"Duration\",Results!$A$2,\"Rating\",B$1,\"Date\",$A92))","v":-100000},{"$f":"IF(ISERROR(GETPIVOTDATA(\"Duration\",Results!$A$2,\"Rating\",C$1,\"Date\",$A92)),-100000,GETPIVOTDATA(\"Duration\",Results!$A$2,\"Rating\",C$1,\"Date\",$A92))","v":-100000},{"$f":"IF(ISERROR(GETPIVOTDATA(\"Duration\",Results!$A$2,\"Rating\",D$1,\"Date\",$A92)),-100000,GETPIVOTDATA(\"Duration\",Results!$A$2,\"Rating\",D$1,\"Date\",$A92))","v":-100000},{"$f":"IF(ISERROR(GETPIVOTDATA(\"Duration\",Results!$A$2,\"Rating\",E$1,\"Date\",$A92)),-100000,GETPIVOTDATA(\"Duration\",Results!$A$2,\"Rating\",E$1,\"Date\",$A92))","v":-100000},{"$f":"IF(ISERROR(GETPIVOTDATA(\"Duration\",Results!$A$2,\"Rating\",F$1,\"Date\",$A92)),-100000,GETPIVOTDATA(\"Duration\",Results!$A$2,\"Rating\",F$1,\"Date\",$A92))","v":-100000},1000,1000,{"$f":"AVERAGE(G$3:G92)","v":1000}]
["2014-04-01",{"$f":"IF(ISERROR(GETPIVOTDATA(\"Duration\",Results!$A$2,\"Rating\",B$1,\"Date\",$A93)),-100000,GETPIVOTDATA(\"Duration\",Results!$A$2,\"Rating\",B$1,\"Date\",$A93))","v":-100000},{"$f":"IF(ISERROR(GETPIVOTDATA(\"Duration\",Results!$A$2,\"Rating\",C$1,\"Date\",$A93)),-100000,GETPIVOTDATA(\"Duration\",Results!$A$2,\"Rating\",C$1,\"Date\",$A93))","v":-100000},{"$f":"IF(ISERROR(GETPIVOTDATA(\"Duration\",Results!$A$2,\"Rating\",D$1,\"Date\",$A93)),-100000,GETPIVOTDATA(\"Duration\",Results!$A$2,\"Rating\",D$1,\"Date\",$A93))","v":-100000},{"$f":"IF(ISERROR(GETPIVOTDATA(\"Duration\",Results!$A$2,\"Rating\",E$1,\"Date\",$A93)),-100000,GETPIVOTDATA(\"Duration\",Results!$A$2,\"Rating\",E$1,\"Date\",$A93))","v":-100000},{"$f":"IF(ISERROR(GETPIVOTDATA(\"Duration\",Results!$A$2,\"Rating\",F$1,\"Date\",$A93)),-100000,GETPIVOTDATA(\"Duration\",Results!$A$2,\"Rating\",F$1,\"Date\",$A93))","v":-100000},1000,1000,{"$f":"AVERAGE(G$3:G93)","v":1000}]
["2014-04-02",{"$f":"IF(ISERROR(GETPIVOTDATA(\"Duration\",Results!$A$2,\"Rating\",B$1,\"Date\",$A94)),-100000,GETPIVOTDATA(\"Duration\",Results!$A$2,\"Rating\",B$1,\"Date\",$A94))","v":-100000},{"$f":"IF(ISERROR(GETPIVOTDATA(\"Duration\",Results!$A$2,\"Rating\",C$1,\"Date\",$A94)),-100000,GETPIVOTDATA(\"Duration\",Results!$A$2,\"Rating\",C$1,\"Date\",$A94))","v":-100000},{"$f":"IF(ISERROR(GETPIVOTDATA(\"Duration\",Results!$A$2,\"Rating\",D$1,\"Date\",$A94)),-100000,GETPIVOTDATA(\"Duration\",Results!$A$2,\"Rating\",D$1,\"Date\",$A94))","v":-100000},{"$f":"IF(ISERROR(GETPIVOTDATA(\"Duration\",Results!$A$2,\"Rating\",E$1,\"Date\",$A94)),-100000,GETPIVOTDATA(\"Duration\",Results!$A$2,\"Rating\",E$1,\"Date\",$A94))","v":-100000},{"$f":"IF(ISERROR(GETPIVOTDATA(\"Duration\",Results!$A$2,\"Rating\",F$1,\"Date\",$A94)),-100000,GETPIVOTDATA(\"Duration\",Results!$A$2,\"Rating\",F$1,\"Date\",$A94))","v":-100000},1000,1000,{"$f":"AVERAGE(G$3:G94)","v":1000}]
["2014-04-03",{"$f":"IF(ISERROR(GETPIVOTDATA(\"Duration\",Results!$A$2,\"Rating\",B$1,\"Date\",$A95)),-100000,GETPIVOTDATA(\"Duration\",Results!$A$2,\"Rating\",B$1,\"Date\",$A95))","v":-100000},{"$f":"IF(ISERROR(GETPIVOTDATA(\"Duration\",Results!$A$2,\"Rating\",C$1,\"Date\",$A95)),-100000,GETPIVOTDATA(\"Duration\",Results!$A$2,\"Rating\",C$1,\"Date\",$A95))","v":-100000},{"$f":"IF(ISERROR(GETPIVOTDATA(\"Duration\",Results!$A$2,\"Rating\",D$1,\"Date\",$A95)),-100000,GETPIVOTDATA(\"Duration\",Results!$A$2,\"Rating\",D$1,\"Date\",$A95))","v":-100000},{"$f":"IF(ISERROR(GETPIVOTDATA(\"Duration\",Results!$A$2,\"Rating\",E$1,\"Date\",$A95)),-100000,GETPIVOTDATA(\"Duration\",Results!$A$2,\"Rating\",E$1,\"Date\",$A95))","v":-100000},{"$f":"IF(ISERROR(GETPIVOTDATA(\"Duration\",Results!$A$2,\"Rating\",F$1,\"Date\",$A95)),-100000,GETPIVOTDATA(\"Duration\",Results!$A$2,\"Rating\",F$1,\"Date\",$A95))","v":-100000},1000,1000,{"$f":"AVERAGE(G$3:G95)","v":1000}]
["2014-04-04",{"$f":"IF(ISERROR(GETPIVOTDATA(\"Duration\",Results!$A$2,\"Rating\",B$1,\"Date\",$A96)),-100000,GETPIVOTDATA(\"Duration\",Results!$A$2,\"Rating\",B$1,\"Date\",$A96))","v":-100000},{"$f":"IF(ISERROR(GETPIVOTDATA(\"Duration\",Results!$A$2,\"Rating\",C$1,\"Date\",$A96)),-100000,GETPIVOTDATA(\"Duration\",Results!$A$2,\"Rating\",C$1,\"Date\",$A96))","v":-100000},{"$f":"IF(ISERROR(GETPIVOTDATA(\"Duration\",Results!$A$2,\"Rating\",D$1,\"Date\",$A96)),-100000,GETPIVOTDATA(\"Duration\",Results!$A$2,\"Rating\",D$1,\"Date\",$A96))","v":-100000},{"$f":"IF(ISERROR(GETPIVOTDATA(\"Duration\",Results!$A$2,\"Rating\",E$1,\"Date\",$A96)),-100000,GETPIVOTDATA(\"Duration\",Results!$A$2,\"Rating\",E$1,\"Date\",$A96))","v":-100000},{"$f":"IF(ISERROR(GETPIVOTDATA(\"Duration\",Results!$A$2,\"Rating\",F$1,\"Date\",$A96)),-100000,GETPIVOTDATA(\"Duration\",Results!$A$2,\"Rating\",F$1,\"Date\",$A96))","v":-100000},1000,1000,{"$f":"AVERAGE(G$3:G96)","v":1000}]
["2014-04-05",{"$f":"IF(ISERROR(GETPIVOTDATA(\"Duration\",Results!$A$2,\"Rating\",B$1,\"Date\",$A97)),-100000,GETPIVOTDATA(\"Duration\",Results!$A$2,\"Rating\",B$1,\"Date\",$A97))","v":-100000},{"$f":"IF(ISERROR(GETPIVOTDATA(\"Duration\",Results!$A$2,\"Rating\",C$1,\"Date\",$A97)),-100000,GETPIVOTDATA(\"Duration\",Results!$A$2,\"Rating\",C$1,\"Date\",$A97))","v":-100000},{"$f":"IF(ISERROR(GETPIVOTDATA(\"Duration\",Results!$A$2,\"Rating\",D$1,\"Date\",$A97)),-100000,GETPIVOTDATA(\"Duration\",Results!$A$2,\"Rating\",D$1,\"Date\",$A97))","v":-100000},{"$f":"IF(ISERROR(GETPIVOTDATA(\"Duration\",Results!$A$2,\"Rating\",E$1,\"Date\",$A97)),-100000,GETPIVOTDATA(\"Duration\",Results!$A$2,\"Rating\",E$1,\"Date\",$A97))","v":-100000},{"$f":"IF(ISERROR(GETPIVOTDATA(\"Duration\",Results!$A$2,\"Rating\",F$1,\"Date\",$A97)),-100000,GETPIVOTDATA(\"Duration\",Results!$A$2,\"Rating\",F$1,\"Date\",$A97))","v":-100000},1000,1000,{"$f":"AVERAGE(G$3:G97)","v":1000}]
["2014-04-06",{"$f":"IF(ISERROR(GETPIVOTDATA(\"Duration\",Results!$A$2,\"Rating\",B$1,\"Date\",$A98)),-100000,GETPIVOTDATA(\"Duration\",Results!$A$2,\"Rating\",B$1,\"Date\",$A98))","v":-100000},{"$f":"IF(ISERROR(GETPIVOTDATA(\"Duration\",Results!$A$2,\"Rating\",C$1,\"Date\",$A98)),-100000,GETPIVOTDATA(\"Duration\",Results!$A$2,\"Rating\",C$1,\"Date\",$A98))","v":-100000},{"$f":"IF(ISERROR(GETPIVOTDATA(\"Duration\",Results!$A$2,\"Rating\",D$1,\"Date\",$A98)),-100000,GETPIVOTDATA(\"Duration\",Results!$A$2,\"Rating\",D$1,\"Date\",$A98))","v":-100000},{"$f":"IF(ISERROR(GETPIVOTDATA(\"Duration\",Results!$A$2,\"Rating\",E$1,\"Date\",$A98)),-100000,GETPIVOTDATA(\"Duration\",Results!$A$2,\"Rating\",E$1,\"Date\",$A98))","v":-100000},{"$f":"IF(ISERROR(GETPIVOTDATA(\"Duration\",Results!$A$2,\"Rating\",F$1,\"Date\",$A98)),-100000,GETPIVOTDATA(\"Duration\",Results!$A$2,\"Rating\",F$1,\"Date\",$A98))","v":-100000},1000,1000,{"$f":"AVERAGE(G$3:G98)","v":1000}]
["2014-04-07",{"$f":"IF(ISERROR(GETPIVOTDATA(\"Duration\",Results!$A$2,\"Rating\",B$1,\"Date\",$A99)),-100000,GETPIVOTDATA(\"Duration\",Results!$A$2,\"Rating\",B$1,\"Date\",$A99))","v":-100000},{"$f":"IF(ISERROR(GETPIVOTDATA(\"Duration\",Results!$A$2,\"Rating\",C$1,\"Date\",$A99)),-100000,GETPIVOTDATA(\"Duration\",Results!$A$2,\"Rating\",C$1,\"Date\",$A99))","v":-100000},{"$f":"IF(ISERROR(GETPIVOTDATA(\"Duration\",Results!$A$2,\"Rating\",D$1,\"Date\",$A99)),-100000,GETPIVOTDATA(\"Duration\",Results!$A$2,\"Rating\",D$1,\"Date\",$A99))","v":-100000},{"$f":"IF(ISERROR(GETPIVOTDATA(\"Duration\",Results!$A$2,\"Rating\",E$1,\"Date\",$A99)),-100000,GETPIVOTDATA(\"Duration\",Results!$A$2,\"Rating\",E$1,\"Date\",$A99))","v":-100000},{"$f":"IF(ISERROR(GETPIVOTDATA(\"Duration\",Results!$A$2,\"Rating\",F$1,\"Date\",$A99)),-100000,GETPIVOTDATA(\"Duration\",Results!$A$2,\"Rating\",F$1,\"Date\",$A99))","v":-100000},1000,1000,{"$f":"AVERAGE(G$3:G99)","v":1000}]
["2014-04-08",{"$f":"IF(ISERROR(GETPIVOTDATA(\"Duration\",Results!$A$2,\"Rating\",B$1,\"Date\",$A100)),-100000,GETPIVOTDATA(\"Duration\",Results!$A$2,\"Rating\",B$1,\"Date\",$A100))","v":-100000},{"$f":"IF(ISERROR(GETPIVOTDATA(\"Duration\",Results!$A$2,\"Rating\",C$1,\"Date\",$A100)),-100000,GETPIVOTDATA(\"Duration\",Results!$A$2,\"Rating\",C$1,\"Date\",$A100))","v":-100000},{"$f":"IF(ISERROR(GETPIVOTDATA(\"Duration\",Results!$A$2,\"Rating\",D$1,\"Date\",$A100)),-100000,GETPIVOTDATA(\"Duration\",Results!$A$2,\"Rating\",D$1,\"Date\",$A100))","v":-100000},{"$f":"IF(ISERROR(GETPIVOTDATA(\"Duration\",Results!$A$2,\"Rating\",E$1,\"Date\",$A100)),-100000,GETPIVOTDATA(\"Duration\",Results!$A$2,\"Rating\",E$1,\"Date\",$A100))","v":-100000},{"$f":"IF(ISERROR(GETPIVOTDATA(\"Duration\",Results!$A$2,\"Rating\",F$1,\"Date\",$A100)),-100000,GETPIVOTDATA(\"Duration\",Results!$A$2,\"Rating\",F$1,\"Date\",$A100))","v":-100000},1000,1000,{"$f":"AVERAGE(G$3:G100)","v":1000}]
["2014-04-09",{"$f":"IF(ISERROR(GETPIVOTDATA(\"Duration\",Results!$A$2,\"Rating\",B$1,\"Date\",$A101)),-100000,GETPIVOTDATA(\"Duration\",Results!$A$2,\"Rating\",B$1,\"Date\",$A101))","v":-100000},{"$f":"IF(ISERROR(GETPIVOTDATA(\"Duration\",Results!$A$2,\"Rating\",C$1,\"Date\",$A101)),-100000,GETPIVOTDATA(\"Duration\",Results!$A$2,\"Rating\",C$1,\"Date\",$A101))","v":-100000},{"$f":"IF(ISERROR(GETPIVOTDATA(\"Duration\",Results!$A$2,\"Rating\",D$1,\"Date\",$A101)),-100000,GETPIVOTDATA(\"Duration\",Results!$A$2,\"Rating\",D$1,\"Date\",$A101))","v":-100000},{"$f":"IF(ISERROR(GETPIVOTDATA(\"Duration\",Results!$A$2,\"Rating\",E$1,\"Date\",$A101)),-100000,GETPIVOTDATA(\"Duration\",Results!$A$2,\"Rating\",E$1,\"Date\",$A101))","v":-100000},{"$f":"IF(ISERROR(GETPIVOTDATA(\"Duration\",Results!$A$2,\"Rating\",F$1,\"Date\",$A101)),-100000,GETPIVOTDATA(\"Duration\",Results!$A$2,\"Rating\",F$1,\"Date\",$A101))","v":-100000},1000,1000,{"$f":"AVERAGE(G$3:G101)","v":1000}]
["2014-04-10",{"$f":"IF(ISERROR(GETPIVOTDATA(\"Duration\",Results!$A$2,\"Rating\",B$1,\"Date\",$A102)),-100000,GETPIVOTDATA(\"Duration\",Results!$A$2,\"Rating\",B$1,\"Date\",$A102))","v":-100000},{"$f":"IF(ISERROR(GETPIVOTDATA(\"Duration\",Results!$A$2,\"Rating\",C$1,\"Date\",$A102)),-100000,GETPIVOTDATA(\"Duration\",Results!$A$2,\"Rating\",C$1,\"Date\",$A102))","v":-100000},{"$f":"IF(ISERROR(GETPIVOTDATA(\"Duration\",Results!$A$2,\"Rating\",D$1,\"Date\",$A102)),-100000,GETPIVOTDATA(\"Duration\",Results!$A$2,\"Rating\",D$1,\"Date\",$A102))","v":-100000},{"$f":"IF(ISERROR(GETPIVOTDATA(\"Duration\",Results!$A$2,\"Rating\",E$1,\"Date\",$A102)),-100000,GETPIVOTDATA(\"Duration\",Results!$A$2,\"Rating\",E$1,\"Date\",$A102))","v":-100000},{"$f":"IF(ISERROR(GETPIVOTDATA(\"Duration\",Results!$A$2,\"Rating\",F$1,\"Date\",$A102)),-100000,GETPIVOTDATA(\"Duration\",Results!$A$2,\"Rating\",F$1,\"Date\",$A102))","v":-100000},1000,1000,{"$f":"AVERAGE(G$3:G102)","v":1000}]
["2014-04-11",{"$f":"IF(ISERROR(GETPIVOTDATA(\"Duration\",Results!$A$2,\"Rating\",B$1,\"Date\",$A103)),-100000,GETPIVOTDATA(\"Duration\",Results!$A$2,\"Rating\",B$1,\"Date\",$A103))","v":-100000},{"$f":"IF(ISERROR(GETPIVOTDATA(\"Duration\",Results!$A$2,\"Rating\",C$1,\"Date\",$A103)),-100000,GETPIVOTDATA(\"Duration\",Results!$A$2,\"Rating\",C$1,\"Date\",$A103))","v":-100000},{"$f":"IF(ISERROR(GETPIVOTDATA(\"Duration\",Results!$A$2,\"Rating\",D$1,\"Date\",$A103)),-100000,GETPIVOTDATA(\"Duration\",Results!$A$2,\"Rating\",D$1,\"Date\",$A103))","v":-100000},{"$f":"IF(ISERROR(GETPIVOTDATA(\"Duration\",Results!$A$2,\"Rating\",E$1,\"Date\",$A103)),-100000,GETPIVOTDATA(\"Duration\",Results!$A$2,\"Rating\",E$1,\"Date\",$A103))","v":-100000},{"$f":"IF(ISERROR(GETPIVOTDATA(\"Duration\",Results!$A$2,\"Rating\",F$1,\"Date\",$A103)),-100000,GETPIVOTDATA(\"Duration\",Results!$A$2,\"Rating\",F$1,\"Date\",$A103))","v":-100000},1000,1000,{"$f":"AVERAGE(G$3:G103)","v":1000}]
["2014-04-12",{"$f":"IF(ISERROR(GETPIVOTDATA(\"Duration\",Results!$A$2,\"Rating\",B$1,\"Date\",$A104)),-100000,GETPIVOTDATA(\"Duration\",Results!$A$2,\"Rating\",B$1,\"Date\",$A104))","v":-100000},{"$f":"IF(ISERROR(GETPIVOTDATA(\"Duration\",Results!$A$2,\"Rating\",C$1,\"Date\",$A104)),-100000,GETPIVOTDATA(\"Duration\",Results!$A$2,\"Rating\",C$1,\"Date\",$A104))","v":-100000},{"$f":"IF(ISERROR(GETPIVOTDATA(\"Duration\",Results!$A$2,\"Rating\",D$1,\"Date\",$A104)),-100000,GETPIVOTDATA(\"Duration\",Results!$A$2,\"Rating\",D$1,\"Date\",$A104))","v":-100000},{"$f":"IF(ISERROR(GETPIVOTDATA(\"Duration\",Results!$A$2,\"Rating\",E$1,\"Date\",$A104)),-100000,GETPIVOTDATA(\"Duration\",Results!$A$2,\"Rating\",E$1,\"Date\",$A104))","v":-100000},{"$f":"IF(ISERROR(GETPIVOTDATA(\"Duration\",Results!$A$2,\"Rating\",F$1,\"Date\",$A104)),-100000,GETPIVOTDATA(\"Duration\",Results!$A$2,\"Rating\",F$1,\"Date\",$A104))","v":-100000},1000,1000,{"$f":"AVERAGE(G$3:G104)","v":1000}]
["2014-04-13",{"$f":"IF(ISERROR(GETPIVOTDATA(\"Duration\",Results!$A$2,\"Rating\",B$1,\"Date\",$A105)),-100000,GETPIVOTDATA(\"Duration\",Results!$A$2,\"Rating\",B$1,\"Date\",$A105))","v":-100000},{"$f":"IF(ISERROR(GETPIVOTDATA(\"Duration\",Results!$A$2,\"Rating\",C$1,\"Date\",$A105)),-100000,GETPIVOTDATA(\"Duration\",Results!$A$2,\"Rating\",C$1,\"Date\",$A105))","v":-100000},{"$f":"IF(ISERROR(GETPIVOTDATA(\"Duration\",Results!$A$2,\"Rating\",D$1,\"Date\",$A105)),-100000,GETPIVOTDATA(\"Duration\",Results!$A$2,\"Rating\",D$1,\"Date\",$A105))","v":-100000},{"$f":"IF(ISERROR(GETPIVOTDATA(\"Duration\",Results!$A$2,\"Rating\",E$1,\"Date\",$A105)),-100000,GETPIVOTDATA(\"Duration\",Results!$A$2,\"Rating\",E$1,\"Date\",$A105))","v":-100000},{"$f":"IF(ISERROR(GETPIVOTDATA(\"Duration\",Results!$A$2,\"Rating\",F$1,\"Date\",$A105)),-100000,GETPIVOTDATA(\"Duration\",Results!$A$2,\"Rating\",F$1,\"Date\",$A105))","v":-100000},1000,1000,{"$f":"AVERAGE(G$3:G105)","v":1000}]
["2014-04-14",{"$f":"IF(ISERROR(GETPIVOTDATA(\"Duration\",Results!$A$2,\"Rating\",B$1,\"Date\",$A106)),-100000,GETPIVOTDATA(\"Duration\",Results!$A$2,\"Rating\",B$1,\"Date\",$A106))","v":-100000},{"$f":"IF(ISERROR(GETPIVOTDATA(\"Duration\",Results!$A$2,\"Rating\",C$1,\"Date\",$A106)),-100000,GETPIVOTDATA(\"Duration\",Results!$A$2,\"Rating\",C$1,\"Date\",$A106))","v":-100000},{"$f":"IF(ISERROR(GETPIVOTDATA(\"Duration\",Results!$A$2,\"Rating\",D$1,\"Date\",$A106)),-100000,GETPIVOTDATA(\"Duration\",Results!$A$2,\"Rating\",D$1,\"Date\",$A106))","v":-100000},{"$f":"IF(ISERROR(GETPIVOTDATA(\"Duration\",Results!$A$2,\"Rating\",E$1,\"Date\",$A106)),-100000,GETPIVOTDATA(\"Duration\",Results!$A$2,\"Rating\",E$1,\"Date\",$A106))","v":-100000},{"$f":"IF(ISERROR(GETPIVOTDATA(\"Duration\",Results!$A$2,\"Rating\",F$1,\"Date\",$A106)),-100000,GETPIVOTDATA(\"Duration\",Results!$A$2,\"Rating\",F$1,\"Date\",$A106))","v":-100000},1000,1000,{"$f":"AVERAGE(G$3:G106)","v":1000}]
["2014-04-15",{"$f":"IF(ISERROR(GETPIVOTDATA(\"Duration\",Results!$A$2,\"Rating\",B$1,\"Date\",$A107)),-100000,GETPIVOTDATA(\"Duration\",Results!$A$2,\"Rating\",B$1,\"Date\",$A107))","v":-100000},{"$f":"IF(ISERROR(GETPIVOTDATA(\"Duration\",Results!$A$2,\"Rating\",C$1,\"Date\",$A107)),-100000,GETPIVOTDATA(\"Duration\",Results!$A$2,\"Rating\",C$1,\"Date\",$A107))","v":-100000},{"$f":"IF(ISERROR(GETPIVOTDATA(\"Duration\",Results!$A$2,\"Rating\",D$1,\"Date\",$A107)),-100000,GETPIVOTDATA(\"Duration\",Results!$A$2,\"Rating\",D$1,\"Date\",$A107))","v":-100000},{"$f":"IF(ISERROR(GETPIVOTDATA(\"Duration\",Results!$A$2,\"Rating\",E$1,\"Date\",$A107)),-100000,GETPIVOTDATA(\"Duration\",Results!$A$2,\"Rating\",E$1,\"Date\",$A107))","v":-100000},{"$f":"IF(ISERROR(GETPIVOTDATA(\"Duration\",Results!$A$2,\"Rating\",F$1,\"Date\",$A107)),-100000,GETPIVOTDATA(\"Duration\",Results!$A$2,\"Rating\",F$1,\"Date\",$A107))","v":-100000},1000,1000,{"$f":"AVERAGE(G$3:G107)","v":1000}]
["2014-04-16",{"$f":"IF(ISERROR(GETPIVOTDATA(\"Duration\",Results!$A$2,\"Rating\",B$1,\"Date\",$A108)),-100000,GETPIVOTDATA(\"Duration\",Results!$A$2,\"Rating\",B$1,\"Date\",$A108))","v":-100000},{"$f":"IF(ISERROR(GETPIVOTDATA(\"Duration\",Results!$A$2,\"Rating\",C$1,\"Date\",$A108)),-100000,GETPIVOTDATA(\"Duration\",Results!$A$2,\"Rating\",C$1,\"Date\",$A108))","v":-100000},{"$f":"IF(ISERROR(GETPIVOTDATA(\"Duration\",Results!$A$2,\"Rating\",D$1,\"Date\",$A108)),-100000,GETPIVOTDATA(\"Duration\",Results!$A$2,\"Rating\",D$1,\"Date\",$A108))","v":-100000},{"$f":"IF(ISERROR(GETPIVOTDATA(\"Duration\",Results!$A$2,\"Rating\",E$1,\"Date\",$A108)),-100000,GETPIVOTDATA(\"Duration\",Results!$A$2,\"Rating\",E$1,\"Date\",$A108))","v":-100000},{"$f":"IF(ISERROR(GETPIVOTDATA(\"Duration\",Results!$A$2,\"Rating\",F$1,\"Date\",$A108)),-100000,GETPIVOTDATA(\"Duration\",Results!$A$2,\"Rating\",F$1,\"Date\",$A108))","v":-100000},1000,1000,{"$f":"AVERAGE(G$3:G108)","v":1000}]
["2014-04-17",{"$f":"IF(ISERROR(GETPIVOTDATA(\"Duration\",Results!$A$2,\"Rating\",B$1,\"Date\",$A109)),-100000,GETPIVOTDATA(\"Duration\",Results!$A$2,\"Rating\",B$1,\"Date\",$A109))","v":-100000},{"$f":"IF(ISERROR(GETPIVOTDATA(\"Duration\",Results!$A$2,\"Rating\",C$1,\"Date\",$A109)),-100000,GETPIVOTDATA(\"Duration\",Results!$A$2,\"Rating\",C$1,\"Date\",$A109))","v":-100000},{"$f":"IF(ISERROR(GETPIVOTDATA(\"Duration\",Results!$A$2,\"Rating\",D$1,\"Date\",$A109)),-100000,GETPIVOTDATA(\"Duration\",Results!$A$2,\"Rating\",D$1,\"Date\",$A109))","v":-100000},{"$f":"IF(ISERROR(GETPIVOTDATA(\"Duration\",Results!$A$2,\"Rating\",E$1,\"Date\",$A109)),-100000,GETPIVOTDATA(\"Duration\",Results!$A$2,\"Rating\",E$1,\"Date\",$A109))","v":-100000},{"$f":"IF(ISERROR(GETPIVOTDATA(\"Duration\",Results!$A$2,\"Rating\",F$1,\"Date\",$A109)),-100000,GETPIVOTDATA(\"Duration\",Results!$A$2,\"Rating\",F$1,\"Date\",$A109))","v":-100000},1000,1000,{"$f":"AVERAGE(G$3:G109)","v":1000}]
["2014-04-18",{"$f":"IF(ISERROR(GETPIVOTDATA(\"Duration\",Results!$A$2,\"Rating\",B$1,\"Date\",$A110)),-100000,GETPIVOTDATA(\"Duration\",Results!$A$2,\"Rating\",B$1,\"Date\",$A110))","v":-100000},{"$f":"IF(ISERROR(GETPIVOTDATA(\"Duration\",Results!$A$2,\"Rating\",C$1,\"Date\",$A110)),-100000,GETPIVOTDATA(\"Duration\",Results!$A$2,\"Rating\",C$1,\"Date\",$A110))","v":-100000},{"$f":"IF(ISERROR(GETPIVOTDATA(\"Duration\",Results!$A$2,\"Rating\",D$1,\"Date\",$A110)),-100000,GETPIVOTDATA(\"Duration\",Results!$A$2,\"Rating\",D$1,\"Date\",$A110))","v":-100000},{"$f":"IF(ISERROR(GETPIVOTDATA(\"Duration\",Results!$A$2,\"Rating\",E$1,\"Date\",$A110)),-100000,GETPIVOTDATA(\"Duration\",Results!$A$2,\"Rating\",E$1,\"Date\",$A110))","v":-100000},{"$f":"IF(ISERROR(GETPIVOTDATA(\"Duration\",Results!$A$2,\"Rating\",F$1,\"Date\",$A110)),-100000,GETPIVOTDATA(\"Duration\",Results!$A$2,\"Rating\",F$1,\"Date\",$A110))","v":-100000},1000,1000,{"$f":"AVERAGE(G$3:G110)","v":1000}]
["2014-04-19",{"$f":"IF(ISERROR(GETPIVOTDATA(\"Duration\",Results!$A$2,\"Rating\",B$1,\"Date\",$A111)),-100000,GETPIVOTDATA(\"Duration\",Results!$A$2,\"Rating\",B$1,\"Date\",$A111))","v":-100000},{"$f":"IF(ISERROR(GETPIVOTDATA(\"Duration\",Results!$A$2,\"Rating\",C$1,\"Date\",$A111)),-100000,GETPIVOTDATA(\"Duration\",Results!$A$2,\"Rating\",C$1,\"Date\",$A111))","v":-100000},{"$f":"IF(ISERROR(GETPIVOTDATA(\"Duration\",Results!$A$2,\"Rating\",D$1,\"Date\",$A111)),-100000,GETPIVOTDATA(\"Duration\",Results!$A$2,\"Rating\",D$1,\"Date\",$A111))","v":-100000},{"$f":"IF(ISERROR(GETPIVOTDATA(\"Duration\",Results!$A$2,\"Rating\",E$1,\"Date\",$A111)),-100000,GETPIVOTDATA(\"Duration\",Results!$A$2,\"Rating\",E$1,\"Date\",$A111))","v":-100000},{"$f":"IF(ISERROR(GETPIVOTDATA(\"Duration\",Results!$A$2,\"Rating\",F$1,\"Date\",$A111)),-100000,GETPIVOTDATA(\"Duration\",Results!$A$2,\"Rating\",F$1,\"Date\",$A111))","v":-100000},1000,1000,{"$f":"AVERAGE(G$3:G111)","v":1000}]
["2014-04-20",{"$f":"IF(ISERROR(GETPIVOTDATA(\"Duration\",Results!$A$2,\"Rating\",B$1,\"Date\",$A112)),-100000,GETPIVOTDATA(\"Duration\",Results!$A$2,\"Rating\",B$1,\"Date\",$A112))","v":-100000},{"$f":"IF(ISERROR(GETPIVOTDATA(\"Duration\",Results!$A$2,\"Rating\",C$1,\"Date\",$A112)),-100000,GETPIVOTDATA(\"Duration\",Results!$A$2,\"Rating\",C$1,\"Date\",$A112))","v":-100000},{"$f":"IF(ISERROR(GETPIVOTDATA(\"Duration\",Results!$A$2,\"Rating\",D$1,\"Date\",$A112)),-100000,GETPIVOTDATA(\"Duration\",Results!$A$2,\"Rating\",D$1,\"Date\",$A112))","v":-100000},{"$f":"IF(ISERROR(GETPIVOTDATA(\"Duration\",Results!$A$2,\"Rating\",E$1,\"Date\",$A112)),-100000,GETPIVOTDATA(\"Duration\",Results!$A$2,\"Rating\",E$1,\"Date\",$A112))","v":-100000},{"$f":"IF(ISERROR(GETPIVOTDATA(\"Duration\",Results!$A$2,\"Rating\",F$1,\"Date\",$A112)),-100000,GETPIVOTDATA(\"Duration\",Results!$A$2,\"Rating\",F$1,\"Date\",$A112))","v":-100000},1000,1000,{"$f":"AVERAGE(G$3:G112)","v":1000}]
["2014-04-21",{"$f":"IF(ISERROR(GETPIVOTDATA(\"Duration\",Results!$A$2,\"Rating\",B$1,\"Date\",$A113)),-100000,GETPIVOTDATA(\"Duration\",Results!$A$2,\"Rating\",B$1,\"Date\",$A113))","v":-100000},{"$f":"IF(ISERROR(GETPIVOTDATA(\"Duration\",Results!$A$2,\"Rating\",C$1,\"Date\",$A113)),-100000,GETPIVOTDATA(\"Duration\",Results!$A$2,\"Rating\",C$1,\"Date\",$A113))","v":-100000},{"$f":"IF(ISERROR(GETPIVOTDATA(\"Duration\",Results!$A$2,\"Rating\",D$1,\"Date\",$A113)),-100000,GETPIVOTDATA(\"Duration\",Results!$A$2,\"Rating\",D$1,\"Date\",$A113))","v":-100000},{"$f":"IF(ISERROR(GETPIVOTDATA(\"Duration\",Results!$A$2,\"Rating\",E$1,\"Date\",$A113)),-100000,GETPIVOTDATA(\"Duration\",Results!$A$2,\"Rating\",E$1,\"Date\",$A113))","v":-100000},{"$f":"IF(ISERROR(GETPIVOTDATA(\"Duration\",Results!$A$2,\"Rating\",F$1,\"Date\",$A113)),-100000,GETPIVOTDATA(\"Duration\",Results!$A$2,\"Rating\",F$1,\"Date\",$A113))","v":-100000},1000,1000,{"$f":"AVERAGE(G$3:G113)","v":1000}]
["2014-04-22",{"$f":"IF(ISERROR(GETPIVOTDATA(\"Duration\",Results!$A$2,\"Rating\",B$1,\"Date\",$A114)),-100000,GETPIVOTDATA(\"Duration\",Results!$A$2,\"Rating\",B$1,\"Date\",$A114))","v":-100000},{"$f":"IF(ISERROR(GETPIVOTDATA(\"Duration\",Results!$A$2,\"Rating\",C$1,\"Date\",$A114)),-100000,GETPIVOTDATA(\"Duration\",Results!$A$2,\"Rating\",C$1,\"Date\",$A114))","v":-100000},{"$f":"IF(ISERROR(GETPIVOTDATA(\"Duration\",Results!$A$2,\"Rating\",D$1,\"Date\",$A114)),-100000,GETPIVOTDATA(\"Duration\",Results!$A$2,\"Rating\",D$1,\"Date\",$A114))","v":-100000},{"$f":"IF(ISERROR(GETPIVOTDATA(\"Duration\",Results!$A$2,\"Rating\",E$1,\"Date\",$A114)),-100000,GETPIVOTDATA(\"Duration\",Results!$A$2,\"Rating\",E$1,\"Date\",$A114))","v":-100000},{"$f":"IF(ISERROR(GETPIVOTDATA(\"Duration\",Results!$A$2,\"Rating\",F$1,\"Date\",$A114)),-100000,GETPIVOTDATA(\"Duration\",Results!$A$2,\"Rating\",F$1,\"Date\",$A114))","v":-100000},1000,1000,{"$f":"AVERAGE(G$3:G114)","v":1000}]
["2014-04-23",{"$f":"IF(ISERROR(GETPIVOTDATA(\"Duration\",Results!$A$2,\"Rating\",B$1,\"Date\",$A115)),-100000,GETPIVOTDATA(\"Duration\",Results!$A$2,\"Rating\",B$1,\"Date\",$A115))","v":-100000},{"$f":"IF(ISERROR(GETPIVOTDATA(\"Duration\",Results!$A$2,\"Rating\",C$1,\"Date\",$A115)),-100000,GETPIVOTDATA(\"Duration\",Results!$A$2,\"Rating\",C$1,\"Date\",$A115))","v":-100000},{"$f":"IF(ISERROR(GETPIVOTDATA(\"Duration\",Results!$A$2,\"Rating\",D$1,\"Date\",$A115)),-100000,GETPIVOTDATA(\"Duration\",Results!$A$2,\"Rating\",D$1,\"Date\",$A115))","v":-100000},{"$f":"IF(ISERROR(GETPIVOTDATA(\"Duration\",Results!$A$2,\"Rating\",E$1,\"Date\",$A115)),-100000,GETPIVOTDATA(\"Duration\",Results!$A$2,\"Rating\",E$1,\"Date\",$A115))","v":-100000},{"$f":"IF(ISERROR(GETPIVOTDATA(\"Duration\",Results!$A$2,\"Rating\",F$1,\"Date\",$A115)),-100000,GETPIVOTDATA(\"Duration\",Results!$A$2,\"Rating\",F$1,\"Date\",$A115))","v":-100000},1000,1000,{"$f":"AVERAGE(G$3:G115)","v":1000}]
["2014-04-24",{"$f":"IF(ISERROR(GETPIVOTDATA(\"Duration\",Results!$A$2,\"Rating\",B$1,\"Date\",$A116)),-100000,GETPIVOTDATA(\"Duration\",Results!$A$2,\"Rating\",B$1,\"Date\",$A116))","v":-100000},{"$f":"IF(ISERROR(GETPIVOTDATA(\"Duration\",Results!$A$2,\"Rating\",C$1,\"Date\",$A116)),-100000,GETPIVOTDATA(\"Duration\",Results!$A$2,\"Rating\",C$1,\"Date\",$A116))","v":-100000},{"$f":"IF(ISERROR(GETPIVOTDATA(\"Duration\",Results!$A$2,\"Rating\",D$1,\"Date\",$A116)),-100000,GETPIVOTDATA(\"Duration\",Results!$A$2,\"Rating\",D$1,\"Date\",$A116))","v":-100000},{"$f":"IF(ISERROR(GETPIVOTDATA(\"Duration\",Results!$A$2,\"Rating\",E$1,\"Date\",$A116)),-100000,GETPIVOTDATA(\"Duration\",Results!$A$2,\"Rating\",E$1,\"Date\",$A116))","v":-100000},{"$f":"IF(ISERROR(GETPIVOTDATA(\"Duration\",Results!$A$2,\"Rating\",F$1,\"Date\",$A116)),-100000,GETPIVOTDATA(\"Duration\",Results!$A$2,\"Rating\",F$1,\"Date\",$A116))","v":-100000},1000,1000,{"$f":"AVERAGE(G$3:G116)","v":1000}]
["2014-04-25",{"$f":"IF(ISERROR(GETPIVOTDATA(\"Duration\",Results!$A$2,\"Rating\",B$1,\"Date\",$A117)),-100000,GETPIVOTDATA(\"Duration\",Results!$A$2,\"Rating\",B$1,\"Date\",$A117))","v":-100000},{"$f":"IF(ISERROR(GETPIVOTDATA(\"Duration\",Results!$A$2,\"Rating\",C$1,\"Date\",$A117)),-100000,GETPIVOTDATA(\"Duration\",Results!$A$2,\"Rating\",C$1,\"Date\",$A117))","v":-100000},{"$f":"IF(ISERROR(GETPIVOTDATA(\"Duration\",Results!$A$2,\"Rating\",D$1,\"Date\",$A117)),-100000,GETPIVOTDATA(\"Duration\",Results!$A$2,\"Rating\",D$1,\"Date\",$A117))","v":-100000},{"$f":"IF(ISERROR(GETPIVOTDATA(\"Duration\",Results!$A$2,\"Rating\",E$1,\"Date\",$A117)),-100000,GETPIVOTDATA(\"Duration\",Results!$A$2,\"Rating\",E$1,\"Date\",$A117))","v":-100000},{"$f":"IF(ISERROR(GETPIVOTDATA(\"Duration\",Results!$A$2,\"Rating\",F$1,\"Date\",$A117)),-100000,GETPIVOTDATA(\"Duration\",Results!$A$2,\"Rating\",F$1,\"Date\",$A117))","v":-100000},1000,1000,{"$f":"AVERAGE(G$3:G117)","v":1000}]
["2014-04-26",{"$f":"IF(ISERROR(GETPIVOTDATA(\"Duration\",Results!$A$2,\"Rating\",B$1,\"Date\",$A118)),-100000,GETPIVOTDATA(\"Duration\",Results!$A$2,\"Rating\",B$1,\"Date\",$A118))","v":-100000},{"$f":"IF(ISERROR(GETPIVOTDATA(\"Duration\",Results!$A$2,\"Rating\",C$1,\"Date\",$A118)),-100000,GETPIVOTDATA(\"Duration\",Results!$A$2,\"Rating\",C$1,\"Date\",$A118))","v":-100000},{"$f":"IF(ISERROR(GETPIVOTDATA(\"Duration\",Results!$A$2,\"Rating\",D$1,\"Date\",$A118)),-100000,GETPIVOTDATA(\"Duration\",Results!$A$2,\"Rating\",D$1,\"Date\",$A118))","v":-100000},{"$f":"IF(ISERROR(GETPIVOTDATA(\"Duration\",Results!$A$2,\"Rating\",E$1,\"Date\",$A118)),-100000,GETPIVOTDATA(\"Duration\",Results!$A$2,\"Rating\",E$1,\"Date\",$A118))","v":-100000},{"$f":"IF(ISERROR(GETPIVOTDATA(\"Duration\",Results!$A$2,\"Rating\",F$1,\"Date\",$A118)),-100000,GETPIVOTDATA(\"Duration\",Results!$A$2,\"Rating\",F$1,\"Date\",$A118))","v":-100000},1000,1000,{"$f":"AVERAGE(G$3:G118)","v":1000}]
["2014-04-27",{"$f":"IF(ISERROR(GETPIVOTDATA(\"Duration\",Results!$A$2,\"Rating\",B$1,\"Date\",$A119)),-100000,GETPIVOTDATA(\"Duration\",Results!$A$2,\"Rating\",B$1,\"Date\",$A119))","v":-100000},{"$f":"IF(ISERROR(GETPIVOTDATA(\"Duration\",Results!$A$2,\"Rating\",C$1,\"Date\",$A119)),-100000,GETPIVOTDATA(\"Duration\",Results!$A$2,\"Rating\",C$1,\"Date\",$A119))","v":-100000},{"$f":"IF(ISERROR(GETPIVOTDATA(\"Duration\",Results!$A$2,\"Rating\",D$1,\"Date\",$A119)),-100000,GETPIVOTDATA(\"Duration\",Results!$A$2,\"Rating\",D$1,\"Date\",$A119))","v":-100000},{"$f":"IF(ISERROR(GETPIVOTDATA(\"Duration\",Results!$A$2,\"Rating\",E$1,\"Date\",$A119)),-100000,GETPIVOTDATA(\"Duration\",Results!$A$2,\"Rating\",E$1,\"Date\",$A119))","v":-100000},{"$f":"IF(ISERROR(GETPIVOTDATA(\"Duration\",Results!$A$2,\"Rating\",F$1,\"Date\",$A119)),-100000,GETPIVOTDATA(\"Duration\",Results!$A$2,\"Rating\",F$1,\"Date\",$A119))","v":-100000},1000,1000,{"$f":"AVERAGE(G$3:G119)","v":1000}]
["2014-04-28",{"$f":"IF(ISERROR(GETPIVOTDATA(\"Duration\",Results!$A$2,\"Rating\",B$1,\"Date\",$A120)),-100000,GETPIVOTDATA(\"Duration\",Results!$A$2,\"Rating\",B$1,\"Date\",$A120))","v":-100000},{"$f":"IF(ISERROR(GETPIVOTDATA(\"Duration\",Results!$A$2,\"Rating\",C$1,\"Date\",$A120)),-100000,GETPIVOTDATA(\"Duration\",Results!$A$2,\"Rating\",C$1,\"Date\",$A120))","v":-100000},{"$f":"IF(ISERROR(GETPIVOTDATA(\"Duration\",Results!$A$2,\"Rating\",D$1,\"Date\",$A120)),-100000,GETPIVOTDATA(\"Duration\",Results!$A$2,\"Rating\",D$1,\"Date\",$A120))","v":-100000},{"$f":"IF(ISERROR(GETPIVOTDATA(\"Duration\",Results!$A$2,\"Rating\",E$1,\"Date\",$A120)),-100000,GETPIVOTDATA(\"Duration\",Results!$A$2,\"Rating\",E$1,\"Date\",$A120))","v":-100000},{"$f":"IF(ISERROR(GETPIVOTDATA(\"Duration\",Results!$A$2,\"Rating\",F$1,\"Date\",$A120)),-100000,GETPIVOTDATA(\"Duration\",Results!$A$2,\"Rating\",F$1,\"Date\",$A120))","v":-100000},1000,1000,{"$f":"AVERAGE(G$3:G120)","v":1000}]
["2014-04-29",{"$f":"IF(ISERROR(GETPIVOTDATA(\"Duration\",Results!$A$2,\"Rating\",B$1,\"Date\",$A121)),-100000,GETPIVOTDATA(\"Duration\",Results!$A$2,\"Rating\",B$1,\"Date\",$A121))","v":-100000},{"$f":"IF(ISERROR(GETPIVOTDATA(\"Duration\",Results!$A$2,\"Rating\",C$1,\"Date\",$A121)),-100000,GETPIVOTDATA(\"Duration\",Results!$A$2,\"Rating\",C$1,\"Date\",$A121))","v":-100000},{"$f":"IF(ISERROR(GETPIVOTDATA(\"Duration\",Results!$A$2,\"Rating\",D$1,\"Date\",$A121)),-100000,GETPIVOTDATA(\"Duration\",Results!$A$2,\"Rating\",D$1,\"Date\",$A121))","v":-100000},{"$f":"IF(ISERROR(GETPIVOTDATA(\"Duration\",Results!$A$2,\"Rating\",E$1,\"Date\",$A121)),-100000,GETPIVOTDATA(\"Duration\",Results!$A$2,\"Rating\",E$1,\"Date\",$A121))","v":-100000},{"$f":"IF(ISERROR(GETPIVOTDATA(\"Duration\",Results!$A$2,\"Rating\",F$1,\"Date\",$A121)),-100000,GETPIVOTDATA(\"Duration\",Results!$A$2,\"Rating\",F$1,\"Date\",$A121))","v":-100000},1000,1000,{"$f":"AVERAGE(G$3:G121)","v":1000}]
["2014-04-30",{"$f":"IF(ISERROR(GETPIVOTDATA(\"Duration\",Results!$A$2,\"Rating\",B$1,\"Date\",$A122)),-100000,GETPIVOTDATA(\"Duration\",Results!$A$2,\"Rating\",B$1,\"Date\",$A122))","v":-100000},{"$f":"IF(ISERROR(GETPIVOTDATA(\"Duration\",Results!$A$2,\"Rating\",C$1,\"Date\",$A122)),-100000,GETPIVOTDATA(\"Duration\",Results!$A$2,\"Rating\",C$1,\"Date\",$A122))","v":-100000},{"$f":"IF(ISERROR(GETPIVOTDATA(\"Duration\",Results!$A$2,\"Rating\",D$1,\"Date\",$A122)),-100000,GETPIVOTDATA(\"Duration\",Results!$A$2,\"Rating\",D$1,\"Date\",$A122))","v":-100000},{"$f":"IF(ISERROR(GETPIVOTDATA(\"Duration\",Results!$A$2,\"Rating\",E$1,\"Date\",$A122)),-100000,GETPIVOTDATA(\"Duration\",Results!$A$2,\"Rating\",E$1,\"Date\",$A122))","v":-100000},{"$f":"IF(ISERROR(GETPIVOTDATA(\"Duration\",Results!$A$2,\"Rating\",F$1,\"Date\",$A122)),-100000,GETPIVOTDATA(\"Duration\",Results!$A$2,\"Rating\",F$1,\"Date\",$A122))","v":-100000},1000,1000,{"$f":"AVERAGE(G$3:G122)","v":1000}]
["2014-05-01",{"$f":"IF(ISERROR(GETPIVOTDATA(\"Duration\",Results!$A$2,\"Rating\",B$1,\"Date\",$A123)),-100000,GETPIVOTDATA(\"Duration\",Results!$A$2,\"Rating\",B$1,\"Date\",$A123))","v":-100000},{"$f":"IF(ISERROR(GETPIVOTDATA(\"Duration\",Results!$A$2,\"Rating\",C$1,\"Date\",$A123)),-100000,GETPIVOTDATA(\"Duration\",Results!$A$2,\"Rating\",C$1,\"Date\",$A123))","v":-100000},{"$f":"IF(ISERROR(GETPIVOTDATA(\"Duration\",Results!$A$2,\"Rating\",D$1,\"Date\",$A123)),-100000,GETPIVOTDATA(\"Duration\",Results!$A$2,\"Rating\",D$1,\"Date\",$A123))","v":-100000},{"$f":"IF(ISERROR(GETPIVOTDATA(\"Duration\",Results!$A$2,\"Rating\",E$1,\"Date\",$A123)),-100000,GETPIVOTDATA(\"Duration\",Results!$A$2,\"Rating\",E$1,\"Date\",$A123))","v":-100000},{"$f":"IF(ISERROR(GETPIVOTDATA(\"Duration\",Results!$A$2,\"Rating\",F$1,\"Date\",$A123)),-100000,GETPIVOTDATA(\"Duration\",Results!$A$2,\"Rating\",F$1,\"Date\",$A123))","v":-100000},1000,1000,{"$f":"AVERAGE(G$3:G123)","v":1000}]
["2014-05-02",{"$f":"IF(ISERROR(GETPIVOTDATA(\"Duration\",Results!$A$2,\"Rating\",B$1,\"Date\",$A124)),-100000,GETPIVOTDATA(\"Duration\",Results!$A$2,\"Rating\",B$1,\"Date\",$A124))","v":-100000},{"$f":"IF(ISERROR(GETPIVOTDATA(\"Duration\",Results!$A$2,\"Rating\",C$1,\"Date\",$A124)),-100000,GETPIVOTDATA(\"Duration\",Results!$A$2,\"Rating\",C$1,\"Date\",$A124))","v":-100000},{"$f":"IF(ISERROR(GETPIVOTDATA(\"Duration\",Results!$A$2,\"Rating\",D$1,\"Date\",$A124)),-100000,GETPIVOTDATA(\"Duration\",Results!$A$2,\"Rating\",D$1,\"Date\",$A124))","v":-100000},{"$f":"IF(ISERROR(GETPIVOTDATA(\"Duration\",Results!$A$2,\"Rating\",E$1,\"Date\",$A124)),-100000,GETPIVOTDATA(\"Duration\",Results!$A$2,\"Rating\",E$1,\"Date\",$A124))","v":-100000},{"$f":"IF(ISERROR(GETPIVOTDATA(\"Duration\",Results!$A$2,\"Rating\",F$1,\"Date\",$A124)),-100000,GETPIVOTDATA(\"Duration\",Results!$A$2,\"Rating\",F$1,\"Date\",$A124))","v":-100000},1000,1000,{"$f":"AVERAGE(G$3:G124)","v":1000}]
[{"$f":"A124+1","v":"2014-05-03"},{"$f":"IF(ISERROR(GETPIVOTDATA(\"Duration\",Results!$A$2,\"Rating\",B$1,\"Date\",$A125)),-100000,GETPIVOTDATA(\"Duration\",Results!$A$2,\"Rating\",B$1,\"Date\",$A125))","v":-100000},{"$f":"IF(ISERROR(GETPIVOTDATA(\"Duration\",Results!$A$2,\"Rating\",C$1,\"Date\",$A125)),-100000,GETPIVOTDATA(\"Duration\",Results!$A$2,\"Rating\",C$1,\"Date\",$A125))","v":-100000},{"$f":"IF(ISERROR(GETPIVOTDATA(\"Duration\",Results!$A$2,\"Rating\",D$1,\"Date\",$A125)),-100000,GETPIVOTDATA(\"Duration\",Results!$A$2,\"Rating\",D$1,\"Date\",$A125))","v":-100000},{"$f":"IF(ISERROR(GETPIVOTDATA(\"Duration\",Results!$A$2,\"Rating\",E$1,\"Date\",$A125)),-100000,GETPIVOTDATA(\"Duration\",Results!$A$2,\"Rating\",E$1,\"Date\",$A125))","v":-100000},{"$f":"IF(ISERROR(GETPIVOTDATA(\"Duration\",Results!$A$2,\"Rating\",F$1,\"Date\",$A125)),-100000,GETPIVOTDATA(\"Duration\",Results!$A$2,\"Rating\",F$1,\"Date\",$A125))","v":-100000},{"$f":"IF(SUM(B125:F125)=-500000,1000,(C125+2*D125+3*E125+4*F125)/(C125+D125+E125+F125))","v":1000},{"$f":"AVERAGE(G119:G125)","v":1000},{"$f":"AVERAGE(G$3:G125)","v":1000}]
["2014-05-04",{"$f":"IF(ISERROR(GETPIVOTDATA(\"Duration\",Results!$A$2,\"Rating\",B$1,\"Date\",$A126)),-100000,GETPIVOTDATA(\"Duration\",Results!$A$2,\"Rating\",B$1,\"Date\",$A126))","v":-100000},{"$f":"IF(ISERROR(GETPIVOTDATA(\"Duration\",Results!$A$2,\"Rating\",C$1,\"Date\",$A126)),-100000,GETPIVOTDATA(\"Duration\",Results!$A$2,\"Rating\",C$1,\"Date\",$A126))","v":-100000},{"$f":"IF(ISERROR(GETPIVOTDATA(\"Duration\",Results!$A$2,\"Rating\",D$1,\"Date\",$A126)),-100000,GETPIVOTDATA(\"Duration\",Results!$A$2,\"Rating\",D$1,\"Date\",$A126))","v":-100000},{"$f":"IF(ISERROR(GETPIVOTDATA(\"Duration\",Results!$A$2,\"Rating\",E$1,\"Date\",$A126)),-100000,GETPIVOTDATA(\"Duration\",Results!$A$2,\"Rating\",E$1,\"Date\",$A126))","v":-100000},{"$f":"IF(ISERROR(GETPIVOTDATA(\"Duration\",Results!$A$2,\"Rating\",F$1,\"Date\",$A126)),-100000,GETPIVOTDATA(\"Duration\",Results!$A$2,\"Rating\",F$1,\"Date\",$A126))","v":-100000},1000,1000,{"$f":"AVERAGE(G$3:G126)","v":1000}]
["2014-05-05",{"$f":"IF(ISERROR(GETPIVOTDATA(\"Duration\",Results!$A$2,\"Rating\",B$1,\"Date\",$A127)),-100000,GETPIVOTDATA(\"Duration\",Results!$A$2,\"Rating\",B$1,\"Date\",$A127))","v":-100000},{"$f":"IF(ISERROR(GETPIVOTDATA(\"Duration\",Results!$A$2,\"Rating\",C$1,\"Date\",$A127)),-100000,GETPIVOTDATA(\"Duration\",Results!$A$2,\"Rating\",C$1,\"Date\",$A127))","v":-100000},{"$f":"IF(ISERROR(GETPIVOTDATA(\"Duration\",Results!$A$2,\"Rating\",D$1,\"Date\",$A127)),-100000,GETPIVOTDATA(\"Duration\",Results!$A$2,\"Rating\",D$1,\"Date\",$A127))","v":-100000},{"$f":"IF(ISERROR(GETPIVOTDATA(\"Duration\",Results!$A$2,\"Rating\",E$1,\"Date\",$A127)),-100000,GETPIVOTDATA(\"Duration\",Results!$A$2,\"Rating\",E$1,\"Date\",$A127))","v":-100000},{"$f":"IF(ISERROR(GETPIVOTDATA(\"Duration\",Results!$A$2,\"Rating\",F$1,\"Date\",$A127)),-100000,GETPIVOTDATA(\"Duration\",Results!$A$2,\"Rating\",F$1,\"Date\",$A127))","v":-100000},1000,1000,{"$f":"AVERAGE(G$3:G127)","v":1000}]
["2014-05-06",{"$f":"IF(ISERROR(GETPIVOTDATA(\"Duration\",Results!$A$2,\"Rating\",B$1,\"Date\",$A128)),-100000,GETPIVOTDATA(\"Duration\",Results!$A$2,\"Rating\",B$1,\"Date\",$A128))","v":-100000},{"$f":"IF(ISERROR(GETPIVOTDATA(\"Duration\",Results!$A$2,\"Rating\",C$1,\"Date\",$A128)),-100000,GETPIVOTDATA(\"Duration\",Results!$A$2,\"Rating\",C$1,\"Date\",$A128))","v":-100000},{"$f":"IF(ISERROR(GETPIVOTDATA(\"Duration\",Results!$A$2,\"Rating\",D$1,\"Date\",$A128)),-100000,GETPIVOTDATA(\"Duration\",Results!$A$2,\"Rating\",D$1,\"Date\",$A128))","v":-100000},{"$f":"IF(ISERROR(GETPIVOTDATA(\"Duration\",Results!$A$2,\"Rating\",E$1,\"Date\",$A128)),-100000,GETPIVOTDATA(\"Duration\",Results!$A$2,\"Rating\",E$1,\"Date\",$A128))","v":-100000},{"$f":"IF(ISERROR(GETPIVOTDATA(\"Duration\",Results!$A$2,\"Rating\",F$1,\"Date\",$A128)),-100000,GETPIVOTDATA(\"Duration\",Results!$A$2,\"Rating\",F$1,\"Date\",$A128))","v":-100000},1000,1000,{"$f":"AVERAGE(G$3:G128)","v":1000}]
["2014-05-07",{"$f":"IF(ISERROR(GETPIVOTDATA(\"Duration\",Results!$A$2,\"Rating\",B$1,\"Date\",$A129)),-100000,GETPIVOTDATA(\"Duration\",Results!$A$2,\"Rating\",B$1,\"Date\",$A129))","v":-100000},{"$f":"IF(ISERROR(GETPIVOTDATA(\"Duration\",Results!$A$2,\"Rating\",C$1,\"Date\",$A129)),-100000,GETPIVOTDATA(\"Duration\",Results!$A$2,\"Rating\",C$1,\"Date\",$A129))","v":-100000},{"$f":"IF(ISERROR(GETPIVOTDATA(\"Duration\",Results!$A$2,\"Rating\",D$1,\"Date\",$A129)),-100000,GETPIVOTDATA(\"Duration\",Results!$A$2,\"Rating\",D$1,\"Date\",$A129))","v":-100000},{"$f":"IF(ISERROR(GETPIVOTDATA(\"Duration\",Results!$A$2,\"Rating\",E$1,\"Date\",$A129)),-100000,GETPIVOTDATA(\"Duration\",Results!$A$2,\"Rating\",E$1,\"Date\",$A129))","v":-100000},{"$f":"IF(ISERROR(GETPIVOTDATA(\"Duration\",Results!$A$2,\"Rating\",F$1,\"Date\",$A129)),-100000,GETPIVOTDATA(\"Duration\",Results!$A$2,\"Rating\",F$1,\"Date\",$A129))","v":-100000},1000,1000,{"$f":"AVERAGE(G$3:G129)","v":1000}]
["2014-05-08",{"$f":"IF(ISERROR(GETPIVOTDATA(\"Duration\",Results!$A$2,\"Rating\",B$1,\"Date\",$A130)),-100000,GETPIVOTDATA(\"Duration\",Results!$A$2,\"Rating\",B$1,\"Date\",$A130))","v":-100000},{"$f":"IF(ISERROR(GETPIVOTDATA(\"Duration\",Results!$A$2,\"Rating\",C$1,\"Date\",$A130)),-100000,GETPIVOTDATA(\"Duration\",Results!$A$2,\"Rating\",C$1,\"Date\",$A130))","v":-100000},{"$f":"IF(ISERROR(GETPIVOTDATA(\"Duration\",Results!$A$2,\"Rating\",D$1,\"Date\",$A130)),-100000,GETPIVOTDATA(\"Duration\",Results!$A$2,\"Rating\",D$1,\"Date\",$A130))","v":-100000},{"$f":"IF(ISERROR(GETPIVOTDATA(\"Duration\",Results!$A$2,\"Rating\",E$1,\"Date\",$A130)),-100000,GETPIVOTDATA(\"Duration\",Results!$A$2,\"Rating\",E$1,\"Date\",$A130))","v":-100000},{"$f":"IF(ISERROR(GETPIVOTDATA(\"Duration\",Results!$A$2,\"Rating\",F$1,\"Date\",$A130)),-100000,GETPIVOTDATA(\"Duration\",Results!$A$2,\"Rating\",F$1,\"Date\",$A130))","v":-100000},1000,1000,{"$f":"AVERAGE(G$3:G130)","v":1000}]
["2014-05-09",{"$f":"IF(ISERROR(GETPIVOTDATA(\"Duration\",Results!$A$2,\"Rating\",B$1,\"Date\",$A131)),-100000,GETPIVOTDATA(\"Duration\",Results!$A$2,\"Rating\",B$1,\"Date\",$A131))","v":-100000},{"$f":"IF(ISERROR(GETPIVOTDATA(\"Duration\",Results!$A$2,\"Rating\",C$1,\"Date\",$A131)),-100000,GETPIVOTDATA(\"Duration\",Results!$A$2,\"Rating\",C$1,\"Date\",$A131))","v":-100000},{"$f":"IF(ISERROR(GETPIVOTDATA(\"Duration\",Results!$A$2,\"Rating\",D$1,\"Date\",$A131)),-100000,GETPIVOTDATA(\"Duration\",Results!$A$2,\"Rating\",D$1,\"Date\",$A131))","v":-100000},{"$f":"IF(ISERROR(GETPIVOTDATA(\"Duration\",Results!$A$2,\"Rating\",E$1,\"Date\",$A131)),-100000,GETPIVOTDATA(\"Duration\",Results!$A$2,\"Rating\",E$1,\"Date\",$A131))","v":-100000},{"$f":"IF(ISERROR(GETPIVOTDATA(\"Duration\",Results!$A$2,\"Rating\",F$1,\"Date\",$A131)),-100000,GETPIVOTDATA(\"Duration\",Results!$A$2,\"Rating\",F$1,\"Date\",$A131))","v":-100000},1000,1000,{"$f":"AVERAGE(G$3:G131)","v":1000}]
["2014-05-10",{"$f":"IF(ISERROR(GETPIVOTDATA(\"Duration\",Results!$A$2,\"Rating\",B$1,\"Date\",$A132)),-100000,GETPIVOTDATA(\"Duration\",Results!$A$2,\"Rating\",B$1,\"Date\",$A132))","v":-100000},{"$f":"IF(ISERROR(GETPIVOTDATA(\"Duration\",Results!$A$2,\"Rating\",C$1,\"Date\",$A132)),-100000,GETPIVOTDATA(\"Duration\",Results!$A$2,\"Rating\",C$1,\"Date\",$A132))","v":-100000},{"$f":"IF(ISERROR(GETPIVOTDATA(\"Duration\",Results!$A$2,\"Rating\",D$1,\"Date\",$A132)),-100000,GETPIVOTDATA(\"Duration\",Results!$A$2,\"Rating\",D$1,\"Date\",$A132))","v":-100000},{"$f":"IF(ISERROR(GETPIVOTDATA(\"Duration\",Results!$A$2,\"Rating\",E$1,\"Date\",$A132)),-100000,GETPIVOTDATA(\"Duration\",Results!$A$2,\"Rating\",E$1,\"Date\",$A132))","v":-100000},{"$f":"IF(ISERROR(GETPIVOTDATA(\"Duration\",Results!$A$2,\"Rating\",F$1,\"Date\",$A132)),-100000,GETPIVOTDATA(\"Duration\",Results!$A$2,\"Rating\",F$1,\"Date\",$A132))","v":-100000},1000,1000,{"$f":"AVERAGE(G$3:G132)","v":1000}]
["2014-05-11",{"$f":"IF(ISERROR(GETPIVOTDATA(\"Duration\",Results!$A$2,\"Rating\",B$1,\"Date\",$A133)),-100000,GETPIVOTDATA(\"Duration\",Results!$A$2,\"Rating\",B$1,\"Date\",$A133))","v":-100000},{"$f":"IF(ISERROR(GETPIVOTDATA(\"Duration\",Results!$A$2,\"Rating\",C$1,\"Date\",$A133)),-100000,GETPIVOTDATA(\"Duration\",Results!$A$2,\"Rating\",C$1,\"Date\",$A133))","v":-100000},{"$f":"IF(ISERROR(GETPIVOTDATA(\"Duration\",Results!$A$2,\"Rating\",D$1,\"Date\",$A133)),-100000,GETPIVOTDATA(\"Duration\",Results!$A$2,\"Rating\",D$1,\"Date\",$A133))","v":-100000},{"$f":"IF(ISERROR(GETPIVOTDATA(\"Duration\",Results!$A$2,\"Rating\",E$1,\"Date\",$A133)),-100000,GETPIVOTDATA(\"Duration\",Results!$A$2,\"Rating\",E$1,\"Date\",$A133))","v":-100000},{"$f":"IF(ISERROR(GETPIVOTDATA(\"Duration\",Results!$A$2,\"Rating\",F$1,\"Date\",$A133)),-100000,GETPIVOTDATA(\"Duration\",Results!$A$2,\"Rating\",F$1,\"Date\",$A133))","v":-100000},1000,1000,{"$f":"AVERAGE(G$3:G133)","v":1000}]
["2014-05-12",{"$f":"IF(ISERROR(GETPIVOTDATA(\"Duration\",Results!$A$2,\"Rating\",B$1,\"Date\",$A134)),-100000,GETPIVOTDATA(\"Duration\",Results!$A$2,\"Rating\",B$1,\"Date\",$A134))","v":-100000},{"$f":"IF(ISERROR(GETPIVOTDATA(\"Duration\",Results!$A$2,\"Rating\",C$1,\"Date\",$A134)),-100000,GETPIVOTDATA(\"Duration\",Results!$A$2,\"Rating\",C$1,\"Date\",$A134))","v":-100000},{"$f":"IF(ISERROR(GETPIVOTDATA(\"Duration\",Results!$A$2,\"Rating\",D$1,\"Date\",$A134)),-100000,GETPIVOTDATA(\"Duration\",Results!$A$2,\"Rating\",D$1,\"Date\",$A134))","v":-100000},{"$f":"IF(ISERROR(GETPIVOTDATA(\"Duration\",Results!$A$2,\"Rating\",E$1,\"Date\",$A134)),-100000,GETPIVOTDATA(\"Duration\",Results!$A$2,\"Rating\",E$1,\"Date\",$A134))","v":-100000},{"$f":"IF(ISERROR(GETPIVOTDATA(\"Duration\",Results!$A$2,\"Rating\",F$1,\"Date\",$A134)),-100000,GETPIVOTDATA(\"Duration\",Results!$A$2,\"Rating\",F$1,\"Date\",$A134))","v":-100000},1000,1000,{"$f":"AVERAGE(G$3:G134)","v":1000}]
["2014-05-13",{"$f":"IF(ISERROR(GETPIVOTDATA(\"Duration\",Results!$A$2,\"Rating\",B$1,\"Date\",$A135)),-100000,GETPIVOTDATA(\"Duration\",Results!$A$2,\"Rating\",B$1,\"Date\",$A135))","v":-100000},{"$f":"IF(ISERROR(GETPIVOTDATA(\"Duration\",Results!$A$2,\"Rating\",C$1,\"Date\",$A135)),-100000,GETPIVOTDATA(\"Duration\",Results!$A$2,\"Rating\",C$1,\"Date\",$A135))","v":-100000},{"$f":"IF(ISERROR(GETPIVOTDATA(\"Duration\",Results!$A$2,\"Rating\",D$1,\"Date\",$A135)),-100000,GETPIVOTDATA(\"Duration\",Results!$A$2,\"Rating\",D$1,\"Date\",$A135))","v":-100000},{"$f":"IF(ISERROR(GETPIVOTDATA(\"Duration\",Results!$A$2,\"Rating\",E$1,\"Date\",$A135)),-100000,GETPIVOTDATA(\"Duration\",Results!$A$2,\"Rating\",E$1,\"Date\",$A135))","v":-100000},{"$f":"IF(ISERROR(GETPIVOTDATA(\"Duration\",Results!$A$2,\"Rating\",F$1,\"Date\",$A135)),-100000,GETPIVOTDATA(\"Duration\",Results!$A$2,\"Rating\",F$1,\"Date\",$A135))","v":-100000},1000,1000,{"$f":"AVERAGE(G$3:G135)","v":1000}]
["2014-05-14",{"$f":"IF(ISERROR(GETPIVOTDATA(\"Duration\",Results!$A$2,\"Rating\",B$1,\"Date\",$A136)),-100000,GETPIVOTDATA(\"Duration\",Results!$A$2,\"Rating\",B$1,\"Date\",$A136))","v":-100000},{"$f":"IF(ISERROR(GETPIVOTDATA(\"Duration\",Results!$A$2,\"Rating\",C$1,\"Date\",$A136)),-100000,GETPIVOTDATA(\"Duration\",Results!$A$2,\"Rating\",C$1,\"Date\",$A136))","v":-100000},{"$f":"IF(ISERROR(GETPIVOTDATA(\"Duration\",Results!$A$2,\"Rating\",D$1,\"Date\",$A136)),-100000,GETPIVOTDATA(\"Duration\",Results!$A$2,\"Rating\",D$1,\"Date\",$A136))","v":-100000},{"$f":"IF(ISERROR(GETPIVOTDATA(\"Duration\",Results!$A$2,\"Rating\",E$1,\"Date\",$A136)),-100000,GETPIVOTDATA(\"Duration\",Results!$A$2,\"Rating\",E$1,\"Date\",$A136))","v":-100000},{"$f":"IF(ISERROR(GETPIVOTDATA(\"Duration\",Results!$A$2,\"Rating\",F$1,\"Date\",$A136)),-100000,GETPIVOTDATA(\"Duration\",Results!$A$2,\"Rating\",F$1,\"Date\",$A136))","v":-100000},1000,1000,{"$f":"AVERAGE(G$3:G136)","v":1000}]
["2014-05-15",{"$f":"IF(ISERROR(GETPIVOTDATA(\"Duration\",Results!$A$2,\"Rating\",B$1,\"Date\",$A137)),-100000,GETPIVOTDATA(\"Duration\",Results!$A$2,\"Rating\",B$1,\"Date\",$A137))","v":-100000},{"$f":"IF(ISERROR(GETPIVOTDATA(\"Duration\",Results!$A$2,\"Rating\",C$1,\"Date\",$A137)),-100000,GETPIVOTDATA(\"Duration\",Results!$A$2,\"Rating\",C$1,\"Date\",$A137))","v":-100000},{"$f":"IF(ISERROR(GETPIVOTDATA(\"Duration\",Results!$A$2,\"Rating\",D$1,\"Date\",$A137)),-100000,GETPIVOTDATA(\"Duration\",Results!$A$2,\"Rating\",D$1,\"Date\",$A137))","v":-100000},{"$f":"IF(ISERROR(GETPIVOTDATA(\"Duration\",Results!$A$2,\"Rating\",E$1,\"Date\",$A137)),-100000,GETPIVOTDATA(\"Duration\",Results!$A$2,\"Rating\",E$1,\"Date\",$A137))","v":-100000},{"$f":"IF(ISERROR(GETPIVOTDATA(\"Duration\",Results!$A$2,\"Rating\",F$1,\"Date\",$A137)),-100000,GETPIVOTDATA(\"Duration\",Results!$A$2,\"Rating\",F$1,\"Date\",$A137))","v":-100000},1000,1000,{"$f":"AVERAGE(G$3:G137)","v":1000}]
["2014-05-16",{"$f":"IF(ISERROR(GETPIVOTDATA(\"Duration\",Results!$A$2,\"Rating\",B$1,\"Date\",$A138)),-100000,GETPIVOTDATA(\"Duration\",Results!$A$2,\"Rating\",B$1,\"Date\",$A138))","v":-100000},{"$f":"IF(ISERROR(GETPIVOTDATA(\"Duration\",Results!$A$2,\"Rating\",C$1,\"Date\",$A138)),-100000,GETPIVOTDATA(\"Duration\",Results!$A$2,\"Rating\",C$1,\"Date\",$A138))","v":-100000},{"$f":"IF(ISERROR(GETPIVOTDATA(\"Duration\",Results!$A$2,\"Rating\",D$1,\"Date\",$A138)),-100000,GETPIVOTDATA(\"Duration\",Results!$A$2,\"Rating\",D$1,\"Date\",$A138))","v":-100000},{"$f":"IF(ISERROR(GETPIVOTDATA(\"Duration\",Results!$A$2,\"Rating\",E$1,\"Date\",$A138)),-100000,GETPIVOTDATA(\"Duration\",Results!$A$2,\"Rating\",E$1,\"Date\",$A138))","v":-100000},{"$f":"IF(ISERROR(GETPIVOTDATA(\"Duration\",Results!$A$2,\"Rating\",F$1,\"Date\",$A138)),-100000,GETPIVOTDATA(\"Duration\",Results!$A$2,\"Rating\",F$1,\"Date\",$A138))","v":-100000},1000,1000,{"$f":"AVERAGE(G$3:G138)","v":1000}]
["2014-05-17",{"$f":"IF(ISERROR(GETPIVOTDATA(\"Duration\",Results!$A$2,\"Rating\",B$1,\"Date\",$A139)),-100000,GETPIVOTDATA(\"Duration\",Results!$A$2,\"Rating\",B$1,\"Date\",$A139))","v":-100000},{"$f":"IF(ISERROR(GETPIVOTDATA(\"Duration\",Results!$A$2,\"Rating\",C$1,\"Date\",$A139)),-100000,GETPIVOTDATA(\"Duration\",Results!$A$2,\"Rating\",C$1,\"Date\",$A139))","v":-100000},{"$f":"IF(ISERROR(GETPIVOTDATA(\"Duration\",Results!$A$2,\"Rating\",D$1,\"Date\",$A139)),-100000,GETPIVOTDATA(\"Duration\",Results!$A$2,\"Rating\",D$1,\"Date\",$A139))","v":-100000},{"$f":"IF(ISERROR(GETPIVOTDATA(\"Duration\",Results!$A$2,\"Rating\",E$1,\"Date\",$A139)),-100000,GETPIVOTDATA(\"Duration\",Results!$A$2,\"Rating\",E$1,\"Date\",$A139))","v":-100000},{"$f":"IF(ISERROR(GETPIVOTDATA(\"Duration\",Results!$A$2,\"Rating\",F$1,\"Date\",$A139)),-100000,GETPIVOTDATA(\"Duration\",Results!$A$2,\"Rating\",F$1,\"Date\",$A139))","v":-100000},1000,1000,{"$f":"AVERAGE(G$3:G139)","v":1000}]
["2014-05-18",{"$f":"IF(ISERROR(GETPIVOTDATA(\"Duration\",Results!$A$2,\"Rating\",B$1,\"Date\",$A140)),-100000,GETPIVOTDATA(\"Duration\",Results!$A$2,\"Rating\",B$1,\"Date\",$A140))","v":-100000},{"$f":"IF(ISERROR(GETPIVOTDATA(\"Duration\",Results!$A$2,\"Rating\",C$1,\"Date\",$A140)),-100000,GETPIVOTDATA(\"Duration\",Results!$A$2,\"Rating\",C$1,\"Date\",$A140))","v":-100000},{"$f":"IF(ISERROR(GETPIVOTDATA(\"Duration\",Results!$A$2,\"Rating\",D$1,\"Date\",$A140)),-100000,GETPIVOTDATA(\"Duration\",Results!$A$2,\"Rating\",D$1,\"Date\",$A140))","v":-100000},{"$f":"IF(ISERROR(GETPIVOTDATA(\"Duration\",Results!$A$2,\"Rating\",E$1,\"Date\",$A140)),-100000,GETPIVOTDATA(\"Duration\",Results!$A$2,\"Rating\",E$1,\"Date\",$A140))","v":-100000},{"$f":"IF(ISERROR(GETPIVOTDATA(\"Duration\",Results!$A$2,\"Rating\",F$1,\"Date\",$A140)),-100000,GETPIVOTDATA(\"Duration\",Results!$A$2,\"Rating\",F$1,\"Date\",$A140))","v":-100000},1000,1000,{"$f":"AVERAGE(G$3:G140)","v":1000}]
["2014-05-19",{"$f":"IF(ISERROR(GETPIVOTDATA(\"Duration\",Results!$A$2,\"Rating\",B$1,\"Date\",$A141)),-100000,GETPIVOTDATA(\"Duration\",Results!$A$2,\"Rating\",B$1,\"Date\",$A141))","v":-100000},{"$f":"IF(ISERROR(GETPIVOTDATA(\"Duration\",Results!$A$2,\"Rating\",C$1,\"Date\",$A141)),-100000,GETPIVOTDATA(\"Duration\",Results!$A$2,\"Rating\",C$1,\"Date\",$A141))","v":-100000},{"$f":"IF(ISERROR(GETPIVOTDATA(\"Duration\",Results!$A$2,\"Rating\",D$1,\"Date\",$A141)),-100000,GETPIVOTDATA(\"Duration\",Results!$A$2,\"Rating\",D$1,\"Date\",$A141))","v":-100000},{"$f":"IF(ISERROR(GETPIVOTDATA(\"Duration\",Results!$A$2,\"Rating\",E$1,\"Date\",$A141)),-100000,GETPIVOTDATA(\"Duration\",Results!$A$2,\"Rating\",E$1,\"Date\",$A141))","v":-100000},{"$f":"IF(ISERROR(GETPIVOTDATA(\"Duration\",Results!$A$2,\"Rating\",F$1,\"Date\",$A141)),-100000,GETPIVOTDATA(\"Duration\",Results!$A$2,\"Rating\",F$1,\"Date\",$A141))","v":-100000},1000,1000,{"$f":"AVERAGE(G$3:G141)","v":1000}]
["2014-05-20",{"$f":"IF(ISERROR(GETPIVOTDATA(\"Duration\",Results!$A$2,\"Rating\",B$1,\"Date\",$A142)),-100000,GETPIVOTDATA(\"Duration\",Results!$A$2,\"Rating\",B$1,\"Date\",$A142))","v":-100000},{"$f":"IF(ISERROR(GETPIVOTDATA(\"Duration\",Results!$A$2,\"Rating\",C$1,\"Date\",$A142)),-100000,GETPIVOTDATA(\"Duration\",Results!$A$2,\"Rating\",C$1,\"Date\",$A142))","v":-100000},{"$f":"IF(ISERROR(GETPIVOTDATA(\"Duration\",Results!$A$2,\"Rating\",D$1,\"Date\",$A142)),-100000,GETPIVOTDATA(\"Duration\",Results!$A$2,\"Rating\",D$1,\"Date\",$A142))","v":-100000},{"$f":"IF(ISERROR(GETPIVOTDATA(\"Duration\",Results!$A$2,\"Rating\",E$1,\"Date\",$A142)),-100000,GETPIVOTDATA(\"Duration\",Results!$A$2,\"Rating\",E$1,\"Date\",$A142))","v":-100000},{"$f":"IF(ISERROR(GETPIVOTDATA(\"Duration\",Results!$A$2,\"Rating\",F$1,\"Date\",$A142)),-100000,GETPIVOTDATA(\"Duration\",Results!$A$2,\"Rating\",F$1,\"Date\",$A142))","v":-100000},1000,1000,{"$f":"AVERAGE(G$3:G142)","v":1000}]
["2014-05-21",{"$f":"IF(ISERROR(GETPIVOTDATA(\"Duration\",Results!$A$2,\"Rating\",B$1,\"Date\",$A143)),-100000,GETPIVOTDATA(\"Duration\",Results!$A$2,\"Rating\",B$1,\"Date\",$A143))","v":-100000},{"$f":"IF(ISERROR(GETPIVOTDATA(\"Duration\",Results!$A$2,\"Rating\",C$1,\"Date\",$A143)),-100000,GETPIVOTDATA(\"Duration\",Results!$A$2,\"Rating\",C$1,\"Date\",$A143))","v":-100000},{"$f":"IF(ISERROR(GETPIVOTDATA(\"Duration\",Results!$A$2,\"Rating\",D$1,\"Date\",$A143)),-100000,GETPIVOTDATA(\"Duration\",Results!$A$2,\"Rating\",D$1,\"Date\",$A143))","v":-100000},{"$f":"IF(ISERROR(GETPIVOTDATA(\"Duration\",Results!$A$2,\"Rating\",E$1,\"Date\",$A143)),-100000,GETPIVOTDATA(\"Duration\",Results!$A$2,\"Rating\",E$1,\"Date\",$A143))","v":-100000},{"$f":"IF(ISERROR(GETPIVOTDATA(\"Duration\",Results!$A$2,\"Rating\",F$1,\"Date\",$A143)),-100000,GETPIVOTDATA(\"Duration\",Results!$A$2,\"Rating\",F$1,\"Date\",$A143))","v":-100000},1000,1000,{"$f":"AVERAGE(G$3:G143)","v":1000}]
["2014-05-22",{"$f":"IF(ISERROR(GETPIVOTDATA(\"Duration\",Results!$A$2,\"Rating\",B$1,\"Date\",$A144)),-100000,GETPIVOTDATA(\"Duration\",Results!$A$2,\"Rating\",B$1,\"Date\",$A144))","v":-100000},{"$f":"IF(ISERROR(GETPIVOTDATA(\"Duration\",Results!$A$2,\"Rating\",C$1,\"Date\",$A144)),-100000,GETPIVOTDATA(\"Duration\",Results!$A$2,\"Rating\",C$1,\"Date\",$A144))","v":-100000},{"$f":"IF(ISERROR(GETPIVOTDATA(\"Duration\",Results!$A$2,\"Rating\",D$1,\"Date\",$A144)),-100000,GETPIVOTDATA(\"Duration\",Results!$A$2,\"Rating\",D$1,\"Date\",$A144))","v":-100000},{"$f":"IF(ISERROR(GETPIVOTDATA(\"Duration\",Results!$A$2,\"Rating\",E$1,\"Date\",$A144)),-100000,GETPIVOTDATA(\"Duration\",Results!$A$2,\"Rating\",E$1,\"Date\",$A144))","v":-100000},{"$f":"IF(ISERROR(GETPIVOTDATA(\"Duration\",Results!$A$2,\"Rating\",F$1,\"Date\",$A144)),-100000,GETPIVOTDATA(\"Duration\",Results!$A$2,\"Rating\",F$1,\"Date\",$A144))","v":-100000},1000,1000,{"$f":"AVERAGE(G$3:G144)","v":1000}]
["2014-05-23",{"$f":"IF(ISERROR(GETPIVOTDATA(\"Duration\",Results!$A$2,\"Rating\",B$1,\"Date\",$A145)),-100000,GETPIVOTDATA(\"Duration\",Results!$A$2,\"Rating\",B$1,\"Date\",$A145))","v":-100000},{"$f":"IF(ISERROR(GETPIVOTDATA(\"Duration\",Results!$A$2,\"Rating\",C$1,\"Date\",$A145)),-100000,GETPIVOTDATA(\"Duration\",Results!$A$2,\"Rating\",C$1,\"Date\",$A145))","v":-100000},{"$f":"IF(ISERROR(GETPIVOTDATA(\"Duration\",Results!$A$2,\"Rating\",D$1,\"Date\",$A145)),-100000,GETPIVOTDATA(\"Duration\",Results!$A$2,\"Rating\",D$1,\"Date\",$A145))","v":-100000},{"$f":"IF(ISERROR(GETPIVOTDATA(\"Duration\",Results!$A$2,\"Rating\",E$1,\"Date\",$A145)),-100000,GETPIVOTDATA(\"Duration\",Results!$A$2,\"Rating\",E$1,\"Date\",$A145))","v":-100000},{"$f":"IF(ISERROR(GETPIVOTDATA(\"Duration\",Results!$A$2,\"Rating\",F$1,\"Date\",$A145)),-100000,GETPIVOTDATA(\"Duration\",Results!$A$2,\"Rating\",F$1,\"Date\",$A145))","v":-100000},1000,1000,{"$f":"AVERAGE(G$3:G145)","v":1000}]
["2014-05-24",{"$f":"IF(ISERROR(GETPIVOTDATA(\"Duration\",Results!$A$2,\"Rating\",B$1,\"Date\",$A146)),-100000,GETPIVOTDATA(\"Duration\",Results!$A$2,\"Rating\",B$1,\"Date\",$A146))","v":-100000},{"$f":"IF(ISERROR(GETPIVOTDATA(\"Duration\",Results!$A$2,\"Rating\",C$1,\"Date\",$A146)),-100000,GETPIVOTDATA(\"Duration\",Results!$A$2,\"Rating\",C$1,\"Date\",$A146))","v":-100000},{"$f":"IF(ISERROR(GETPIVOTDATA(\"Duration\",Results!$A$2,\"Rating\",D$1,\"Date\",$A146)),-100000,GETPIVOTDATA(\"Duration\",Results!$A$2,\"Rating\",D$1,\"Date\",$A146))","v":-100000},{"$f":"IF(ISERROR(GETPIVOTDATA(\"Duration\",Results!$A$2,\"Rating\",E$1,\"Date\",$A146)),-100000,GETPIVOTDATA(\"Duration\",Results!$A$2,\"Rating\",E$1,\"Date\",$A146))","v":-100000},{"$f":"IF(ISERROR(GETPIVOTDATA(\"Duration\",Results!$A$2,\"Rating\",F$1,\"Date\",$A146)),-100000,GETPIVOTDATA(\"Duration\",Results!$A$2,\"Rating\",F$1,\"Date\",$A146))","v":-100000},1000,1000,{"$f":"AVERAGE(G$3:G146)","v":1000}]
["2014-05-25",{"$f":"IF(ISERROR(GETPIVOTDATA(\"Duration\",Results!$A$2,\"Rating\",B$1,\"Date\",$A147)),-100000,GETPIVOTDATA(\"Duration\",Results!$A$2,\"Rating\",B$1,\"Date\",$A147))","v":-100000},{"$f":"IF(ISERROR(GETPIVOTDATA(\"Duration\",Results!$A$2,\"Rating\",C$1,\"Date\",$A147)),-100000,GETPIVOTDATA(\"Duration\",Results!$A$2,\"Rating\",C$1,\"Date\",$A147))","v":-100000},{"$f":"IF(ISERROR(GETPIVOTDATA(\"Duration\",Results!$A$2,\"Rating\",D$1,\"Date\",$A147)),-100000,GETPIVOTDATA(\"Duration\",Results!$A$2,\"Rating\",D$1,\"Date\",$A147))","v":-100000},{"$f":"IF(ISERROR(GETPIVOTDATA(\"Duration\",Results!$A$2,\"Rating\",E$1,\"Date\",$A147)),-100000,GETPIVOTDATA(\"Duration\",Results!$A$2,\"Rating\",E$1,\"Date\",$A147))","v":-100000},{"$f":"IF(ISERROR(GETPIVOTDATA(\"Duration\",Results!$A$2,\"Rating\",F$1,\"Date\",$A147)),-100000,GETPIVOTDATA(\"Duration\",Results!$A$2,\"Rating\",F$1,\"Date\",$A147))","v":-100000},1000,1000,{"$f":"AVERAGE(G$3:G147)","v":1000}]
["2014-05-26",{"$f":"IF(ISERROR(GETPIVOTDATA(\"Duration\",Results!$A$2,\"Rating\",B$1,\"Date\",$A148)),-100000,GETPIVOTDATA(\"Duration\",Results!$A$2,\"Rating\",B$1,\"Date\",$A148))","v":-100000},{"$f":"IF(ISERROR(GETPIVOTDATA(\"Duration\",Results!$A$2,\"Rating\",C$1,\"Date\",$A148)),-100000,GETPIVOTDATA(\"Duration\",Results!$A$2,\"Rating\",C$1,\"Date\",$A148))","v":-100000},{"$f":"IF(ISERROR(GETPIVOTDATA(\"Duration\",Results!$A$2,\"Rating\",D$1,\"Date\",$A148)),-100000,GETPIVOTDATA(\"Duration\",Results!$A$2,\"Rating\",D$1,\"Date\",$A148))","v":-100000},{"$f":"IF(ISERROR(GETPIVOTDATA(\"Duration\",Results!$A$2,\"Rating\",E$1,\"Date\",$A148)),-100000,GETPIVOTDATA(\"Duration\",Results!$A$2,\"Rating\",E$1,\"Date\",$A148))","v":-100000},{"$f":"IF(ISERROR(GETPIVOTDATA(\"Duration\",Results!$A$2,\"Rating\",F$1,\"Date\",$A148)),-100000,GETPIVOTDATA(\"Duration\",Results!$A$2,\"Rating\",F$1,\"Date\",$A148))","v":-100000},1000,1000,{"$f":"AVERAGE(G$3:G148)","v":1000}]
["2014-05-27",{"$f":"IF(ISERROR(GETPIVOTDATA(\"Duration\",Results!$A$2,\"Rating\",B$1,\"Date\",$A149)),-100000,GETPIVOTDATA(\"Duration\",Results!$A$2,\"Rating\",B$1,\"Date\",$A149))","v":-100000},{"$f":"IF(ISERROR(GETPIVOTDATA(\"Duration\",Results!$A$2,\"Rating\",C$1,\"Date\",$A149)),-100000,GETPIVOTDATA(\"Duration\",Results!$A$2,\"Rating\",C$1,\"Date\",$A149))","v":-100000},{"$f":"IF(ISERROR(GETPIVOTDATA(\"Duration\",Results!$A$2,\"Rating\",D$1,\"Date\",$A149)),-100000,GETPIVOTDATA(\"Duration\",Results!$A$2,\"Rating\",D$1,\"Date\",$A149))","v":-100000},{"$f":"IF(ISERROR(GETPIVOTDATA(\"Duration\",Results!$A$2,\"Rating\",E$1,\"Date\",$A149)),-100000,GETPIVOTDATA(\"Duration\",Results!$A$2,\"Rating\",E$1,\"Date\",$A149))","v":-100000},{"$f":"IF(ISERROR(GETPIVOTDATA(\"Duration\",Results!$A$2,\"Rating\",F$1,\"Date\",$A149)),-100000,GETPIVOTDATA(\"Duration\",Results!$A$2,\"Rating\",F$1,\"Date\",$A149))","v":-100000},1000,1000,{"$f":"AVERAGE(G$3:G149)","v":1000}]
["2014-05-28",{"$f":"IF(ISERROR(GETPIVOTDATA(\"Duration\",Results!$A$2,\"Rating\",B$1,\"Date\",$A150)),-100000,GETPIVOTDATA(\"Duration\",Results!$A$2,\"Rating\",B$1,\"Date\",$A150))","v":-100000},{"$f":"IF(ISERROR(GETPIVOTDATA(\"Duration\",Results!$A$2,\"Rating\",C$1,\"Date\",$A150)),-100000,GETPIVOTDATA(\"Duration\",Results!$A$2,\"Rating\",C$1,\"Date\",$A150))","v":-100000},{"$f":"IF(ISERROR(GETPIVOTDATA(\"Duration\",Results!$A$2,\"Rating\",D$1,\"Date\",$A150)),-100000,GETPIVOTDATA(\"Duration\",Results!$A$2,\"Rating\",D$1,\"Date\",$A150))","v":-100000},{"$f":"IF(ISERROR(GETPIVOTDATA(\"Duration\",Results!$A$2,\"Rating\",E$1,\"Date\",$A150)),-100000,GETPIVOTDATA(\"Duration\",Results!$A$2,\"Rating\",E$1,\"Date\",$A150))","v":-100000},{"$f":"IF(ISERROR(GETPIVOTDATA(\"Duration\",Results!$A$2,\"Rating\",F$1,\"Date\",$A150)),-100000,GETPIVOTDATA(\"Duration\",Results!$A$2,\"Rating\",F$1,\"Date\",$A150))","v":-100000},1000,1000,{"$f":"AVERAGE(G$3:G150)","v":1000}]
["2014-05-29",{"$f":"IF(ISERROR(GETPIVOTDATA(\"Duration\",Results!$A$2,\"Rating\",B$1,\"Date\",$A151)),-100000,GETPIVOTDATA(\"Duration\",Results!$A$2,\"Rating\",B$1,\"Date\",$A151))","v":-100000},{"$f":"IF(ISERROR(GETPIVOTDATA(\"Duration\",Results!$A$2,\"Rating\",C$1,\"Date\",$A151)),-100000,GETPIVOTDATA(\"Duration\",Results!$A$2,\"Rating\",C$1,\"Date\",$A151))","v":-100000},{"$f":"IF(ISERROR(GETPIVOTDATA(\"Duration\",Results!$A$2,\"Rating\",D$1,\"Date\",$A151)),-100000,GETPIVOTDATA(\"Duration\",Results!$A$2,\"Rating\",D$1,\"Date\",$A151))","v":-100000},{"$f":"IF(ISERROR(GETPIVOTDATA(\"Duration\",Results!$A$2,\"Rating\",E$1,\"Date\",$A151)),-100000,GETPIVOTDATA(\"Duration\",Results!$A$2,\"Rating\",E$1,\"Date\",$A151))","v":-100000},{"$f":"IF(ISERROR(GETPIVOTDATA(\"Duration\",Results!$A$2,\"Rating\",F$1,\"Date\",$A151)),-100000,GETPIVOTDATA(\"Duration\",Results!$A$2,\"Rating\",F$1,\"Date\",$A151))","v":-100000},1000,1000,{"$f":"AVERAGE(G$3:G151)","v":1000}]
["2014-05-30",{"$f":"IF(ISERROR(GETPIVOTDATA(\"Duration\",Results!$A$2,\"Rating\",B$1,\"Date\",$A152)),-100000,GETPIVOTDATA(\"Duration\",Results!$A$2,\"Rating\",B$1,\"Date\",$A152))","v":-100000},{"$f":"IF(ISERROR(GETPIVOTDATA(\"Duration\",Results!$A$2,\"Rating\",C$1,\"Date\",$A152)),-100000,GETPIVOTDATA(\"Duration\",Results!$A$2,\"Rating\",C$1,\"Date\",$A152))","v":-100000},{"$f":"IF(ISERROR(GETPIVOTDATA(\"Duration\",Results!$A$2,\"Rating\",D$1,\"Date\",$A152)),-100000,GETPIVOTDATA(\"Duration\",Results!$A$2,\"Rating\",D$1,\"Date\",$A152))","v":-100000},{"$f":"IF(ISERROR(GETPIVOTDATA(\"Duration\",Results!$A$2,\"Rating\",E$1,\"Date\",$A152)),-100000,GETPIVOTDATA(\"Duration\",Results!$A$2,\"Rating\",E$1,\"Date\",$A152))","v":-100000},{"$f":"IF(ISERROR(GETPIVOTDATA(\"Duration\",Results!$A$2,\"Rating\",F$1,\"Date\",$A152)),-100000,GETPIVOTDATA(\"Duration\",Results!$A$2,\"Rating\",F$1,\"Date\",$A152))","v":-100000},1000,1000,{"$f":"AVERAGE(G$3:G152)","v":1000}]
["2014-05-31",{"$f":"IF(ISERROR(GETPIVOTDATA(\"Duration\",Results!$A$2,\"Rating\",B$1,\"Date\",$A153)),-100000,GETPIVOTDATA(\"Duration\",Results!$A$2,\"Rating\",B$1,\"Date\",$A153))","v":-100000},{"$f":"IF(ISERROR(GETPIVOTDATA(\"Duration\",Results!$A$2,\"Rating\",C$1,\"Date\",$A153)),-100000,GETPIVOTDATA(\"Duration\",Results!$A$2,\"Rating\",C$1,\"Date\",$A153))","v":-100000},{"$f":"IF(ISERROR(GETPIVOTDATA(\"Duration\",Results!$A$2,\"Rating\",D$1,\"Date\",$A153)),-100000,GETPIVOTDATA(\"Duration\",Results!$A$2,\"Rating\",D$1,\"Date\",$A153))","v":-100000},{"$f":"IF(ISERROR(GETPIVOTDATA(\"Duration\",Results!$A$2,\"Rating\",E$1,\"Date\",$A153)),-100000,GETPIVOTDATA(\"Duration\",Results!$A$2,\"Rating\",E$1,\"Date\",$A153))","v":-100000},{"$f":"IF(ISERROR(GETPIVOTDATA(\"Duration\",Results!$A$2,\"Rating\",F$1,\"Date\",$A153)),-100000,GETPIVOTDATA(\"Duration\",Results!$A$2,\"Rating\",F$1,\"Date\",$A153))","v":-100000},1000,1000,{"$f":"AVERAGE(G$3:G153)","v":1000}]
["2014-06-01",{"$f":"IF(ISERROR(GETPIVOTDATA(\"Duration\",Results!$A$2,\"Rating\",B$1,\"Date\",$A154)),-100000,GETPIVOTDATA(\"Duration\",Results!$A$2,\"Rating\",B$1,\"Date\",$A154))","v":-100000},{"$f":"IF(ISERROR(GETPIVOTDATA(\"Duration\",Results!$A$2,\"Rating\",C$1,\"Date\",$A154)),-100000,GETPIVOTDATA(\"Duration\",Results!$A$2,\"Rating\",C$1,\"Date\",$A154))","v":-100000},{"$f":"IF(ISERROR(GETPIVOTDATA(\"Duration\",Results!$A$2,\"Rating\",D$1,\"Date\",$A154)),-100000,GETPIVOTDATA(\"Duration\",Results!$A$2,\"Rating\",D$1,\"Date\",$A154))","v":-100000},{"$f":"IF(ISERROR(GETPIVOTDATA(\"Duration\",Results!$A$2,\"Rating\",E$1,\"Date\",$A154)),-100000,GETPIVOTDATA(\"Duration\",Results!$A$2,\"Rating\",E$1,\"Date\",$A154))","v":-100000},{"$f":"IF(ISERROR(GETPIVOTDATA(\"Duration\",Results!$A$2,\"Rating\",F$1,\"Date\",$A154)),-100000,GETPIVOTDATA(\"Duration\",Results!$A$2,\"Rating\",F$1,\"Date\",$A154))","v":-100000},1000,1000,{"$f":"AVERAGE(G$3:G154)","v":1000}]
["2014-06-02",{"$f":"IF(ISERROR(GETPIVOTDATA(\"Duration\",Results!$A$2,\"Rating\",B$1,\"Date\",$A155)),-100000,GETPIVOTDATA(\"Duration\",Results!$A$2,\"Rating\",B$1,\"Date\",$A155))","v":-100000},{"$f":"IF(ISERROR(GETPIVOTDATA(\"Duration\",Results!$A$2,\"Rating\",C$1,\"Date\",$A155)),-100000,GETPIVOTDATA(\"Duration\",Results!$A$2,\"Rating\",C$1,\"Date\",$A155))","v":-100000},{"$f":"IF(ISERROR(GETPIVOTDATA(\"Duration\",Results!$A$2,\"Rating\",D$1,\"Date\",$A155)),-100000,GETPIVOTDATA(\"Duration\",Results!$A$2,\"Rating\",D$1,\"Date\",$A155))","v":-100000},{"$f":"IF(ISERROR(GETPIVOTDATA(\"Duration\",Results!$A$2,\"Rating\",E$1,\"Date\",$A155)),-100000,GETPIVOTDATA(\"Duration\",Results!$A$2,\"Rating\",E$1,\"Date\",$A155))","v":-100000},{"$f":"IF(ISERROR(GETPIVOTDATA(\"Duration\",Results!$A$2,\"Rating\",F$1,\"Date\",$A155)),-100000,GETPIVOTDATA(\"Duration\",Results!$A$2,\"Rating\",F$1,\"Date\",$A155))","v":-100000},1000,1000,{"$f":"AVERAGE(G$3:G155)","v":1000}]
["2014-06-03",{"$f":"IF(ISERROR(GETPIVOTDATA(\"Duration\",Results!$A$2,\"Rating\",B$1,\"Date\",$A156)),-100000,GETPIVOTDATA(\"Duration\",Results!$A$2,\"Rating\",B$1,\"Date\",$A156))","v":-100000},{"$f":"IF(ISERROR(GETPIVOTDATA(\"Duration\",Results!$A$2,\"Rating\",C$1,\"Date\",$A156)),-100000,GETPIVOTDATA(\"Duration\",Results!$A$2,\"Rating\",C$1,\"Date\",$A156))","v":-100000},{"$f":"IF(ISERROR(GETPIVOTDATA(\"Duration\",Results!$A$2,\"Rating\",D$1,\"Date\",$A156)),-100000,GETPIVOTDATA(\"Duration\",Results!$A$2,\"Rating\",D$1,\"Date\",$A156))","v":-100000},{"$f":"IF(ISERROR(GETPIVOTDATA(\"Duration\",Results!$A$2,\"Rating\",E$1,\"Date\",$A156)),-100000,GETPIVOTDATA(\"Duration\",Results!$A$2,\"Rating\",E$1,\"Date\",$A156))","v":-100000},{"$f":"IF(ISERROR(GETPIVOTDATA(\"Duration\",Results!$A$2,\"Rating\",F$1,\"Date\",$A156)),-100000,GETPIVOTDATA(\"Duration\",Results!$A$2,\"Rating\",F$1,\"Date\",$A156))","v":-100000},1000,1000,{"$f":"AVERAGE(G$3:G156)","v":1000}]
["2014-06-04",{"$f":"IF(ISERROR(GETPIVOTDATA(\"Duration\",Results!$A$2,\"Rating\",B$1,\"Date\",$A157)),-100000,GETPIVOTDATA(\"Duration\",Results!$A$2,\"Rating\",B$1,\"Date\",$A157))","v":-100000},{"$f":"IF(ISERROR(GETPIVOTDATA(\"Duration\",Results!$A$2,\"Rating\",C$1,\"Date\",$A157)),-100000,GETPIVOTDATA(\"Duration\",Results!$A$2,\"Rating\",C$1,\"Date\",$A157))","v":-100000},{"$f":"IF(ISERROR(GETPIVOTDATA(\"Duration\",Results!$A$2,\"Rating\",D$1,\"Date\",$A157)),-100000,GETPIVOTDATA(\"Duration\",Results!$A$2,\"Rating\",D$1,\"Date\",$A157))","v":-100000},{"$f":"IF(ISERROR(GETPIVOTDATA(\"Duration\",Results!$A$2,\"Rating\",E$1,\"Date\",$A157)),-100000,GETPIVOTDATA(\"Duration\",Results!$A$2,\"Rating\",E$1,\"Date\",$A157))","v":-100000},{"$f":"IF(ISERROR(GETPIVOTDATA(\"Duration\",Results!$A$2,\"Rating\",F$1,\"Date\",$A157)),-100000,GETPIVOTDATA(\"Duration\",Results!$A$2,\"Rating\",F$1,\"Date\",$A157))","v":-100000},1000,1000,{"$f":"AVERAGE(G$3:G157)","v":1000}]
["2014-06-05",{"$f":"IF(ISERROR(GETPIVOTDATA(\"Duration\",Results!$A$2,\"Rating\",B$1,\"Date\",$A158)),-100000,GETPIVOTDATA(\"Duration\",Results!$A$2,\"Rating\",B$1,\"Date\",$A158))","v":-100000},{"$f":"IF(ISERROR(GETPIVOTDATA(\"Duration\",Results!$A$2,\"Rating\",C$1,\"Date\",$A158)),-100000,GETPIVOTDATA(\"Duration\",Results!$A$2,\"Rating\",C$1,\"Date\",$A158))","v":-100000},{"$f":"IF(ISERROR(GETPIVOTDATA(\"Duration\",Results!$A$2,\"Rating\",D$1,\"Date\",$A158)),-100000,GETPIVOTDATA(\"Duration\",Results!$A$2,\"Rating\",D$1,\"Date\",$A158))","v":-100000},{"$f":"IF(ISERROR(GETPIVOTDATA(\"Duration\",Results!$A$2,\"Rating\",E$1,\"Date\",$A158)),-100000,GETPIVOTDATA(\"Duration\",Results!$A$2,\"Rating\",E$1,\"Date\",$A158))","v":-100000},{"$f":"IF(ISERROR(GETPIVOTDATA(\"Duration\",Results!$A$2,\"Rating\",F$1,\"Date\",$A158)),-100000,GETPIVOTDATA(\"Duration\",Results!$A$2,\"Rating\",F$1,\"Date\",$A158))","v":-100000},1000,1000,{"$f":"AVERAGE(G$3:G158)","v":1000}]
["2014-06-06",{"$f":"IF(ISERROR(GETPIVOTDATA(\"Duration\",Results!$A$2,\"Rating\",B$1,\"Date\",$A159)),-100000,GETPIVOTDATA(\"Duration\",Results!$A$2,\"Rating\",B$1,\"Date\",$A159))","v":-100000},{"$f":"IF(ISERROR(GETPIVOTDATA(\"Duration\",Results!$A$2,\"Rating\",C$1,\"Date\",$A159)),-100000,GETPIVOTDATA(\"Duration\",Results!$A$2,\"Rating\",C$1,\"Date\",$A159))","v":-100000},{"$f":"IF(ISERROR(GETPIVOTDATA(\"Duration\",Results!$A$2,\"Rating\",D$1,\"Date\",$A159)),-100000,GETPIVOTDATA(\"Duration\",Results!$A$2,\"Rating\",D$1,\"Date\",$A159))","v":-100000},{"$f":"IF(ISERROR(GETPIVOTDATA(\"Duration\",Results!$A$2,\"Rating\",E$1,\"Date\",$A159)),-100000,GETPIVOTDATA(\"Duration\",Results!$A$2,\"Rating\",E$1,\"Date\",$A159))","v":-100000},{"$f":"IF(ISERROR(GETPIVOTDATA(\"Duration\",Results!$A$2,\"Rating\",F$1,\"Date\",$A159)),-100000,GETPIVOTDATA(\"Duration\",Results!$A$2,\"Rating\",F$1,\"Date\",$A159))","v":-100000},1000,1000,{"$f":"AVERAGE(G$3:G159)","v":1000}]
["2014-06-07",{"$f":"IF(ISERROR(GETPIVOTDATA(\"Duration\",Results!$A$2,\"Rating\",B$1,\"Date\",$A160)),-100000,GETPIVOTDATA(\"Duration\",Results!$A$2,\"Rating\",B$1,\"Date\",$A160))","v":-100000},{"$f":"IF(ISERROR(GETPIVOTDATA(\"Duration\",Results!$A$2,\"Rating\",C$1,\"Date\",$A160)),-100000,GETPIVOTDATA(\"Duration\",Results!$A$2,\"Rating\",C$1,\"Date\",$A160))","v":-100000},{"$f":"IF(ISERROR(GETPIVOTDATA(\"Duration\",Results!$A$2,\"Rating\",D$1,\"Date\",$A160)),-100000,GETPIVOTDATA(\"Duration\",Results!$A$2,\"Rating\",D$1,\"Date\",$A160))","v":-100000},{"$f":"IF(ISERROR(GETPIVOTDATA(\"Duration\",Results!$A$2,\"Rating\",E$1,\"Date\",$A160)),-100000,GETPIVOTDATA(\"Duration\",Results!$A$2,\"Rating\",E$1,\"Date\",$A160))","v":-100000},{"$f":"IF(ISERROR(GETPIVOTDATA(\"Duration\",Results!$A$2,\"Rating\",F$1,\"Date\",$A160)),-100000,GETPIVOTDATA(\"Duration\",Results!$A$2,\"Rating\",F$1,\"Date\",$A160))","v":-100000},1000,1000,{"$f":"AVERAGE(G$3:G160)","v":1000}]
["2014-06-08",{"$f":"IF(ISERROR(GETPIVOTDATA(\"Duration\",Results!$A$2,\"Rating\",B$1,\"Date\",$A161)),-100000,GETPIVOTDATA(\"Duration\",Results!$A$2,\"Rating\",B$1,\"Date\",$A161))","v":-100000},{"$f":"IF(ISERROR(GETPIVOTDATA(\"Duration\",Results!$A$2,\"Rating\",C$1,\"Date\",$A161)),-100000,GETPIVOTDATA(\"Duration\",Results!$A$2,\"Rating\",C$1,\"Date\",$A161))","v":-100000},{"$f":"IF(ISERROR(GETPIVOTDATA(\"Duration\",Results!$A$2,\"Rating\",D$1,\"Date\",$A161)),-100000,GETPIVOTDATA(\"Duration\",Results!$A$2,\"Rating\",D$1,\"Date\",$A161))","v":-100000},{"$f":"IF(ISERROR(GETPIVOTDATA(\"Duration\",Results!$A$2,\"Rating\",E$1,\"Date\",$A161)),-100000,GETPIVOTDATA(\"Duration\",Results!$A$2,\"Rating\",E$1,\"Date\",$A161))","v":-100000},{"$f":"IF(ISERROR(GETPIVOTDATA(\"Duration\",Results!$A$2,\"Rating\",F$1,\"Date\",$A161)),-100000,GETPIVOTDATA(\"Duration\",Results!$A$2,\"Rating\",F$1,\"Date\",$A161))","v":-100000},1000,1000,{"$f":"AVERAGE(G$3:G161)","v":1000}]
["2014-06-09",{"$f":"IF(ISERROR(GETPIVOTDATA(\"Duration\",Results!$A$2,\"Rating\",B$1,\"Date\",$A162)),-100000,GETPIVOTDATA(\"Duration\",Results!$A$2,\"Rating\",B$1,\"Date\",$A162))","v":-100000},{"$f":"IF(ISERROR(GETPIVOTDATA(\"Duration\",Results!$A$2,\"Rating\",C$1,\"Date\",$A162)),-100000,GETPIVOTDATA(\"Duration\",Results!$A$2,\"Rating\",C$1,\"Date\",$A162))","v":-100000},{"$f":"IF(ISERROR(GETPIVOTDATA(\"Duration\",Results!$A$2,\"Rating\",D$1,\"Date\",$A162)),-100000,GETPIVOTDATA(\"Duration\",Results!$A$2,\"Rating\",D$1,\"Date\",$A162))","v":-100000},{"$f":"IF(ISERROR(GETPIVOTDATA(\"Duration\",Results!$A$2,\"Rating\",E$1,\"Date\",$A162)),-100000,GETPIVOTDATA(\"Duration\",Results!$A$2,\"Rating\",E$1,\"Date\",$A162))","v":-100000},{"$f":"IF(ISERROR(GETPIVOTDATA(\"Duration\",Results!$A$2,\"Rating\",F$1,\"Date\",$A162)),-100000,GETPIVOTDATA(\"Duration\",Results!$A$2,\"Rating\",F$1,\"Date\",$A162))","v":-100000},1000,1000,{"$f":"AVERAGE(G$3:G162)","v":1000}]
["2014-06-10",{"$f":"IF(ISERROR(GETPIVOTDATA(\"Duration\",Results!$A$2,\"Rating\",B$1,\"Date\",$A163)),-100000,GETPIVOTDATA(\"Duration\",Results!$A$2,\"Rating\",B$1,\"Date\",$A163))","v":-100000},{"$f":"IF(ISERROR(GETPIVOTDATA(\"Duration\",Results!$A$2,\"Rating\",C$1,\"Date\",$A163)),-100000,GETPIVOTDATA(\"Duration\",Results!$A$2,\"Rating\",C$1,\"Date\",$A163))","v":-100000},{"$f":"IF(ISERROR(GETPIVOTDATA(\"Duration\",Results!$A$2,\"Rating\",D$1,\"Date\",$A163)),-100000,GETPIVOTDATA(\"Duration\",Results!$A$2,\"Rating\",D$1,\"Date\",$A163))","v":-100000},{"$f":"IF(ISERROR(GETPIVOTDATA(\"Duration\",Results!$A$2,\"Rating\",E$1,\"Date\",$A163)),-100000,GETPIVOTDATA(\"Duration\",Results!$A$2,\"Rating\",E$1,\"Date\",$A163))","v":-100000},{"$f":"IF(ISERROR(GETPIVOTDATA(\"Duration\",Results!$A$2,\"Rating\",F$1,\"Date\",$A163)),-100000,GETPIVOTDATA(\"Duration\",Results!$A$2,\"Rating\",F$1,\"Date\",$A163))","v":-100000},1000,1000,{"$f":"AVERAGE(G$3:G163)","v":1000}]
["2014-06-11",{"$f":"IF(ISERROR(GETPIVOTDATA(\"Duration\",Results!$A$2,\"Rating\",B$1,\"Date\",$A164)),-100000,GETPIVOTDATA(\"Duration\",Results!$A$2,\"Rating\",B$1,\"Date\",$A164))","v":-100000},{"$f":"IF(ISERROR(GETPIVOTDATA(\"Duration\",Results!$A$2,\"Rating\",C$1,\"Date\",$A164)),-100000,GETPIVOTDATA(\"Duration\",Results!$A$2,\"Rating\",C$1,\"Date\",$A164))","v":-100000},{"$f":"IF(ISERROR(GETPIVOTDATA(\"Duration\",Results!$A$2,\"Rating\",D$1,\"Date\",$A164)),-100000,GETPIVOTDATA(\"Duration\",Results!$A$2,\"Rating\",D$1,\"Date\",$A164))","v":-100000},{"$f":"IF(ISERROR(GETPIVOTDATA(\"Duration\",Results!$A$2,\"Rating\",E$1,\"Date\",$A164)),-100000,GETPIVOTDATA(\"Duration\",Results!$A$2,\"Rating\",E$1,\"Date\",$A164))","v":-100000},{"$f":"IF(ISERROR(GETPIVOTDATA(\"Duration\",Results!$A$2,\"Rating\",F$1,\"Date\",$A164)),-100000,GETPIVOTDATA(\"Duration\",Results!$A$2,\"Rating\",F$1,\"Date\",$A164))","v":-100000},1000,1000,{"$f":"AVERAGE(G$3:G164)","v":1000}]
["2014-06-12",{"$f":"IF(ISERROR(GETPIVOTDATA(\"Duration\",Results!$A$2,\"Rating\",B$1,\"Date\",$A165)),-100000,GETPIVOTDATA(\"Duration\",Results!$A$2,\"Rating\",B$1,\"Date\",$A165))","v":-100000},{"$f":"IF(ISERROR(GETPIVOTDATA(\"Duration\",Results!$A$2,\"Rating\",C$1,\"Date\",$A165)),-100000,GETPIVOTDATA(\"Duration\",Results!$A$2,\"Rating\",C$1,\"Date\",$A165))","v":-100000},{"$f":"IF(ISERROR(GETPIVOTDATA(\"Duration\",Results!$A$2,\"Rating\",D$1,\"Date\",$A165)),-100000,GETPIVOTDATA(\"Duration\",Results!$A$2,\"Rating\",D$1,\"Date\",$A165))","v":-100000},{"$f":"IF(ISERROR(GETPIVOTDATA(\"Duration\",Results!$A$2,\"Rating\",E$1,\"Date\",$A165)),-100000,GETPIVOTDATA(\"Duration\",Results!$A$2,\"Rating\",E$1,\"Date\",$A165))","v":-100000},{"$f":"IF(ISERROR(GETPIVOTDATA(\"Duration\",Results!$A$2,\"Rating\",F$1,\"Date\",$A165)),-100000,GETPIVOTDATA(\"Duration\",Results!$A$2,\"Rating\",F$1,\"Date\",$A165))","v":-100000},1000,1000,{"$f":"AVERAGE(G$3:G165)","v":1000}]
["2014-06-13",{"$f":"IF(ISERROR(GETPIVOTDATA(\"Duration\",Results!$A$2,\"Rating\",B$1,\"Date\",$A166)),-100000,GETPIVOTDATA(\"Duration\",Results!$A$2,\"Rating\",B$1,\"Date\",$A166))","v":-100000},{"$f":"IF(ISERROR(GETPIVOTDATA(\"Duration\",Results!$A$2,\"Rating\",C$1,\"Date\",$A166)),-100000,GETPIVOTDATA(\"Duration\",Results!$A$2,\"Rating\",C$1,\"Date\",$A166))","v":-100000},{"$f":"IF(ISERROR(GETPIVOTDATA(\"Duration\",Results!$A$2,\"Rating\",D$1,\"Date\",$A166)),-100000,GETPIVOTDATA(\"Duration\",Results!$A$2,\"Rating\",D$1,\"Date\",$A166))","v":-100000},{"$f":"IF(ISERROR(GETPIVOTDATA(\"Duration\",Results!$A$2,\"Rating\",E$1,\"Date\",$A166)),-100000,GETPIVOTDATA(\"Duration\",Results!$A$2,\"Rating\",E$1,\"Date\",$A166))","v":-100000},{"$f":"IF(ISERROR(GETPIVOTDATA(\"Duration\",Results!$A$2,\"Rating\",F$1,\"Date\",$A166)),-100000,GETPIVOTDATA(\"Duration\",Results!$A$2,\"Rating\",F$1,\"Date\",$A166))","v":-100000},1000,1000,{"$f":"AVERAGE(G$3:G166)","v":1000}]
["2014-06-14",{"$f":"IF(ISERROR(GETPIVOTDATA(\"Duration\",Results!$A$2,\"Rating\",B$1,\"Date\",$A167)),-100000,GETPIVOTDATA(\"Duration\",Results!$A$2,\"Rating\",B$1,\"Date\",$A167))","v":-100000},{"$f":"IF(ISERROR(GETPIVOTDATA(\"Duration\",Results!$A$2,\"Rating\",C$1,\"Date\",$A167)),-100000,GETPIVOTDATA(\"Duration\",Results!$A$2,\"Rating\",C$1,\"Date\",$A167))","v":-100000},{"$f":"IF(ISERROR(GETPIVOTDATA(\"Duration\",Results!$A$2,\"Rating\",D$1,\"Date\",$A167)),-100000,GETPIVOTDATA(\"Duration\",Results!$A$2,\"Rating\",D$1,\"Date\",$A167))","v":-100000},{"$f":"IF(ISERROR(GETPIVOTDATA(\"Duration\",Results!$A$2,\"Rating\",E$1,\"Date\",$A167)),-100000,GETPIVOTDATA(\"Duration\",Results!$A$2,\"Rating\",E$1,\"Date\",$A167))","v":-100000},{"$f":"IF(ISERROR(GETPIVOTDATA(\"Duration\",Results!$A$2,\"Rating\",F$1,\"Date\",$A167)),-100000,GETPIVOTDATA(\"Duration\",Results!$A$2,\"Rating\",F$1,\"Date\",$A167))","v":-100000},1000,1000,{"$f":"AVERAGE(G$3:G167)","v":1000}]
["2014-06-15",{"$f":"IF(ISERROR(GETPIVOTDATA(\"Duration\",Results!$A$2,\"Rating\",B$1,\"Date\",$A168)),-100000,GETPIVOTDATA(\"Duration\",Results!$A$2,\"Rating\",B$1,\"Date\",$A168))","v":-100000},{"$f":"IF(ISERROR(GETPIVOTDATA(\"Duration\",Results!$A$2,\"Rating\",C$1,\"Date\",$A168)),-100000,GETPIVOTDATA(\"Duration\",Results!$A$2,\"Rating\",C$1,\"Date\",$A168))","v":-100000},{"$f":"IF(ISERROR(GETPIVOTDATA(\"Duration\",Results!$A$2,\"Rating\",D$1,\"Date\",$A168)),-100000,GETPIVOTDATA(\"Duration\",Results!$A$2,\"Rating\",D$1,\"Date\",$A168))","v":-100000},{"$f":"IF(ISERROR(GETPIVOTDATA(\"Duration\",Results!$A$2,\"Rating\",E$1,\"Date\",$A168)),-100000,GETPIVOTDATA(\"Duration\",Results!$A$2,\"Rating\",E$1,\"Date\",$A168))","v":-100000},{"$f":"IF(ISERROR(GETPIVOTDATA(\"Duration\",Results!$A$2,\"Rating\",F$1,\"Date\",$A168)),-100000,GETPIVOTDATA(\"Duration\",Results!$A$2,\"Rating\",F$1,\"Date\",$A168))","v":-100000},1000,1000,{"$f":"AVERAGE(G$3:G168)","v":1000}]
["2014-06-16",{"$f":"IF(ISERROR(GETPIVOTDATA(\"Duration\",Results!$A$2,\"Rating\",B$1,\"Date\",$A169)),-100000,GETPIVOTDATA(\"Duration\",Results!$A$2,\"Rating\",B$1,\"Date\",$A169))","v":-100000},{"$f":"IF(ISERROR(GETPIVOTDATA(\"Duration\",Results!$A$2,\"Rating\",C$1,\"Date\",$A169)),-100000,GETPIVOTDATA(\"Duration\",Results!$A$2,\"Rating\",C$1,\"Date\",$A169))","v":-100000},{"$f":"IF(ISERROR(GETPIVOTDATA(\"Duration\",Results!$A$2,\"Rating\",D$1,\"Date\",$A169)),-100000,GETPIVOTDATA(\"Duration\",Results!$A$2,\"Rating\",D$1,\"Date\",$A169))","v":-100000},{"$f":"IF(ISERROR(GETPIVOTDATA(\"Duration\",Results!$A$2,\"Rating\",E$1,\"Date\",$A169)),-100000,GETPIVOTDATA(\"Duration\",Results!$A$2,\"Rating\",E$1,\"Date\",$A169))","v":-100000},{"$f":"IF(ISERROR(GETPIVOTDATA(\"Duration\",Results!$A$2,\"Rating\",F$1,\"Date\",$A169)),-100000,GETPIVOTDATA(\"Duration\",Results!$A$2,\"Rating\",F$1,\"Date\",$A169))","v":-100000},1000,1000,{"$f":"AVERAGE(G$3:G169)","v":1000}]
["2014-06-17",{"$f":"IF(ISERROR(GETPIVOTDATA(\"Duration\",Results!$A$2,\"Rating\",B$1,\"Date\",$A170)),-100000,GETPIVOTDATA(\"Duration\",Results!$A$2,\"Rating\",B$1,\"Date\",$A170))","v":-100000},{"$f":"IF(ISERROR(GETPIVOTDATA(\"Duration\",Results!$A$2,\"Rating\",C$1,\"Date\",$A170)),-100000,GETPIVOTDATA(\"Duration\",Results!$A$2,\"Rating\",C$1,\"Date\",$A170))","v":-100000},{"$f":"IF(ISERROR(GETPIVOTDATA(\"Duration\",Results!$A$2,\"Rating\",D$1,\"Date\",$A170)),-100000,GETPIVOTDATA(\"Duration\",Results!$A$2,\"Rating\",D$1,\"Date\",$A170))","v":-100000},{"$f":"IF(ISERROR(GETPIVOTDATA(\"Duration\",Results!$A$2,\"Rating\",E$1,\"Date\",$A170)),-100000,GETPIVOTDATA(\"Duration\",Results!$A$2,\"Rating\",E$1,\"Date\",$A170))","v":-100000},{"$f":"IF(ISERROR(GETPIVOTDATA(\"Duration\",Results!$A$2,\"Rating\",F$1,\"Date\",$A170)),-100000,GETPIVOTDATA(\"Duration\",Results!$A$2,\"Rating\",F$1,\"Date\",$A170))","v":-100000},1000,1000,{"$f":"AVERAGE(G$3:G170)","v":1000}]
["2014-06-18",{"$f":"IF(ISERROR(GETPIVOTDATA(\"Duration\",Results!$A$2,\"Rating\",B$1,\"Date\",$A171)),-100000,GETPIVOTDATA(\"Duration\",Results!$A$2,\"Rating\",B$1,\"Date\",$A171))","v":-100000},{"$f":"IF(ISERROR(GETPIVOTDATA(\"Duration\",Results!$A$2,\"Rating\",C$1,\"Date\",$A171)),-100000,GETPIVOTDATA(\"Duration\",Results!$A$2,\"Rating\",C$1,\"Date\",$A171))","v":-100000},{"$f":"IF(ISERROR(GETPIVOTDATA(\"Duration\",Results!$A$2,\"Rating\",D$1,\"Date\",$A171)),-100000,GETPIVOTDATA(\"Duration\",Results!$A$2,\"Rating\",D$1,\"Date\",$A171))","v":-100000},{"$f":"IF(ISERROR(GETPIVOTDATA(\"Duration\",Results!$A$2,\"Rating\",E$1,\"Date\",$A171)),-100000,GETPIVOTDATA(\"Duration\",Results!$A$2,\"Rating\",E$1,\"Date\",$A171))","v":-100000},{"$f":"IF(ISERROR(GETPIVOTDATA(\"Duration\",Results!$A$2,\"Rating\",F$1,\"Date\",$A171)),-100000,GETPIVOTDATA(\"Duration\",Results!$A$2,\"Rating\",F$1,\"Date\",$A171))","v":-100000},1000,1000,{"$f":"AVERAGE(G$3:G171)","v":1000}]
["2014-06-19",{"$f":"IF(ISERROR(GETPIVOTDATA(\"Duration\",Results!$A$2,\"Rating\",B$1,\"Date\",$A172)),-100000,GETPIVOTDATA(\"Duration\",Results!$A$2,\"Rating\",B$1,\"Date\",$A172))","v":-100000},{"$f":"IF(ISERROR(GETPIVOTDATA(\"Duration\",Results!$A$2,\"Rating\",C$1,\"Date\",$A172)),-100000,GETPIVOTDATA(\"Duration\",Results!$A$2,\"Rating\",C$1,\"Date\",$A172))","v":-100000},{"$f":"IF(ISERROR(GETPIVOTDATA(\"Duration\",Results!$A$2,\"Rating\",D$1,\"Date\",$A172)),-100000,GETPIVOTDATA(\"Duration\",Results!$A$2,\"Rating\",D$1,\"Date\",$A172))","v":-100000},{"$f":"IF(ISERROR(GETPIVOTDATA(\"Duration\",Results!$A$2,\"Rating\",E$1,\"Date\",$A172)),-100000,GETPIVOTDATA(\"Duration\",Results!$A$2,\"Rating\",E$1,\"Date\",$A172))","v":-100000},{"$f":"IF(ISERROR(GETPIVOTDATA(\"Duration\",Results!$A$2,\"Rating\",F$1,\"Date\",$A172)),-100000,GETPIVOTDATA(\"Duration\",Results!$A$2,\"Rating\",F$1,\"Date\",$A172))","v":-100000},1000,1000,{"$f":"AVERAGE(G$3:G172)","v":1000}]
["2014-06-20",{"$f":"IF(ISERROR(GETPIVOTDATA(\"Duration\",Results!$A$2,\"Rating\",B$1,\"Date\",$A173)),-100000,GETPIVOTDATA(\"Duration\",Results!$A$2,\"Rating\",B$1,\"Date\",$A173))","v":-100000},{"$f":"IF(ISERROR(GETPIVOTDATA(\"Duration\",Results!$A$2,\"Rating\",C$1,\"Date\",$A173)),-100000,GETPIVOTDATA(\"Duration\",Results!$A$2,\"Rating\",C$1,\"Date\",$A173))","v":-100000},{"$f":"IF(ISERROR(GETPIVOTDATA(\"Duration\",Results!$A$2,\"Rating\",D$1,\"Date\",$A173)),-100000,GETPIVOTDATA(\"Duration\",Results!$A$2,\"Rating\",D$1,\"Date\",$A173))","v":-100000},{"$f":"IF(ISERROR(GETPIVOTDATA(\"Duration\",Results!$A$2,\"Rating\",E$1,\"Date\",$A173)),-100000,GETPIVOTDATA(\"Duration\",Results!$A$2,\"Rating\",E$1,\"Date\",$A173))","v":-100000},{"$f":"IF(ISERROR(GETPIVOTDATA(\"Duration\",Results!$A$2,\"Rating\",F$1,\"Date\",$A173)),-100000,GETPIVOTDATA(\"Duration\",Results!$A$2,\"Rating\",F$1,\"Date\",$A173))","v":-100000},1000,1000,{"$f":"AVERAGE(G$3:G173)","v":1000}]
["2014-06-21",{"$f":"IF(ISERROR(GETPIVOTDATA(\"Duration\",Results!$A$2,\"Rating\",B$1,\"Date\",$A174)),-100000,GETPIVOTDATA(\"Duration\",Results!$A$2,\"Rating\",B$1,\"Date\",$A174))","v":-100000},{"$f":"IF(ISERROR(GETPIVOTDATA(\"Duration\",Results!$A$2,\"Rating\",C$1,\"Date\",$A174)),-100000,GETPIVOTDATA(\"Duration\",Results!$A$2,\"Rating\",C$1,\"Date\",$A174))","v":-100000},{"$f":"IF(ISERROR(GETPIVOTDATA(\"Duration\",Results!$A$2,\"Rating\",D$1,\"Date\",$A174)),-100000,GETPIVOTDATA(\"Duration\",Results!$A$2,\"Rating\",D$1,\"Date\",$A174))","v":-100000},{"$f":"IF(ISERROR(GETPIVOTDATA(\"Duration\",Results!$A$2,\"Rating\",E$1,\"Date\",$A174)),-100000,GETPIVOTDATA(\"Duration\",Results!$A$2,\"Rating\",E$1,\"Date\",$A174))","v":-100000},{"$f":"IF(ISERROR(GETPIVOTDATA(\"Duration\",Results!$A$2,\"Rating\",F$1,\"Date\",$A174)),-100000,GETPIVOTDATA(\"Duration\",Results!$A$2,\"Rating\",F$1,\"Date\",$A174))","v":-100000},1000,1000,{"$f":"AVERAGE(G$3:G174)","v":1000}]
["2014-06-22",{"$f":"IF(ISERROR(GETPIVOTDATA(\"Duration\",Results!$A$2,\"Rating\",B$1,\"Date\",$A175)),-100000,GETPIVOTDATA(\"Duration\",Results!$A$2,\"Rating\",B$1,\"Date\",$A175))","v":-100000},{"$f":"IF(ISERROR(GETPIVOTDATA(\"Duration\",Results!$A$2,\"Rating\",C$1,\"Date\",$A175)),-100000,GETPIVOTDATA(\"Duration\",Results!$A$2,\"Rating\",C$1,\"Date\",$A175))","v":-100000},{"$f":"IF(ISERROR(GETPIVOTDATA(\"Duration\",Results!$A$2,\"Rating\",D$1,\"Date\",$A175)),-100000,GETPIVOTDATA(\"Duration\",Results!$A$2,\"Rating\",D$1,\"Date\",$A175))","v":-100000},{"$f":"IF(ISERROR(GETPIVOTDATA(\"Duration\",Results!$A$2,\"Rating\",E$1,\"Date\",$A175)),-100000,GETPIVOTDATA(\"Duration\",Results!$A$2,\"Rating\",E$1,\"Date\",$A175))","v":-100000},{"$f":"IF(ISERROR(GETPIVOTDATA(\"Duration\",Results!$A$2,\"Rating\",F$1,\"Date\",$A175)),-100000,GETPIVOTDATA(\"Duration\",Results!$A$2,\"Rating\",F$1,\"Date\",$A175))","v":-100000},1000,1000,{"$f":"AVERAGE(G$3:G175)","v":1000}]
["2014-06-23",{"$f":"IF(ISERROR(GETPIVOTDATA(\"Duration\",Results!$A$2,\"Rating\",B$1,\"Date\",$A176)),-100000,GETPIVOTDATA(\"Duration\",Results!$A$2,\"Rating\",B$1,\"Date\",$A176))","v":-100000},{"$f":"IF(ISERROR(GETPIVOTDATA(\"Duration\",Results!$A$2,\"Rating\",C$1,\"Date\",$A176)),-100000,GETPIVOTDATA(\"Duration\",Results!$A$2,\"Rating\",C$1,\"Date\",$A176))","v":-100000},{"$f":"IF(ISERROR(GETPIVOTDATA(\"Duration\",Results!$A$2,\"Rating\",D$1,\"Date\",$A176)),-100000,GETPIVOTDATA(\"Duration\",Results!$A$2,\"Rating\",D$1,\"Date\",$A176))","v":-100000},{"$f":"IF(ISERROR(GETPIVOTDATA(\"Duration\",Results!$A$2,\"Rating\",E$1,\"Date\",$A176)),-100000,GETPIVOTDATA(\"Duration\",Results!$A$2,\"Rating\",E$1,\"Date\",$A176))","v":-100000},{"$f":"IF(ISERROR(GETPIVOTDATA(\"Duration\",Results!$A$2,\"Rating\",F$1,\"Date\",$A176)),-100000,GETPIVOTDATA(\"Duration\",Results!$A$2,\"Rating\",F$1,\"Date\",$A176))","v":-100000},1000,1000,{"$f":"AVERAGE(G$3:G176)","v":1000}]
["2014-06-24",{"$f":"IF(ISERROR(GETPIVOTDATA(\"Duration\",Results!$A$2,\"Rating\",B$1,\"Date\",$A177)),-100000,GETPIVOTDATA(\"Duration\",Results!$A$2,\"Rating\",B$1,\"Date\",$A177))","v":-100000},{"$f":"IF(ISERROR(GETPIVOTDATA(\"Duration\",Results!$A$2,\"Rating\",C$1,\"Date\",$A177)),-100000,GETPIVOTDATA(\"Duration\",Results!$A$2,\"Rating\",C$1,\"Date\",$A177))","v":-100000},{"$f":"IF(ISERROR(GETPIVOTDATA(\"Duration\",Results!$A$2,\"Rating\",D$1,\"Date\",$A177)),-100000,GETPIVOTDATA(\"Duration\",Results!$A$2,\"Rating\",D$1,\"Date\",$A177))","v":-100000},{"$f":"IF(ISERROR(GETPIVOTDATA(\"Duration\",Results!$A$2,\"Rating\",E$1,\"Date\",$A177)),-100000,GETPIVOTDATA(\"Duration\",Results!$A$2,\"Rating\",E$1,\"Date\",$A177))","v":-100000},{"$f":"IF(ISERROR(GETPIVOTDATA(\"Duration\",Results!$A$2,\"Rating\",F$1,\"Date\",$A177)),-100000,GETPIVOTDATA(\"Duration\",Results!$A$2,\"Rating\",F$1,\"Date\",$A177))","v":-100000},1000,1000,{"$f":"AVERAGE(G$3:G177)","v":1000}]
["2014-06-25",{"$f":"IF(ISERROR(GETPIVOTDATA(\"Duration\",Results!$A$2,\"Rating\",B$1,\"Date\",$A178)),-100000,GETPIVOTDATA(\"Duration\",Results!$A$2,\"Rating\",B$1,\"Date\",$A178))","v":-100000},{"$f":"IF(ISERROR(GETPIVOTDATA(\"Duration\",Results!$A$2,\"Rating\",C$1,\"Date\",$A178)),-100000,GETPIVOTDATA(\"Duration\",Results!$A$2,\"Rating\",C$1,\"Date\",$A178))","v":-100000},{"$f":"IF(ISERROR(GETPIVOTDATA(\"Duration\",Results!$A$2,\"Rating\",D$1,\"Date\",$A178)),-100000,GETPIVOTDATA(\"Duration\",Results!$A$2,\"Rating\",D$1,\"Date\",$A178))","v":-100000},{"$f":"IF(ISERROR(GETPIVOTDATA(\"Duration\",Results!$A$2,\"Rating\",E$1,\"Date\",$A178)),-100000,GETPIVOTDATA(\"Duration\",Results!$A$2,\"Rating\",E$1,\"Date\",$A178))","v":-100000},{"$f":"IF(ISERROR(GETPIVOTDATA(\"Duration\",Results!$A$2,\"Rating\",F$1,\"Date\",$A178)),-100000,GETPIVOTDATA(\"Duration\",Results!$A$2,\"Rating\",F$1,\"Date\",$A178))","v":-100000},1000,1000,{"$f":"AVERAGE(G$3:G178)","v":1000}]
["2014-06-26",{"$f":"IF(ISERROR(GETPIVOTDATA(\"Duration\",Results!$A$2,\"Rating\",B$1,\"Date\",$A179)),-100000,GETPIVOTDATA(\"Duration\",Results!$A$2,\"Rating\",B$1,\"Date\",$A179))","v":-100000},{"$f":"IF(ISERROR(GETPIVOTDATA(\"Duration\",Results!$A$2,\"Rating\",C$1,\"Date\",$A179)),-100000,GETPIVOTDATA(\"Duration\",Results!$A$2,\"Rating\",C$1,\"Date\",$A179))","v":-100000},{"$f":"IF(ISERROR(GETPIVOTDATA(\"Duration\",Results!$A$2,\"Rating\",D$1,\"Date\",$A179)),-100000,GETPIVOTDATA(\"Duration\",Results!$A$2,\"Rating\",D$1,\"Date\",$A179))","v":-100000},{"$f":"IF(ISERROR(GETPIVOTDATA(\"Duration\",Results!$A$2,\"Rating\",E$1,\"Date\",$A179)),-100000,GETPIVOTDATA(\"Duration\",Results!$A$2,\"Rating\",E$1,\"Date\",$A179))","v":-100000},{"$f":"IF(ISERROR(GETPIVOTDATA(\"Duration\",Results!$A$2,\"Rating\",F$1,\"Date\",$A179)),-100000,GETPIVOTDATA(\"Duration\",Results!$A$2,\"Rating\",F$1,\"Date\",$A179))","v":-100000},1000,1000,{"$f":"AVERAGE(G$3:G179)","v":1000}]
["2014-06-27",{"$f":"IF(ISERROR(GETPIVOTDATA(\"Duration\",Results!$A$2,\"Rating\",B$1,\"Date\",$A180)),-100000,GETPIVOTDATA(\"Duration\",Results!$A$2,\"Rating\",B$1,\"Date\",$A180))","v":-100000},{"$f":"IF(ISERROR(GETPIVOTDATA(\"Duration\",Results!$A$2,\"Rating\",C$1,\"Date\",$A180)),-100000,GETPIVOTDATA(\"Duration\",Results!$A$2,\"Rating\",C$1,\"Date\",$A180))","v":-100000},{"$f":"IF(ISERROR(GETPIVOTDATA(\"Duration\",Results!$A$2,\"Rating\",D$1,\"Date\",$A180)),-100000,GETPIVOTDATA(\"Duration\",Results!$A$2,\"Rating\",D$1,\"Date\",$A180))","v":-100000},{"$f":"IF(ISERROR(GETPIVOTDATA(\"Duration\",Results!$A$2,\"Rating\",E$1,\"Date\",$A180)),-100000,GETPIVOTDATA(\"Duration\",Results!$A$2,\"Rating\",E$1,\"Date\",$A180))","v":-100000},{"$f":"IF(ISERROR(GETPIVOTDATA(\"Duration\",Results!$A$2,\"Rating\",F$1,\"Date\",$A180)),-100000,GETPIVOTDATA(\"Duration\",Results!$A$2,\"Rating\",F$1,\"Date\",$A180))","v":-100000},1000,1000,{"$f":"AVERAGE(G$3:G180)","v":1000}]
["2014-06-28",{"$f":"IF(ISERROR(GETPIVOTDATA(\"Duration\",Results!$A$2,\"Rating\",B$1,\"Date\",$A181)),-100000,GETPIVOTDATA(\"Duration\",Results!$A$2,\"Rating\",B$1,\"Date\",$A181))","v":-100000},{"$f":"IF(ISERROR(GETPIVOTDATA(\"Duration\",Results!$A$2,\"Rating\",C$1,\"Date\",$A181)),-100000,GETPIVOTDATA(\"Duration\",Results!$A$2,\"Rating\",C$1,\"Date\",$A181))","v":-100000},{"$f":"IF(ISERROR(GETPIVOTDATA(\"Duration\",Results!$A$2,\"Rating\",D$1,\"Date\",$A181)),-100000,GETPIVOTDATA(\"Duration\",Results!$A$2,\"Rating\",D$1,\"Date\",$A181))","v":-100000},{"$f":"IF(ISERROR(GETPIVOTDATA(\"Duration\",Results!$A$2,\"Rating\",E$1,\"Date\",$A181)),-100000,GETPIVOTDATA(\"Duration\",Results!$A$2,\"Rating\",E$1,\"Date\",$A181))","v":-100000},{"$f":"IF(ISERROR(GETPIVOTDATA(\"Duration\",Results!$A$2,\"Rating\",F$1,\"Date\",$A181)),-100000,GETPIVOTDATA(\"Duration\",Results!$A$2,\"Rating\",F$1,\"Date\",$A181))","v":-100000},1000,1000,{"$f":"AVERAGE(G$3:G181)","v":1000}]
["2014-06-29",{"$f":"IF(ISERROR(GETPIVOTDATA(\"Duration\",Results!$A$2,\"Rating\",B$1,\"Date\",$A182)),-100000,GETPIVOTDATA(\"Duration\",Results!$A$2,\"Rating\",B$1,\"Date\",$A182))","v":-100000},{"$f":"IF(ISERROR(GETPIVOTDATA(\"Duration\",Results!$A$2,\"Rating\",C$1,\"Date\",$A182)),-100000,GETPIVOTDATA(\"Duration\",Results!$A$2,\"Rating\",C$1,\"Date\",$A182))","v":-100000},{"$f":"IF(ISERROR(GETPIVOTDATA(\"Duration\",Results!$A$2,\"Rating\",D$1,\"Date\",$A182)),-100000,GETPIVOTDATA(\"Duration\",Results!$A$2,\"Rating\",D$1,\"Date\",$A182))","v":-100000},{"$f":"IF(ISERROR(GETPIVOTDATA(\"Duration\",Results!$A$2,\"Rating\",E$1,\"Date\",$A182)),-100000,GETPIVOTDATA(\"Duration\",Results!$A$2,\"Rating\",E$1,\"Date\",$A182))","v":-100000},{"$f":"IF(ISERROR(GETPIVOTDATA(\"Duration\",Results!$A$2,\"Rating\",F$1,\"Date\",$A182)),-100000,GETPIVOTDATA(\"Duration\",Results!$A$2,\"Rating\",F$1,\"Date\",$A182))","v":-100000},1000,1000,{"$f":"AVERAGE(G$3:G182)","v":1000}]
["2014-06-30",{"$f":"IF(ISERROR(GETPIVOTDATA(\"Duration\",Results!$A$2,\"Rating\",B$1,\"Date\",$A183)),-100000,GETPIVOTDATA(\"Duration\",Results!$A$2,\"Rating\",B$1,\"Date\",$A183))","v":-100000},{"$f":"IF(ISERROR(GETPIVOTDATA(\"Duration\",Results!$A$2,\"Rating\",C$1,\"Date\",$A183)),-100000,GETPIVOTDATA(\"Duration\",Results!$A$2,\"Rating\",C$1,\"Date\",$A183))","v":-100000},{"$f":"IF(ISERROR(GETPIVOTDATA(\"Duration\",Results!$A$2,\"Rating\",D$1,\"Date\",$A183)),-100000,GETPIVOTDATA(\"Duration\",Results!$A$2,\"Rating\",D$1,\"Date\",$A183))","v":-100000},{"$f":"IF(ISERROR(GETPIVOTDATA(\"Duration\",Results!$A$2,\"Rating\",E$1,\"Date\",$A183)),-100000,GETPIVOTDATA(\"Duration\",Results!$A$2,\"Rating\",E$1,\"Date\",$A183))","v":-100000},{"$f":"IF(ISERROR(GETPIVOTDATA(\"Duration\",Results!$A$2,\"Rating\",F$1,\"Date\",$A183)),-100000,GETPIVOTDATA(\"Duration\",Results!$A$2,\"Rating\",F$1,\"Date\",$A183))","v":-100000},1000,1000,{"$f":"AVERAGE(G$3:G183)","v":1000}]
["2014-07-01",{"$f":"IF(ISERROR(GETPIVOTDATA(\"Duration\",Results!$A$2,\"Rating\",B$1,\"Date\",$A184)),-100000,GETPIVOTDATA(\"Duration\",Results!$A$2,\"Rating\",B$1,\"Date\",$A184))","v":-100000},{"$f":"IF(ISERROR(GETPIVOTDATA(\"Duration\",Results!$A$2,\"Rating\",C$1,\"Date\",$A184)),-100000,GETPIVOTDATA(\"Duration\",Results!$A$2,\"Rating\",C$1,\"Date\",$A184))","v":-100000},{"$f":"IF(ISERROR(GETPIVOTDATA(\"Duration\",Results!$A$2,\"Rating\",D$1,\"Date\",$A184)),-100000,GETPIVOTDATA(\"Duration\",Results!$A$2,\"Rating\",D$1,\"Date\",$A184))","v":-100000},{"$f":"IF(ISERROR(GETPIVOTDATA(\"Duration\",Results!$A$2,\"Rating\",E$1,\"Date\",$A184)),-100000,GETPIVOTDATA(\"Duration\",Results!$A$2,\"Rating\",E$1,\"Date\",$A184))","v":-100000},{"$f":"IF(ISERROR(GETPIVOTDATA(\"Duration\",Results!$A$2,\"Rating\",F$1,\"Date\",$A184)),-100000,GETPIVOTDATA(\"Duration\",Results!$A$2,\"Rating\",F$1,\"Date\",$A184))","v":-100000},1000,1000,{"$f":"AVERAGE(G$3:G184)","v":1000}]
["2014-07-02",{"$f":"IF(ISERROR(GETPIVOTDATA(\"Duration\",Results!$A$2,\"Rating\",B$1,\"Date\",$A185)),-100000,GETPIVOTDATA(\"Duration\",Results!$A$2,\"Rating\",B$1,\"Date\",$A185))","v":-100000},{"$f":"IF(ISERROR(GETPIVOTDATA(\"Duration\",Results!$A$2,\"Rating\",C$1,\"Date\",$A185)),-100000,GETPIVOTDATA(\"Duration\",Results!$A$2,\"Rating\",C$1,\"Date\",$A185))","v":-100000},{"$f":"IF(ISERROR(GETPIVOTDATA(\"Duration\",Results!$A$2,\"Rating\",D$1,\"Date\",$A185)),-100000,GETPIVOTDATA(\"Duration\",Results!$A$2,\"Rating\",D$1,\"Date\",$A185))","v":-100000},{"$f":"IF(ISERROR(GETPIVOTDATA(\"Duration\",Results!$A$2,\"Rating\",E$1,\"Date\",$A185)),-100000,GETPIVOTDATA(\"Duration\",Results!$A$2,\"Rating\",E$1,\"Date\",$A185))","v":-100000},{"$f":"IF(ISERROR(GETPIVOTDATA(\"Duration\",Results!$A$2,\"Rating\",F$1,\"Date\",$A185)),-100000,GETPIVOTDATA(\"Duration\",Results!$A$2,\"Rating\",F$1,\"Date\",$A185))","v":-100000},1000,1000,{"$f":"AVERAGE(G$3:G185)","v":1000}]
["2014-07-03",{"$f":"IF(ISERROR(GETPIVOTDATA(\"Duration\",Results!$A$2,\"Rating\",B$1,\"Date\",$A186)),-100000,GETPIVOTDATA(\"Duration\",Results!$A$2,\"Rating\",B$1,\"Date\",$A186))","v":-100000},{"$f":"IF(ISERROR(GETPIVOTDATA(\"Duration\",Results!$A$2,\"Rating\",C$1,\"Date\",$A186)),-100000,GETPIVOTDATA(\"Duration\",Results!$A$2,\"Rating\",C$1,\"Date\",$A186))","v":-100000},{"$f":"IF(ISERROR(GETPIVOTDATA(\"Duration\",Results!$A$2,\"Rating\",D$1,\"Date\",$A186)),-100000,GETPIVOTDATA(\"Duration\",Results!$A$2,\"Rating\",D$1,\"Date\",$A186))","v":-100000},{"$f":"IF(ISERROR(GETPIVOTDATA(\"Duration\",Results!$A$2,\"Rating\",E$1,\"Date\",$A186)),-100000,GETPIVOTDATA(\"Duration\",Results!$A$2,\"Rating\",E$1,\"Date\",$A186))","v":-100000},{"$f":"IF(ISERROR(GETPIVOTDATA(\"Duration\",Results!$A$2,\"Rating\",F$1,\"Date\",$A186)),-100000,GETPIVOTDATA(\"Duration\",Results!$A$2,\"Rating\",F$1,\"Date\",$A186))","v":-100000},1000,1000,{"$f":"AVERAGE(G$3:G186)","v":1000}]
["2014-07-04",{"$f":"IF(ISERROR(GETPIVOTDATA(\"Duration\",Results!$A$2,\"Rating\",B$1,\"Date\",$A187)),-100000,GETPIVOTDATA(\"Duration\",Results!$A$2,\"Rating\",B$1,\"Date\",$A187))","v":-100000},{"$f":"IF(ISERROR(GETPIVOTDATA(\"Duration\",Results!$A$2,\"Rating\",C$1,\"Date\",$A187)),-100000,GETPIVOTDATA(\"Duration\",Results!$A$2,\"Rating\",C$1,\"Date\",$A187))","v":-100000},{"$f":"IF(ISERROR(GETPIVOTDATA(\"Duration\",Results!$A$2,\"Rating\",D$1,\"Date\",$A187)),-100000,GETPIVOTDATA(\"Duration\",Results!$A$2,\"Rating\",D$1,\"Date\",$A187))","v":-100000},{"$f":"IF(ISERROR(GETPIVOTDATA(\"Duration\",Results!$A$2,\"Rating\",E$1,\"Date\",$A187)),-100000,GETPIVOTDATA(\"Duration\",Results!$A$2,\"Rating\",E$1,\"Date\",$A187))","v":-100000},{"$f":"IF(ISERROR(GETPIVOTDATA(\"Duration\",Results!$A$2,\"Rating\",F$1,\"Date\",$A187)),-100000,GETPIVOTDATA(\"Duration\",Results!$A$2,\"Rating\",F$1,\"Date\",$A187))","v":-100000},1000,1000,{"$f":"AVERAGE(G$3:G187)","v":1000}]
["2014-07-05",{"$f":"IF(ISERROR(GETPIVOTDATA(\"Duration\",Results!$A$2,\"Rating\",B$1,\"Date\",$A188)),-100000,GETPIVOTDATA(\"Duration\",Results!$A$2,\"Rating\",B$1,\"Date\",$A188))","v":-100000},{"$f":"IF(ISERROR(GETPIVOTDATA(\"Duration\",Results!$A$2,\"Rating\",C$1,\"Date\",$A188)),-100000,GETPIVOTDATA(\"Duration\",Results!$A$2,\"Rating\",C$1,\"Date\",$A188))","v":-100000},{"$f":"IF(ISERROR(GETPIVOTDATA(\"Duration\",Results!$A$2,\"Rating\",D$1,\"Date\",$A188)),-100000,GETPIVOTDATA(\"Duration\",Results!$A$2,\"Rating\",D$1,\"Date\",$A188))","v":-100000},{"$f":"IF(ISERROR(GETPIVOTDATA(\"Duration\",Results!$A$2,\"Rating\",E$1,\"Date\",$A188)),-100000,GETPIVOTDATA(\"Duration\",Results!$A$2,\"Rating\",E$1,\"Date\",$A188))","v":-100000},{"$f":"IF(ISERROR(GETPIVOTDATA(\"Duration\",Results!$A$2,\"Rating\",F$1,\"Date\",$A188)),-100000,GETPIVOTDATA(\"Duration\",Results!$A$2,\"Rating\",F$1,\"Date\",$A188))","v":-100000},1000,1000,{"$f":"AVERAGE(G$3:G188)","v":1000}]
[{"$f":"A188+1","v":"2014-07-06"},{"$f":"IF(ISERROR(GETPIVOTDATA(\"Duration\",Results!$A$2,\"Rating\",B$1,\"Date\",$A189)),-100000,GETPIVOTDATA(\"Duration\",Results!$A$2,\"Rating\",B$1,\"Date\",$A189))","v":-100000},{"$f":"IF(ISERROR(GETPIVOTDATA(\"Duration\",Results!$A$2,\"Rating\",C$1,\"Date\",$A189)),-100000,GETPIVOTDATA(\"Duration\",Results!$A$2,\"Rating\",C$1,\"Date\",$A189))","v":-100000},{"$f":"IF(ISERROR(GETPIVOTDATA(\"Duration\",Results!$A$2,\"Rating\",D$1,\"Date\",$A189)),-100000,GETPIVOTDATA(\"Duration\",Results!$A$2,\"Rating\",D$1,\"Date\",$A189))","v":-100000},{"$f":"IF(ISERROR(GETPIVOTDATA(\"Duration\",Results!$A$2,\"Rating\",E$1,\"Date\",$A189)),-100000,GETPIVOTDATA(\"Duration\",Results!$A$2,\"Rating\",E$1,\"Date\",$A189))","v":-100000},{"$f":"IF(ISERROR(GETPIVOTDATA(\"Duration\",Results!$A$2,\"Rating\",F$1,\"Date\",$A189)),-100000,GETPIVOTDATA(\"Duration\",Results!$A$2,\"Rating\",F$1,\"Date\",$A189))","v":-100000},{"$f":"IF(SUM(B189:F189)=-500000,1000,(C189+2*D189+3*E189+4*F189)/(C189+D189+E189+F189))","v":1000},{"$f":"AVERAGE(G183:G189)","v":1000},{"$f":"AVERAGE(G$3:G189)","v":1000}]
["2014-07-07",{"$f":"IF(ISERROR(GETPIVOTDATA(\"Duration\",Results!$A$2,\"Rating\",B$1,\"Date\",$A190)),-100000,GETPIVOTDATA(\"Duration\",Results!$A$2,\"Rating\",B$1,\"Date\",$A190))","v":-100000},{"$f":"IF(ISERROR(GETPIVOTDATA(\"Duration\",Results!$A$2,\"Rating\",C$1,\"Date\",$A190)),-100000,GETPIVOTDATA(\"Duration\",Results!$A$2,\"Rating\",C$1,\"Date\",$A190))","v":-100000},{"$f":"IF(ISERROR(GETPIVOTDATA(\"Duration\",Results!$A$2,\"Rating\",D$1,\"Date\",$A190)),-100000,GETPIVOTDATA(\"Duration\",Results!$A$2,\"Rating\",D$1,\"Date\",$A190))","v":-100000},{"$f":"IF(ISERROR(GETPIVOTDATA(\"Duration\",Results!$A$2,\"Rating\",E$1,\"Date\",$A190)),-100000,GETPIVOTDATA(\"Duration\",Results!$A$2,\"Rating\",E$1,\"Date\",$A190))","v":-100000},{"$f":"IF(ISERROR(GETPIVOTDATA(\"Duration\",Results!$A$2,\"Rating\",F$1,\"Date\",$A190)),-100000,GETPIVOTDATA(\"Duration\",Results!$A$2,\"Rating\",F$1,\"Date\",$A190))","v":-100000},1000,1000,{"$f":"AVERAGE(G$3:G190)","v":1000}]
["2014-07-08",{"$f":"IF(ISERROR(GETPIVOTDATA(\"Duration\",Results!$A$2,\"Rating\",B$1,\"Date\",$A191)),-100000,GETPIVOTDATA(\"Duration\",Results!$A$2,\"Rating\",B$1,\"Date\",$A191))","v":-100000},{"$f":"IF(ISERROR(GETPIVOTDATA(\"Duration\",Results!$A$2,\"Rating\",C$1,\"Date\",$A191)),-100000,GETPIVOTDATA(\"Duration\",Results!$A$2,\"Rating\",C$1,\"Date\",$A191))","v":-100000},{"$f":"IF(ISERROR(GETPIVOTDATA(\"Duration\",Results!$A$2,\"Rating\",D$1,\"Date\",$A191)),-100000,GETPIVOTDATA(\"Duration\",Results!$A$2,\"Rating\",D$1,\"Date\",$A191))","v":-100000},{"$f":"IF(ISERROR(GETPIVOTDATA(\"Duration\",Results!$A$2,\"Rating\",E$1,\"Date\",$A191)),-100000,GETPIVOTDATA(\"Duration\",Results!$A$2,\"Rating\",E$1,\"Date\",$A191))","v":-100000},{"$f":"IF(ISERROR(GETPIVOTDATA(\"Duration\",Results!$A$2,\"Rating\",F$1,\"Date\",$A191)),-100000,GETPIVOTDATA(\"Duration\",Results!$A$2,\"Rating\",F$1,\"Date\",$A191))","v":-100000},1000,1000,{"$f":"AVERAGE(G$3:G191)","v":1000}]
["2014-07-09",{"$f":"IF(ISERROR(GETPIVOTDATA(\"Duration\",Results!$A$2,\"Rating\",B$1,\"Date\",$A192)),-100000,GETPIVOTDATA(\"Duration\",Results!$A$2,\"Rating\",B$1,\"Date\",$A192))","v":-100000},{"$f":"IF(ISERROR(GETPIVOTDATA(\"Duration\",Results!$A$2,\"Rating\",C$1,\"Date\",$A192)),-100000,GETPIVOTDATA(\"Duration\",Results!$A$2,\"Rating\",C$1,\"Date\",$A192))","v":-100000},{"$f":"IF(ISERROR(GETPIVOTDATA(\"Duration\",Results!$A$2,\"Rating\",D$1,\"Date\",$A192)),-100000,GETPIVOTDATA(\"Duration\",Results!$A$2,\"Rating\",D$1,\"Date\",$A192))","v":-100000},{"$f":"IF(ISERROR(GETPIVOTDATA(\"Duration\",Results!$A$2,\"Rating\",E$1,\"Date\",$A192)),-100000,GETPIVOTDATA(\"Duration\",Results!$A$2,\"Rating\",E$1,\"Date\",$A192))","v":-100000},{"$f":"IF(ISERROR(GETPIVOTDATA(\"Duration\",Results!$A$2,\"Rating\",F$1,\"Date\",$A192)),-100000,GETPIVOTDATA(\"Duration\",Results!$A$2,\"Rating\",F$1,\"Date\",$A192))","v":-100000},1000,1000,{"$f":"AVERAGE(G$3:G192)","v":1000}]
["2014-07-10",{"$f":"IF(ISERROR(GETPIVOTDATA(\"Duration\",Results!$A$2,\"Rating\",B$1,\"Date\",$A193)),-100000,GETPIVOTDATA(\"Duration\",Results!$A$2,\"Rating\",B$1,\"Date\",$A193))","v":-100000},{"$f":"IF(ISERROR(GETPIVOTDATA(\"Duration\",Results!$A$2,\"Rating\",C$1,\"Date\",$A193)),-100000,GETPIVOTDATA(\"Duration\",Results!$A$2,\"Rating\",C$1,\"Date\",$A193))","v":-100000},{"$f":"IF(ISERROR(GETPIVOTDATA(\"Duration\",Results!$A$2,\"Rating\",D$1,\"Date\",$A193)),-100000,GETPIVOTDATA(\"Duration\",Results!$A$2,\"Rating\",D$1,\"Date\",$A193))","v":-100000},{"$f":"IF(ISERROR(GETPIVOTDATA(\"Duration\",Results!$A$2,\"Rating\",E$1,\"Date\",$A193)),-100000,GETPIVOTDATA(\"Duration\",Results!$A$2,\"Rating\",E$1,\"Date\",$A193))","v":-100000},{"$f":"IF(ISERROR(GETPIVOTDATA(\"Duration\",Results!$A$2,\"Rating\",F$1,\"Date\",$A193)),-100000,GETPIVOTDATA(\"Duration\",Results!$A$2,\"Rating\",F$1,\"Date\",$A193))","v":-100000},1000,1000,{"$f":"AVERAGE(G$3:G193)","v":1000}]
["2014-07-11",{"$f":"IF(ISERROR(GETPIVOTDATA(\"Duration\",Results!$A$2,\"Rating\",B$1,\"Date\",$A194)),-100000,GETPIVOTDATA(\"Duration\",Results!$A$2,\"Rating\",B$1,\"Date\",$A194))","v":-100000},{"$f":"IF(ISERROR(GETPIVOTDATA(\"Duration\",Results!$A$2,\"Rating\",C$1,\"Date\",$A194)),-100000,GETPIVOTDATA(\"Duration\",Results!$A$2,\"Rating\",C$1,\"Date\",$A194))","v":-100000},{"$f":"IF(ISERROR(GETPIVOTDATA(\"Duration\",Results!$A$2,\"Rating\",D$1,\"Date\",$A194)),-100000,GETPIVOTDATA(\"Duration\",Results!$A$2,\"Rating\",D$1,\"Date\",$A194))","v":-100000},{"$f":"IF(ISERROR(GETPIVOTDATA(\"Duration\",Results!$A$2,\"Rating\",E$1,\"Date\",$A194)),-100000,GETPIVOTDATA(\"Duration\",Results!$A$2,\"Rating\",E$1,\"Date\",$A194))","v":-100000},{"$f":"IF(ISERROR(GETPIVOTDATA(\"Duration\",Results!$A$2,\"Rating\",F$1,\"Date\",$A194)),-100000,GETPIVOTDATA(\"Duration\",Results!$A$2,\"Rating\",F$1,\"Date\",$A194))","v":-100000},1000,1000,{"$f":"AVERAGE(G$3:G194)","v":1000}]
["2014-07-12",{"$f":"IF(ISERROR(GETPIVOTDATA(\"Duration\",Results!$A$2,\"Rating\",B$1,\"Date\",$A195)),-100000,GETPIVOTDATA(\"Duration\",Results!$A$2,\"Rating\",B$1,\"Date\",$A195))","v":-100000},{"$f":"IF(ISERROR(GETPIVOTDATA(\"Duration\",Results!$A$2,\"Rating\",C$1,\"Date\",$A195)),-100000,GETPIVOTDATA(\"Duration\",Results!$A$2,\"Rating\",C$1,\"Date\",$A195))","v":-100000},{"$f":"IF(ISERROR(GETPIVOTDATA(\"Duration\",Results!$A$2,\"Rating\",D$1,\"Date\",$A195)),-100000,GETPIVOTDATA(\"Duration\",Results!$A$2,\"Rating\",D$1,\"Date\",$A195))","v":-100000},{"$f":"IF(ISERROR(GETPIVOTDATA(\"Duration\",Results!$A$2,\"Rating\",E$1,\"Date\",$A195)),-100000,GETPIVOTDATA(\"Duration\",Results!$A$2,\"Rating\",E$1,\"Date\",$A195))","v":-100000},{"$f":"IF(ISERROR(GETPIVOTDATA(\"Duration\",Results!$A$2,\"Rating\",F$1,\"Date\",$A195)),-100000,GETPIVOTDATA(\"Duration\",Results!$A$2,\"Rating\",F$1,\"Date\",$A195))","v":-100000},1000,1000,{"$f":"AVERAGE(G$3:G195)","v":1000}]
["2014-07-13",{"$f":"IF(ISERROR(GETPIVOTDATA(\"Duration\",Results!$A$2,\"Rating\",B$1,\"Date\",$A196)),-100000,GETPIVOTDATA(\"Duration\",Results!$A$2,\"Rating\",B$1,\"Date\",$A196))","v":-100000},{"$f":"IF(ISERROR(GETPIVOTDATA(\"Duration\",Results!$A$2,\"Rating\",C$1,\"Date\",$A196)),-100000,GETPIVOTDATA(\"Duration\",Results!$A$2,\"Rating\",C$1,\"Date\",$A196))","v":-100000},{"$f":"IF(ISERROR(GETPIVOTDATA(\"Duration\",Results!$A$2,\"Rating\",D$1,\"Date\",$A196)),-100000,GETPIVOTDATA(\"Duration\",Results!$A$2,\"Rating\",D$1,\"Date\",$A196))","v":-100000},{"$f":"IF(ISERROR(GETPIVOTDATA(\"Duration\",Results!$A$2,\"Rating\",E$1,\"Date\",$A196)),-100000,GETPIVOTDATA(\"Duration\",Results!$A$2,\"Rating\",E$1,\"Date\",$A196))","v":-100000},{"$f":"IF(ISERROR(GETPIVOTDATA(\"Duration\",Results!$A$2,\"Rating\",F$1,\"Date\",$A196)),-100000,GETPIVOTDATA(\"Duration\",Results!$A$2,\"Rating\",F$1,\"Date\",$A196))","v":-100000},1000,1000,{"$f":"AVERAGE(G$3:G196)","v":1000}]
["2014-07-14",{"$f":"IF(ISERROR(GETPIVOTDATA(\"Duration\",Results!$A$2,\"Rating\",B$1,\"Date\",$A197)),-100000,GETPIVOTDATA(\"Duration\",Results!$A$2,\"Rating\",B$1,\"Date\",$A197))","v":-100000},{"$f":"IF(ISERROR(GETPIVOTDATA(\"Duration\",Results!$A$2,\"Rating\",C$1,\"Date\",$A197)),-100000,GETPIVOTDATA(\"Duration\",Results!$A$2,\"Rating\",C$1,\"Date\",$A197))","v":-100000},{"$f":"IF(ISERROR(GETPIVOTDATA(\"Duration\",Results!$A$2,\"Rating\",D$1,\"Date\",$A197)),-100000,GETPIVOTDATA(\"Duration\",Results!$A$2,\"Rating\",D$1,\"Date\",$A197))","v":-100000},{"$f":"IF(ISERROR(GETPIVOTDATA(\"Duration\",Results!$A$2,\"Rating\",E$1,\"Date\",$A197)),-100000,GETPIVOTDATA(\"Duration\",Results!$A$2,\"Rating\",E$1,\"Date\",$A197))","v":-100000},{"$f":"IF(ISERROR(GETPIVOTDATA(\"Duration\",Results!$A$2,\"Rating\",F$1,\"Date\",$A197)),-100000,GETPIVOTDATA(\"Duration\",Results!$A$2,\"Rating\",F$1,\"Date\",$A197))","v":-100000},1000,1000,{"$f":"AVERAGE(G$3:G197)","v":1000}]
["2014-07-15",{"$f":"IF(ISERROR(GETPIVOTDATA(\"Duration\",Results!$A$2,\"Rating\",B$1,\"Date\",$A198)),-100000,GETPIVOTDATA(\"Duration\",Results!$A$2,\"Rating\",B$1,\"Date\",$A198))","v":-100000},{"$f":"IF(ISERROR(GETPIVOTDATA(\"Duration\",Results!$A$2,\"Rating\",C$1,\"Date\",$A198)),-100000,GETPIVOTDATA(\"Duration\",Results!$A$2,\"Rating\",C$1,\"Date\",$A198))","v":-100000},{"$f":"IF(ISERROR(GETPIVOTDATA(\"Duration\",Results!$A$2,\"Rating\",D$1,\"Date\",$A198)),-100000,GETPIVOTDATA(\"Duration\",Results!$A$2,\"Rating\",D$1,\"Date\",$A198))","v":-100000},{"$f":"IF(ISERROR(GETPIVOTDATA(\"Duration\",Results!$A$2,\"Rating\",E$1,\"Date\",$A198)),-100000,GETPIVOTDATA(\"Duration\",Results!$A$2,\"Rating\",E$1,\"Date\",$A198))","v":-100000},{"$f":"IF(ISERROR(GETPIVOTDATA(\"Duration\",Results!$A$2,\"Rating\",F$1,\"Date\",$A198)),-100000,GETPIVOTDATA(\"Duration\",Results!$A$2,\"Rating\",F$1,\"Date\",$A198))","v":-100000},1000,1000,{"$f":"AVERAGE(G$3:G198)","v":1000}]
["2014-07-16",{"$f":"IF(ISERROR(GETPIVOTDATA(\"Duration\",Results!$A$2,\"Rating\",B$1,\"Date\",$A199)),-100000,GETPIVOTDATA(\"Duration\",Results!$A$2,\"Rating\",B$1,\"Date\",$A199))","v":-100000},{"$f":"IF(ISERROR(GETPIVOTDATA(\"Duration\",Results!$A$2,\"Rating\",C$1,\"Date\",$A199)),-100000,GETPIVOTDATA(\"Duration\",Results!$A$2,\"Rating\",C$1,\"Date\",$A199))","v":-100000},{"$f":"IF(ISERROR(GETPIVOTDATA(\"Duration\",Results!$A$2,\"Rating\",D$1,\"Date\",$A199)),-100000,GETPIVOTDATA(\"Duration\",Results!$A$2,\"Rating\",D$1,\"Date\",$A199))","v":-100000},{"$f":"IF(ISERROR(GETPIVOTDATA(\"Duration\",Results!$A$2,\"Rating\",E$1,\"Date\",$A199)),-100000,GETPIVOTDATA(\"Duration\",Results!$A$2,\"Rating\",E$1,\"Date\",$A199))","v":-100000},{"$f":"IF(ISERROR(GETPIVOTDATA(\"Duration\",Results!$A$2,\"Rating\",F$1,\"Date\",$A199)),-100000,GETPIVOTDATA(\"Duration\",Results!$A$2,\"Rating\",F$1,\"Date\",$A199))","v":-100000},1000,1000,{"$f":"AVERAGE(G$3:G199)","v":1000}]
["2014-07-17",{"$f":"IF(ISERROR(GETPIVOTDATA(\"Duration\",Results!$A$2,\"Rating\",B$1,\"Date\",$A200)),-100000,GETPIVOTDATA(\"Duration\",Results!$A$2,\"Rating\",B$1,\"Date\",$A200))","v":-100000},{"$f":"IF(ISERROR(GETPIVOTDATA(\"Duration\",Results!$A$2,\"Rating\",C$1,\"Date\",$A200)),-100000,GETPIVOTDATA(\"Duration\",Results!$A$2,\"Rating\",C$1,\"Date\",$A200))","v":-100000},{"$f":"IF(ISERROR(GETPIVOTDATA(\"Duration\",Results!$A$2,\"Rating\",D$1,\"Date\",$A200)),-100000,GETPIVOTDATA(\"Duration\",Results!$A$2,\"Rating\",D$1,\"Date\",$A200))","v":-100000},{"$f":"IF(ISERROR(GETPIVOTDATA(\"Duration\",Results!$A$2,\"Rating\",E$1,\"Date\",$A200)),-100000,GETPIVOTDATA(\"Duration\",Results!$A$2,\"Rating\",E$1,\"Date\",$A200))","v":-100000},{"$f":"IF(ISERROR(GETPIVOTDATA(\"Duration\",Results!$A$2,\"Rating\",F$1,\"Date\",$A200)),-100000,GETPIVOTDATA(\"Duration\",Results!$A$2,\"Rating\",F$1,\"Date\",$A200))","v":-100000},1000,1000,{"$f":"AVERAGE(G$3:G200)","v":1000}]
["2014-07-18",{"$f":"IF(ISERROR(GETPIVOTDATA(\"Duration\",Results!$A$2,\"Rating\",B$1,\"Date\",$A201)),-100000,GETPIVOTDATA(\"Duration\",Results!$A$2,\"Rating\",B$1,\"Date\",$A201))","v":-100000},{"$f":"IF(ISERROR(GETPIVOTDATA(\"Duration\",Results!$A$2,\"Rating\",C$1,\"Date\",$A201)),-100000,GETPIVOTDATA(\"Duration\",Results!$A$2,\"Rating\",C$1,\"Date\",$A201))","v":-100000},{"$f":"IF(ISERROR(GETPIVOTDATA(\"Duration\",Results!$A$2,\"Rating\",D$1,\"Date\",$A201)),-100000,GETPIVOTDATA(\"Duration\",Results!$A$2,\"Rating\",D$1,\"Date\",$A201))","v":-100000},{"$f":"IF(ISERROR(GETPIVOTDATA(\"Duration\",Results!$A$2,\"Rating\",E$1,\"Date\",$A201)),-100000,GETPIVOTDATA(\"Duration\",Results!$A$2,\"Rating\",E$1,\"Date\",$A201))","v":-100000},{"$f":"IF(ISERROR(GETPIVOTDATA(\"Duration\",Results!$A$2,\"Rating\",F$1,\"Date\",$A201)),-100000,GETPIVOTDATA(\"Duration\",Results!$A$2,\"Rating\",F$1,\"Date\",$A201))","v":-100000},1000,1000,{"$f":"AVERAGE(G$3:G201)","v":1000}]
["2014-07-19",{"$f":"IF(ISERROR(GETPIVOTDATA(\"Duration\",Results!$A$2,\"Rating\",B$1,\"Date\",$A202)),-100000,GETPIVOTDATA(\"Duration\",Results!$A$2,\"Rating\",B$1,\"Date\",$A202))","v":-100000},{"$f":"IF(ISERROR(GETPIVOTDATA(\"Duration\",Results!$A$2,\"Rating\",C$1,\"Date\",$A202)),-100000,GETPIVOTDATA(\"Duration\",Results!$A$2,\"Rating\",C$1,\"Date\",$A202))","v":-100000},{"$f":"IF(ISERROR(GETPIVOTDATA(\"Duration\",Results!$A$2,\"Rating\",D$1,\"Date\",$A202)),-100000,GETPIVOTDATA(\"Duration\",Results!$A$2,\"Rating\",D$1,\"Date\",$A202))","v":-100000},{"$f":"IF(ISERROR(GETPIVOTDATA(\"Duration\",Results!$A$2,\"Rating\",E$1,\"Date\",$A202)),-100000,GETPIVOTDATA(\"Duration\",Results!$A$2,\"Rating\",E$1,\"Date\",$A202))","v":-100000},{"$f":"IF(ISERROR(GETPIVOTDATA(\"Duration\",Results!$A$2,\"Rating\",F$1,\"Date\",$A202)),-100000,GETPIVOTDATA(\"Duration\",Results!$A$2,\"Rating\",F$1,\"Date\",$A202))","v":-100000},1000,1000,{"$f":"AVERAGE(G$3:G202)","v":1000}]
["2014-07-20",{"$f":"IF(ISERROR(GETPIVOTDATA(\"Duration\",Results!$A$2,\"Rating\",B$1,\"Date\",$A203)),-100000,GETPIVOTDATA(\"Duration\",Results!$A$2,\"Rating\",B$1,\"Date\",$A203))","v":-100000},{"$f":"IF(ISERROR(GETPIVOTDATA(\"Duration\",Results!$A$2,\"Rating\",C$1,\"Date\",$A203)),-100000,GETPIVOTDATA(\"Duration\",Results!$A$2,\"Rating\",C$1,\"Date\",$A203))","v":-100000},{"$f":"IF(ISERROR(GETPIVOTDATA(\"Duration\",Results!$A$2,\"Rating\",D$1,\"Date\",$A203)),-100000,GETPIVOTDATA(\"Duration\",Results!$A$2,\"Rating\",D$1,\"Date\",$A203))","v":-100000},{"$f":"IF(ISERROR(GETPIVOTDATA(\"Duration\",Results!$A$2,\"Rating\",E$1,\"Date\",$A203)),-100000,GETPIVOTDATA(\"Duration\",Results!$A$2,\"Rating\",E$1,\"Date\",$A203))","v":-100000},{"$f":"IF(ISERROR(GETPIVOTDATA(\"Duration\",Results!$A$2,\"Rating\",F$1,\"Date\",$A203)),-100000,GETPIVOTDATA(\"Duration\",Results!$A$2,\"Rating\",F$1,\"Date\",$A203))","v":-100000},1000,1000,{"$f":"AVERAGE(G$3:G203)","v":1000}]
["2014-07-21",{"$f":"IF(ISERROR(GETPIVOTDATA(\"Duration\",Results!$A$2,\"Rating\",B$1,\"Date\",$A204)),-100000,GETPIVOTDATA(\"Duration\",Results!$A$2,\"Rating\",B$1,\"Date\",$A204))","v":-100000},{"$f":"IF(ISERROR(GETPIVOTDATA(\"Duration\",Results!$A$2,\"Rating\",C$1,\"Date\",$A204)),-100000,GETPIVOTDATA(\"Duration\",Results!$A$2,\"Rating\",C$1,\"Date\",$A204))","v":-100000},{"$f":"IF(ISERROR(GETPIVOTDATA(\"Duration\",Results!$A$2,\"Rating\",D$1,\"Date\",$A204)),-100000,GETPIVOTDATA(\"Duration\",Results!$A$2,\"Rating\",D$1,\"Date\",$A204))","v":-100000},{"$f":"IF(ISERROR(GETPIVOTDATA(\"Duration\",Results!$A$2,\"Rating\",E$1,\"Date\",$A204)),-100000,GETPIVOTDATA(\"Duration\",Results!$A$2,\"Rating\",E$1,\"Date\",$A204))","v":-100000},{"$f":"IF(ISERROR(GETPIVOTDATA(\"Duration\",Results!$A$2,\"Rating\",F$1,\"Date\",$A204)),-100000,GETPIVOTDATA(\"Duration\",Results!$A$2,\"Rating\",F$1,\"Date\",$A204))","v":-100000},1000,1000,{"$f":"AVERAGE(G$3:G204)","v":1000}]
["2014-07-22",{"$f":"IF(ISERROR(GETPIVOTDATA(\"Duration\",Results!$A$2,\"Rating\",B$1,\"Date\",$A205)),-100000,GETPIVOTDATA(\"Duration\",Results!$A$2,\"Rating\",B$1,\"Date\",$A205))","v":-100000},{"$f":"IF(ISERROR(GETPIVOTDATA(\"Duration\",Results!$A$2,\"Rating\",C$1,\"Date\",$A205)),-100000,GETPIVOTDATA(\"Duration\",Results!$A$2,\"Rating\",C$1,\"Date\",$A205))","v":-100000},{"$f":"IF(ISERROR(GETPIVOTDATA(\"Duration\",Results!$A$2,\"Rating\",D$1,\"Date\",$A205)),-100000,GETPIVOTDATA(\"Duration\",Results!$A$2,\"Rating\",D$1,\"Date\",$A205))","v":-100000},{"$f":"IF(ISERROR(GETPIVOTDATA(\"Duration\",Results!$A$2,\"Rating\",E$1,\"Date\",$A205)),-100000,GETPIVOTDATA(\"Duration\",Results!$A$2,\"Rating\",E$1,\"Date\",$A205))","v":-100000},{"$f":"IF(ISERROR(GETPIVOTDATA(\"Duration\",Results!$A$2,\"Rating\",F$1,\"Date\",$A205)),-100000,GETPIVOTDATA(\"Duration\",Results!$A$2,\"Rating\",F$1,\"Date\",$A205))","v":-100000},1000,1000,{"$f":"AVERAGE(G$3:G205)","v":1000}]
["2014-07-23",{"$f":"IF(ISERROR(GETPIVOTDATA(\"Duration\",Results!$A$2,\"Rating\",B$1,\"Date\",$A206)),-100000,GETPIVOTDATA(\"Duration\",Results!$A$2,\"Rating\",B$1,\"Date\",$A206))","v":-100000},{"$f":"IF(ISERROR(GETPIVOTDATA(\"Duration\",Results!$A$2,\"Rating\",C$1,\"Date\",$A206)),-100000,GETPIVOTDATA(\"Duration\",Results!$A$2,\"Rating\",C$1,\"Date\",$A206))","v":-100000},{"$f":"IF(ISERROR(GETPIVOTDATA(\"Duration\",Results!$A$2,\"Rating\",D$1,\"Date\",$A206)),-100000,GETPIVOTDATA(\"Duration\",Results!$A$2,\"Rating\",D$1,\"Date\",$A206))","v":-100000},{"$f":"IF(ISERROR(GETPIVOTDATA(\"Duration\",Results!$A$2,\"Rating\",E$1,\"Date\",$A206)),-100000,GETPIVOTDATA(\"Duration\",Results!$A$2,\"Rating\",E$1,\"Date\",$A206))","v":-100000},{"$f":"IF(ISERROR(GETPIVOTDATA(\"Duration\",Results!$A$2,\"Rating\",F$1,\"Date\",$A206)),-100000,GETPIVOTDATA(\"Duration\",Results!$A$2,\"Rating\",F$1,\"Date\",$A206))","v":-100000},1000,1000,{"$f":"AVERAGE(G$3:G206)","v":1000}]
["2014-07-24",{"$f":"IF(ISERROR(GETPIVOTDATA(\"Duration\",Results!$A$2,\"Rating\",B$1,\"Date\",$A207)),-100000,GETPIVOTDATA(\"Duration\",Results!$A$2,\"Rating\",B$1,\"Date\",$A207))","v":-100000},{"$f":"IF(ISERROR(GETPIVOTDATA(\"Duration\",Results!$A$2,\"Rating\",C$1,\"Date\",$A207)),-100000,GETPIVOTDATA(\"Duration\",Results!$A$2,\"Rating\",C$1,\"Date\",$A207))","v":-100000},{"$f":"IF(ISERROR(GETPIVOTDATA(\"Duration\",Results!$A$2,\"Rating\",D$1,\"Date\",$A207)),-100000,GETPIVOTDATA(\"Duration\",Results!$A$2,\"Rating\",D$1,\"Date\",$A207))","v":-100000},{"$f":"IF(ISERROR(GETPIVOTDATA(\"Duration\",Results!$A$2,\"Rating\",E$1,\"Date\",$A207)),-100000,GETPIVOTDATA(\"Duration\",Results!$A$2,\"Rating\",E$1,\"Date\",$A207))","v":-100000},{"$f":"IF(ISERROR(GETPIVOTDATA(\"Duration\",Results!$A$2,\"Rating\",F$1,\"Date\",$A207)),-100000,GETPIVOTDATA(\"Duration\",Results!$A$2,\"Rating\",F$1,\"Date\",$A207))","v":-100000},1000,1000,{"$f":"AVERAGE(G$3:G207)","v":1000}]
["2014-07-25",{"$f":"IF(ISERROR(GETPIVOTDATA(\"Duration\",Results!$A$2,\"Rating\",B$1,\"Date\",$A208)),-100000,GETPIVOTDATA(\"Duration\",Results!$A$2,\"Rating\",B$1,\"Date\",$A208))","v":-100000},{"$f":"IF(ISERROR(GETPIVOTDATA(\"Duration\",Results!$A$2,\"Rating\",C$1,\"Date\",$A208)),-100000,GETPIVOTDATA(\"Duration\",Results!$A$2,\"Rating\",C$1,\"Date\",$A208))","v":-100000},{"$f":"IF(ISERROR(GETPIVOTDATA(\"Duration\",Results!$A$2,\"Rating\",D$1,\"Date\",$A208)),-100000,GETPIVOTDATA(\"Duration\",Results!$A$2,\"Rating\",D$1,\"Date\",$A208))","v":-100000},{"$f":"IF(ISERROR(GETPIVOTDATA(\"Duration\",Results!$A$2,\"Rating\",E$1,\"Date\",$A208)),-100000,GETPIVOTDATA(\"Duration\",Results!$A$2,\"Rating\",E$1,\"Date\",$A208))","v":-100000},{"$f":"IF(ISERROR(GETPIVOTDATA(\"Duration\",Results!$A$2,\"Rating\",F$1,\"Date\",$A208)),-100000,GETPIVOTDATA(\"Duration\",Results!$A$2,\"Rating\",F$1,\"Date\",$A208))","v":-100000},1000,1000,{"$f":"AVERAGE(G$3:G208)","v":1000}]
["2014-07-26",{"$f":"IF(ISERROR(GETPIVOTDATA(\"Duration\",Results!$A$2,\"Rating\",B$1,\"Date\",$A209)),-100000,GETPIVOTDATA(\"Duration\",Results!$A$2,\"Rating\",B$1,\"Date\",$A209))","v":-100000},{"$f":"IF(ISERROR(GETPIVOTDATA(\"Duration\",Results!$A$2,\"Rating\",C$1,\"Date\",$A209)),-100000,GETPIVOTDATA(\"Duration\",Results!$A$2,\"Rating\",C$1,\"Date\",$A209))","v":-100000},{"$f":"IF(ISERROR(GETPIVOTDATA(\"Duration\",Results!$A$2,\"Rating\",D$1,\"Date\",$A209)),-100000,GETPIVOTDATA(\"Duration\",Results!$A$2,\"Rating\",D$1,\"Date\",$A209))","v":-100000},{"$f":"IF(ISERROR(GETPIVOTDATA(\"Duration\",Results!$A$2,\"Rating\",E$1,\"Date\",$A209)),-100000,GETPIVOTDATA(\"Duration\",Results!$A$2,\"Rating\",E$1,\"Date\",$A209))","v":-100000},{"$f":"IF(ISERROR(GETPIVOTDATA(\"Duration\",Results!$A$2,\"Rating\",F$1,\"Date\",$A209)),-100000,GETPIVOTDATA(\"Duration\",Results!$A$2,\"Rating\",F$1,\"Date\",$A209))","v":-100000},1000,1000,{"$f":"AVERAGE(G$3:G209)","v":1000}]
["2014-07-27",{"$f":"IF(ISERROR(GETPIVOTDATA(\"Duration\",Results!$A$2,\"Rating\",B$1,\"Date\",$A210)),-100000,GETPIVOTDATA(\"Duration\",Results!$A$2,\"Rating\",B$1,\"Date\",$A210))","v":-100000},{"$f":"IF(ISERROR(GETPIVOTDATA(\"Duration\",Results!$A$2,\"Rating\",C$1,\"Date\",$A210)),-100000,GETPIVOTDATA(\"Duration\",Results!$A$2,\"Rating\",C$1,\"Date\",$A210))","v":-100000},{"$f":"IF(ISERROR(GETPIVOTDATA(\"Duration\",Results!$A$2,\"Rating\",D$1,\"Date\",$A210)),-100000,GETPIVOTDATA(\"Duration\",Results!$A$2,\"Rating\",D$1,\"Date\",$A210))","v":-100000},{"$f":"IF(ISERROR(GETPIVOTDATA(\"Duration\",Results!$A$2,\"Rating\",E$1,\"Date\",$A210)),-100000,GETPIVOTDATA(\"Duration\",Results!$A$2,\"Rating\",E$1,\"Date\",$A210))","v":-100000},{"$f":"IF(ISERROR(GETPIVOTDATA(\"Duration\",Results!$A$2,\"Rating\",F$1,\"Date\",$A210)),-100000,GETPIVOTDATA(\"Duration\",Results!$A$2,\"Rating\",F$1,\"Date\",$A210))","v":-100000},1000,1000,{"$f":"AVERAGE(G$3:G210)","v":1000}]
["2014-07-28",{"$f":"IF(ISERROR(GETPIVOTDATA(\"Duration\",Results!$A$2,\"Rating\",B$1,\"Date\",$A211)),-100000,GETPIVOTDATA(\"Duration\",Results!$A$2,\"Rating\",B$1,\"Date\",$A211))","v":-100000},{"$f":"IF(ISERROR(GETPIVOTDATA(\"Duration\",Results!$A$2,\"Rating\",C$1,\"Date\",$A211)),-100000,GETPIVOTDATA(\"Duration\",Results!$A$2,\"Rating\",C$1,\"Date\",$A211))","v":-100000},{"$f":"IF(ISERROR(GETPIVOTDATA(\"Duration\",Results!$A$2,\"Rating\",D$1,\"Date\",$A211)),-100000,GETPIVOTDATA(\"Duration\",Results!$A$2,\"Rating\",D$1,\"Date\",$A211))","v":-100000},{"$f":"IF(ISERROR(GETPIVOTDATA(\"Duration\",Results!$A$2,\"Rating\",E$1,\"Date\",$A211)),-100000,GETPIVOTDATA(\"Duration\",Results!$A$2,\"Rating\",E$1,\"Date\",$A211))","v":-100000},{"$f":"IF(ISERROR(GETPIVOTDATA(\"Duration\",Results!$A$2,\"Rating\",F$1,\"Date\",$A211)),-100000,GETPIVOTDATA(\"Duration\",Results!$A$2,\"Rating\",F$1,\"Date\",$A211))","v":-100000},1000,1000,{"$f":"AVERAGE(G$3:G211)","v":1000}]
["2014-07-29",{"$f":"IF(ISERROR(GETPIVOTDATA(\"Duration\",Results!$A$2,\"Rating\",B$1,\"Date\",$A212)),-100000,GETPIVOTDATA(\"Duration\",Results!$A$2,\"Rating\",B$1,\"Date\",$A212))","v":-100000},{"$f":"IF(ISERROR(GETPIVOTDATA(\"Duration\",Results!$A$2,\"Rating\",C$1,\"Date\",$A212)),-100000,GETPIVOTDATA(\"Duration\",Results!$A$2,\"Rating\",C$1,\"Date\",$A212))","v":-100000},{"$f":"IF(ISERROR(GETPIVOTDATA(\"Duration\",Results!$A$2,\"Rating\",D$1,\"Date\",$A212)),-100000,GETPIVOTDATA(\"Duration\",Results!$A$2,\"Rating\",D$1,\"Date\",$A212))","v":-100000},{"$f":"IF(ISERROR(GETPIVOTDATA(\"Duration\",Results!$A$2,\"Rating\",E$1,\"Date\",$A212)),-100000,GETPIVOTDATA(\"Duration\",Results!$A$2,\"Rating\",E$1,\"Date\",$A212))","v":-100000},{"$f":"IF(ISERROR(GETPIVOTDATA(\"Duration\",Results!$A$2,\"Rating\",F$1,\"Date\",$A212)),-100000,GETPIVOTDATA(\"Duration\",Results!$A$2,\"Rating\",F$1,\"Date\",$A212))","v":-100000},1000,1000,{"$f":"AVERAGE(G$3:G212)","v":1000}]
["2014-07-30",{"$f":"IF(ISERROR(GETPIVOTDATA(\"Duration\",Results!$A$2,\"Rating\",B$1,\"Date\",$A213)),-100000,GETPIVOTDATA(\"Duration\",Results!$A$2,\"Rating\",B$1,\"Date\",$A213))","v":-100000},{"$f":"IF(ISERROR(GETPIVOTDATA(\"Duration\",Results!$A$2,\"Rating\",C$1,\"Date\",$A213)),-100000,GETPIVOTDATA(\"Duration\",Results!$A$2,\"Rating\",C$1,\"Date\",$A213))","v":-100000},{"$f":"IF(ISERROR(GETPIVOTDATA(\"Duration\",Results!$A$2,\"Rating\",D$1,\"Date\",$A213)),-100000,GETPIVOTDATA(\"Duration\",Results!$A$2,\"Rating\",D$1,\"Date\",$A213))","v":-100000},{"$f":"IF(ISERROR(GETPIVOTDATA(\"Duration\",Results!$A$2,\"Rating\",E$1,\"Date\",$A213)),-100000,GETPIVOTDATA(\"Duration\",Results!$A$2,\"Rating\",E$1,\"Date\",$A213))","v":-100000},{"$f":"IF(ISERROR(GETPIVOTDATA(\"Duration\",Results!$A$2,\"Rating\",F$1,\"Date\",$A213)),-100000,GETPIVOTDATA(\"Duration\",Results!$A$2,\"Rating\",F$1,\"Date\",$A213))","v":-100000},1000,1000,{"$f":"AVERAGE(G$3:G213)","v":1000}]
["2014-07-31",{"$f":"IF(ISERROR(GETPIVOTDATA(\"Duration\",Results!$A$2,\"Rating\",B$1,\"Date\",$A214)),-100000,GETPIVOTDATA(\"Duration\",Results!$A$2,\"Rating\",B$1,\"Date\",$A214))","v":-100000},{"$f":"IF(ISERROR(GETPIVOTDATA(\"Duration\",Results!$A$2,\"Rating\",C$1,\"Date\",$A214)),-100000,GETPIVOTDATA(\"Duration\",Results!$A$2,\"Rating\",C$1,\"Date\",$A214))","v":-100000},{"$f":"IF(ISERROR(GETPIVOTDATA(\"Duration\",Results!$A$2,\"Rating\",D$1,\"Date\",$A214)),-100000,GETPIVOTDATA(\"Duration\",Results!$A$2,\"Rating\",D$1,\"Date\",$A214))","v":-100000},{"$f":"IF(ISERROR(GETPIVOTDATA(\"Duration\",Results!$A$2,\"Rating\",E$1,\"Date\",$A214)),-100000,GETPIVOTDATA(\"Duration\",Results!$A$2,\"Rating\",E$1,\"Date\",$A214))","v":-100000},{"$f":"IF(ISERROR(GETPIVOTDATA(\"Duration\",Results!$A$2,\"Rating\",F$1,\"Date\",$A214)),-100000,GETPIVOTDATA(\"Duration\",Results!$A$2,\"Rating\",F$1,\"Date\",$A214))","v":-100000},1000,1000,{"$f":"AVERAGE(G$3:G214)","v":1000}]
["2014-08-01",{"$f":"IF(ISERROR(GETPIVOTDATA(\"Duration\",Results!$A$2,\"Rating\",B$1,\"Date\",$A215)),-100000,GETPIVOTDATA(\"Duration\",Results!$A$2,\"Rating\",B$1,\"Date\",$A215))","v":-100000},{"$f":"IF(ISERROR(GETPIVOTDATA(\"Duration\",Results!$A$2,\"Rating\",C$1,\"Date\",$A215)),-100000,GETPIVOTDATA(\"Duration\",Results!$A$2,\"Rating\",C$1,\"Date\",$A215))","v":-100000},{"$f":"IF(ISERROR(GETPIVOTDATA(\"Duration\",Results!$A$2,\"Rating\",D$1,\"Date\",$A215)),-100000,GETPIVOTDATA(\"Duration\",Results!$A$2,\"Rating\",D$1,\"Date\",$A215))","v":-100000},{"$f":"IF(ISERROR(GETPIVOTDATA(\"Duration\",Results!$A$2,\"Rating\",E$1,\"Date\",$A215)),-100000,GETPIVOTDATA(\"Duration\",Results!$A$2,\"Rating\",E$1,\"Date\",$A215))","v":-100000},{"$f":"IF(ISERROR(GETPIVOTDATA(\"Duration\",Results!$A$2,\"Rating\",F$1,\"Date\",$A215)),-100000,GETPIVOTDATA(\"Duration\",Results!$A$2,\"Rating\",F$1,\"Date\",$A215))","v":-100000},1000,1000,{"$f":"AVERAGE(G$3:G215)","v":1000}]
["2014-08-02",{"$f":"IF(ISERROR(GETPIVOTDATA(\"Duration\",Results!$A$2,\"Rating\",B$1,\"Date\",$A216)),-100000,GETPIVOTDATA(\"Duration\",Results!$A$2,\"Rating\",B$1,\"Date\",$A216))","v":-100000},{"$f":"IF(ISERROR(GETPIVOTDATA(\"Duration\",Results!$A$2,\"Rating\",C$1,\"Date\",$A216)),-100000,GETPIVOTDATA(\"Duration\",Results!$A$2,\"Rating\",C$1,\"Date\",$A216))","v":-100000},{"$f":"IF(ISERROR(GETPIVOTDATA(\"Duration\",Results!$A$2,\"Rating\",D$1,\"Date\",$A216)),-100000,GETPIVOTDATA(\"Duration\",Results!$A$2,\"Rating\",D$1,\"Date\",$A216))","v":-100000},{"$f":"IF(ISERROR(GETPIVOTDATA(\"Duration\",Results!$A$2,\"Rating\",E$1,\"Date\",$A216)),-100000,GETPIVOTDATA(\"Duration\",Results!$A$2,\"Rating\",E$1,\"Date\",$A216))","v":-100000},{"$f":"IF(ISERROR(GETPIVOTDATA(\"Duration\",Results!$A$2,\"Rating\",F$1,\"Date\",$A216)),-100000,GETPIVOTDATA(\"Duration\",Results!$A$2,\"Rating\",F$1,\"Date\",$A216))","v":-100000},1000,1000,{"$f":"AVERAGE(G$3:G216)","v":1000}]
["2014-08-03",{"$f":"IF(ISERROR(GETPIVOTDATA(\"Duration\",Results!$A$2,\"Rating\",B$1,\"Date\",$A217)),-100000,GETPIVOTDATA(\"Duration\",Results!$A$2,\"Rating\",B$1,\"Date\",$A217))","v":-100000},{"$f":"IF(ISERROR(GETPIVOTDATA(\"Duration\",Results!$A$2,\"Rating\",C$1,\"Date\",$A217)),-100000,GETPIVOTDATA(\"Duration\",Results!$A$2,\"Rating\",C$1,\"Date\",$A217))","v":-100000},{"$f":"IF(ISERROR(GETPIVOTDATA(\"Duration\",Results!$A$2,\"Rating\",D$1,\"Date\",$A217)),-100000,GETPIVOTDATA(\"Duration\",Results!$A$2,\"Rating\",D$1,\"Date\",$A217))","v":-100000},{"$f":"IF(ISERROR(GETPIVOTDATA(\"Duration\",Results!$A$2,\"Rating\",E$1,\"Date\",$A217)),-100000,GETPIVOTDATA(\"Duration\",Results!$A$2,\"Rating\",E$1,\"Date\",$A217))","v":-100000},{"$f":"IF(ISERROR(GETPIVOTDATA(\"Duration\",Results!$A$2,\"Rating\",F$1,\"Date\",$A217)),-100000,GETPIVOTDATA(\"Duration\",Results!$A$2,\"Rating\",F$1,\"Date\",$A217))","v":-100000},1000,1000,{"$f":"AVERAGE(G$3:G217)","v":1000}]
["2014-08-04",{"$f":"IF(ISERROR(GETPIVOTDATA(\"Duration\",Results!$A$2,\"Rating\",B$1,\"Date\",$A218)),-100000,GETPIVOTDATA(\"Duration\",Results!$A$2,\"Rating\",B$1,\"Date\",$A218))","v":-100000},{"$f":"IF(ISERROR(GETPIVOTDATA(\"Duration\",Results!$A$2,\"Rating\",C$1,\"Date\",$A218)),-100000,GETPIVOTDATA(\"Duration\",Results!$A$2,\"Rating\",C$1,\"Date\",$A218))","v":-100000},{"$f":"IF(ISERROR(GETPIVOTDATA(\"Duration\",Results!$A$2,\"Rating\",D$1,\"Date\",$A218)),-100000,GETPIVOTDATA(\"Duration\",Results!$A$2,\"Rating\",D$1,\"Date\",$A218))","v":-100000},{"$f":"IF(ISERROR(GETPIVOTDATA(\"Duration\",Results!$A$2,\"Rating\",E$1,\"Date\",$A218)),-100000,GETPIVOTDATA(\"Duration\",Results!$A$2,\"Rating\",E$1,\"Date\",$A218))","v":-100000},{"$f":"IF(ISERROR(GETPIVOTDATA(\"Duration\",Results!$A$2,\"Rating\",F$1,\"Date\",$A218)),-100000,GETPIVOTDATA(\"Duration\",Results!$A$2,\"Rating\",F$1,\"Date\",$A218))","v":-100000},1000,1000,{"$f":"AVERAGE(G$3:G218)","v":1000}]
["2014-08-05",{"$f":"IF(ISERROR(GETPIVOTDATA(\"Duration\",Results!$A$2,\"Rating\",B$1,\"Date\",$A219)),-100000,GETPIVOTDATA(\"Duration\",Results!$A$2,\"Rating\",B$1,\"Date\",$A219))","v":-100000},{"$f":"IF(ISERROR(GETPIVOTDATA(\"Duration\",Results!$A$2,\"Rating\",C$1,\"Date\",$A219)),-100000,GETPIVOTDATA(\"Duration\",Results!$A$2,\"Rating\",C$1,\"Date\",$A219))","v":-100000},{"$f":"IF(ISERROR(GETPIVOTDATA(\"Duration\",Results!$A$2,\"Rating\",D$1,\"Date\",$A219)),-100000,GETPIVOTDATA(\"Duration\",Results!$A$2,\"Rating\",D$1,\"Date\",$A219))","v":-100000},{"$f":"IF(ISERROR(GETPIVOTDATA(\"Duration\",Results!$A$2,\"Rating\",E$1,\"Date\",$A219)),-100000,GETPIVOTDATA(\"Duration\",Results!$A$2,\"Rating\",E$1,\"Date\",$A219))","v":-100000},{"$f":"IF(ISERROR(GETPIVOTDATA(\"Duration\",Results!$A$2,\"Rating\",F$1,\"Date\",$A219)),-100000,GETPIVOTDATA(\"Duration\",Results!$A$2,\"Rating\",F$1,\"Date\",$A219))","v":-100000},1000,1000,{"$f":"AVERAGE(G$3:G219)","v":1000}]
["2014-08-06",{"$f":"IF(ISERROR(GETPIVOTDATA(\"Duration\",Results!$A$2,\"Rating\",B$1,\"Date\",$A220)),-100000,GETPIVOTDATA(\"Duration\",Results!$A$2,\"Rating\",B$1,\"Date\",$A220))","v":-100000},{"$f":"IF(ISERROR(GETPIVOTDATA(\"Duration\",Results!$A$2,\"Rating\",C$1,\"Date\",$A220)),-100000,GETPIVOTDATA(\"Duration\",Results!$A$2,\"Rating\",C$1,\"Date\",$A220))","v":-100000},{"$f":"IF(ISERROR(GETPIVOTDATA(\"Duration\",Results!$A$2,\"Rating\",D$1,\"Date\",$A220)),-100000,GETPIVOTDATA(\"Duration\",Results!$A$2,\"Rating\",D$1,\"Date\",$A220))","v":-100000},{"$f":"IF(ISERROR(GETPIVOTDATA(\"Duration\",Results!$A$2,\"Rating\",E$1,\"Date\",$A220)),-100000,GETPIVOTDATA(\"Duration\",Results!$A$2,\"Rating\",E$1,\"Date\",$A220))","v":-100000},{"$f":"IF(ISERROR(GETPIVOTDATA(\"Duration\",Results!$A$2,\"Rating\",F$1,\"Date\",$A220)),-100000,GETPIVOTDATA(\"Duration\",Results!$A$2,\"Rating\",F$1,\"Date\",$A220))","v":-100000},1000,1000,{"$f":"AVERAGE(G$3:G220)","v":1000}]
["2014-08-07",{"$f":"IF(ISERROR(GETPIVOTDATA(\"Duration\",Results!$A$2,\"Rating\",B$1,\"Date\",$A221)),-100000,GETPIVOTDATA(\"Duration\",Results!$A$2,\"Rating\",B$1,\"Date\",$A221))","v":-100000},{"$f":"IF(ISERROR(GETPIVOTDATA(\"Duration\",Results!$A$2,\"Rating\",C$1,\"Date\",$A221)),-100000,GETPIVOTDATA(\"Duration\",Results!$A$2,\"Rating\",C$1,\"Date\",$A221))","v":-100000},{"$f":"IF(ISERROR(GETPIVOTDATA(\"Duration\",Results!$A$2,\"Rating\",D$1,\"Date\",$A221)),-100000,GETPIVOTDATA(\"Duration\",Results!$A$2,\"Rating\",D$1,\"Date\",$A221))","v":-100000},{"$f":"IF(ISERROR(GETPIVOTDATA(\"Duration\",Results!$A$2,\"Rating\",E$1,\"Date\",$A221)),-100000,GETPIVOTDATA(\"Duration\",Results!$A$2,\"Rating\",E$1,\"Date\",$A221))","v":-100000},{"$f":"IF(ISERROR(GETPIVOTDATA(\"Duration\",Results!$A$2,\"Rating\",F$1,\"Date\",$A221)),-100000,GETPIVOTDATA(\"Duration\",Results!$A$2,\"Rating\",F$1,\"Date\",$A221))","v":-100000},1000,1000,{"$f":"AVERAGE(G$3:G221)","v":1000}]
["2014-08-08",{"$f":"IF(ISERROR(GETPIVOTDATA(\"Duration\",Results!$A$2,\"Rating\",B$1,\"Date\",$A222)),-100000,GETPIVOTDATA(\"Duration\",Results!$A$2,\"Rating\",B$1,\"Date\",$A222))","v":-100000},{"$f":"IF(ISERROR(GETPIVOTDATA(\"Duration\",Results!$A$2,\"Rating\",C$1,\"Date\",$A222)),-100000,GETPIVOTDATA(\"Duration\",Results!$A$2,\"Rating\",C$1,\"Date\",$A222))","v":-100000},{"$f":"IF(ISERROR(GETPIVOTDATA(\"Duration\",Results!$A$2,\"Rating\",D$1,\"Date\",$A222)),-100000,GETPIVOTDATA(\"Duration\",Results!$A$2,\"Rating\",D$1,\"Date\",$A222))","v":-100000},{"$f":"IF(ISERROR(GETPIVOTDATA(\"Duration\",Results!$A$2,\"Rating\",E$1,\"Date\",$A222)),-100000,GETPIVOTDATA(\"Duration\",Results!$A$2,\"Rating\",E$1,\"Date\",$A222))","v":-100000},{"$f":"IF(ISERROR(GETPIVOTDATA(\"Duration\",Results!$A$2,\"Rating\",F$1,\"Date\",$A222)),-100000,GETPIVOTDATA(\"Duration\",Results!$A$2,\"Rating\",F$1,\"Date\",$A222))","v":-100000},1000,1000,{"$f":"AVERAGE(G$3:G222)","v":1000}]
["2014-08-09",{"$f":"IF(ISERROR(GETPIVOTDATA(\"Duration\",Results!$A$2,\"Rating\",B$1,\"Date\",$A223)),-100000,GETPIVOTDATA(\"Duration\",Results!$A$2,\"Rating\",B$1,\"Date\",$A223))","v":-100000},{"$f":"IF(ISERROR(GETPIVOTDATA(\"Duration\",Results!$A$2,\"Rating\",C$1,\"Date\",$A223)),-100000,GETPIVOTDATA(\"Duration\",Results!$A$2,\"Rating\",C$1,\"Date\",$A223))","v":-100000},{"$f":"IF(ISERROR(GETPIVOTDATA(\"Duration\",Results!$A$2,\"Rating\",D$1,\"Date\",$A223)),-100000,GETPIVOTDATA(\"Duration\",Results!$A$2,\"Rating\",D$1,\"Date\",$A223))","v":-100000},{"$f":"IF(ISERROR(GETPIVOTDATA(\"Duration\",Results!$A$2,\"Rating\",E$1,\"Date\",$A223)),-100000,GETPIVOTDATA(\"Duration\",Results!$A$2,\"Rating\",E$1,\"Date\",$A223))","v":-100000},{"$f":"IF(ISERROR(GETPIVOTDATA(\"Duration\",Results!$A$2,\"Rating\",F$1,\"Date\",$A223)),-100000,GETPIVOTDATA(\"Duration\",Results!$A$2,\"Rating\",F$1,\"Date\",$A223))","v":-100000},1000,1000,{"$f":"AVERAGE(G$3:G223)","v":1000}]
["2014-08-10",{"$f":"IF(ISERROR(GETPIVOTDATA(\"Duration\",Results!$A$2,\"Rating\",B$1,\"Date\",$A224)),-100000,GETPIVOTDATA(\"Duration\",Results!$A$2,\"Rating\",B$1,\"Date\",$A224))","v":-100000},{"$f":"IF(ISERROR(GETPIVOTDATA(\"Duration\",Results!$A$2,\"Rating\",C$1,\"Date\",$A224)),-100000,GETPIVOTDATA(\"Duration\",Results!$A$2,\"Rating\",C$1,\"Date\",$A224))","v":-100000},{"$f":"IF(ISERROR(GETPIVOTDATA(\"Duration\",Results!$A$2,\"Rating\",D$1,\"Date\",$A224)),-100000,GETPIVOTDATA(\"Duration\",Results!$A$2,\"Rating\",D$1,\"Date\",$A224))","v":-100000},{"$f":"IF(ISERROR(GETPIVOTDATA(\"Duration\",Results!$A$2,\"Rating\",E$1,\"Date\",$A224)),-100000,GETPIVOTDATA(\"Duration\",Results!$A$2,\"Rating\",E$1,\"Date\",$A224))","v":-100000},{"$f":"IF(ISERROR(GETPIVOTDATA(\"Duration\",Results!$A$2,\"Rating\",F$1,\"Date\",$A224)),-100000,GETPIVOTDATA(\"Duration\",Results!$A$2,\"Rating\",F$1,\"Date\",$A224))","v":-100000},1000,1000,{"$f":"AVERAGE(G$3:G224)","v":1000}]
["2014-08-11",{"$f":"IF(ISERROR(GETPIVOTDATA(\"Duration\",Results!$A$2,\"Rating\",B$1,\"Date\",$A225)),-100000,GETPIVOTDATA(\"Duration\",Results!$A$2,\"Rating\",B$1,\"Date\",$A225))","v":-100000},{"$f":"IF(ISERROR(GETPIVOTDATA(\"Duration\",Results!$A$2,\"Rating\",C$1,\"Date\",$A225)),-100000,GETPIVOTDATA(\"Duration\",Results!$A$2,\"Rating\",C$1,\"Date\",$A225))","v":-100000},{"$f":"IF(ISERROR(GETPIVOTDATA(\"Duration\",Results!$A$2,\"Rating\",D$1,\"Date\",$A225)),-100000,GETPIVOTDATA(\"Duration\",Results!$A$2,\"Rating\",D$1,\"Date\",$A225))","v":-100000},{"$f":"IF(ISERROR(GETPIVOTDATA(\"Duration\",Results!$A$2,\"Rating\",E$1,\"Date\",$A225)),-100000,GETPIVOTDATA(\"Duration\",Results!$A$2,\"Rating\",E$1,\"Date\",$A225))","v":-100000},{"$f":"IF(ISERROR(GETPIVOTDATA(\"Duration\",Results!$A$2,\"Rating\",F$1,\"Date\",$A225)),-100000,GETPIVOTDATA(\"Duration\",Results!$A$2,\"Rating\",F$1,\"Date\",$A225))","v":-100000},1000,1000,{"$f":"AVERAGE(G$3:G225)","v":1000}]
["2014-08-12",{"$f":"IF(ISERROR(GETPIVOTDATA(\"Duration\",Results!$A$2,\"Rating\",B$1,\"Date\",$A226)),-100000,GETPIVOTDATA(\"Duration\",Results!$A$2,\"Rating\",B$1,\"Date\",$A226))","v":-100000},{"$f":"IF(ISERROR(GETPIVOTDATA(\"Duration\",Results!$A$2,\"Rating\",C$1,\"Date\",$A226)),-100000,GETPIVOTDATA(\"Duration\",Results!$A$2,\"Rating\",C$1,\"Date\",$A226))","v":-100000},{"$f":"IF(ISERROR(GETPIVOTDATA(\"Duration\",Results!$A$2,\"Rating\",D$1,\"Date\",$A226)),-100000,GETPIVOTDATA(\"Duration\",Results!$A$2,\"Rating\",D$1,\"Date\",$A226))","v":-100000},{"$f":"IF(ISERROR(GETPIVOTDATA(\"Duration\",Results!$A$2,\"Rating\",E$1,\"Date\",$A226)),-100000,GETPIVOTDATA(\"Duration\",Results!$A$2,\"Rating\",E$1,\"Date\",$A226))","v":-100000},{"$f":"IF(ISERROR(GETPIVOTDATA(\"Duration\",Results!$A$2,\"Rating\",F$1,\"Date\",$A226)),-100000,GETPIVOTDATA(\"Duration\",Results!$A$2,\"Rating\",F$1,\"Date\",$A226))","v":-100000},1000,1000,{"$f":"AVERAGE(G$3:G226)","v":1000}]
["2014-08-13",{"$f":"IF(ISERROR(GETPIVOTDATA(\"Duration\",Results!$A$2,\"Rating\",B$1,\"Date\",$A227)),-100000,GETPIVOTDATA(\"Duration\",Results!$A$2,\"Rating\",B$1,\"Date\",$A227))","v":-100000},{"$f":"IF(ISERROR(GETPIVOTDATA(\"Duration\",Results!$A$2,\"Rating\",C$1,\"Date\",$A227)),-100000,GETPIVOTDATA(\"Duration\",Results!$A$2,\"Rating\",C$1,\"Date\",$A227))","v":-100000},{"$f":"IF(ISERROR(GETPIVOTDATA(\"Duration\",Results!$A$2,\"Rating\",D$1,\"Date\",$A227)),-100000,GETPIVOTDATA(\"Duration\",Results!$A$2,\"Rating\",D$1,\"Date\",$A227))","v":-100000},{"$f":"IF(ISERROR(GETPIVOTDATA(\"Duration\",Results!$A$2,\"Rating\",E$1,\"Date\",$A227)),-100000,GETPIVOTDATA(\"Duration\",Results!$A$2,\"Rating\",E$1,\"Date\",$A227))","v":-100000},{"$f":"IF(ISERROR(GETPIVOTDATA(\"Duration\",Results!$A$2,\"Rating\",F$1,\"Date\",$A227)),-100000,GETPIVOTDATA(\"Duration\",Results!$A$2,\"Rating\",F$1,\"Date\",$A227))","v":-100000},1000,1000,{"$f":"AVERAGE(G$3:G227)","v":1000}]
["2014-08-14",{"$f":"IF(ISERROR(GETPIVOTDATA(\"Duration\",Results!$A$2,\"Rating\",B$1,\"Date\",$A228)),-100000,GETPIVOTDATA(\"Duration\",Results!$A$2,\"Rating\",B$1,\"Date\",$A228))","v":-100000},{"$f":"IF(ISERROR(GETPIVOTDATA(\"Duration\",Results!$A$2,\"Rating\",C$1,\"Date\",$A228)),-100000,GETPIVOTDATA(\"Duration\",Results!$A$2,\"Rating\",C$1,\"Date\",$A228))","v":-100000},{"$f":"IF(ISERROR(GETPIVOTDATA(\"Duration\",Results!$A$2,\"Rating\",D$1,\"Date\",$A228)),-100000,GETPIVOTDATA(\"Duration\",Results!$A$2,\"Rating\",D$1,\"Date\",$A228))","v":-100000},{"$f":"IF(ISERROR(GETPIVOTDATA(\"Duration\",Results!$A$2,\"Rating\",E$1,\"Date\",$A228)),-100000,GETPIVOTDATA(\"Duration\",Results!$A$2,\"Rating\",E$1,\"Date\",$A228))","v":-100000},{"$f":"IF(ISERROR(GETPIVOTDATA(\"Duration\",Results!$A$2,\"Rating\",F$1,\"Date\",$A228)),-100000,GETPIVOTDATA(\"Duration\",Results!$A$2,\"Rating\",F$1,\"Date\",$A228))","v":-100000},1000,1000,{"$f":"AVERAGE(G$3:G228)","v":1000}]
["2014-08-15",{"$f":"IF(ISERROR(GETPIVOTDATA(\"Duration\",Results!$A$2,\"Rating\",B$1,\"Date\",$A229)),-100000,GETPIVOTDATA(\"Duration\",Results!$A$2,\"Rating\",B$1,\"Date\",$A229))","v":-100000},{"$f":"IF(ISERROR(GETPIVOTDATA(\"Duration\",Results!$A$2,\"Rating\",C$1,\"Date\",$A229)),-100000,GETPIVOTDATA(\"Duration\",Results!$A$2,\"Rating\",C$1,\"Date\",$A229))","v":-100000},{"$f":"IF(ISERROR(GETPIVOTDATA(\"Duration\",Results!$A$2,\"Rating\",D$1,\"Date\",$A229)),-100000,GETPIVOTDATA(\"Duration\",Results!$A$2,\"Rating\",D$1,\"Date\",$A229))","v":-100000},{"$f":"IF(ISERROR(GETPIVOTDATA(\"Duration\",Results!$A$2,\"Rating\",E$1,\"Date\",$A229)),-100000,GETPIVOTDATA(\"Duration\",Results!$A$2,\"Rating\",E$1,\"Date\",$A229))","v":-100000},{"$f":"IF(ISERROR(GETPIVOTDATA(\"Duration\",Results!$A$2,\"Rating\",F$1,\"Date\",$A229)),-100000,GETPIVOTDATA(\"Duration\",Results!$A$2,\"Rating\",F$1,\"Date\",$A229))","v":-100000},1000,1000,{"$f":"AVERAGE(G$3:G229)","v":1000}]
["2014-08-16",{"$f":"IF(ISERROR(GETPIVOTDATA(\"Duration\",Results!$A$2,\"Rating\",B$1,\"Date\",$A230)),-100000,GETPIVOTDATA(\"Duration\",Results!$A$2,\"Rating\",B$1,\"Date\",$A230))","v":-100000},{"$f":"IF(ISERROR(GETPIVOTDATA(\"Duration\",Results!$A$2,\"Rating\",C$1,\"Date\",$A230)),-100000,GETPIVOTDATA(\"Duration\",Results!$A$2,\"Rating\",C$1,\"Date\",$A230))","v":-100000},{"$f":"IF(ISERROR(GETPIVOTDATA(\"Duration\",Results!$A$2,\"Rating\",D$1,\"Date\",$A230)),-100000,GETPIVOTDATA(\"Duration\",Results!$A$2,\"Rating\",D$1,\"Date\",$A230))","v":-100000},{"$f":"IF(ISERROR(GETPIVOTDATA(\"Duration\",Results!$A$2,\"Rating\",E$1,\"Date\",$A230)),-100000,GETPIVOTDATA(\"Duration\",Results!$A$2,\"Rating\",E$1,\"Date\",$A230))","v":-100000},{"$f":"IF(ISERROR(GETPIVOTDATA(\"Duration\",Results!$A$2,\"Rating\",F$1,\"Date\",$A230)),-100000,GETPIVOTDATA(\"Duration\",Results!$A$2,\"Rating\",F$1,\"Date\",$A230))","v":-100000},1000,1000,{"$f":"AVERAGE(G$3:G230)","v":1000}]
["2014-08-17",{"$f":"IF(ISERROR(GETPIVOTDATA(\"Duration\",Results!$A$2,\"Rating\",B$1,\"Date\",$A231)),-100000,GETPIVOTDATA(\"Duration\",Results!$A$2,\"Rating\",B$1,\"Date\",$A231))","v":-100000},{"$f":"IF(ISERROR(GETPIVOTDATA(\"Duration\",Results!$A$2,\"Rating\",C$1,\"Date\",$A231)),-100000,GETPIVOTDATA(\"Duration\",Results!$A$2,\"Rating\",C$1,\"Date\",$A231))","v":-100000},{"$f":"IF(ISERROR(GETPIVOTDATA(\"Duration\",Results!$A$2,\"Rating\",D$1,\"Date\",$A231)),-100000,GETPIVOTDATA(\"Duration\",Results!$A$2,\"Rating\",D$1,\"Date\",$A231))","v":-100000},{"$f":"IF(ISERROR(GETPIVOTDATA(\"Duration\",Results!$A$2,\"Rating\",E$1,\"Date\",$A231)),-100000,GETPIVOTDATA(\"Duration\",Results!$A$2,\"Rating\",E$1,\"Date\",$A231))","v":-100000},{"$f":"IF(ISERROR(GETPIVOTDATA(\"Duration\",Results!$A$2,\"Rating\",F$1,\"Date\",$A231)),-100000,GETPIVOTDATA(\"Duration\",Results!$A$2,\"Rating\",F$1,\"Date\",$A231))","v":-100000},1000,1000,{"$f":"AVERAGE(G$3:G231)","v":1000}]
["2014-08-18",{"$f":"IF(ISERROR(GETPIVOTDATA(\"Duration\",Results!$A$2,\"Rating\",B$1,\"Date\",$A232)),-100000,GETPIVOTDATA(\"Duration\",Results!$A$2,\"Rating\",B$1,\"Date\",$A232))","v":-100000},{"$f":"IF(ISERROR(GETPIVOTDATA(\"Duration\",Results!$A$2,\"Rating\",C$1,\"Date\",$A232)),-100000,GETPIVOTDATA(\"Duration\",Results!$A$2,\"Rating\",C$1,\"Date\",$A232))","v":-100000},{"$f":"IF(ISERROR(GETPIVOTDATA(\"Duration\",Results!$A$2,\"Rating\",D$1,\"Date\",$A232)),-100000,GETPIVOTDATA(\"Duration\",Results!$A$2,\"Rating\",D$1,\"Date\",$A232))","v":-100000},{"$f":"IF(ISERROR(GETPIVOTDATA(\"Duration\",Results!$A$2,\"Rating\",E$1,\"Date\",$A232)),-100000,GETPIVOTDATA(\"Duration\",Results!$A$2,\"Rating\",E$1,\"Date\",$A232))","v":-100000},{"$f":"IF(ISERROR(GETPIVOTDATA(\"Duration\",Results!$A$2,\"Rating\",F$1,\"Date\",$A232)),-100000,GETPIVOTDATA(\"Duration\",Results!$A$2,\"Rating\",F$1,\"Date\",$A232))","v":-100000},1000,1000,{"$f":"AVERAGE(G$3:G232)","v":1000}]
["2014-08-19",{"$f":"IF(ISERROR(GETPIVOTDATA(\"Duration\",Results!$A$2,\"Rating\",B$1,\"Date\",$A233)),-100000,GETPIVOTDATA(\"Duration\",Results!$A$2,\"Rating\",B$1,\"Date\",$A233))","v":-100000},{"$f":"IF(ISERROR(GETPIVOTDATA(\"Duration\",Results!$A$2,\"Rating\",C$1,\"Date\",$A233)),-100000,GETPIVOTDATA(\"Duration\",Results!$A$2,\"Rating\",C$1,\"Date\",$A233))","v":-100000},{"$f":"IF(ISERROR(GETPIVOTDATA(\"Duration\",Results!$A$2,\"Rating\",D$1,\"Date\",$A233)),-100000,GETPIVOTDATA(\"Duration\",Results!$A$2,\"Rating\",D$1,\"Date\",$A233))","v":-100000},{"$f":"IF(ISERROR(GETPIVOTDATA(\"Duration\",Results!$A$2,\"Rating\",E$1,\"Date\",$A233)),-100000,GETPIVOTDATA(\"Duration\",Results!$A$2,\"Rating\",E$1,\"Date\",$A233))","v":-100000},{"$f":"IF(ISERROR(GETPIVOTDATA(\"Duration\",Results!$A$2,\"Rating\",F$1,\"Date\",$A233)),-100000,GETPIVOTDATA(\"Duration\",Results!$A$2,\"Rating\",F$1,\"Date\",$A233))","v":-100000},1000,1000,{"$f":"AVERAGE(G$3:G233)","v":1000}]
["2014-08-20",{"$f":"IF(ISERROR(GETPIVOTDATA(\"Duration\",Results!$A$2,\"Rating\",B$1,\"Date\",$A234)),-100000,GETPIVOTDATA(\"Duration\",Results!$A$2,\"Rating\",B$1,\"Date\",$A234))","v":-100000},{"$f":"IF(ISERROR(GETPIVOTDATA(\"Duration\",Results!$A$2,\"Rating\",C$1,\"Date\",$A234)),-100000,GETPIVOTDATA(\"Duration\",Results!$A$2,\"Rating\",C$1,\"Date\",$A234))","v":-100000},{"$f":"IF(ISERROR(GETPIVOTDATA(\"Duration\",Results!$A$2,\"Rating\",D$1,\"Date\",$A234)),-100000,GETPIVOTDATA(\"Duration\",Results!$A$2,\"Rating\",D$1,\"Date\",$A234))","v":-100000},{"$f":"IF(ISERROR(GETPIVOTDATA(\"Duration\",Results!$A$2,\"Rating\",E$1,\"Date\",$A234)),-100000,GETPIVOTDATA(\"Duration\",Results!$A$2,\"Rating\",E$1,\"Date\",$A234))","v":-100000},{"$f":"IF(ISERROR(GETPIVOTDATA(\"Duration\",Results!$A$2,\"Rating\",F$1,\"Date\",$A234)),-100000,GETPIVOTDATA(\"Duration\",Results!$A$2,\"Rating\",F$1,\"Date\",$A234))","v":-100000},1000,1000,{"$f":"AVERAGE(G$3:G234)","v":1000}]
["2014-08-21",{"$f":"IF(ISERROR(GETPIVOTDATA(\"Duration\",Results!$A$2,\"Rating\",B$1,\"Date\",$A235)),-100000,GETPIVOTDATA(\"Duration\",Results!$A$2,\"Rating\",B$1,\"Date\",$A235))","v":-100000},{"$f":"IF(ISERROR(GETPIVOTDATA(\"Duration\",Results!$A$2,\"Rating\",C$1,\"Date\",$A235)),-100000,GETPIVOTDATA(\"Duration\",Results!$A$2,\"Rating\",C$1,\"Date\",$A235))","v":-100000},{"$f":"IF(ISERROR(GETPIVOTDATA(\"Duration\",Results!$A$2,\"Rating\",D$1,\"Date\",$A235)),-100000,GETPIVOTDATA(\"Duration\",Results!$A$2,\"Rating\",D$1,\"Date\",$A235))","v":-100000},{"$f":"IF(ISERROR(GETPIVOTDATA(\"Duration\",Results!$A$2,\"Rating\",E$1,\"Date\",$A235)),-100000,GETPIVOTDATA(\"Duration\",Results!$A$2,\"Rating\",E$1,\"Date\",$A235))","v":-100000},{"$f":"IF(ISERROR(GETPIVOTDATA(\"Duration\",Results!$A$2,\"Rating\",F$1,\"Date\",$A235)),-100000,GETPIVOTDATA(\"Duration\",Results!$A$2,\"Rating\",F$1,\"Date\",$A235))","v":-100000},1000,1000,{"$f":"AVERAGE(G$3:G235)","v":1000}]
["2014-08-22",{"$f":"IF(ISERROR(GETPIVOTDATA(\"Duration\",Results!$A$2,\"Rating\",B$1,\"Date\",$A236)),-100000,GETPIVOTDATA(\"Duration\",Results!$A$2,\"Rating\",B$1,\"Date\",$A236))","v":-100000},{"$f":"IF(ISERROR(GETPIVOTDATA(\"Duration\",Results!$A$2,\"Rating\",C$1,\"Date\",$A236)),-100000,GETPIVOTDATA(\"Duration\",Results!$A$2,\"Rating\",C$1,\"Date\",$A236))","v":-100000},{"$f":"IF(ISERROR(GETPIVOTDATA(\"Duration\",Results!$A$2,\"Rating\",D$1,\"Date\",$A236)),-100000,GETPIVOTDATA(\"Duration\",Results!$A$2,\"Rating\",D$1,\"Date\",$A236))","v":-100000},{"$f":"IF(ISERROR(GETPIVOTDATA(\"Duration\",Results!$A$2,\"Rating\",E$1,\"Date\",$A236)),-100000,GETPIVOTDATA(\"Duration\",Results!$A$2,\"Rating\",E$1,\"Date\",$A236))","v":-100000},{"$f":"IF(ISERROR(GETPIVOTDATA(\"Duration\",Results!$A$2,\"Rating\",F$1,\"Date\",$A236)),-100000,GETPIVOTDATA(\"Duration\",Results!$A$2,\"Rating\",F$1,\"Date\",$A236))","v":-100000},1000,1000,{"$f":"AVERAGE(G$3:G236)","v":1000}]
["2014-08-23",{"$f":"IF(ISERROR(GETPIVOTDATA(\"Duration\",Results!$A$2,\"Rating\",B$1,\"Date\",$A237)),-100000,GETPIVOTDATA(\"Duration\",Results!$A$2,\"Rating\",B$1,\"Date\",$A237))","v":-100000},{"$f":"IF(ISERROR(GETPIVOTDATA(\"Duration\",Results!$A$2,\"Rating\",C$1,\"Date\",$A237)),-100000,GETPIVOTDATA(\"Duration\",Results!$A$2,\"Rating\",C$1,\"Date\",$A237))","v":-100000},{"$f":"IF(ISERROR(GETPIVOTDATA(\"Duration\",Results!$A$2,\"Rating\",D$1,\"Date\",$A237)),-100000,GETPIVOTDATA(\"Duration\",Results!$A$2,\"Rating\",D$1,\"Date\",$A237))","v":-100000},{"$f":"IF(ISERROR(GETPIVOTDATA(\"Duration\",Results!$A$2,\"Rating\",E$1,\"Date\",$A237)),-100000,GETPIVOTDATA(\"Duration\",Results!$A$2,\"Rating\",E$1,\"Date\",$A237))","v":-100000},{"$f":"IF(ISERROR(GETPIVOTDATA(\"Duration\",Results!$A$2,\"Rating\",F$1,\"Date\",$A237)),-100000,GETPIVOTDATA(\"Duration\",Results!$A$2,\"Rating\",F$1,\"Date\",$A237))","v":-100000},1000,1000,{"$f":"AVERAGE(G$3:G237)","v":1000}]
["2014-08-24",{"$f":"IF(ISERROR(GETPIVOTDATA(\"Duration\",Results!$A$2,\"Rating\",B$1,\"Date\",$A238)),-100000,GETPIVOTDATA(\"Duration\",Results!$A$2,\"Rating\",B$1,\"Date\",$A238))","v":-100000},{"$f":"IF(ISERROR(GETPIVOTDATA(\"Duration\",Results!$A$2,\"Rating\",C$1,\"Date\",$A238)),-100000,GETPIVOTDATA(\"Duration\",Results!$A$2,\"Rating\",C$1,\"Date\",$A238))","v":-100000},{"$f":"IF(ISERROR(GETPIVOTDATA(\"Duration\",Results!$A$2,\"Rating\",D$1,\"Date\",$A238)),-100000,GETPIVOTDATA(\"Duration\",Results!$A$2,\"Rating\",D$1,\"Date\",$A238))","v":-100000},{"$f":"IF(ISERROR(GETPIVOTDATA(\"Duration\",Results!$A$2,\"Rating\",E$1,\"Date\",$A238)),-100000,GETPIVOTDATA(\"Duration\",Results!$A$2,\"Rating\",E$1,\"Date\",$A238))","v":-100000},{"$f":"IF(ISERROR(GETPIVOTDATA(\"Duration\",Results!$A$2,\"Rating\",F$1,\"Date\",$A238)),-100000,GETPIVOTDATA(\"Duration\",Results!$A$2,\"Rating\",F$1,\"Date\",$A238))","v":-100000},1000,1000,{"$f":"AVERAGE(G$3:G238)","v":1000}]
["2014-08-25",{"$f":"IF(ISERROR(GETPIVOTDATA(\"Duration\",Results!$A$2,\"Rating\",B$1,\"Date\",$A239)),-100000,GETPIVOTDATA(\"Duration\",Results!$A$2,\"Rating\",B$1,\"Date\",$A239))","v":-100000},{"$f":"IF(ISERROR(GETPIVOTDATA(\"Duration\",Results!$A$2,\"Rating\",C$1,\"Date\",$A239)),-100000,GETPIVOTDATA(\"Duration\",Results!$A$2,\"Rating\",C$1,\"Date\",$A239))","v":-100000},{"$f":"IF(ISERROR(GETPIVOTDATA(\"Duration\",Results!$A$2,\"Rating\",D$1,\"Date\",$A239)),-100000,GETPIVOTDATA(\"Duration\",Results!$A$2,\"Rating\",D$1,\"Date\",$A239))","v":-100000},{"$f":"IF(ISERROR(GETPIVOTDATA(\"Duration\",Results!$A$2,\"Rating\",E$1,\"Date\",$A239)),-100000,GETPIVOTDATA(\"Duration\",Results!$A$2,\"Rating\",E$1,\"Date\",$A239))","v":-100000},{"$f":"IF(ISERROR(GETPIVOTDATA(\"Duration\",Results!$A$2,\"Rating\",F$1,\"Date\",$A239)),-100000,GETPIVOTDATA(\"Duration\",Results!$A$2,\"Rating\",F$1,\"Date\",$A239))","v":-100000},1000,1000,{"$f":"AVERAGE(G$3:G239)","v":1000}]
["2014-08-26",{"$f":"IF(ISERROR(GETPIVOTDATA(\"Duration\",Results!$A$2,\"Rating\",B$1,\"Date\",$A240)),-100000,GETPIVOTDATA(\"Duration\",Results!$A$2,\"Rating\",B$1,\"Date\",$A240))","v":-100000},{"$f":"IF(ISERROR(GETPIVOTDATA(\"Duration\",Results!$A$2,\"Rating\",C$1,\"Date\",$A240)),-100000,GETPIVOTDATA(\"Duration\",Results!$A$2,\"Rating\",C$1,\"Date\",$A240))","v":-100000},{"$f":"IF(ISERROR(GETPIVOTDATA(\"Duration\",Results!$A$2,\"Rating\",D$1,\"Date\",$A240)),-100000,GETPIVOTDATA(\"Duration\",Results!$A$2,\"Rating\",D$1,\"Date\",$A240))","v":-100000},{"$f":"IF(ISERROR(GETPIVOTDATA(\"Duration\",Results!$A$2,\"Rating\",E$1,\"Date\",$A240)),-100000,GETPIVOTDATA(\"Duration\",Results!$A$2,\"Rating\",E$1,\"Date\",$A240))","v":-100000},{"$f":"IF(ISERROR(GETPIVOTDATA(\"Duration\",Results!$A$2,\"Rating\",F$1,\"Date\",$A240)),-100000,GETPIVOTDATA(\"Duration\",Results!$A$2,\"Rating\",F$1,\"Date\",$A240))","v":-100000},1000,1000,{"$f":"AVERAGE(G$3:G240)","v":1000}]
["2014-08-27",{"$f":"IF(ISERROR(GETPIVOTDATA(\"Duration\",Results!$A$2,\"Rating\",B$1,\"Date\",$A241)),-100000,GETPIVOTDATA(\"Duration\",Results!$A$2,\"Rating\",B$1,\"Date\",$A241))","v":-100000},{"$f":"IF(ISERROR(GETPIVOTDATA(\"Duration\",Results!$A$2,\"Rating\",C$1,\"Date\",$A241)),-100000,GETPIVOTDATA(\"Duration\",Results!$A$2,\"Rating\",C$1,\"Date\",$A241))","v":-100000},{"$f":"IF(ISERROR(GETPIVOTDATA(\"Duration\",Results!$A$2,\"Rating\",D$1,\"Date\",$A241)),-100000,GETPIVOTDATA(\"Duration\",Results!$A$2,\"Rating\",D$1,\"Date\",$A241))","v":-100000},{"$f":"IF(ISERROR(GETPIVOTDATA(\"Duration\",Results!$A$2,\"Rating\",E$1,\"Date\",$A241)),-100000,GETPIVOTDATA(\"Duration\",Results!$A$2,\"Rating\",E$1,\"Date\",$A241))","v":-100000},{"$f":"IF(ISERROR(GETPIVOTDATA(\"Duration\",Results!$A$2,\"Rating\",F$1,\"Date\",$A241)),-100000,GETPIVOTDATA(\"Duration\",Results!$A$2,\"Rating\",F$1,\"Date\",$A241))","v":-100000},1000,1000,{"$f":"AVERAGE(G$3:G241)","v":1000}]
["2014-08-28",{"$f":"IF(ISERROR(GETPIVOTDATA(\"Duration\",Results!$A$2,\"Rating\",B$1,\"Date\",$A242)),-100000,GETPIVOTDATA(\"Duration\",Results!$A$2,\"Rating\",B$1,\"Date\",$A242))","v":-100000},{"$f":"IF(ISERROR(GETPIVOTDATA(\"Duration\",Results!$A$2,\"Rating\",C$1,\"Date\",$A242)),-100000,GETPIVOTDATA(\"Duration\",Results!$A$2,\"Rating\",C$1,\"Date\",$A242))","v":-100000},{"$f":"IF(ISERROR(GETPIVOTDATA(\"Duration\",Results!$A$2,\"Rating\",D$1,\"Date\",$A242)),-100000,GETPIVOTDATA(\"Duration\",Results!$A$2,\"Rating\",D$1,\"Date\",$A242))","v":-100000},{"$f":"IF(ISERROR(GETPIVOTDATA(\"Duration\",Results!$A$2,\"Rating\",E$1,\"Date\",$A242)),-100000,GETPIVOTDATA(\"Duration\",Results!$A$2,\"Rating\",E$1,\"Date\",$A242))","v":-100000},{"$f":"IF(ISERROR(GETPIVOTDATA(\"Duration\",Results!$A$2,\"Rating\",F$1,\"Date\",$A242)),-100000,GETPIVOTDATA(\"Duration\",Results!$A$2,\"Rating\",F$1,\"Date\",$A242))","v":-100000},1000,1000,{"$f":"AVERAGE(G$3:G242)","v":1000}]
["2014-08-29",{"$f":"IF(ISERROR(GETPIVOTDATA(\"Duration\",Results!$A$2,\"Rating\",B$1,\"Date\",$A243)),-100000,GETPIVOTDATA(\"Duration\",Results!$A$2,\"Rating\",B$1,\"Date\",$A243))","v":-100000},{"$f":"IF(ISERROR(GETPIVOTDATA(\"Duration\",Results!$A$2,\"Rating\",C$1,\"Date\",$A243)),-100000,GETPIVOTDATA(\"Duration\",Results!$A$2,\"Rating\",C$1,\"Date\",$A243))","v":-100000},{"$f":"IF(ISERROR(GETPIVOTDATA(\"Duration\",Results!$A$2,\"Rating\",D$1,\"Date\",$A243)),-100000,GETPIVOTDATA(\"Duration\",Results!$A$2,\"Rating\",D$1,\"Date\",$A243))","v":-100000},{"$f":"IF(ISERROR(GETPIVOTDATA(\"Duration\",Results!$A$2,\"Rating\",E$1,\"Date\",$A243)),-100000,GETPIVOTDATA(\"Duration\",Results!$A$2,\"Rating\",E$1,\"Date\",$A243))","v":-100000},{"$f":"IF(ISERROR(GETPIVOTDATA(\"Duration\",Results!$A$2,\"Rating\",F$1,\"Date\",$A243)),-100000,GETPIVOTDATA(\"Duration\",Results!$A$2,\"Rating\",F$1,\"Date\",$A243))","v":-100000},1000,1000,{"$f":"AVERAGE(G$3:G243)","v":1000}]
["2014-08-30",{"$f":"IF(ISERROR(GETPIVOTDATA(\"Duration\",Results!$A$2,\"Rating\",B$1,\"Date\",$A244)),-100000,GETPIVOTDATA(\"Duration\",Results!$A$2,\"Rating\",B$1,\"Date\",$A244))","v":-100000},{"$f":"IF(ISERROR(GETPIVOTDATA(\"Duration\",Results!$A$2,\"Rating\",C$1,\"Date\",$A244)),-100000,GETPIVOTDATA(\"Duration\",Results!$A$2,\"Rating\",C$1,\"Date\",$A244))","v":-100000},{"$f":"IF(ISERROR(GETPIVOTDATA(\"Duration\",Results!$A$2,\"Rating\",D$1,\"Date\",$A244)),-100000,GETPIVOTDATA(\"Duration\",Results!$A$2,\"Rating\",D$1,\"Date\",$A244))","v":-100000},{"$f":"IF(ISERROR(GETPIVOTDATA(\"Duration\",Results!$A$2,\"Rating\",E$1,\"Date\",$A244)),-100000,GETPIVOTDATA(\"Duration\",Results!$A$2,\"Rating\",E$1,\"Date\",$A244))","v":-100000},{"$f":"IF(ISERROR(GETPIVOTDATA(\"Duration\",Results!$A$2,\"Rating\",F$1,\"Date\",$A244)),-100000,GETPIVOTDATA(\"Duration\",Results!$A$2,\"Rating\",F$1,\"Date\",$A244))","v":-100000},1000,1000,{"$f":"AVERAGE(G$3:G244)","v":1000}]
["2014-08-31",{"$f":"IF(ISERROR(GETPIVOTDATA(\"Duration\",Results!$A$2,\"Rating\",B$1,\"Date\",$A245)),-100000,GETPIVOTDATA(\"Duration\",Results!$A$2,\"Rating\",B$1,\"Date\",$A245))","v":-100000},{"$f":"IF(ISERROR(GETPIVOTDATA(\"Duration\",Results!$A$2,\"Rating\",C$1,\"Date\",$A245)),-100000,GETPIVOTDATA(\"Duration\",Results!$A$2,\"Rating\",C$1,\"Date\",$A245))","v":-100000},{"$f":"IF(ISERROR(GETPIVOTDATA(\"Duration\",Results!$A$2,\"Rating\",D$1,\"Date\",$A245)),-100000,GETPIVOTDATA(\"Duration\",Results!$A$2,\"Rating\",D$1,\"Date\",$A245))","v":-100000},{"$f":"IF(ISERROR(GETPIVOTDATA(\"Duration\",Results!$A$2,\"Rating\",E$1,\"Date\",$A245)),-100000,GETPIVOTDATA(\"Duration\",Results!$A$2,\"Rating\",E$1,\"Date\",$A245))","v":-100000},{"$f":"IF(ISERROR(GETPIVOTDATA(\"Duration\",Results!$A$2,\"Rating\",F$1,\"Date\",$A245)),-100000,GETPIVOTDATA(\"Duration\",Results!$A$2,\"Rating\",F$1,\"Date\",$A245))","v":-100000},1000,1000,{"$f":"AVERAGE(G$3:G245)","v":1000}]
["2014-09-01",{"$f":"IF(ISERROR(GETPIVOTDATA(\"Duration\",Results!$A$2,\"Rating\",B$1,\"Date\",$A246)),-100000,GETPIVOTDATA(\"Duration\",Results!$A$2,\"Rating\",B$1,\"Date\",$A246))","v":-100000},{"$f":"IF(ISERROR(GETPIVOTDATA(\"Duration\",Results!$A$2,\"Rating\",C$1,\"Date\",$A246)),-100000,GETPIVOTDATA(\"Duration\",Results!$A$2,\"Rating\",C$1,\"Date\",$A246))","v":-100000},{"$f":"IF(ISERROR(GETPIVOTDATA(\"Duration\",Results!$A$2,\"Rating\",D$1,\"Date\",$A246)),-100000,GETPIVOTDATA(\"Duration\",Results!$A$2,\"Rating\",D$1,\"Date\",$A246))","v":-100000},{"$f":"IF(ISERROR(GETPIVOTDATA(\"Duration\",Results!$A$2,\"Rating\",E$1,\"Date\",$A246)),-100000,GETPIVOTDATA(\"Duration\",Results!$A$2,\"Rating\",E$1,\"Date\",$A246))","v":-100000},{"$f":"IF(ISERROR(GETPIVOTDATA(\"Duration\",Results!$A$2,\"Rating\",F$1,\"Date\",$A246)),-100000,GETPIVOTDATA(\"Duration\",Results!$A$2,\"Rating\",F$1,\"Date\",$A246))","v":-100000},1000,1000,{"$f":"AVERAGE(G$3:G246)","v":1000}]
["2014-09-02",{"$f":"IF(ISERROR(GETPIVOTDATA(\"Duration\",Results!$A$2,\"Rating\",B$1,\"Date\",$A247)),-100000,GETPIVOTDATA(\"Duration\",Results!$A$2,\"Rating\",B$1,\"Date\",$A247))","v":-100000},{"$f":"IF(ISERROR(GETPIVOTDATA(\"Duration\",Results!$A$2,\"Rating\",C$1,\"Date\",$A247)),-100000,GETPIVOTDATA(\"Duration\",Results!$A$2,\"Rating\",C$1,\"Date\",$A247))","v":-100000},{"$f":"IF(ISERROR(GETPIVOTDATA(\"Duration\",Results!$A$2,\"Rating\",D$1,\"Date\",$A247)),-100000,GETPIVOTDATA(\"Duration\",Results!$A$2,\"Rating\",D$1,\"Date\",$A247))","v":-100000},{"$f":"IF(ISERROR(GETPIVOTDATA(\"Duration\",Results!$A$2,\"Rating\",E$1,\"Date\",$A247)),-100000,GETPIVOTDATA(\"Duration\",Results!$A$2,\"Rating\",E$1,\"Date\",$A247))","v":-100000},{"$f":"IF(ISERROR(GETPIVOTDATA(\"Duration\",Results!$A$2,\"Rating\",F$1,\"Date\",$A247)),-100000,GETPIVOTDATA(\"Duration\",Results!$A$2,\"Rating\",F$1,\"Date\",$A247))","v":-100000},1000,1000,{"$f":"AVERAGE(G$3:G247)","v":1000}]
["2014-09-03",{"$f":"IF(ISERROR(GETPIVOTDATA(\"Duration\",Results!$A$2,\"Rating\",B$1,\"Date\",$A248)),-100000,GETPIVOTDATA(\"Duration\",Results!$A$2,\"Rating\",B$1,\"Date\",$A248))","v":-100000},{"$f":"IF(ISERROR(GETPIVOTDATA(\"Duration\",Results!$A$2,\"Rating\",C$1,\"Date\",$A248)),-100000,GETPIVOTDATA(\"Duration\",Results!$A$2,\"Rating\",C$1,\"Date\",$A248))","v":-100000},{"$f":"IF(ISERROR(GETPIVOTDATA(\"Duration\",Results!$A$2,\"Rating\",D$1,\"Date\",$A248)),-100000,GETPIVOTDATA(\"Duration\",Results!$A$2,\"Rating\",D$1,\"Date\",$A248))","v":-100000},{"$f":"IF(ISERROR(GETPIVOTDATA(\"Duration\",Results!$A$2,\"Rating\",E$1,\"Date\",$A248)),-100000,GETPIVOTDATA(\"Duration\",Results!$A$2,\"Rating\",E$1,\"Date\",$A248))","v":-100000},{"$f":"IF(ISERROR(GETPIVOTDATA(\"Duration\",Results!$A$2,\"Rating\",F$1,\"Date\",$A248)),-100000,GETPIVOTDATA(\"Duration\",Results!$A$2,\"Rating\",F$1,\"Date\",$A248))","v":-100000},1000,1000,{"$f":"AVERAGE(G$3:G248)","v":1000}]
["2014-09-04",{"$f":"IF(ISERROR(GETPIVOTDATA(\"Duration\",Results!$A$2,\"Rating\",B$1,\"Date\",$A249)),-100000,GETPIVOTDATA(\"Duration\",Results!$A$2,\"Rating\",B$1,\"Date\",$A249))","v":-100000},{"$f":"IF(ISERROR(GETPIVOTDATA(\"Duration\",Results!$A$2,\"Rating\",C$1,\"Date\",$A249)),-100000,GETPIVOTDATA(\"Duration\",Results!$A$2,\"Rating\",C$1,\"Date\",$A249))","v":-100000},{"$f":"IF(ISERROR(GETPIVOTDATA(\"Duration\",Results!$A$2,\"Rating\",D$1,\"Date\",$A249)),-100000,GETPIVOTDATA(\"Duration\",Results!$A$2,\"Rating\",D$1,\"Date\",$A249))","v":-100000},{"$f":"IF(ISERROR(GETPIVOTDATA(\"Duration\",Results!$A$2,\"Rating\",E$1,\"Date\",$A249)),-100000,GETPIVOTDATA(\"Duration\",Results!$A$2,\"Rating\",E$1,\"Date\",$A249))","v":-100000},{"$f":"IF(ISERROR(GETPIVOTDATA(\"Duration\",Results!$A$2,\"Rating\",F$1,\"Date\",$A249)),-100000,GETPIVOTDATA(\"Duration\",Results!$A$2,\"Rating\",F$1,\"Date\",$A249))","v":-100000},1000,1000,{"$f":"AVERAGE(G$3:G249)","v":1000}]
["2014-09-05",{"$f":"IF(ISERROR(GETPIVOTDATA(\"Duration\",Results!$A$2,\"Rating\",B$1,\"Date\",$A250)),-100000,GETPIVOTDATA(\"Duration\",Results!$A$2,\"Rating\",B$1,\"Date\",$A250))","v":-100000},{"$f":"IF(ISERROR(GETPIVOTDATA(\"Duration\",Results!$A$2,\"Rating\",C$1,\"Date\",$A250)),-100000,GETPIVOTDATA(\"Duration\",Results!$A$2,\"Rating\",C$1,\"Date\",$A250))","v":-100000},{"$f":"IF(ISERROR(GETPIVOTDATA(\"Duration\",Results!$A$2,\"Rating\",D$1,\"Date\",$A250)),-100000,GETPIVOTDATA(\"Duration\",Results!$A$2,\"Rating\",D$1,\"Date\",$A250))","v":-100000},{"$f":"IF(ISERROR(GETPIVOTDATA(\"Duration\",Results!$A$2,\"Rating\",E$1,\"Date\",$A250)),-100000,GETPIVOTDATA(\"Duration\",Results!$A$2,\"Rating\",E$1,\"Date\",$A250))","v":-100000},{"$f":"IF(ISERROR(GETPIVOTDATA(\"Duration\",Results!$A$2,\"Rating\",F$1,\"Date\",$A250)),-100000,GETPIVOTDATA(\"Duration\",Results!$A$2,\"Rating\",F$1,\"Date\",$A250))","v":-100000},1000,1000,{"$f":"AVERAGE(G$3:G250)","v":1000}]
["2014-09-06",{"$f":"IF(ISERROR(GETPIVOTDATA(\"Duration\",Results!$A$2,\"Rating\",B$1,\"Date\",$A251)),-100000,GETPIVOTDATA(\"Duration\",Results!$A$2,\"Rating\",B$1,\"Date\",$A251))","v":-100000},{"$f":"IF(ISERROR(GETPIVOTDATA(\"Duration\",Results!$A$2,\"Rating\",C$1,\"Date\",$A251)),-100000,GETPIVOTDATA(\"Duration\",Results!$A$2,\"Rating\",C$1,\"Date\",$A251))","v":-100000},{"$f":"IF(ISERROR(GETPIVOTDATA(\"Duration\",Results!$A$2,\"Rating\",D$1,\"Date\",$A251)),-100000,GETPIVOTDATA(\"Duration\",Results!$A$2,\"Rating\",D$1,\"Date\",$A251))","v":-100000},{"$f":"IF(ISERROR(GETPIVOTDATA(\"Duration\",Results!$A$2,\"Rating\",E$1,\"Date\",$A251)),-100000,GETPIVOTDATA(\"Duration\",Results!$A$2,\"Rating\",E$1,\"Date\",$A251))","v":-100000},{"$f":"IF(ISERROR(GETPIVOTDATA(\"Duration\",Results!$A$2,\"Rating\",F$1,\"Date\",$A251)),-100000,GETPIVOTDATA(\"Duration\",Results!$A$2,\"Rating\",F$1,\"Date\",$A251))","v":-100000},1000,1000,{"$f":"AVERAGE(G$3:G251)","v":1000}]
["2014-09-07",{"$f":"IF(ISERROR(GETPIVOTDATA(\"Duration\",Results!$A$2,\"Rating\",B$1,\"Date\",$A252)),-100000,GETPIVOTDATA(\"Duration\",Results!$A$2,\"Rating\",B$1,\"Date\",$A252))","v":-100000},{"$f":"IF(ISERROR(GETPIVOTDATA(\"Duration\",Results!$A$2,\"Rating\",C$1,\"Date\",$A252)),-100000,GETPIVOTDATA(\"Duration\",Results!$A$2,\"Rating\",C$1,\"Date\",$A252))","v":-100000},{"$f":"IF(ISERROR(GETPIVOTDATA(\"Duration\",Results!$A$2,\"Rating\",D$1,\"Date\",$A252)),-100000,GETPIVOTDATA(\"Duration\",Results!$A$2,\"Rating\",D$1,\"Date\",$A252))","v":-100000},{"$f":"IF(ISERROR(GETPIVOTDATA(\"Duration\",Results!$A$2,\"Rating\",E$1,\"Date\",$A252)),-100000,GETPIVOTDATA(\"Duration\",Results!$A$2,\"Rating\",E$1,\"Date\",$A252))","v":-100000},{"$f":"IF(ISERROR(GETPIVOTDATA(\"Duration\",Results!$A$2,\"Rating\",F$1,\"Date\",$A252)),-100000,GETPIVOTDATA(\"Duration\",Results!$A$2,\"Rating\",F$1,\"Date\",$A252))","v":-100000},1000,1000,{"$f":"AVERAGE(G$3:G252)","v":1000}]
[{"$f":"A252+1","v":"2014-09-08"},{"$f":"IF(ISERROR(GETPIVOTDATA(\"Duration\",Results!$A$2,\"Rating\",B$1,\"Date\",$A253)),-100000,GETPIVOTDATA(\"Duration\",Results!$A$2,\"Rating\",B$1,\"Date\",$A253))","v":-100000},{"$f":"IF(ISERROR(GETPIVOTDATA(\"Duration\",Results!$A$2,\"Rating\",C$1,\"Date\",$A253)),-100000,GETPIVOTDATA(\"Duration\",Results!$A$2,\"Rating\",C$1,\"Date\",$A253))","v":-100000},{"$f":"IF(ISERROR(GETPIVOTDATA(\"Duration\",Results!$A$2,\"Rating\",D$1,\"Date\",$A253)),-100000,GETPIVOTDATA(\"Duration\",Results!$A$2,\"Rating\",D$1,\"Date\",$A253))","v":-100000},{"$f":"IF(ISERROR(GETPIVOTDATA(\"Duration\",Results!$A$2,\"Rating\",E$1,\"Date\",$A253)),-100000,GETPIVOTDATA(\"Duration\",Results!$A$2,\"Rating\",E$1,\"Date\",$A253))","v":-100000},{"$f":"IF(ISERROR(GETPIVOTDATA(\"Duration\",Results!$A$2,\"Rating\",F$1,\"Date\",$A253)),-100000,GETPIVOTDATA(\"Duration\",Results!$A$2,\"Rating\",F$1,\"Date\",$A253))","v":-100000},{"$f":"IF(SUM(B253:F253)=-500000,1000,(C253+2*D253+3*E253+4*F253)/(C253+D253+E253+F253))","v":1000},{"$f":"AVERAGE(G247:G253)","v":1000},{"$f":"AVERAGE(G$3:G253)","v":1000}]
["2014-09-09",{"$f":"IF(ISERROR(GETPIVOTDATA(\"Duration\",Results!$A$2,\"Rating\",B$1,\"Date\",$A254)),-100000,GETPIVOTDATA(\"Duration\",Results!$A$2,\"Rating\",B$1,\"Date\",$A254))","v":-100000},{"$f":"IF(ISERROR(GETPIVOTDATA(\"Duration\",Results!$A$2,\"Rating\",C$1,\"Date\",$A254)),-100000,GETPIVOTDATA(\"Duration\",Results!$A$2,\"Rating\",C$1,\"Date\",$A254))","v":-100000},{"$f":"IF(ISERROR(GETPIVOTDATA(\"Duration\",Results!$A$2,\"Rating\",D$1,\"Date\",$A254)),-100000,GETPIVOTDATA(\"Duration\",Results!$A$2,\"Rating\",D$1,\"Date\",$A254))","v":-100000},{"$f":"IF(ISERROR(GETPIVOTDATA(\"Duration\",Results!$A$2,\"Rating\",E$1,\"Date\",$A254)),-100000,GETPIVOTDATA(\"Duration\",Results!$A$2,\"Rating\",E$1,\"Date\",$A254))","v":-100000},{"$f":"IF(ISERROR(GETPIVOTDATA(\"Duration\",Results!$A$2,\"Rating\",F$1,\"Date\",$A254)),-100000,GETPIVOTDATA(\"Duration\",Results!$A$2,\"Rating\",F$1,\"Date\",$A254))","v":-100000},1000,1000,{"$f":"AVERAGE(G$3:G254)","v":1000}]
["2014-09-10",{"$f":"IF(ISERROR(GETPIVOTDATA(\"Duration\",Results!$A$2,\"Rating\",B$1,\"Date\",$A255)),-100000,GETPIVOTDATA(\"Duration\",Results!$A$2,\"Rating\",B$1,\"Date\",$A255))","v":-100000},{"$f":"IF(ISERROR(GETPIVOTDATA(\"Duration\",Results!$A$2,\"Rating\",C$1,\"Date\",$A255)),-100000,GETPIVOTDATA(\"Duration\",Results!$A$2,\"Rating\",C$1,\"Date\",$A255))","v":-100000},{"$f":"IF(ISERROR(GETPIVOTDATA(\"Duration\",Results!$A$2,\"Rating\",D$1,\"Date\",$A255)),-100000,GETPIVOTDATA(\"Duration\",Results!$A$2,\"Rating\",D$1,\"Date\",$A255))","v":-100000},{"$f":"IF(ISERROR(GETPIVOTDATA(\"Duration\",Results!$A$2,\"Rating\",E$1,\"Date\",$A255)),-100000,GETPIVOTDATA(\"Duration\",Results!$A$2,\"Rating\",E$1,\"Date\",$A255))","v":-100000},{"$f":"IF(ISERROR(GETPIVOTDATA(\"Duration\",Results!$A$2,\"Rating\",F$1,\"Date\",$A255)),-100000,GETPIVOTDATA(\"Duration\",Results!$A$2,\"Rating\",F$1,\"Date\",$A255))","v":-100000},1000,1000,{"$f":"AVERAGE(G$3:G255)","v":1000}]
["2014-09-11",{"$f":"IF(ISERROR(GETPIVOTDATA(\"Duration\",Results!$A$2,\"Rating\",B$1,\"Date\",$A256)),-100000,GETPIVOTDATA(\"Duration\",Results!$A$2,\"Rating\",B$1,\"Date\",$A256))","v":-100000},{"$f":"IF(ISERROR(GETPIVOTDATA(\"Duration\",Results!$A$2,\"Rating\",C$1,\"Date\",$A256)),-100000,GETPIVOTDATA(\"Duration\",Results!$A$2,\"Rating\",C$1,\"Date\",$A256))","v":-100000},{"$f":"IF(ISERROR(GETPIVOTDATA(\"Duration\",Results!$A$2,\"Rating\",D$1,\"Date\",$A256)),-100000,GETPIVOTDATA(\"Duration\",Results!$A$2,\"Rating\",D$1,\"Date\",$A256))","v":-100000},{"$f":"IF(ISERROR(GETPIVOTDATA(\"Duration\",Results!$A$2,\"Rating\",E$1,\"Date\",$A256)),-100000,GETPIVOTDATA(\"Duration\",Results!$A$2,\"Rating\",E$1,\"Date\",$A256))","v":-100000},{"$f":"IF(ISERROR(GETPIVOTDATA(\"Duration\",Results!$A$2,\"Rating\",F$1,\"Date\",$A256)),-100000,GETPIVOTDATA(\"Duration\",Results!$A$2,\"Rating\",F$1,\"Date\",$A256))","v":-100000},1000,1000,{"$f":"AVERAGE(G$3:G256)","v":1000}]
["2014-09-12",{"$f":"IF(ISERROR(GETPIVOTDATA(\"Duration\",Results!$A$2,\"Rating\",B$1,\"Date\",$A257)),-100000,GETPIVOTDATA(\"Duration\",Results!$A$2,\"Rating\",B$1,\"Date\",$A257))","v":-100000},{"$f":"IF(ISERROR(GETPIVOTDATA(\"Duration\",Results!$A$2,\"Rating\",C$1,\"Date\",$A257)),-100000,GETPIVOTDATA(\"Duration\",Results!$A$2,\"Rating\",C$1,\"Date\",$A257))","v":-100000},{"$f":"IF(ISERROR(GETPIVOTDATA(\"Duration\",Results!$A$2,\"Rating\",D$1,\"Date\",$A257)),-100000,GETPIVOTDATA(\"Duration\",Results!$A$2,\"Rating\",D$1,\"Date\",$A257))","v":-100000},{"$f":"IF(ISERROR(GETPIVOTDATA(\"Duration\",Results!$A$2,\"Rating\",E$1,\"Date\",$A257)),-100000,GETPIVOTDATA(\"Duration\",Results!$A$2,\"Rating\",E$1,\"Date\",$A257))","v":-100000},{"$f":"IF(ISERROR(GETPIVOTDATA(\"Duration\",Results!$A$2,\"Rating\",F$1,\"Date\",$A257)),-100000,GETPIVOTDATA(\"Duration\",Results!$A$2,\"Rating\",F$1,\"Date\",$A257))","v":-100000},1000,1000,{"$f":"AVERAGE(G$3:G257)","v":1000}]
["2014-09-13",{"$f":"IF(ISERROR(GETPIVOTDATA(\"Duration\",Results!$A$2,\"Rating\",B$1,\"Date\",$A258)),-100000,GETPIVOTDATA(\"Duration\",Results!$A$2,\"Rating\",B$1,\"Date\",$A258))","v":-100000},{"$f":"IF(ISERROR(GETPIVOTDATA(\"Duration\",Results!$A$2,\"Rating\",C$1,\"Date\",$A258)),-100000,GETPIVOTDATA(\"Duration\",Results!$A$2,\"Rating\",C$1,\"Date\",$A258))","v":-100000},{"$f":"IF(ISERROR(GETPIVOTDATA(\"Duration\",Results!$A$2,\"Rating\",D$1,\"Date\",$A258)),-100000,GETPIVOTDATA(\"Duration\",Results!$A$2,\"Rating\",D$1,\"Date\",$A258))","v":-100000},{"$f":"IF(ISERROR(GETPIVOTDATA(\"Duration\",Results!$A$2,\"Rating\",E$1,\"Date\",$A258)),-100000,GETPIVOTDATA(\"Duration\",Results!$A$2,\"Rating\",E$1,\"Date\",$A258))","v":-100000},{"$f":"IF(ISERROR(GETPIVOTDATA(\"Duration\",Results!$A$2,\"Rating\",F$1,\"Date\",$A258)),-100000,GETPIVOTDATA(\"Duration\",Results!$A$2,\"Rating\",F$1,\"Date\",$A258))","v":-100000},1000,1000,{"$f":"AVERAGE(G$3:G258)","v":1000}]
["2014-09-14",{"$f":"IF(ISERROR(GETPIVOTDATA(\"Duration\",Results!$A$2,\"Rating\",B$1,\"Date\",$A259)),-100000,GETPIVOTDATA(\"Duration\",Results!$A$2,\"Rating\",B$1,\"Date\",$A259))","v":-100000},{"$f":"IF(ISERROR(GETPIVOTDATA(\"Duration\",Results!$A$2,\"Rating\",C$1,\"Date\",$A259)),-100000,GETPIVOTDATA(\"Duration\",Results!$A$2,\"Rating\",C$1,\"Date\",$A259))","v":-100000},{"$f":"IF(ISERROR(GETPIVOTDATA(\"Duration\",Results!$A$2,\"Rating\",D$1,\"Date\",$A259)),-100000,GETPIVOTDATA(\"Duration\",Results!$A$2,\"Rating\",D$1,\"Date\",$A259))","v":-100000},{"$f":"IF(ISERROR(GETPIVOTDATA(\"Duration\",Results!$A$2,\"Rating\",E$1,\"Date\",$A259)),-100000,GETPIVOTDATA(\"Duration\",Results!$A$2,\"Rating\",E$1,\"Date\",$A259))","v":-100000},{"$f":"IF(ISERROR(GETPIVOTDATA(\"Duration\",Results!$A$2,\"Rating\",F$1,\"Date\",$A259)),-100000,GETPIVOTDATA(\"Duration\",Results!$A$2,\"Rating\",F$1,\"Date\",$A259))","v":-100000},1000,1000,{"$f":"AVERAGE(G$3:G259)","v":1000}]
["2014-09-15",{"$f":"IF(ISERROR(GETPIVOTDATA(\"Duration\",Results!$A$2,\"Rating\",B$1,\"Date\",$A260)),-100000,GETPIVOTDATA(\"Duration\",Results!$A$2,\"Rating\",B$1,\"Date\",$A260))","v":-100000},{"$f":"IF(ISERROR(GETPIVOTDATA(\"Duration\",Results!$A$2,\"Rating\",C$1,\"Date\",$A260)),-100000,GETPIVOTDATA(\"Duration\",Results!$A$2,\"Rating\",C$1,\"Date\",$A260))","v":-100000},{"$f":"IF(ISERROR(GETPIVOTDATA(\"Duration\",Results!$A$2,\"Rating\",D$1,\"Date\",$A260)),-100000,GETPIVOTDATA(\"Duration\",Results!$A$2,\"Rating\",D$1,\"Date\",$A260))","v":-100000},{"$f":"IF(ISERROR(GETPIVOTDATA(\"Duration\",Results!$A$2,\"Rating\",E$1,\"Date\",$A260)),-100000,GETPIVOTDATA(\"Duration\",Results!$A$2,\"Rating\",E$1,\"Date\",$A260))","v":-100000},{"$f":"IF(ISERROR(GETPIVOTDATA(\"Duration\",Results!$A$2,\"Rating\",F$1,\"Date\",$A260)),-100000,GETPIVOTDATA(\"Duration\",Results!$A$2,\"Rating\",F$1,\"Date\",$A260))","v":-100000},1000,1000,{"$f":"AVERAGE(G$3:G260)","v":1000}]
["2014-09-16",{"$f":"IF(ISERROR(GETPIVOTDATA(\"Duration\",Results!$A$2,\"Rating\",B$1,\"Date\",$A261)),-100000,GETPIVOTDATA(\"Duration\",Results!$A$2,\"Rating\",B$1,\"Date\",$A261))","v":-100000},{"$f":"IF(ISERROR(GETPIVOTDATA(\"Duration\",Results!$A$2,\"Rating\",C$1,\"Date\",$A261)),-100000,GETPIVOTDATA(\"Duration\",Results!$A$2,\"Rating\",C$1,\"Date\",$A261))","v":-100000},{"$f":"IF(ISERROR(GETPIVOTDATA(\"Duration\",Results!$A$2,\"Rating\",D$1,\"Date\",$A261)),-100000,GETPIVOTDATA(\"Duration\",Results!$A$2,\"Rating\",D$1,\"Date\",$A261))","v":-100000},{"$f":"IF(ISERROR(GETPIVOTDATA(\"Duration\",Results!$A$2,\"Rating\",E$1,\"Date\",$A261)),-100000,GETPIVOTDATA(\"Duration\",Results!$A$2,\"Rating\",E$1,\"Date\",$A261))","v":-100000},{"$f":"IF(ISERROR(GETPIVOTDATA(\"Duration\",Results!$A$2,\"Rating\",F$1,\"Date\",$A261)),-100000,GETPIVOTDATA(\"Duration\",Results!$A$2,\"Rating\",F$1,\"Date\",$A261))","v":-100000},1000,1000,{"$f":"AVERAGE(G$3:G261)","v":1000}]
["2014-09-17",{"$f":"IF(ISERROR(GETPIVOTDATA(\"Duration\",Results!$A$2,\"Rating\",B$1,\"Date\",$A262)),-100000,GETPIVOTDATA(\"Duration\",Results!$A$2,\"Rating\",B$1,\"Date\",$A262))","v":-100000},{"$f":"IF(ISERROR(GETPIVOTDATA(\"Duration\",Results!$A$2,\"Rating\",C$1,\"Date\",$A262)),-100000,GETPIVOTDATA(\"Duration\",Results!$A$2,\"Rating\",C$1,\"Date\",$A262))","v":-100000},{"$f":"IF(ISERROR(GETPIVOTDATA(\"Duration\",Results!$A$2,\"Rating\",D$1,\"Date\",$A262)),-100000,GETPIVOTDATA(\"Duration\",Results!$A$2,\"Rating\",D$1,\"Date\",$A262))","v":-100000},{"$f":"IF(ISERROR(GETPIVOTDATA(\"Duration\",Results!$A$2,\"Rating\",E$1,\"Date\",$A262)),-100000,GETPIVOTDATA(\"Duration\",Results!$A$2,\"Rating\",E$1,\"Date\",$A262))","v":-100000},{"$f":"IF(ISERROR(GETPIVOTDATA(\"Duration\",Results!$A$2,\"Rating\",F$1,\"Date\",$A262)),-100000,GETPIVOTDATA(\"Duration\",Results!$A$2,\"Rating\",F$1,\"Date\",$A262))","v":-100000},1000,1000,{"$f":"AVERAGE(G$3:G262)","v":1000}]
["2014-09-18",{"$f":"IF(ISERROR(GETPIVOTDATA(\"Duration\",Results!$A$2,\"Rating\",B$1,\"Date\",$A263)),-100000,GETPIVOTDATA(\"Duration\",Results!$A$2,\"Rating\",B$1,\"Date\",$A263))","v":-100000},{"$f":"IF(ISERROR(GETPIVOTDATA(\"Duration\",Results!$A$2,\"Rating\",C$1,\"Date\",$A263)),-100000,GETPIVOTDATA(\"Duration\",Results!$A$2,\"Rating\",C$1,\"Date\",$A263))","v":-100000},{"$f":"IF(ISERROR(GETPIVOTDATA(\"Duration\",Results!$A$2,\"Rating\",D$1,\"Date\",$A263)),-100000,GETPIVOTDATA(\"Duration\",Results!$A$2,\"Rating\",D$1,\"Date\",$A263))","v":-100000},{"$f":"IF(ISERROR(GETPIVOTDATA(\"Duration\",Results!$A$2,\"Rating\",E$1,\"Date\",$A263)),-100000,GETPIVOTDATA(\"Duration\",Results!$A$2,\"Rating\",E$1,\"Date\",$A263))","v":-100000},{"$f":"IF(ISERROR(GETPIVOTDATA(\"Duration\",Results!$A$2,\"Rating\",F$1,\"Date\",$A263)),-100000,GETPIVOTDATA(\"Duration\",Results!$A$2,\"Rating\",F$1,\"Date\",$A263))","v":-100000},1000,1000,{"$f":"AVERAGE(G$3:G263)","v":1000}]
["2014-09-19",{"$f":"IF(ISERROR(GETPIVOTDATA(\"Duration\",Results!$A$2,\"Rating\",B$1,\"Date\",$A264)),-100000,GETPIVOTDATA(\"Duration\",Results!$A$2,\"Rating\",B$1,\"Date\",$A264))","v":-100000},{"$f":"IF(ISERROR(GETPIVOTDATA(\"Duration\",Results!$A$2,\"Rating\",C$1,\"Date\",$A264)),-100000,GETPIVOTDATA(\"Duration\",Results!$A$2,\"Rating\",C$1,\"Date\",$A264))","v":-100000},{"$f":"IF(ISERROR(GETPIVOTDATA(\"Duration\",Results!$A$2,\"Rating\",D$1,\"Date\",$A264)),-100000,GETPIVOTDATA(\"Duration\",Results!$A$2,\"Rating\",D$1,\"Date\",$A264))","v":-100000},{"$f":"IF(ISERROR(GETPIVOTDATA(\"Duration\",Results!$A$2,\"Rating\",E$1,\"Date\",$A264)),-100000,GETPIVOTDATA(\"Duration\",Results!$A$2,\"Rating\",E$1,\"Date\",$A264))","v":-100000},{"$f":"IF(ISERROR(GETPIVOTDATA(\"Duration\",Results!$A$2,\"Rating\",F$1,\"Date\",$A264)),-100000,GETPIVOTDATA(\"Duration\",Results!$A$2,\"Rating\",F$1,\"Date\",$A264))","v":-100000},1000,1000,{"$f":"AVERAGE(G$3:G264)","v":1000}]
["2014-09-20",{"$f":"IF(ISERROR(GETPIVOTDATA(\"Duration\",Results!$A$2,\"Rating\",B$1,\"Date\",$A265)),-100000,GETPIVOTDATA(\"Duration\",Results!$A$2,\"Rating\",B$1,\"Date\",$A265))","v":-100000},{"$f":"IF(ISERROR(GETPIVOTDATA(\"Duration\",Results!$A$2,\"Rating\",C$1,\"Date\",$A265)),-100000,GETPIVOTDATA(\"Duration\",Results!$A$2,\"Rating\",C$1,\"Date\",$A265))","v":-100000},{"$f":"IF(ISERROR(GETPIVOTDATA(\"Duration\",Results!$A$2,\"Rating\",D$1,\"Date\",$A265)),-100000,GETPIVOTDATA(\"Duration\",Results!$A$2,\"Rating\",D$1,\"Date\",$A265))","v":-100000},{"$f":"IF(ISERROR(GETPIVOTDATA(\"Duration\",Results!$A$2,\"Rating\",E$1,\"Date\",$A265)),-100000,GETPIVOTDATA(\"Duration\",Results!$A$2,\"Rating\",E$1,\"Date\",$A265))","v":-100000},{"$f":"IF(ISERROR(GETPIVOTDATA(\"Duration\",Results!$A$2,\"Rating\",F$1,\"Date\",$A265)),-100000,GETPIVOTDATA(\"Duration\",Results!$A$2,\"Rating\",F$1,\"Date\",$A265))","v":-100000},1000,1000,{"$f":"AVERAGE(G$3:G265)","v":1000}]
["2014-09-21",{"$f":"IF(ISERROR(GETPIVOTDATA(\"Duration\",Results!$A$2,\"Rating\",B$1,\"Date\",$A266)),-100000,GETPIVOTDATA(\"Duration\",Results!$A$2,\"Rating\",B$1,\"Date\",$A266))","v":-100000},{"$f":"IF(ISERROR(GETPIVOTDATA(\"Duration\",Results!$A$2,\"Rating\",C$1,\"Date\",$A266)),-100000,GETPIVOTDATA(\"Duration\",Results!$A$2,\"Rating\",C$1,\"Date\",$A266))","v":-100000},{"$f":"IF(ISERROR(GETPIVOTDATA(\"Duration\",Results!$A$2,\"Rating\",D$1,\"Date\",$A266)),-100000,GETPIVOTDATA(\"Duration\",Results!$A$2,\"Rating\",D$1,\"Date\",$A266))","v":-100000},{"$f":"IF(ISERROR(GETPIVOTDATA(\"Duration\",Results!$A$2,\"Rating\",E$1,\"Date\",$A266)),-100000,GETPIVOTDATA(\"Duration\",Results!$A$2,\"Rating\",E$1,\"Date\",$A266))","v":-100000},{"$f":"IF(ISERROR(GETPIVOTDATA(\"Duration\",Results!$A$2,\"Rating\",F$1,\"Date\",$A266)),-100000,GETPIVOTDATA(\"Duration\",Results!$A$2,\"Rating\",F$1,\"Date\",$A266))","v":-100000},1000,1000,{"$f":"AVERAGE(G$3:G266)","v":1000}]
["2014-09-22",{"$f":"IF(ISERROR(GETPIVOTDATA(\"Duration\",Results!$A$2,\"Rating\",B$1,\"Date\",$A267)),-100000,GETPIVOTDATA(\"Duration\",Results!$A$2,\"Rating\",B$1,\"Date\",$A267))","v":-100000},{"$f":"IF(ISERROR(GETPIVOTDATA(\"Duration\",Results!$A$2,\"Rating\",C$1,\"Date\",$A267)),-100000,GETPIVOTDATA(\"Duration\",Results!$A$2,\"Rating\",C$1,\"Date\",$A267))","v":-100000},{"$f":"IF(ISERROR(GETPIVOTDATA(\"Duration\",Results!$A$2,\"Rating\",D$1,\"Date\",$A267)),-100000,GETPIVOTDATA(\"Duration\",Results!$A$2,\"Rating\",D$1,\"Date\",$A267))","v":-100000},{"$f":"IF(ISERROR(GETPIVOTDATA(\"Duration\",Results!$A$2,\"Rating\",E$1,\"Date\",$A267)),-100000,GETPIVOTDATA(\"Duration\",Results!$A$2,\"Rating\",E$1,\"Date\",$A267))","v":-100000},{"$f":"IF(ISERROR(GETPIVOTDATA(\"Duration\",Results!$A$2,\"Rating\",F$1,\"Date\",$A267)),-100000,GETPIVOTDATA(\"Duration\",Results!$A$2,\"Rating\",F$1,\"Date\",$A267))","v":-100000},1000,1000,{"$f":"AVERAGE(G$3:G267)","v":1000}]
["2014-09-23",{"$f":"IF(ISERROR(GETPIVOTDATA(\"Duration\",Results!$A$2,\"Rating\",B$1,\"Date\",$A268)),-100000,GETPIVOTDATA(\"Duration\",Results!$A$2,\"Rating\",B$1,\"Date\",$A268))","v":-100000},{"$f":"IF(ISERROR(GETPIVOTDATA(\"Duration\",Results!$A$2,\"Rating\",C$1,\"Date\",$A268)),-100000,GETPIVOTDATA(\"Duration\",Results!$A$2,\"Rating\",C$1,\"Date\",$A268))","v":-100000},{"$f":"IF(ISERROR(GETPIVOTDATA(\"Duration\",Results!$A$2,\"Rating\",D$1,\"Date\",$A268)),-100000,GETPIVOTDATA(\"Duration\",Results!$A$2,\"Rating\",D$1,\"Date\",$A268))","v":-100000},{"$f":"IF(ISERROR(GETPIVOTDATA(\"Duration\",Results!$A$2,\"Rating\",E$1,\"Date\",$A268)),-100000,GETPIVOTDATA(\"Duration\",Results!$A$2,\"Rating\",E$1,\"Date\",$A268))","v":-100000},{"$f":"IF(ISERROR(GETPIVOTDATA(\"Duration\",Results!$A$2,\"Rating\",F$1,\"Date\",$A268)),-100000,GETPIVOTDATA(\"Duration\",Results!$A$2,\"Rating\",F$1,\"Date\",$A268))","v":-100000},1000,1000,{"$f":"AVERAGE(G$3:G268)","v":1000}]
["2014-09-24",{"$f":"IF(ISERROR(GETPIVOTDATA(\"Duration\",Results!$A$2,\"Rating\",B$1,\"Date\",$A269)),-100000,GETPIVOTDATA(\"Duration\",Results!$A$2,\"Rating\",B$1,\"Date\",$A269))","v":-100000},{"$f":"IF(ISERROR(GETPIVOTDATA(\"Duration\",Results!$A$2,\"Rating\",C$1,\"Date\",$A269)),-100000,GETPIVOTDATA(\"Duration\",Results!$A$2,\"Rating\",C$1,\"Date\",$A269))","v":-100000},{"$f":"IF(ISERROR(GETPIVOTDATA(\"Duration\",Results!$A$2,\"Rating\",D$1,\"Date\",$A269)),-100000,GETPIVOTDATA(\"Duration\",Results!$A$2,\"Rating\",D$1,\"Date\",$A269))","v":-100000},{"$f":"IF(ISERROR(GETPIVOTDATA(\"Duration\",Results!$A$2,\"Rating\",E$1,\"Date\",$A269)),-100000,GETPIVOTDATA(\"Duration\",Results!$A$2,\"Rating\",E$1,\"Date\",$A269))","v":-100000},{"$f":"IF(ISERROR(GETPIVOTDATA(\"Duration\",Results!$A$2,\"Rating\",F$1,\"Date\",$A269)),-100000,GETPIVOTDATA(\"Duration\",Results!$A$2,\"Rating\",F$1,\"Date\",$A269))","v":-100000},1000,1000,{"$f":"AVERAGE(G$3:G269)","v":1000}]
["2014-09-25",{"$f":"IF(ISERROR(GETPIVOTDATA(\"Duration\",Results!$A$2,\"Rating\",B$1,\"Date\",$A270)),-100000,GETPIVOTDATA(\"Duration\",Results!$A$2,\"Rating\",B$1,\"Date\",$A270))","v":-100000},{"$f":"IF(ISERROR(GETPIVOTDATA(\"Duration\",Results!$A$2,\"Rating\",C$1,\"Date\",$A270)),-100000,GETPIVOTDATA(\"Duration\",Results!$A$2,\"Rating\",C$1,\"Date\",$A270))","v":-100000},{"$f":"IF(ISERROR(GETPIVOTDATA(\"Duration\",Results!$A$2,\"Rating\",D$1,\"Date\",$A270)),-100000,GETPIVOTDATA(\"Duration\",Results!$A$2,\"Rating\",D$1,\"Date\",$A270))","v":-100000},{"$f":"IF(ISERROR(GETPIVOTDATA(\"Duration\",Results!$A$2,\"Rating\",E$1,\"Date\",$A270)),-100000,GETPIVOTDATA(\"Duration\",Results!$A$2,\"Rating\",E$1,\"Date\",$A270))","v":-100000},{"$f":"IF(ISERROR(GETPIVOTDATA(\"Duration\",Results!$A$2,\"Rating\",F$1,\"Date\",$A270)),-100000,GETPIVOTDATA(\"Duration\",Results!$A$2,\"Rating\",F$1,\"Date\",$A270))","v":-100000},1000,1000,{"$f":"AVERAGE(G$3:G270)","v":1000}]
["2014-09-26",{"$f":"IF(ISERROR(GETPIVOTDATA(\"Duration\",Results!$A$2,\"Rating\",B$1,\"Date\",$A271)),-100000,GETPIVOTDATA(\"Duration\",Results!$A$2,\"Rating\",B$1,\"Date\",$A271))","v":-100000},{"$f":"IF(ISERROR(GETPIVOTDATA(\"Duration\",Results!$A$2,\"Rating\",C$1,\"Date\",$A271)),-100000,GETPIVOTDATA(\"Duration\",Results!$A$2,\"Rating\",C$1,\"Date\",$A271))","v":-100000},{"$f":"IF(ISERROR(GETPIVOTDATA(\"Duration\",Results!$A$2,\"Rating\",D$1,\"Date\",$A271)),-100000,GETPIVOTDATA(\"Duration\",Results!$A$2,\"Rating\",D$1,\"Date\",$A271))","v":-100000},{"$f":"IF(ISERROR(GETPIVOTDATA(\"Duration\",Results!$A$2,\"Rating\",E$1,\"Date\",$A271)),-100000,GETPIVOTDATA(\"Duration\",Results!$A$2,\"Rating\",E$1,\"Date\",$A271))","v":-100000},{"$f":"IF(ISERROR(GETPIVOTDATA(\"Duration\",Results!$A$2,\"Rating\",F$1,\"Date\",$A271)),-100000,GETPIVOTDATA(\"Duration\",Results!$A$2,\"Rating\",F$1,\"Date\",$A271))","v":-100000},1000,1000,{"$f":"AVERAGE(G$3:G271)","v":1000}]
["2014-09-27",{"$f":"IF(ISERROR(GETPIVOTDATA(\"Duration\",Results!$A$2,\"Rating\",B$1,\"Date\",$A272)),-100000,GETPIVOTDATA(\"Duration\",Results!$A$2,\"Rating\",B$1,\"Date\",$A272))","v":-100000},{"$f":"IF(ISERROR(GETPIVOTDATA(\"Duration\",Results!$A$2,\"Rating\",C$1,\"Date\",$A272)),-100000,GETPIVOTDATA(\"Duration\",Results!$A$2,\"Rating\",C$1,\"Date\",$A272))","v":-100000},{"$f":"IF(ISERROR(GETPIVOTDATA(\"Duration\",Results!$A$2,\"Rating\",D$1,\"Date\",$A272)),-100000,GETPIVOTDATA(\"Duration\",Results!$A$2,\"Rating\",D$1,\"Date\",$A272))","v":-100000},{"$f":"IF(ISERROR(GETPIVOTDATA(\"Duration\",Results!$A$2,\"Rating\",E$1,\"Date\",$A272)),-100000,GETPIVOTDATA(\"Duration\",Results!$A$2,\"Rating\",E$1,\"Date\",$A272))","v":-100000},{"$f":"IF(ISERROR(GETPIVOTDATA(\"Duration\",Results!$A$2,\"Rating\",F$1,\"Date\",$A272)),-100000,GETPIVOTDATA(\"Duration\",Results!$A$2,\"Rating\",F$1,\"Date\",$A272))","v":-100000},1000,1000,{"$f":"AVERAGE(G$3:G272)","v":1000}]
["2014-09-28",{"$f":"IF(ISERROR(GETPIVOTDATA(\"Duration\",Results!$A$2,\"Rating\",B$1,\"Date\",$A273)),-100000,GETPIVOTDATA(\"Duration\",Results!$A$2,\"Rating\",B$1,\"Date\",$A273))","v":-100000},{"$f":"IF(ISERROR(GETPIVOTDATA(\"Duration\",Results!$A$2,\"Rating\",C$1,\"Date\",$A273)),-100000,GETPIVOTDATA(\"Duration\",Results!$A$2,\"Rating\",C$1,\"Date\",$A273))","v":-100000},{"$f":"IF(ISERROR(GETPIVOTDATA(\"Duration\",Results!$A$2,\"Rating\",D$1,\"Date\",$A273)),-100000,GETPIVOTDATA(\"Duration\",Results!$A$2,\"Rating\",D$1,\"Date\",$A273))","v":-100000},{"$f":"IF(ISERROR(GETPIVOTDATA(\"Duration\",Results!$A$2,\"Rating\",E$1,\"Date\",$A273)),-100000,GETPIVOTDATA(\"Duration\",Results!$A$2,\"Rating\",E$1,\"Date\",$A273))","v":-100000},{"$f":"IF(ISERROR(GETPIVOTDATA(\"Duration\",Results!$A$2,\"Rating\",F$1,\"Date\",$A273)),-100000,GETPIVOTDATA(\"Duration\",Results!$A$2,\"Rating\",F$1,\"Date\",$A273))","v":-100000},1000,1000,{"$f":"AVERAGE(G$3:G273)","v":1000}]
["2014-09-29",{"$f":"IF(ISERROR(GETPIVOTDATA(\"Duration\",Results!$A$2,\"Rating\",B$1,\"Date\",$A274)),-100000,GETPIVOTDATA(\"Duration\",Results!$A$2,\"Rating\",B$1,\"Date\",$A274))","v":-100000},{"$f":"IF(ISERROR(GETPIVOTDATA(\"Duration\",Results!$A$2,\"Rating\",C$1,\"Date\",$A274)),-100000,GETPIVOTDATA(\"Duration\",Results!$A$2,\"Rating\",C$1,\"Date\",$A274))","v":-100000},{"$f":"IF(ISERROR(GETPIVOTDATA(\"Duration\",Results!$A$2,\"Rating\",D$1,\"Date\",$A274)),-100000,GETPIVOTDATA(\"Duration\",Results!$A$2,\"Rating\",D$1,\"Date\",$A274))","v":-100000},{"$f":"IF(ISERROR(GETPIVOTDATA(\"Duration\",Results!$A$2,\"Rating\",E$1,\"Date\",$A274)),-100000,GETPIVOTDATA(\"Duration\",Results!$A$2,\"Rating\",E$1,\"Date\",$A274))","v":-100000},{"$f":"IF(ISERROR(GETPIVOTDATA(\"Duration\",Results!$A$2,\"Rating\",F$1,\"Date\",$A274)),-100000,GETPIVOTDATA(\"Duration\",Results!$A$2,\"Rating\",F$1,\"Date\",$A274))","v":-100000},1000,1000,{"$f":"AVERAGE(G$3:G274)","v":1000}]
["2014-09-30",{"$f":"IF(ISERROR(GETPIVOTDATA(\"Duration\",Results!$A$2,\"Rating\",B$1,\"Date\",$A275)),-100000,GETPIVOTDATA(\"Duration\",Results!$A$2,\"Rating\",B$1,\"Date\",$A275))","v":-100000},{"$f":"IF(ISERROR(GETPIVOTDATA(\"Duration\",Results!$A$2,\"Rating\",C$1,\"Date\",$A275)),-100000,GETPIVOTDATA(\"Duration\",Results!$A$2,\"Rating\",C$1,\"Date\",$A275))","v":-100000},{"$f":"IF(ISERROR(GETPIVOTDATA(\"Duration\",Results!$A$2,\"Rating\",D$1,\"Date\",$A275)),-100000,GETPIVOTDATA(\"Duration\",Results!$A$2,\"Rating\",D$1,\"Date\",$A275))","v":-100000},{"$f":"IF(ISERROR(GETPIVOTDATA(\"Duration\",Results!$A$2,\"Rating\",E$1,\"Date\",$A275)),-100000,GETPIVOTDATA(\"Duration\",Results!$A$2,\"Rating\",E$1,\"Date\",$A275))","v":-100000},{"$f":"IF(ISERROR(GETPIVOTDATA(\"Duration\",Results!$A$2,\"Rating\",F$1,\"Date\",$A275)),-100000,GETPIVOTDATA(\"Duration\",Results!$A$2,\"Rating\",F$1,\"Date\",$A275))","v":-100000},1000,1000,{"$f":"AVERAGE(G$3:G275)","v":1000}]
["2014-10-01",{"$f":"IF(ISERROR(GETPIVOTDATA(\"Duration\",Results!$A$2,\"Rating\",B$1,\"Date\",$A276)),-100000,GETPIVOTDATA(\"Duration\",Results!$A$2,\"Rating\",B$1,\"Date\",$A276))","v":-100000},{"$f":"IF(ISERROR(GETPIVOTDATA(\"Duration\",Results!$A$2,\"Rating\",C$1,\"Date\",$A276)),-100000,GETPIVOTDATA(\"Duration\",Results!$A$2,\"Rating\",C$1,\"Date\",$A276))","v":-100000},{"$f":"IF(ISERROR(GETPIVOTDATA(\"Duration\",Results!$A$2,\"Rating\",D$1,\"Date\",$A276)),-100000,GETPIVOTDATA(\"Duration\",Results!$A$2,\"Rating\",D$1,\"Date\",$A276))","v":-100000},{"$f":"IF(ISERROR(GETPIVOTDATA(\"Duration\",Results!$A$2,\"Rating\",E$1,\"Date\",$A276)),-100000,GETPIVOTDATA(\"Duration\",Results!$A$2,\"Rating\",E$1,\"Date\",$A276))","v":-100000},{"$f":"IF(ISERROR(GETPIVOTDATA(\"Duration\",Results!$A$2,\"Rating\",F$1,\"Date\",$A276)),-100000,GETPIVOTDATA(\"Duration\",Results!$A$2,\"Rating\",F$1,\"Date\",$A276))","v":-100000},1000,1000,{"$f":"AVERAGE(G$3:G276)","v":1000}]
["2014-10-02",{"$f":"IF(ISERROR(GETPIVOTDATA(\"Duration\",Results!$A$2,\"Rating\",B$1,\"Date\",$A277)),-100000,GETPIVOTDATA(\"Duration\",Results!$A$2,\"Rating\",B$1,\"Date\",$A277))","v":-100000},{"$f":"IF(ISERROR(GETPIVOTDATA(\"Duration\",Results!$A$2,\"Rating\",C$1,\"Date\",$A277)),-100000,GETPIVOTDATA(\"Duration\",Results!$A$2,\"Rating\",C$1,\"Date\",$A277))","v":-100000},{"$f":"IF(ISERROR(GETPIVOTDATA(\"Duration\",Results!$A$2,\"Rating\",D$1,\"Date\",$A277)),-100000,GETPIVOTDATA(\"Duration\",Results!$A$2,\"Rating\",D$1,\"Date\",$A277))","v":-100000},{"$f":"IF(ISERROR(GETPIVOTDATA(\"Duration\",Results!$A$2,\"Rating\",E$1,\"Date\",$A277)),-100000,GETPIVOTDATA(\"Duration\",Results!$A$2,\"Rating\",E$1,\"Date\",$A277))","v":-100000},{"$f":"IF(ISERROR(GETPIVOTDATA(\"Duration\",Results!$A$2,\"Rating\",F$1,\"Date\",$A277)),-100000,GETPIVOTDATA(\"Duration\",Results!$A$2,\"Rating\",F$1,\"Date\",$A277))","v":-100000},1000,1000,{"$f":"AVERAGE(G$3:G277)","v":1000}]
["2014-10-03",{"$f":"IF(ISERROR(GETPIVOTDATA(\"Duration\",Results!$A$2,\"Rating\",B$1,\"Date\",$A278)),-100000,GETPIVOTDATA(\"Duration\",Results!$A$2,\"Rating\",B$1,\"Date\",$A278))","v":-100000},{"$f":"IF(ISERROR(GETPIVOTDATA(\"Duration\",Results!$A$2,\"Rating\",C$1,\"Date\",$A278)),-100000,GETPIVOTDATA(\"Duration\",Results!$A$2,\"Rating\",C$1,\"Date\",$A278))","v":-100000},{"$f":"IF(ISERROR(GETPIVOTDATA(\"Duration\",Results!$A$2,\"Rating\",D$1,\"Date\",$A278)),-100000,GETPIVOTDATA(\"Duration\",Results!$A$2,\"Rating\",D$1,\"Date\",$A278))","v":-100000},{"$f":"IF(ISERROR(GETPIVOTDATA(\"Duration\",Results!$A$2,\"Rating\",E$1,\"Date\",$A278)),-100000,GETPIVOTDATA(\"Duration\",Results!$A$2,\"Rating\",E$1,\"Date\",$A278))","v":-100000},{"$f":"IF(ISERROR(GETPIVOTDATA(\"Duration\",Results!$A$2,\"Rating\",F$1,\"Date\",$A278)),-100000,GETPIVOTDATA(\"Duration\",Results!$A$2,\"Rating\",F$1,\"Date\",$A278))","v":-100000},1000,1000,{"$f":"AVERAGE(G$3:G278)","v":1000}]
["2014-10-04",{"$f":"IF(ISERROR(GETPIVOTDATA(\"Duration\",Results!$A$2,\"Rating\",B$1,\"Date\",$A279)),-100000,GETPIVOTDATA(\"Duration\",Results!$A$2,\"Rating\",B$1,\"Date\",$A279))","v":-100000},{"$f":"IF(ISERROR(GETPIVOTDATA(\"Duration\",Results!$A$2,\"Rating\",C$1,\"Date\",$A279)),-100000,GETPIVOTDATA(\"Duration\",Results!$A$2,\"Rating\",C$1,\"Date\",$A279))","v":-100000},{"$f":"IF(ISERROR(GETPIVOTDATA(\"Duration\",Results!$A$2,\"Rating\",D$1,\"Date\",$A279)),-100000,GETPIVOTDATA(\"Duration\",Results!$A$2,\"Rating\",D$1,\"Date\",$A279))","v":-100000},{"$f":"IF(ISERROR(GETPIVOTDATA(\"Duration\",Results!$A$2,\"Rating\",E$1,\"Date\",$A279)),-100000,GETPIVOTDATA(\"Duration\",Results!$A$2,\"Rating\",E$1,\"Date\",$A279))","v":-100000},{"$f":"IF(ISERROR(GETPIVOTDATA(\"Duration\",Results!$A$2,\"Rating\",F$1,\"Date\",$A279)),-100000,GETPIVOTDATA(\"Duration\",Results!$A$2,\"Rating\",F$1,\"Date\",$A279))","v":-100000},1000,1000,{"$f":"AVERAGE(G$3:G279)","v":1000}]
["2014-10-05",{"$f":"IF(ISERROR(GETPIVOTDATA(\"Duration\",Results!$A$2,\"Rating\",B$1,\"Date\",$A280)),-100000,GETPIVOTDATA(\"Duration\",Results!$A$2,\"Rating\",B$1,\"Date\",$A280))","v":-100000},{"$f":"IF(ISERROR(GETPIVOTDATA(\"Duration\",Results!$A$2,\"Rating\",C$1,\"Date\",$A280)),-100000,GETPIVOTDATA(\"Duration\",Results!$A$2,\"Rating\",C$1,\"Date\",$A280))","v":-100000},{"$f":"IF(ISERROR(GETPIVOTDATA(\"Duration\",Results!$A$2,\"Rating\",D$1,\"Date\",$A280)),-100000,GETPIVOTDATA(\"Duration\",Results!$A$2,\"Rating\",D$1,\"Date\",$A280))","v":-100000},{"$f":"IF(ISERROR(GETPIVOTDATA(\"Duration\",Results!$A$2,\"Rating\",E$1,\"Date\",$A280)),-100000,GETPIVOTDATA(\"Duration\",Results!$A$2,\"Rating\",E$1,\"Date\",$A280))","v":-100000},{"$f":"IF(ISERROR(GETPIVOTDATA(\"Duration\",Results!$A$2,\"Rating\",F$1,\"Date\",$A280)),-100000,GETPIVOTDATA(\"Duration\",Results!$A$2,\"Rating\",F$1,\"Date\",$A280))","v":-100000},1000,1000,{"$f":"AVERAGE(G$3:G280)","v":1000}]
["2014-10-06",{"$f":"IF(ISERROR(GETPIVOTDATA(\"Duration\",Results!$A$2,\"Rating\",B$1,\"Date\",$A281)),-100000,GETPIVOTDATA(\"Duration\",Results!$A$2,\"Rating\",B$1,\"Date\",$A281))","v":-100000},{"$f":"IF(ISERROR(GETPIVOTDATA(\"Duration\",Results!$A$2,\"Rating\",C$1,\"Date\",$A281)),-100000,GETPIVOTDATA(\"Duration\",Results!$A$2,\"Rating\",C$1,\"Date\",$A281))","v":-100000},{"$f":"IF(ISERROR(GETPIVOTDATA(\"Duration\",Results!$A$2,\"Rating\",D$1,\"Date\",$A281)),-100000,GETPIVOTDATA(\"Duration\",Results!$A$2,\"Rating\",D$1,\"Date\",$A281))","v":-100000},{"$f":"IF(ISERROR(GETPIVOTDATA(\"Duration\",Results!$A$2,\"Rating\",E$1,\"Date\",$A281)),-100000,GETPIVOTDATA(\"Duration\",Results!$A$2,\"Rating\",E$1,\"Date\",$A281))","v":-100000},{"$f":"IF(ISERROR(GETPIVOTDATA(\"Duration\",Results!$A$2,\"Rating\",F$1,\"Date\",$A281)),-100000,GETPIVOTDATA(\"Duration\",Results!$A$2,\"Rating\",F$1,\"Date\",$A281))","v":-100000},1000,1000,{"$f":"AVERAGE(G$3:G281)","v":1000}]
["2014-10-07",{"$f":"IF(ISERROR(GETPIVOTDATA(\"Duration\",Results!$A$2,\"Rating\",B$1,\"Date\",$A282)),-100000,GETPIVOTDATA(\"Duration\",Results!$A$2,\"Rating\",B$1,\"Date\",$A282))","v":-100000},{"$f":"IF(ISERROR(GETPIVOTDATA(\"Duration\",Results!$A$2,\"Rating\",C$1,\"Date\",$A282)),-100000,GETPIVOTDATA(\"Duration\",Results!$A$2,\"Rating\",C$1,\"Date\",$A282))","v":-100000},{"$f":"IF(ISERROR(GETPIVOTDATA(\"Duration\",Results!$A$2,\"Rating\",D$1,\"Date\",$A282)),-100000,GETPIVOTDATA(\"Duration\",Results!$A$2,\"Rating\",D$1,\"Date\",$A282))","v":-100000},{"$f":"IF(ISERROR(GETPIVOTDATA(\"Duration\",Results!$A$2,\"Rating\",E$1,\"Date\",$A282)),-100000,GETPIVOTDATA(\"Duration\",Results!$A$2,\"Rating\",E$1,\"Date\",$A282))","v":-100000},{"$f":"IF(ISERROR(GETPIVOTDATA(\"Duration\",Results!$A$2,\"Rating\",F$1,\"Date\",$A282)),-100000,GETPIVOTDATA(\"Duration\",Results!$A$2,\"Rating\",F$1,\"Date\",$A282))","v":-100000},1000,1000,{"$f":"AVERAGE(G$3:G282)","v":1000}]
["2014-10-08",{"$f":"IF(ISERROR(GETPIVOTDATA(\"Duration\",Results!$A$2,\"Rating\",B$1,\"Date\",$A283)),-100000,GETPIVOTDATA(\"Duration\",Results!$A$2,\"Rating\",B$1,\"Date\",$A283))","v":-100000},{"$f":"IF(ISERROR(GETPIVOTDATA(\"Duration\",Results!$A$2,\"Rating\",C$1,\"Date\",$A283)),-100000,GETPIVOTDATA(\"Duration\",Results!$A$2,\"Rating\",C$1,\"Date\",$A283))","v":-100000},{"$f":"IF(ISERROR(GETPIVOTDATA(\"Duration\",Results!$A$2,\"Rating\",D$1,\"Date\",$A283)),-100000,GETPIVOTDATA(\"Duration\",Results!$A$2,\"Rating\",D$1,\"Date\",$A283))","v":-100000},{"$f":"IF(ISERROR(GETPIVOTDATA(\"Duration\",Results!$A$2,\"Rating\",E$1,\"Date\",$A283)),-100000,GETPIVOTDATA(\"Duration\",Results!$A$2,\"Rating\",E$1,\"Date\",$A283))","v":-100000},{"$f":"IF(ISERROR(GETPIVOTDATA(\"Duration\",Results!$A$2,\"Rating\",F$1,\"Date\",$A283)),-100000,GETPIVOTDATA(\"Duration\",Results!$A$2,\"Rating\",F$1,\"Date\",$A283))","v":-100000},1000,1000,{"$f":"AVERAGE(G$3:G283)","v":1000}]
["2014-10-09",{"$f":"IF(ISERROR(GETPIVOTDATA(\"Duration\",Results!$A$2,\"Rating\",B$1,\"Date\",$A284)),-100000,GETPIVOTDATA(\"Duration\",Results!$A$2,\"Rating\",B$1,\"Date\",$A284))","v":-100000},{"$f":"IF(ISERROR(GETPIVOTDATA(\"Duration\",Results!$A$2,\"Rating\",C$1,\"Date\",$A284)),-100000,GETPIVOTDATA(\"Duration\",Results!$A$2,\"Rating\",C$1,\"Date\",$A284))","v":-100000},{"$f":"IF(ISERROR(GETPIVOTDATA(\"Duration\",Results!$A$2,\"Rating\",D$1,\"Date\",$A284)),-100000,GETPIVOTDATA(\"Duration\",Results!$A$2,\"Rating\",D$1,\"Date\",$A284))","v":-100000},{"$f":"IF(ISERROR(GETPIVOTDATA(\"Duration\",Results!$A$2,\"Rating\",E$1,\"Date\",$A284)),-100000,GETPIVOTDATA(\"Duration\",Results!$A$2,\"Rating\",E$1,\"Date\",$A284))","v":-100000},{"$f":"IF(ISERROR(GETPIVOTDATA(\"Duration\",Results!$A$2,\"Rating\",F$1,\"Date\",$A284)),-100000,GETPIVOTDATA(\"Duration\",Results!$A$2,\"Rating\",F$1,\"Date\",$A284))","v":-100000},1000,1000,{"$f":"AVERAGE(G$3:G284)","v":1000}]
["2014-10-10",{"$f":"IF(ISERROR(GETPIVOTDATA(\"Duration\",Results!$A$2,\"Rating\",B$1,\"Date\",$A285)),-100000,GETPIVOTDATA(\"Duration\",Results!$A$2,\"Rating\",B$1,\"Date\",$A285))","v":-100000},{"$f":"IF(ISERROR(GETPIVOTDATA(\"Duration\",Results!$A$2,\"Rating\",C$1,\"Date\",$A285)),-100000,GETPIVOTDATA(\"Duration\",Results!$A$2,\"Rating\",C$1,\"Date\",$A285))","v":-100000},{"$f":"IF(ISERROR(GETPIVOTDATA(\"Duration\",Results!$A$2,\"Rating\",D$1,\"Date\",$A285)),-100000,GETPIVOTDATA(\"Duration\",Results!$A$2,\"Rating\",D$1,\"Date\",$A285))","v":-100000},{"$f":"IF(ISERROR(GETPIVOTDATA(\"Duration\",Results!$A$2,\"Rating\",E$1,\"Date\",$A285)),-100000,GETPIVOTDATA(\"Duration\",Results!$A$2,\"Rating\",E$1,\"Date\",$A285))","v":-100000},{"$f":"IF(ISERROR(GETPIVOTDATA(\"Duration\",Results!$A$2,\"Rating\",F$1,\"Date\",$A285)),-100000,GETPIVOTDATA(\"Duration\",Results!$A$2,\"Rating\",F$1,\"Date\",$A285))","v":-100000},1000,1000,{"$f":"AVERAGE(G$3:G285)","v":1000}]
["2014-10-11",{"$f":"IF(ISERROR(GETPIVOTDATA(\"Duration\",Results!$A$2,\"Rating\",B$1,\"Date\",$A286)),-100000,GETPIVOTDATA(\"Duration\",Results!$A$2,\"Rating\",B$1,\"Date\",$A286))","v":-100000},{"$f":"IF(ISERROR(GETPIVOTDATA(\"Duration\",Results!$A$2,\"Rating\",C$1,\"Date\",$A286)),-100000,GETPIVOTDATA(\"Duration\",Results!$A$2,\"Rating\",C$1,\"Date\",$A286))","v":-100000},{"$f":"IF(ISERROR(GETPIVOTDATA(\"Duration\",Results!$A$2,\"Rating\",D$1,\"Date\",$A286)),-100000,GETPIVOTDATA(\"Duration\",Results!$A$2,\"Rating\",D$1,\"Date\",$A286))","v":-100000},{"$f":"IF(ISERROR(GETPIVOTDATA(\"Duration\",Results!$A$2,\"Rating\",E$1,\"Date\",$A286)),-100000,GETPIVOTDATA(\"Duration\",Results!$A$2,\"Rating\",E$1,\"Date\",$A286))","v":-100000},{"$f":"IF(ISERROR(GETPIVOTDATA(\"Duration\",Results!$A$2,\"Rating\",F$1,\"Date\",$A286)),-100000,GETPIVOTDATA(\"Duration\",Results!$A$2,\"Rating\",F$1,\"Date\",$A286))","v":-100000},1000,1000,{"$f":"AVERAGE(G$3:G286)","v":1000}]
["2014-10-12",{"$f":"IF(ISERROR(GETPIVOTDATA(\"Duration\",Results!$A$2,\"Rating\",B$1,\"Date\",$A287)),-100000,GETPIVOTDATA(\"Duration\",Results!$A$2,\"Rating\",B$1,\"Date\",$A287))","v":-100000},{"$f":"IF(ISERROR(GETPIVOTDATA(\"Duration\",Results!$A$2,\"Rating\",C$1,\"Date\",$A287)),-100000,GETPIVOTDATA(\"Duration\",Results!$A$2,\"Rating\",C$1,\"Date\",$A287))","v":-100000},{"$f":"IF(ISERROR(GETPIVOTDATA(\"Duration\",Results!$A$2,\"Rating\",D$1,\"Date\",$A287)),-100000,GETPIVOTDATA(\"Duration\",Results!$A$2,\"Rating\",D$1,\"Date\",$A287))","v":-100000},{"$f":"IF(ISERROR(GETPIVOTDATA(\"Duration\",Results!$A$2,\"Rating\",E$1,\"Date\",$A287)),-100000,GETPIVOTDATA(\"Duration\",Results!$A$2,\"Rating\",E$1,\"Date\",$A287))","v":-100000},{"$f":"IF(ISERROR(GETPIVOTDATA(\"Duration\",Results!$A$2,\"Rating\",F$1,\"Date\",$A287)),-100000,GETPIVOTDATA(\"Duration\",Results!$A$2,\"Rating\",F$1,\"Date\",$A287))","v":-100000},1000,1000,{"$f":"AVERAGE(G$3:G287)","v":1000}]
["2014-10-13",{"$f":"IF(ISERROR(GETPIVOTDATA(\"Duration\",Results!$A$2,\"Rating\",B$1,\"Date\",$A288)),-100000,GETPIVOTDATA(\"Duration\",Results!$A$2,\"Rating\",B$1,\"Date\",$A288))","v":-100000},{"$f":"IF(ISERROR(GETPIVOTDATA(\"Duration\",Results!$A$2,\"Rating\",C$1,\"Date\",$A288)),-100000,GETPIVOTDATA(\"Duration\",Results!$A$2,\"Rating\",C$1,\"Date\",$A288))","v":-100000},{"$f":"IF(ISERROR(GETPIVOTDATA(\"Duration\",Results!$A$2,\"Rating\",D$1,\"Date\",$A288)),-100000,GETPIVOTDATA(\"Duration\",Results!$A$2,\"Rating\",D$1,\"Date\",$A288))","v":-100000},{"$f":"IF(ISERROR(GETPIVOTDATA(\"Duration\",Results!$A$2,\"Rating\",E$1,\"Date\",$A288)),-100000,GETPIVOTDATA(\"Duration\",Results!$A$2,\"Rating\",E$1,\"Date\",$A288))","v":-100000},{"$f":"IF(ISERROR(GETPIVOTDATA(\"Duration\",Results!$A$2,\"Rating\",F$1,\"Date\",$A288)),-100000,GETPIVOTDATA(\"Duration\",Results!$A$2,\"Rating\",F$1,\"Date\",$A288))","v":-100000},1000,1000,{"$f":"AVERAGE(G$3:G288)","v":1000}]
["2014-10-14",{"$f":"IF(ISERROR(GETPIVOTDATA(\"Duration\",Results!$A$2,\"Rating\",B$1,\"Date\",$A289)),-100000,GETPIVOTDATA(\"Duration\",Results!$A$2,\"Rating\",B$1,\"Date\",$A289))","v":-100000},{"$f":"IF(ISERROR(GETPIVOTDATA(\"Duration\",Results!$A$2,\"Rating\",C$1,\"Date\",$A289)),-100000,GETPIVOTDATA(\"Duration\",Results!$A$2,\"Rating\",C$1,\"Date\",$A289))","v":-100000},{"$f":"IF(ISERROR(GETPIVOTDATA(\"Duration\",Results!$A$2,\"Rating\",D$1,\"Date\",$A289)),-100000,GETPIVOTDATA(\"Duration\",Results!$A$2,\"Rating\",D$1,\"Date\",$A289))","v":-100000},{"$f":"IF(ISERROR(GETPIVOTDATA(\"Duration\",Results!$A$2,\"Rating\",E$1,\"Date\",$A289)),-100000,GETPIVOTDATA(\"Duration\",Results!$A$2,\"Rating\",E$1,\"Date\",$A289))","v":-100000},{"$f":"IF(ISERROR(GETPIVOTDATA(\"Duration\",Results!$A$2,\"Rating\",F$1,\"Date\",$A289)),-100000,GETPIVOTDATA(\"Duration\",Results!$A$2,\"Rating\",F$1,\"Date\",$A289))","v":-100000},1000,1000,{"$f":"AVERAGE(G$3:G289)","v":1000}]
["2014-10-15",{"$f":"IF(ISERROR(GETPIVOTDATA(\"Duration\",Results!$A$2,\"Rating\",B$1,\"Date\",$A290)),-100000,GETPIVOTDATA(\"Duration\",Results!$A$2,\"Rating\",B$1,\"Date\",$A290))","v":-100000},{"$f":"IF(ISERROR(GETPIVOTDATA(\"Duration\",Results!$A$2,\"Rating\",C$1,\"Date\",$A290)),-100000,GETPIVOTDATA(\"Duration\",Results!$A$2,\"Rating\",C$1,\"Date\",$A290))","v":-100000},{"$f":"IF(ISERROR(GETPIVOTDATA(\"Duration\",Results!$A$2,\"Rating\",D$1,\"Date\",$A290)),-100000,GETPIVOTDATA(\"Duration\",Results!$A$2,\"Rating\",D$1,\"Date\",$A290))","v":-100000},{"$f":"IF(ISERROR(GETPIVOTDATA(\"Duration\",Results!$A$2,\"Rating\",E$1,\"Date\",$A290)),-100000,GETPIVOTDATA(\"Duration\",Results!$A$2,\"Rating\",E$1,\"Date\",$A290))","v":-100000},{"$f":"IF(ISERROR(GETPIVOTDATA(\"Duration\",Results!$A$2,\"Rating\",F$1,\"Date\",$A290)),-100000,GETPIVOTDATA(\"Duration\",Results!$A$2,\"Rating\",F$1,\"Date\",$A290))","v":-100000},1000,1000,{"$f":"AVERAGE(G$3:G290)","v":1000}]
["2014-10-16",{"$f":"IF(ISERROR(GETPIVOTDATA(\"Duration\",Results!$A$2,\"Rating\",B$1,\"Date\",$A291)),-100000,GETPIVOTDATA(\"Duration\",Results!$A$2,\"Rating\",B$1,\"Date\",$A291))","v":-100000},{"$f":"IF(ISERROR(GETPIVOTDATA(\"Duration\",Results!$A$2,\"Rating\",C$1,\"Date\",$A291)),-100000,GETPIVOTDATA(\"Duration\",Results!$A$2,\"Rating\",C$1,\"Date\",$A291))","v":-100000},{"$f":"IF(ISERROR(GETPIVOTDATA(\"Duration\",Results!$A$2,\"Rating\",D$1,\"Date\",$A291)),-100000,GETPIVOTDATA(\"Duration\",Results!$A$2,\"Rating\",D$1,\"Date\",$A291))","v":-100000},{"$f":"IF(ISERROR(GETPIVOTDATA(\"Duration\",Results!$A$2,\"Rating\",E$1,\"Date\",$A291)),-100000,GETPIVOTDATA(\"Duration\",Results!$A$2,\"Rating\",E$1,\"Date\",$A291))","v":-100000},{"$f":"IF(ISERROR(GETPIVOTDATA(\"Duration\",Results!$A$2,\"Rating\",F$1,\"Date\",$A291)),-100000,GETPIVOTDATA(\"Duration\",Results!$A$2,\"Rating\",F$1,\"Date\",$A291))","v":-100000},1000,1000,{"$f":"AVERAGE(G$3:G291)","v":1000}]
["2014-10-17",{"$f":"IF(ISERROR(GETPIVOTDATA(\"Duration\",Results!$A$2,\"Rating\",B$1,\"Date\",$A292)),-100000,GETPIVOTDATA(\"Duration\",Results!$A$2,\"Rating\",B$1,\"Date\",$A292))","v":-100000},{"$f":"IF(ISERROR(GETPIVOTDATA(\"Duration\",Results!$A$2,\"Rating\",C$1,\"Date\",$A292)),-100000,GETPIVOTDATA(\"Duration\",Results!$A$2,\"Rating\",C$1,\"Date\",$A292))","v":-100000},{"$f":"IF(ISERROR(GETPIVOTDATA(\"Duration\",Results!$A$2,\"Rating\",D$1,\"Date\",$A292)),-100000,GETPIVOTDATA(\"Duration\",Results!$A$2,\"Rating\",D$1,\"Date\",$A292))","v":-100000},{"$f":"IF(ISERROR(GETPIVOTDATA(\"Duration\",Results!$A$2,\"Rating\",E$1,\"Date\",$A292)),-100000,GETPIVOTDATA(\"Duration\",Results!$A$2,\"Rating\",E$1,\"Date\",$A292))","v":-100000},{"$f":"IF(ISERROR(GETPIVOTDATA(\"Duration\",Results!$A$2,\"Rating\",F$1,\"Date\",$A292)),-100000,GETPIVOTDATA(\"Duration\",Results!$A$2,\"Rating\",F$1,\"Date\",$A292))","v":-100000},1000,1000,{"$f":"AVERAGE(G$3:G292)","v":1000}]
["2014-10-18",{"$f":"IF(ISERROR(GETPIVOTDATA(\"Duration\",Results!$A$2,\"Rating\",B$1,\"Date\",$A293)),-100000,GETPIVOTDATA(\"Duration\",Results!$A$2,\"Rating\",B$1,\"Date\",$A293))","v":-100000},{"$f":"IF(ISERROR(GETPIVOTDATA(\"Duration\",Results!$A$2,\"Rating\",C$1,\"Date\",$A293)),-100000,GETPIVOTDATA(\"Duration\",Results!$A$2,\"Rating\",C$1,\"Date\",$A293))","v":-100000},{"$f":"IF(ISERROR(GETPIVOTDATA(\"Duration\",Results!$A$2,\"Rating\",D$1,\"Date\",$A293)),-100000,GETPIVOTDATA(\"Duration\",Results!$A$2,\"Rating\",D$1,\"Date\",$A293))","v":-100000},{"$f":"IF(ISERROR(GETPIVOTDATA(\"Duration\",Results!$A$2,\"Rating\",E$1,\"Date\",$A293)),-100000,GETPIVOTDATA(\"Duration\",Results!$A$2,\"Rating\",E$1,\"Date\",$A293))","v":-100000},{"$f":"IF(ISERROR(GETPIVOTDATA(\"Duration\",Results!$A$2,\"Rating\",F$1,\"Date\",$A293)),-100000,GETPIVOTDATA(\"Duration\",Results!$A$2,\"Rating\",F$1,\"Date\",$A293))","v":-100000},1000,1000,{"$f":"AVERAGE(G$3:G293)","v":1000}]
["2014-10-19",{"$f":"IF(ISERROR(GETPIVOTDATA(\"Duration\",Results!$A$2,\"Rating\",B$1,\"Date\",$A294)),-100000,GETPIVOTDATA(\"Duration\",Results!$A$2,\"Rating\",B$1,\"Date\",$A294))","v":-100000},{"$f":"IF(ISERROR(GETPIVOTDATA(\"Duration\",Results!$A$2,\"Rating\",C$1,\"Date\",$A294)),-100000,GETPIVOTDATA(\"Duration\",Results!$A$2,\"Rating\",C$1,\"Date\",$A294))","v":-100000},{"$f":"IF(ISERROR(GETPIVOTDATA(\"Duration\",Results!$A$2,\"Rating\",D$1,\"Date\",$A294)),-100000,GETPIVOTDATA(\"Duration\",Results!$A$2,\"Rating\",D$1,\"Date\",$A294))","v":-100000},{"$f":"IF(ISERROR(GETPIVOTDATA(\"Duration\",Results!$A$2,\"Rating\",E$1,\"Date\",$A294)),-100000,GETPIVOTDATA(\"Duration\",Results!$A$2,\"Rating\",E$1,\"Date\",$A294))","v":-100000},{"$f":"IF(ISERROR(GETPIVOTDATA(\"Duration\",Results!$A$2,\"Rating\",F$1,\"Date\",$A294)),-100000,GETPIVOTDATA(\"Duration\",Results!$A$2,\"Rating\",F$1,\"Date\",$A294))","v":-100000},1000,1000,{"$f":"AVERAGE(G$3:G294)","v":1000}]
["2014-10-20",{"$f":"IF(ISERROR(GETPIVOTDATA(\"Duration\",Results!$A$2,\"Rating\",B$1,\"Date\",$A295)),-100000,GETPIVOTDATA(\"Duration\",Results!$A$2,\"Rating\",B$1,\"Date\",$A295))","v":-100000},{"$f":"IF(ISERROR(GETPIVOTDATA(\"Duration\",Results!$A$2,\"Rating\",C$1,\"Date\",$A295)),-100000,GETPIVOTDATA(\"Duration\",Results!$A$2,\"Rating\",C$1,\"Date\",$A295))","v":-100000},{"$f":"IF(ISERROR(GETPIVOTDATA(\"Duration\",Results!$A$2,\"Rating\",D$1,\"Date\",$A295)),-100000,GETPIVOTDATA(\"Duration\",Results!$A$2,\"Rating\",D$1,\"Date\",$A295))","v":-100000},{"$f":"IF(ISERROR(GETPIVOTDATA(\"Duration\",Results!$A$2,\"Rating\",E$1,\"Date\",$A295)),-100000,GETPIVOTDATA(\"Duration\",Results!$A$2,\"Rating\",E$1,\"Date\",$A295))","v":-100000},{"$f":"IF(ISERROR(GETPIVOTDATA(\"Duration\",Results!$A$2,\"Rating\",F$1,\"Date\",$A295)),-100000,GETPIVOTDATA(\"Duration\",Results!$A$2,\"Rating\",F$1,\"Date\",$A295))","v":-100000},1000,1000,{"$f":"AVERAGE(G$3:G295)","v":1000}]
["2014-10-21",{"$f":"IF(ISERROR(GETPIVOTDATA(\"Duration\",Results!$A$2,\"Rating\",B$1,\"Date\",$A296)),-100000,GETPIVOTDATA(\"Duration\",Results!$A$2,\"Rating\",B$1,\"Date\",$A296))","v":-100000},{"$f":"IF(ISERROR(GETPIVOTDATA(\"Duration\",Results!$A$2,\"Rating\",C$1,\"Date\",$A296)),-100000,GETPIVOTDATA(\"Duration\",Results!$A$2,\"Rating\",C$1,\"Date\",$A296))","v":-100000},{"$f":"IF(ISERROR(GETPIVOTDATA(\"Duration\",Results!$A$2,\"Rating\",D$1,\"Date\",$A296)),-100000,GETPIVOTDATA(\"Duration\",Results!$A$2,\"Rating\",D$1,\"Date\",$A296))","v":-100000},{"$f":"IF(ISERROR(GETPIVOTDATA(\"Duration\",Results!$A$2,\"Rating\",E$1,\"Date\",$A296)),-100000,GETPIVOTDATA(\"Duration\",Results!$A$2,\"Rating\",E$1,\"Date\",$A296))","v":-100000},{"$f":"IF(ISERROR(GETPIVOTDATA(\"Duration\",Results!$A$2,\"Rating\",F$1,\"Date\",$A296)),-100000,GETPIVOTDATA(\"Duration\",Results!$A$2,\"Rating\",F$1,\"Date\",$A296))","v":-100000},1000,1000,{"$f":"AVERAGE(G$3:G296)","v":1000}]
["2014-10-22",{"$f":"IF(ISERROR(GETPIVOTDATA(\"Duration\",Results!$A$2,\"Rating\",B$1,\"Date\",$A297)),-100000,GETPIVOTDATA(\"Duration\",Results!$A$2,\"Rating\",B$1,\"Date\",$A297))","v":-100000},{"$f":"IF(ISERROR(GETPIVOTDATA(\"Duration\",Results!$A$2,\"Rating\",C$1,\"Date\",$A297)),-100000,GETPIVOTDATA(\"Duration\",Results!$A$2,\"Rating\",C$1,\"Date\",$A297))","v":-100000},{"$f":"IF(ISERROR(GETPIVOTDATA(\"Duration\",Results!$A$2,\"Rating\",D$1,\"Date\",$A297)),-100000,GETPIVOTDATA(\"Duration\",Results!$A$2,\"Rating\",D$1,\"Date\",$A297))","v":-100000},{"$f":"IF(ISERROR(GETPIVOTDATA(\"Duration\",Results!$A$2,\"Rating\",E$1,\"Date\",$A297)),-100000,GETPIVOTDATA(\"Duration\",Results!$A$2,\"Rating\",E$1,\"Date\",$A297))","v":-100000},{"$f":"IF(ISERROR(GETPIVOTDATA(\"Duration\",Results!$A$2,\"Rating\",F$1,\"Date\",$A297)),-100000,GETPIVOTDATA(\"Duration\",Results!$A$2,\"Rating\",F$1,\"Date\",$A297))","v":-100000},1000,1000,{"$f":"AVERAGE(G$3:G297)","v":1000}]
["2014-10-23",{"$f":"IF(ISERROR(GETPIVOTDATA(\"Duration\",Results!$A$2,\"Rating\",B$1,\"Date\",$A298)),-100000,GETPIVOTDATA(\"Duration\",Results!$A$2,\"Rating\",B$1,\"Date\",$A298))","v":-100000},{"$f":"IF(ISERROR(GETPIVOTDATA(\"Duration\",Results!$A$2,\"Rating\",C$1,\"Date\",$A298)),-100000,GETPIVOTDATA(\"Duration\",Results!$A$2,\"Rating\",C$1,\"Date\",$A298))","v":-100000},{"$f":"IF(ISERROR(GETPIVOTDATA(\"Duration\",Results!$A$2,\"Rating\",D$1,\"Date\",$A298)),-100000,GETPIVOTDATA(\"Duration\",Results!$A$2,\"Rating\",D$1,\"Date\",$A298))","v":-100000},{"$f":"IF(ISERROR(GETPIVOTDATA(\"Duration\",Results!$A$2,\"Rating\",E$1,\"Date\",$A298)),-100000,GETPIVOTDATA(\"Duration\",Results!$A$2,\"Rating\",E$1,\"Date\",$A298))","v":-100000},{"$f":"IF(ISERROR(GETPIVOTDATA(\"Duration\",Results!$A$2,\"Rating\",F$1,\"Date\",$A298)),-100000,GETPIVOTDATA(\"Duration\",Results!$A$2,\"Rating\",F$1,\"Date\",$A298))","v":-100000},1000,1000,{"$f":"AVERAGE(G$3:G298)","v":1000}]
["2014-10-24",{"$f":"IF(ISERROR(GETPIVOTDATA(\"Duration\",Results!$A$2,\"Rating\",B$1,\"Date\",$A299)),-100000,GETPIVOTDATA(\"Duration\",Results!$A$2,\"Rating\",B$1,\"Date\",$A299))","v":-100000},{"$f":"IF(ISERROR(GETPIVOTDATA(\"Duration\",Results!$A$2,\"Rating\",C$1,\"Date\",$A299)),-100000,GETPIVOTDATA(\"Duration\",Results!$A$2,\"Rating\",C$1,\"Date\",$A299))","v":-100000},{"$f":"IF(ISERROR(GETPIVOTDATA(\"Duration\",Results!$A$2,\"Rating\",D$1,\"Date\",$A299)),-100000,GETPIVOTDATA(\"Duration\",Results!$A$2,\"Rating\",D$1,\"Date\",$A299))","v":-100000},{"$f":"IF(ISERROR(GETPIVOTDATA(\"Duration\",Results!$A$2,\"Rating\",E$1,\"Date\",$A299)),-100000,GETPIVOTDATA(\"Duration\",Results!$A$2,\"Rating\",E$1,\"Date\",$A299))","v":-100000},{"$f":"IF(ISERROR(GETPIVOTDATA(\"Duration\",Results!$A$2,\"Rating\",F$1,\"Date\",$A299)),-100000,GETPIVOTDATA(\"Duration\",Results!$A$2,\"Rating\",F$1,\"Date\",$A299))","v":-100000},1000,1000,{"$f":"AVERAGE(G$3:G299)","v":1000}]
["2014-10-25",{"$f":"IF(ISERROR(GETPIVOTDATA(\"Duration\",Results!$A$2,\"Rating\",B$1,\"Date\",$A300)),-100000,GETPIVOTDATA(\"Duration\",Results!$A$2,\"Rating\",B$1,\"Date\",$A300))","v":-100000},{"$f":"IF(ISERROR(GETPIVOTDATA(\"Duration\",Results!$A$2,\"Rating\",C$1,\"Date\",$A300)),-100000,GETPIVOTDATA(\"Duration\",Results!$A$2,\"Rating\",C$1,\"Date\",$A300))","v":-100000},{"$f":"IF(ISERROR(GETPIVOTDATA(\"Duration\",Results!$A$2,\"Rating\",D$1,\"Date\",$A300)),-100000,GETPIVOTDATA(\"Duration\",Results!$A$2,\"Rating\",D$1,\"Date\",$A300))","v":-100000},{"$f":"IF(ISERROR(GETPIVOTDATA(\"Duration\",Results!$A$2,\"Rating\",E$1,\"Date\",$A300)),-100000,GETPIVOTDATA(\"Duration\",Results!$A$2,\"Rating\",E$1,\"Date\",$A300))","v":-100000},{"$f":"IF(ISERROR(GETPIVOTDATA(\"Duration\",Results!$A$2,\"Rating\",F$1,\"Date\",$A300)),-100000,GETPIVOTDATA(\"Duration\",Results!$A$2,\"Rating\",F$1,\"Date\",$A300))","v":-100000},1000,1000,{"$f":"AVERAGE(G$3:G300)","v":1000}]
["2014-10-26",{"$f":"IF(ISERROR(GETPIVOTDATA(\"Duration\",Results!$A$2,\"Rating\",B$1,\"Date\",$A301)),-100000,GETPIVOTDATA(\"Duration\",Results!$A$2,\"Rating\",B$1,\"Date\",$A301))","v":-100000},{"$f":"IF(ISERROR(GETPIVOTDATA(\"Duration\",Results!$A$2,\"Rating\",C$1,\"Date\",$A301)),-100000,GETPIVOTDATA(\"Duration\",Results!$A$2,\"Rating\",C$1,\"Date\",$A301))","v":-100000},{"$f":"IF(ISERROR(GETPIVOTDATA(\"Duration\",Results!$A$2,\"Rating\",D$1,\"Date\",$A301)),-100000,GETPIVOTDATA(\"Duration\",Results!$A$2,\"Rating\",D$1,\"Date\",$A301))","v":-100000},{"$f":"IF(ISERROR(GETPIVOTDATA(\"Duration\",Results!$A$2,\"Rating\",E$1,\"Date\",$A301)),-100000,GETPIVOTDATA(\"Duration\",Results!$A$2,\"Rating\",E$1,\"Date\",$A301))","v":-100000},{"$f":"IF(ISERROR(GETPIVOTDATA(\"Duration\",Results!$A$2,\"Rating\",F$1,\"Date\",$A301)),-100000,GETPIVOTDATA(\"Duration\",Results!$A$2,\"Rating\",F$1,\"Date\",$A301))","v":-100000},1000,1000,{"$f":"AVERAGE(G$3:G301)","v":1000}]
["2014-10-27",{"$f":"IF(ISERROR(GETPIVOTDATA(\"Duration\",Results!$A$2,\"Rating\",B$1,\"Date\",$A302)),-100000,GETPIVOTDATA(\"Duration\",Results!$A$2,\"Rating\",B$1,\"Date\",$A302))","v":-100000},{"$f":"IF(ISERROR(GETPIVOTDATA(\"Duration\",Results!$A$2,\"Rating\",C$1,\"Date\",$A302)),-100000,GETPIVOTDATA(\"Duration\",Results!$A$2,\"Rating\",C$1,\"Date\",$A302))","v":-100000},{"$f":"IF(ISERROR(GETPIVOTDATA(\"Duration\",Results!$A$2,\"Rating\",D$1,\"Date\",$A302)),-100000,GETPIVOTDATA(\"Duration\",Results!$A$2,\"Rating\",D$1,\"Date\",$A302))","v":-100000},{"$f":"IF(ISERROR(GETPIVOTDATA(\"Duration\",Results!$A$2,\"Rating\",E$1,\"Date\",$A302)),-100000,GETPIVOTDATA(\"Duration\",Results!$A$2,\"Rating\",E$1,\"Date\",$A302))","v":-100000},{"$f":"IF(ISERROR(GETPIVOTDATA(\"Duration\",Results!$A$2,\"Rating\",F$1,\"Date\",$A302)),-100000,GETPIVOTDATA(\"Duration\",Results!$A$2,\"Rating\",F$1,\"Date\",$A302))","v":-100000},1000,1000,{"$f":"AVERAGE(G$3:G302)","v":1000}]
["2014-10-28",{"$f":"IF(ISERROR(GETPIVOTDATA(\"Duration\",Results!$A$2,\"Rating\",B$1,\"Date\",$A303)),-100000,GETPIVOTDATA(\"Duration\",Results!$A$2,\"Rating\",B$1,\"Date\",$A303))","v":-100000},{"$f":"IF(ISERROR(GETPIVOTDATA(\"Duration\",Results!$A$2,\"Rating\",C$1,\"Date\",$A303)),-100000,GETPIVOTDATA(\"Duration\",Results!$A$2,\"Rating\",C$1,\"Date\",$A303))","v":-100000},{"$f":"IF(ISERROR(GETPIVOTDATA(\"Duration\",Results!$A$2,\"Rating\",D$1,\"Date\",$A303)),-100000,GETPIVOTDATA(\"Duration\",Results!$A$2,\"Rating\",D$1,\"Date\",$A303))","v":-100000},{"$f":"IF(ISERROR(GETPIVOTDATA(\"Duration\",Results!$A$2,\"Rating\",E$1,\"Date\",$A303)),-100000,GETPIVOTDATA(\"Duration\",Results!$A$2,\"Rating\",E$1,\"Date\",$A303))","v":-100000},{"$f":"IF(ISERROR(GETPIVOTDATA(\"Duration\",Results!$A$2,\"Rating\",F$1,\"Date\",$A303)),-100000,GETPIVOTDATA(\"Duration\",Results!$A$2,\"Rating\",F$1,\"Date\",$A303))","v":-100000},1000,1000,{"$f":"AVERAGE(G$3:G303)","v":1000}]
["2014-10-29",{"$f":"IF(ISERROR(GETPIVOTDATA(\"Duration\",Results!$A$2,\"Rating\",B$1,\"Date\",$A304)),-100000,GETPIVOTDATA(\"Duration\",Results!$A$2,\"Rating\",B$1,\"Date\",$A304))","v":-100000},{"$f":"IF(ISERROR(GETPIVOTDATA(\"Duration\",Results!$A$2,\"Rating\",C$1,\"Date\",$A304)),-100000,GETPIVOTDATA(\"Duration\",Results!$A$2,\"Rating\",C$1,\"Date\",$A304))","v":-100000},{"$f":"IF(ISERROR(GETPIVOTDATA(\"Duration\",Results!$A$2,\"Rating\",D$1,\"Date\",$A304)),-100000,GETPIVOTDATA(\"Duration\",Results!$A$2,\"Rating\",D$1,\"Date\",$A304))","v":-100000},{"$f":"IF(ISERROR(GETPIVOTDATA(\"Duration\",Results!$A$2,\"Rating\",E$1,\"Date\",$A304)),-100000,GETPIVOTDATA(\"Duration\",Results!$A$2,\"Rating\",E$1,\"Date\",$A304))","v":-100000},{"$f":"IF(ISERROR(GETPIVOTDATA(\"Duration\",Results!$A$2,\"Rating\",F$1,\"Date\",$A304)),-100000,GETPIVOTDATA(\"Duration\",Results!$A$2,\"Rating\",F$1,\"Date\",$A304))","v":-100000},1000,1000,{"$f":"AVERAGE(G$3:G304)","v":1000}]
["2014-10-30",{"$f":"IF(ISERROR(GETPIVOTDATA(\"Duration\",Results!$A$2,\"Rating\",B$1,\"Date\",$A305)),-100000,GETPIVOTDATA(\"Duration\",Results!$A$2,\"Rating\",B$1,\"Date\",$A305))","v":-100000},{"$f":"IF(ISERROR(GETPIVOTDATA(\"Duration\",Results!$A$2,\"Rating\",C$1,\"Date\",$A305)),-100000,GETPIVOTDATA(\"Duration\",Results!$A$2,\"Rating\",C$1,\"Date\",$A305))","v":-100000},{"$f":"IF(ISERROR(GETPIVOTDATA(\"Duration\",Results!$A$2,\"Rating\",D$1,\"Date\",$A305)),-100000,GETPIVOTDATA(\"Duration\",Results!$A$2,\"Rating\",D$1,\"Date\",$A305))","v":-100000},{"$f":"IF(ISERROR(GETPIVOTDATA(\"Duration\",Results!$A$2,\"Rating\",E$1,\"Date\",$A305)),-100000,GETPIVOTDATA(\"Duration\",Results!$A$2,\"Rating\",E$1,\"Date\",$A305))","v":-100000},{"$f":"IF(ISERROR(GETPIVOTDATA(\"Duration\",Results!$A$2,\"Rating\",F$1,\"Date\",$A305)),-100000,GETPIVOTDATA(\"Duration\",Results!$A$2,\"Rating\",F$1,\"Date\",$A305))","v":-100000},1000,1000,{"$f":"AVERAGE(G$3:G305)","v":1000}]
["2014-10-31",{"$f":"IF(ISERROR(GETPIVOTDATA(\"Duration\",Results!$A$2,\"Rating\",B$1,\"Date\",$A306)),-100000,GETPIVOTDATA(\"Duration\",Results!$A$2,\"Rating\",B$1,\"Date\",$A306))","v":-100000},{"$f":"IF(ISERROR(GETPIVOTDATA(\"Duration\",Results!$A$2,\"Rating\",C$1,\"Date\",$A306)),-100000,GETPIVOTDATA(\"Duration\",Results!$A$2,\"Rating\",C$1,\"Date\",$A306))","v":-100000},{"$f":"IF(ISERROR(GETPIVOTDATA(\"Duration\",Results!$A$2,\"Rating\",D$1,\"Date\",$A306)),-100000,GETPIVOTDATA(\"Duration\",Results!$A$2,\"Rating\",D$1,\"Date\",$A306))","v":-100000},{"$f":"IF(ISERROR(GETPIVOTDATA(\"Duration\",Results!$A$2,\"Rating\",E$1,\"Date\",$A306)),-100000,GETPIVOTDATA(\"Duration\",Results!$A$2,\"Rating\",E$1,\"Date\",$A306))","v":-100000},{"$f":"IF(ISERROR(GETPIVOTDATA(\"Duration\",Results!$A$2,\"Rating\",F$1,\"Date\",$A306)),-100000,GETPIVOTDATA(\"Duration\",Results!$A$2,\"Rating\",F$1,\"Date\",$A306))","v":-100000},1000,1000,{"$f":"AVERAGE(G$3:G306)","v":1000}]
["2014-11-01",{"$f":"IF(ISERROR(GETPIVOTDATA(\"Duration\",Results!$A$2,\"Rating\",B$1,\"Date\",$A307)),-100000,GETPIVOTDATA(\"Duration\",Results!$A$2,\"Rating\",B$1,\"Date\",$A307))","v":-100000},{"$f":"IF(ISERROR(GETPIVOTDATA(\"Duration\",Results!$A$2,\"Rating\",C$1,\"Date\",$A307)),-100000,GETPIVOTDATA(\"Duration\",Results!$A$2,\"Rating\",C$1,\"Date\",$A307))","v":-100000},{"$f":"IF(ISERROR(GETPIVOTDATA(\"Duration\",Results!$A$2,\"Rating\",D$1,\"Date\",$A307)),-100000,GETPIVOTDATA(\"Duration\",Results!$A$2,\"Rating\",D$1,\"Date\",$A307))","v":-100000},{"$f":"IF(ISERROR(GETPIVOTDATA(\"Duration\",Results!$A$2,\"Rating\",E$1,\"Date\",$A307)),-100000,GETPIVOTDATA(\"Duration\",Results!$A$2,\"Rating\",E$1,\"Date\",$A307))","v":-100000},{"$f":"IF(ISERROR(GETPIVOTDATA(\"Duration\",Results!$A$2,\"Rating\",F$1,\"Date\",$A307)),-100000,GETPIVOTDATA(\"Duration\",Results!$A$2,\"Rating\",F$1,\"Date\",$A307))","v":-100000},1000,1000,{"$f":"AVERAGE(G$3:G307)","v":1000}]
["2014-11-02",{"$f":"IF(ISERROR(GETPIVOTDATA(\"Duration\",Results!$A$2,\"Rating\",B$1,\"Date\",$A308)),-100000,GETPIVOTDATA(\"Duration\",Results!$A$2,\"Rating\",B$1,\"Date\",$A308))","v":-100000},{"$f":"IF(ISERROR(GETPIVOTDATA(\"Duration\",Results!$A$2,\"Rating\",C$1,\"Date\",$A308)),-100000,GETPIVOTDATA(\"Duration\",Results!$A$2,\"Rating\",C$1,\"Date\",$A308))","v":-100000},{"$f":"IF(ISERROR(GETPIVOTDATA(\"Duration\",Results!$A$2,\"Rating\",D$1,\"Date\",$A308)),-100000,GETPIVOTDATA(\"Duration\",Results!$A$2,\"Rating\",D$1,\"Date\",$A308))","v":-100000},{"$f":"IF(ISERROR(GETPIVOTDATA(\"Duration\",Results!$A$2,\"Rating\",E$1,\"Date\",$A308)),-100000,GETPIVOTDATA(\"Duration\",Results!$A$2,\"Rating\",E$1,\"Date\",$A308))","v":-100000},{"$f":"IF(ISERROR(GETPIVOTDATA(\"Duration\",Results!$A$2,\"Rating\",F$1,\"Date\",$A308)),-100000,GETPIVOTDATA(\"Duration\",Results!$A$2,\"Rating\",F$1,\"Date\",$A308))","v":-100000},1000,1000,{"$f":"AVERAGE(G$3:G308)","v":1000}]
["2014-11-03",{"$f":"IF(ISERROR(GETPIVOTDATA(\"Duration\",Results!$A$2,\"Rating\",B$1,\"Date\",$A309)),-100000,GETPIVOTDATA(\"Duration\",Results!$A$2,\"Rating\",B$1,\"Date\",$A309))","v":-100000},{"$f":"IF(ISERROR(GETPIVOTDATA(\"Duration\",Results!$A$2,\"Rating\",C$1,\"Date\",$A309)),-100000,GETPIVOTDATA(\"Duration\",Results!$A$2,\"Rating\",C$1,\"Date\",$A309))","v":-100000},{"$f":"IF(ISERROR(GETPIVOTDATA(\"Duration\",Results!$A$2,\"Rating\",D$1,\"Date\",$A309)),-100000,GETPIVOTDATA(\"Duration\",Results!$A$2,\"Rating\",D$1,\"Date\",$A309))","v":-100000},{"$f":"IF(ISERROR(GETPIVOTDATA(\"Duration\",Results!$A$2,\"Rating\",E$1,\"Date\",$A309)),-100000,GETPIVOTDATA(\"Duration\",Results!$A$2,\"Rating\",E$1,\"Date\",$A309))","v":-100000},{"$f":"IF(ISERROR(GETPIVOTDATA(\"Duration\",Results!$A$2,\"Rating\",F$1,\"Date\",$A309)),-100000,GETPIVOTDATA(\"Duration\",Results!$A$2,\"Rating\",F$1,\"Date\",$A309))","v":-100000},1000,1000,{"$f":"AVERAGE(G$3:G309)","v":1000}]
["2014-11-04",{"$f":"IF(ISERROR(GETPIVOTDATA(\"Duration\",Results!$A$2,\"Rating\",B$1,\"Date\",$A310)),-100000,GETPIVOTDATA(\"Duration\",Results!$A$2,\"Rating\",B$1,\"Date\",$A310))","v":-100000},{"$f":"IF(ISERROR(GETPIVOTDATA(\"Duration\",Results!$A$2,\"Rating\",C$1,\"Date\",$A310)),-100000,GETPIVOTDATA(\"Duration\",Results!$A$2,\"Rating\",C$1,\"Date\",$A310))","v":-100000},{"$f":"IF(ISERROR(GETPIVOTDATA(\"Duration\",Results!$A$2,\"Rating\",D$1,\"Date\",$A310)),-100000,GETPIVOTDATA(\"Duration\",Results!$A$2,\"Rating\",D$1,\"Date\",$A310))","v":-100000},{"$f":"IF(ISERROR(GETPIVOTDATA(\"Duration\",Results!$A$2,\"Rating\",E$1,\"Date\",$A310)),-100000,GETPIVOTDATA(\"Duration\",Results!$A$2,\"Rating\",E$1,\"Date\",$A310))","v":-100000},{"$f":"IF(ISERROR(GETPIVOTDATA(\"Duration\",Results!$A$2,\"Rating\",F$1,\"Date\",$A310)),-100000,GETPIVOTDATA(\"Duration\",Results!$A$2,\"Rating\",F$1,\"Date\",$A310))","v":-100000},1000,1000,{"$f":"AVERAGE(G$3:G310)","v":1000}]
["2014-11-05",{"$f":"IF(ISERROR(GETPIVOTDATA(\"Duration\",Results!$A$2,\"Rating\",B$1,\"Date\",$A311)),-100000,GETPIVOTDATA(\"Duration\",Results!$A$2,\"Rating\",B$1,\"Date\",$A311))","v":-100000},{"$f":"IF(ISERROR(GETPIVOTDATA(\"Duration\",Results!$A$2,\"Rating\",C$1,\"Date\",$A311)),-100000,GETPIVOTDATA(\"Duration\",Results!$A$2,\"Rating\",C$1,\"Date\",$A311))","v":-100000},{"$f":"IF(ISERROR(GETPIVOTDATA(\"Duration\",Results!$A$2,\"Rating\",D$1,\"Date\",$A311)),-100000,GETPIVOTDATA(\"Duration\",Results!$A$2,\"Rating\",D$1,\"Date\",$A311))","v":-100000},{"$f":"IF(ISERROR(GETPIVOTDATA(\"Duration\",Results!$A$2,\"Rating\",E$1,\"Date\",$A311)),-100000,GETPIVOTDATA(\"Duration\",Results!$A$2,\"Rating\",E$1,\"Date\",$A311))","v":-100000},{"$f":"IF(ISERROR(GETPIVOTDATA(\"Duration\",Results!$A$2,\"Rating\",F$1,\"Date\",$A311)),-100000,GETPIVOTDATA(\"Duration\",Results!$A$2,\"Rating\",F$1,\"Date\",$A311))","v":-100000},1000,1000,{"$f":"AVERAGE(G$3:G311)","v":1000}]
["2014-11-06",{"$f":"IF(ISERROR(GETPIVOTDATA(\"Duration\",Results!$A$2,\"Rating\",B$1,\"Date\",$A312)),-100000,GETPIVOTDATA(\"Duration\",Results!$A$2,\"Rating\",B$1,\"Date\",$A312))","v":-100000},{"$f":"IF(ISERROR(GETPIVOTDATA(\"Duration\",Results!$A$2,\"Rating\",C$1,\"Date\",$A312)),-100000,GETPIVOTDATA(\"Duration\",Results!$A$2,\"Rating\",C$1,\"Date\",$A312))","v":-100000},{"$f":"IF(ISERROR(GETPIVOTDATA(\"Duration\",Results!$A$2,\"Rating\",D$1,\"Date\",$A312)),-100000,GETPIVOTDATA(\"Duration\",Results!$A$2,\"Rating\",D$1,\"Date\",$A312))","v":-100000},{"$f":"IF(ISERROR(GETPIVOTDATA(\"Duration\",Results!$A$2,\"Rating\",E$1,\"Date\",$A312)),-100000,GETPIVOTDATA(\"Duration\",Results!$A$2,\"Rating\",E$1,\"Date\",$A312))","v":-100000},{"$f":"IF(ISERROR(GETPIVOTDATA(\"Duration\",Results!$A$2,\"Rating\",F$1,\"Date\",$A312)),-100000,GETPIVOTDATA(\"Duration\",Results!$A$2,\"Rating\",F$1,\"Date\",$A312))","v":-100000},1000,1000,{"$f":"AVERAGE(G$3:G312)","v":1000}]
["2014-11-07",{"$f":"IF(ISERROR(GETPIVOTDATA(\"Duration\",Results!$A$2,\"Rating\",B$1,\"Date\",$A313)),-100000,GETPIVOTDATA(\"Duration\",Results!$A$2,\"Rating\",B$1,\"Date\",$A313))","v":-100000},{"$f":"IF(ISERROR(GETPIVOTDATA(\"Duration\",Results!$A$2,\"Rating\",C$1,\"Date\",$A313)),-100000,GETPIVOTDATA(\"Duration\",Results!$A$2,\"Rating\",C$1,\"Date\",$A313))","v":-100000},{"$f":"IF(ISERROR(GETPIVOTDATA(\"Duration\",Results!$A$2,\"Rating\",D$1,\"Date\",$A313)),-100000,GETPIVOTDATA(\"Duration\",Results!$A$2,\"Rating\",D$1,\"Date\",$A313))","v":-100000},{"$f":"IF(ISERROR(GETPIVOTDATA(\"Duration\",Results!$A$2,\"Rating\",E$1,\"Date\",$A313)),-100000,GETPIVOTDATA(\"Duration\",Results!$A$2,\"Rating\",E$1,\"Date\",$A313))","v":-100000},{"$f":"IF(ISERROR(GETPIVOTDATA(\"Duration\",Results!$A$2,\"Rating\",F$1,\"Date\",$A313)),-100000,GETPIVOTDATA(\"Duration\",Results!$A$2,\"Rating\",F$1,\"Date\",$A313))","v":-100000},1000,1000,{"$f":"AVERAGE(G$3:G313)","v":1000}]
["2014-11-08",{"$f":"IF(ISERROR(GETPIVOTDATA(\"Duration\",Results!$A$2,\"Rating\",B$1,\"Date\",$A314)),-100000,GETPIVOTDATA(\"Duration\",Results!$A$2,\"Rating\",B$1,\"Date\",$A314))","v":-100000},{"$f":"IF(ISERROR(GETPIVOTDATA(\"Duration\",Results!$A$2,\"Rating\",C$1,\"Date\",$A314)),-100000,GETPIVOTDATA(\"Duration\",Results!$A$2,\"Rating\",C$1,\"Date\",$A314))","v":-100000},{"$f":"IF(ISERROR(GETPIVOTDATA(\"Duration\",Results!$A$2,\"Rating\",D$1,\"Date\",$A314)),-100000,GETPIVOTDATA(\"Duration\",Results!$A$2,\"Rating\",D$1,\"Date\",$A314))","v":-100000},{"$f":"IF(ISERROR(GETPIVOTDATA(\"Duration\",Results!$A$2,\"Rating\",E$1,\"Date\",$A314)),-100000,GETPIVOTDATA(\"Duration\",Results!$A$2,\"Rating\",E$1,\"Date\",$A314))","v":-100000},{"$f":"IF(ISERROR(GETPIVOTDATA(\"Duration\",Results!$A$2,\"Rating\",F$1,\"Date\",$A314)),-100000,GETPIVOTDATA(\"Duration\",Results!$A$2,\"Rating\",F$1,\"Date\",$A314))","v":-100000},1000,1000,{"$f":"AVERAGE(G$3:G314)","v":1000}]
["2014-11-09",{"$f":"IF(ISERROR(GETPIVOTDATA(\"Duration\",Results!$A$2,\"Rating\",B$1,\"Date\",$A315)),-100000,GETPIVOTDATA(\"Duration\",Results!$A$2,\"Rating\",B$1,\"Date\",$A315))","v":-100000},{"$f":"IF(ISERROR(GETPIVOTDATA(\"Duration\",Results!$A$2,\"Rating\",C$1,\"Date\",$A315)),-100000,GETPIVOTDATA(\"Duration\",Results!$A$2,\"Rating\",C$1,\"Date\",$A315))","v":-100000},{"$f":"IF(ISERROR(GETPIVOTDATA(\"Duration\",Results!$A$2,\"Rating\",D$1,\"Date\",$A315)),-100000,GETPIVOTDATA(\"Duration\",Results!$A$2,\"Rating\",D$1,\"Date\",$A315))","v":-100000},{"$f":"IF(ISERROR(GETPIVOTDATA(\"Duration\",Results!$A$2,\"Rating\",E$1,\"Date\",$A315)),-100000,GETPIVOTDATA(\"Duration\",Results!$A$2,\"Rating\",E$1,\"Date\",$A315))","v":-100000},{"$f":"IF(ISERROR(GETPIVOTDATA(\"Duration\",Results!$A$2,\"Rating\",F$1,\"Date\",$A315)),-100000,GETPIVOTDATA(\"Duration\",Results!$A$2,\"Rating\",F$1,\"Date\",$A315))","v":-100000},1000,1000,{"$f":"AVERAGE(G$3:G315)","v":1000}]
["2014-11-10",{"$f":"IF(ISERROR(GETPIVOTDATA(\"Duration\",Results!$A$2,\"Rating\",B$1,\"Date\",$A316)),-100000,GETPIVOTDATA(\"Duration\",Results!$A$2,\"Rating\",B$1,\"Date\",$A316))","v":-100000},{"$f":"IF(ISERROR(GETPIVOTDATA(\"Duration\",Results!$A$2,\"Rating\",C$1,\"Date\",$A316)),-100000,GETPIVOTDATA(\"Duration\",Results!$A$2,\"Rating\",C$1,\"Date\",$A316))","v":-100000},{"$f":"IF(ISERROR(GETPIVOTDATA(\"Duration\",Results!$A$2,\"Rating\",D$1,\"Date\",$A316)),-100000,GETPIVOTDATA(\"Duration\",Results!$A$2,\"Rating\",D$1,\"Date\",$A316))","v":-100000},{"$f":"IF(ISERROR(GETPIVOTDATA(\"Duration\",Results!$A$2,\"Rating\",E$1,\"Date\",$A316)),-100000,GETPIVOTDATA(\"Duration\",Results!$A$2,\"Rating\",E$1,\"Date\",$A316))","v":-100000},{"$f":"IF(ISERROR(GETPIVOTDATA(\"Duration\",Results!$A$2,\"Rating\",F$1,\"Date\",$A316)),-100000,GETPIVOTDATA(\"Duration\",Results!$A$2,\"Rating\",F$1,\"Date\",$A316))","v":-100000},1000,1000,{"$f":"AVERAGE(G$3:G316)","v":1000}]
[{"$f":"A316+1","v":"2014-11-11"},{"$f":"IF(ISERROR(GETPIVOTDATA(\"Duration\",Results!$A$2,\"Rating\",B$1,\"Date\",$A317)),-100000,GETPIVOTDATA(\"Duration\",Results!$A$2,\"Rating\",B$1,\"Date\",$A317))","v":-100000},{"$f":"IF(ISERROR(GETPIVOTDATA(\"Duration\",Results!$A$2,\"Rating\",C$1,\"Date\",$A317)),-100000,GETPIVOTDATA(\"Duration\",Results!$A$2,\"Rating\",C$1,\"Date\",$A317))","v":-100000},{"$f":"IF(ISERROR(GETPIVOTDATA(\"Duration\",Results!$A$2,\"Rating\",D$1,\"Date\",$A317)),-100000,GETPIVOTDATA(\"Duration\",Results!$A$2,\"Rating\",D$1,\"Date\",$A317))","v":-100000},{"$f":"IF(ISERROR(GETPIVOTDATA(\"Duration\",Results!$A$2,\"Rating\",E$1,\"Date\",$A317)),-100000,GETPIVOTDATA(\"Duration\",Results!$A$2,\"Rating\",E$1,\"Date\",$A317))","v":-100000},{"$f":"IF(ISERROR(GETPIVOTDATA(\"Duration\",Results!$A$2,\"Rating\",F$1,\"Date\",$A317)),-100000,GETPIVOTDATA(\"Duration\",Results!$A$2,\"Rating\",F$1,\"Date\",$A317))","v":-100000},{"$f":"IF(SUM(B317:F317)=-500000,1000,(C317+2*D317+3*E317+4*F317)/(C317+D317+E317+F317))","v":1000},{"$f":"AVERAGE(G311:G317)","v":1000},{"$f":"AVERAGE(G$3:G317)","v":1000}]
["2014-11-12",{"$f":"IF(ISERROR(GETPIVOTDATA(\"Duration\",Results!$A$2,\"Rating\",B$1,\"Date\",$A318)),-100000,GETPIVOTDATA(\"Duration\",Results!$A$2,\"Rating\",B$1,\"Date\",$A318))","v":-100000},{"$f":"IF(ISERROR(GETPIVOTDATA(\"Duration\",Results!$A$2,\"Rating\",C$1,\"Date\",$A318)),-100000,GETPIVOTDATA(\"Duration\",Results!$A$2,\"Rating\",C$1,\"Date\",$A318))","v":-100000},{"$f":"IF(ISERROR(GETPIVOTDATA(\"Duration\",Results!$A$2,\"Rating\",D$1,\"Date\",$A318)),-100000,GETPIVOTDATA(\"Duration\",Results!$A$2,\"Rating\",D$1,\"Date\",$A318))","v":-100000},{"$f":"IF(ISERROR(GETPIVOTDATA(\"Duration\",Results!$A$2,\"Rating\",E$1,\"Date\",$A318)),-100000,GETPIVOTDATA(\"Duration\",Results!$A$2,\"Rating\",E$1,\"Date\",$A318))","v":-100000},{"$f":"IF(ISERROR(GETPIVOTDATA(\"Duration\",Results!$A$2,\"Rating\",F$1,\"Date\",$A318)),-100000,GETPIVOTDATA(\"Duration\",Results!$A$2,\"Rating\",F$1,\"Date\",$A318))","v":-100000},1000,1000,{"$f":"AVERAGE(G$3:G318)","v":1000}]
["2014-11-13",{"$f":"IF(ISERROR(GETPIVOTDATA(\"Duration\",Results!$A$2,\"Rating\",B$1,\"Date\",$A319)),-100000,GETPIVOTDATA(\"Duration\",Results!$A$2,\"Rating\",B$1,\"Date\",$A319))","v":-100000},{"$f":"IF(ISERROR(GETPIVOTDATA(\"Duration\",Results!$A$2,\"Rating\",C$1,\"Date\",$A319)),-100000,GETPIVOTDATA(\"Duration\",Results!$A$2,\"Rating\",C$1,\"Date\",$A319))","v":-100000},{"$f":"IF(ISERROR(GETPIVOTDATA(\"Duration\",Results!$A$2,\"Rating\",D$1,\"Date\",$A319)),-100000,GETPIVOTDATA(\"Duration\",Results!$A$2,\"Rating\",D$1,\"Date\",$A319))","v":-100000},{"$f":"IF(ISERROR(GETPIVOTDATA(\"Duration\",Results!$A$2,\"Rating\",E$1,\"Date\",$A319)),-100000,GETPIVOTDATA(\"Duration\",Results!$A$2,\"Rating\",E$1,\"Date\",$A319))","v":-100000},{"$f":"IF(ISERROR(GETPIVOTDATA(\"Duration\",Results!$A$2,\"Rating\",F$1,\"Date\",$A319)),-100000,GETPIVOTDATA(\"Duration\",Results!$A$2,\"Rating\",F$1,\"Date\",$A319))","v":-100000},1000,1000,{"$f":"AVERAGE(G$3:G319)","v":1000}]
["2014-11-14",{"$f":"IF(ISERROR(GETPIVOTDATA(\"Duration\",Results!$A$2,\"Rating\",B$1,\"Date\",$A320)),-100000,GETPIVOTDATA(\"Duration\",Results!$A$2,\"Rating\",B$1,\"Date\",$A320))","v":-100000},{"$f":"IF(ISERROR(GETPIVOTDATA(\"Duration\",Results!$A$2,\"Rating\",C$1,\"Date\",$A320)),-100000,GETPIVOTDATA(\"Duration\",Results!$A$2,\"Rating\",C$1,\"Date\",$A320))","v":-100000},{"$f":"IF(ISERROR(GETPIVOTDATA(\"Duration\",Results!$A$2,\"Rating\",D$1,\"Date\",$A320)),-100000,GETPIVOTDATA(\"Duration\",Results!$A$2,\"Rating\",D$1,\"Date\",$A320))","v":-100000},{"$f":"IF(ISERROR(GETPIVOTDATA(\"Duration\",Results!$A$2,\"Rating\",E$1,\"Date\",$A320)),-100000,GETPIVOTDATA(\"Duration\",Results!$A$2,\"Rating\",E$1,\"Date\",$A320))","v":-100000},{"$f":"IF(ISERROR(GETPIVOTDATA(\"Duration\",Results!$A$2,\"Rating\",F$1,\"Date\",$A320)),-100000,GETPIVOTDATA(\"Duration\",Results!$A$2,\"Rating\",F$1,\"Date\",$A320))","v":-100000},1000,1000,{"$f":"AVERAGE(G$3:G320)","v":1000}]
["2014-11-15",{"$f":"IF(ISERROR(GETPIVOTDATA(\"Duration\",Results!$A$2,\"Rating\",B$1,\"Date\",$A321)),-100000,GETPIVOTDATA(\"Duration\",Results!$A$2,\"Rating\",B$1,\"Date\",$A321))","v":-100000},{"$f":"IF(ISERROR(GETPIVOTDATA(\"Duration\",Results!$A$2,\"Rating\",C$1,\"Date\",$A321)),-100000,GETPIVOTDATA(\"Duration\",Results!$A$2,\"Rating\",C$1,\"Date\",$A321))","v":-100000},{"$f":"IF(ISERROR(GETPIVOTDATA(\"Duration\",Results!$A$2,\"Rating\",D$1,\"Date\",$A321)),-100000,GETPIVOTDATA(\"Duration\",Results!$A$2,\"Rating\",D$1,\"Date\",$A321))","v":-100000},{"$f":"IF(ISERROR(GETPIVOTDATA(\"Duration\",Results!$A$2,\"Rating\",E$1,\"Date\",$A321)),-100000,GETPIVOTDATA(\"Duration\",Results!$A$2,\"Rating\",E$1,\"Date\",$A321))","v":-100000},{"$f":"IF(ISERROR(GETPIVOTDATA(\"Duration\",Results!$A$2,\"Rating\",F$1,\"Date\",$A321)),-100000,GETPIVOTDATA(\"Duration\",Results!$A$2,\"Rating\",F$1,\"Date\",$A321))","v":-100000},1000,1000,{"$f":"AVERAGE(G$3:G321)","v":1000}]
["2014-11-16",{"$f":"IF(ISERROR(GETPIVOTDATA(\"Duration\",Results!$A$2,\"Rating\",B$1,\"Date\",$A322)),-100000,GETPIVOTDATA(\"Duration\",Results!$A$2,\"Rating\",B$1,\"Date\",$A322))","v":-100000},{"$f":"IF(ISERROR(GETPIVOTDATA(\"Duration\",Results!$A$2,\"Rating\",C$1,\"Date\",$A322)),-100000,GETPIVOTDATA(\"Duration\",Results!$A$2,\"Rating\",C$1,\"Date\",$A322))","v":-100000},{"$f":"IF(ISERROR(GETPIVOTDATA(\"Duration\",Results!$A$2,\"Rating\",D$1,\"Date\",$A322)),-100000,GETPIVOTDATA(\"Duration\",Results!$A$2,\"Rating\",D$1,\"Date\",$A322))","v":-100000},{"$f":"IF(ISERROR(GETPIVOTDATA(\"Duration\",Results!$A$2,\"Rating\",E$1,\"Date\",$A322)),-100000,GETPIVOTDATA(\"Duration\",Results!$A$2,\"Rating\",E$1,\"Date\",$A322))","v":-100000},{"$f":"IF(ISERROR(GETPIVOTDATA(\"Duration\",Results!$A$2,\"Rating\",F$1,\"Date\",$A322)),-100000,GETPIVOTDATA(\"Duration\",Results!$A$2,\"Rating\",F$1,\"Date\",$A322))","v":-100000},1000,1000,{"$f":"AVERAGE(G$3:G322)","v":1000}]
["2014-11-17",{"$f":"IF(ISERROR(GETPIVOTDATA(\"Duration\",Results!$A$2,\"Rating\",B$1,\"Date\",$A323)),-100000,GETPIVOTDATA(\"Duration\",Results!$A$2,\"Rating\",B$1,\"Date\",$A323))","v":-100000},{"$f":"IF(ISERROR(GETPIVOTDATA(\"Duration\",Results!$A$2,\"Rating\",C$1,\"Date\",$A323)),-100000,GETPIVOTDATA(\"Duration\",Results!$A$2,\"Rating\",C$1,\"Date\",$A323))","v":-100000},{"$f":"IF(ISERROR(GETPIVOTDATA(\"Duration\",Results!$A$2,\"Rating\",D$1,\"Date\",$A323)),-100000,GETPIVOTDATA(\"Duration\",Results!$A$2,\"Rating\",D$1,\"Date\",$A323))","v":-100000},{"$f":"IF(ISERROR(GETPIVOTDATA(\"Duration\",Results!$A$2,\"Rating\",E$1,\"Date\",$A323)),-100000,GETPIVOTDATA(\"Duration\",Results!$A$2,\"Rating\",E$1,\"Date\",$A323))","v":-100000},{"$f":"IF(ISERROR(GETPIVOTDATA(\"Duration\",Results!$A$2,\"Rating\",F$1,\"Date\",$A323)),-100000,GETPIVOTDATA(\"Duration\",Results!$A$2,\"Rating\",F$1,\"Date\",$A323))","v":-100000},1000,1000,{"$f":"AVERAGE(G$3:G323)","v":1000}]
["2014-11-18",{"$f":"IF(ISERROR(GETPIVOTDATA(\"Duration\",Results!$A$2,\"Rating\",B$1,\"Date\",$A324)),-100000,GETPIVOTDATA(\"Duration\",Results!$A$2,\"Rating\",B$1,\"Date\",$A324))","v":-100000},{"$f":"IF(ISERROR(GETPIVOTDATA(\"Duration\",Results!$A$2,\"Rating\",C$1,\"Date\",$A324)),-100000,GETPIVOTDATA(\"Duration\",Results!$A$2,\"Rating\",C$1,\"Date\",$A324))","v":-100000},{"$f":"IF(ISERROR(GETPIVOTDATA(\"Duration\",Results!$A$2,\"Rating\",D$1,\"Date\",$A324)),-100000,GETPIVOTDATA(\"Duration\",Results!$A$2,\"Rating\",D$1,\"Date\",$A324))","v":-100000},{"$f":"IF(ISERROR(GETPIVOTDATA(\"Duration\",Results!$A$2,\"Rating\",E$1,\"Date\",$A324)),-100000,GETPIVOTDATA(\"Duration\",Results!$A$2,\"Rating\",E$1,\"Date\",$A324))","v":-100000},{"$f":"IF(ISERROR(GETPIVOTDATA(\"Duration\",Results!$A$2,\"Rating\",F$1,\"Date\",$A324)),-100000,GETPIVOTDATA(\"Duration\",Results!$A$2,\"Rating\",F$1,\"Date\",$A324))","v":-100000},1000,1000,{"$f":"AVERAGE(G$3:G324)","v":1000}]
["2014-11-19",{"$f":"IF(ISERROR(GETPIVOTDATA(\"Duration\",Results!$A$2,\"Rating\",B$1,\"Date\",$A325)),-100000,GETPIVOTDATA(\"Duration\",Results!$A$2,\"Rating\",B$1,\"Date\",$A325))","v":-100000},{"$f":"IF(ISERROR(GETPIVOTDATA(\"Duration\",Results!$A$2,\"Rating\",C$1,\"Date\",$A325)),-100000,GETPIVOTDATA(\"Duration\",Results!$A$2,\"Rating\",C$1,\"Date\",$A325))","v":-100000},{"$f":"IF(ISERROR(GETPIVOTDATA(\"Duration\",Results!$A$2,\"Rating\",D$1,\"Date\",$A325)),-100000,GETPIVOTDATA(\"Duration\",Results!$A$2,\"Rating\",D$1,\"Date\",$A325))","v":-100000},{"$f":"IF(ISERROR(GETPIVOTDATA(\"Duration\",Results!$A$2,\"Rating\",E$1,\"Date\",$A325)),-100000,GETPIVOTDATA(\"Duration\",Results!$A$2,\"Rating\",E$1,\"Date\",$A325))","v":-100000},{"$f":"IF(ISERROR(GETPIVOTDATA(\"Duration\",Results!$A$2,\"Rating\",F$1,\"Date\",$A325)),-100000,GETPIVOTDATA(\"Duration\",Results!$A$2,\"Rating\",F$1,\"Date\",$A325))","v":-100000},1000,1000,{"$f":"AVERAGE(G$3:G325)","v":1000}]
["2014-11-20",{"$f":"IF(ISERROR(GETPIVOTDATA(\"Duration\",Results!$A$2,\"Rating\",B$1,\"Date\",$A326)),-100000,GETPIVOTDATA(\"Duration\",Results!$A$2,\"Rating\",B$1,\"Date\",$A326))","v":-100000},{"$f":"IF(ISERROR(GETPIVOTDATA(\"Duration\",Results!$A$2,\"Rating\",C$1,\"Date\",$A326)),-100000,GETPIVOTDATA(\"Duration\",Results!$A$2,\"Rating\",C$1,\"Date\",$A326))","v":-100000},{"$f":"IF(ISERROR(GETPIVOTDATA(\"Duration\",Results!$A$2,\"Rating\",D$1,\"Date\",$A326)),-100000,GETPIVOTDATA(\"Duration\",Results!$A$2,\"Rating\",D$1,\"Date\",$A326))","v":-100000},{"$f":"IF(ISERROR(GETPIVOTDATA(\"Duration\",Results!$A$2,\"Rating\",E$1,\"Date\",$A326)),-100000,GETPIVOTDATA(\"Duration\",Results!$A$2,\"Rating\",E$1,\"Date\",$A326))","v":-100000},{"$f":"IF(ISERROR(GETPIVOTDATA(\"Duration\",Results!$A$2,\"Rating\",F$1,\"Date\",$A326)),-100000,GETPIVOTDATA(\"Duration\",Results!$A$2,\"Rating\",F$1,\"Date\",$A326))","v":-100000},1000,1000,{"$f":"AVERAGE(G$3:G326)","v":1000}]
["2014-11-21",{"$f":"IF(ISERROR(GETPIVOTDATA(\"Duration\",Results!$A$2,\"Rating\",B$1,\"Date\",$A327)),-100000,GETPIVOTDATA(\"Duration\",Results!$A$2,\"Rating\",B$1,\"Date\",$A327))","v":-100000},{"$f":"IF(ISERROR(GETPIVOTDATA(\"Duration\",Results!$A$2,\"Rating\",C$1,\"Date\",$A327)),-100000,GETPIVOTDATA(\"Duration\",Results!$A$2,\"Rating\",C$1,\"Date\",$A327))","v":-100000},{"$f":"IF(ISERROR(GETPIVOTDATA(\"Duration\",Results!$A$2,\"Rating\",D$1,\"Date\",$A327)),-100000,GETPIVOTDATA(\"Duration\",Results!$A$2,\"Rating\",D$1,\"Date\",$A327))","v":-100000},{"$f":"IF(ISERROR(GETPIVOTDATA(\"Duration\",Results!$A$2,\"Rating\",E$1,\"Date\",$A327)),-100000,GETPIVOTDATA(\"Duration\",Results!$A$2,\"Rating\",E$1,\"Date\",$A327))","v":-100000},{"$f":"IF(ISERROR(GETPIVOTDATA(\"Duration\",Results!$A$2,\"Rating\",F$1,\"Date\",$A327)),-100000,GETPIVOTDATA(\"Duration\",Results!$A$2,\"Rating\",F$1,\"Date\",$A327))","v":-100000},1000,1000,{"$f":"AVERAGE(G$3:G327)","v":1000}]
["2014-11-22",{"$f":"IF(ISERROR(GETPIVOTDATA(\"Duration\",Results!$A$2,\"Rating\",B$1,\"Date\",$A328)),-100000,GETPIVOTDATA(\"Duration\",Results!$A$2,\"Rating\",B$1,\"Date\",$A328))","v":-100000},{"$f":"IF(ISERROR(GETPIVOTDATA(\"Duration\",Results!$A$2,\"Rating\",C$1,\"Date\",$A328)),-100000,GETPIVOTDATA(\"Duration\",Results!$A$2,\"Rating\",C$1,\"Date\",$A328))","v":-100000},{"$f":"IF(ISERROR(GETPIVOTDATA(\"Duration\",Results!$A$2,\"Rating\",D$1,\"Date\",$A328)),-100000,GETPIVOTDATA(\"Duration\",Results!$A$2,\"Rating\",D$1,\"Date\",$A328))","v":-100000},{"$f":"IF(ISERROR(GETPIVOTDATA(\"Duration\",Results!$A$2,\"Rating\",E$1,\"Date\",$A328)),-100000,GETPIVOTDATA(\"Duration\",Results!$A$2,\"Rating\",E$1,\"Date\",$A328))","v":-100000},{"$f":"IF(ISERROR(GETPIVOTDATA(\"Duration\",Results!$A$2,\"Rating\",F$1,\"Date\",$A328)),-100000,GETPIVOTDATA(\"Duration\",Results!$A$2,\"Rating\",F$1,\"Date\",$A328))","v":-100000},1000,1000,{"$f":"AVERAGE(G$3:G328)","v":1000}]
["2014-11-23",{"$f":"IF(ISERROR(GETPIVOTDATA(\"Duration\",Results!$A$2,\"Rating\",B$1,\"Date\",$A329)),-100000,GETPIVOTDATA(\"Duration\",Results!$A$2,\"Rating\",B$1,\"Date\",$A329))","v":-100000},{"$f":"IF(ISERROR(GETPIVOTDATA(\"Duration\",Results!$A$2,\"Rating\",C$1,\"Date\",$A329)),-100000,GETPIVOTDATA(\"Duration\",Results!$A$2,\"Rating\",C$1,\"Date\",$A329))","v":-100000},{"$f":"IF(ISERROR(GETPIVOTDATA(\"Duration\",Results!$A$2,\"Rating\",D$1,\"Date\",$A329)),-100000,GETPIVOTDATA(\"Duration\",Results!$A$2,\"Rating\",D$1,\"Date\",$A329))","v":-100000},{"$f":"IF(ISERROR(GETPIVOTDATA(\"Duration\",Results!$A$2,\"Rating\",E$1,\"Date\",$A329)),-100000,GETPIVOTDATA(\"Duration\",Results!$A$2,\"Rating\",E$1,\"Date\",$A329))","v":-100000},{"$f":"IF(ISERROR(GETPIVOTDATA(\"Duration\",Results!$A$2,\"Rating\",F$1,\"Date\",$A329)),-100000,GETPIVOTDATA(\"Duration\",Results!$A$2,\"Rating\",F$1,\"Date\",$A329))","v":-100000},1000,1000,{"$f":"AVERAGE(G$3:G329)","v":1000}]
["2014-11-24",{"$f":"IF(ISERROR(GETPIVOTDATA(\"Duration\",Results!$A$2,\"Rating\",B$1,\"Date\",$A330)),-100000,GETPIVOTDATA(\"Duration\",Results!$A$2,\"Rating\",B$1,\"Date\",$A330))","v":-100000},{"$f":"IF(ISERROR(GETPIVOTDATA(\"Duration\",Results!$A$2,\"Rating\",C$1,\"Date\",$A330)),-100000,GETPIVOTDATA(\"Duration\",Results!$A$2,\"Rating\",C$1,\"Date\",$A330))","v":-100000},{"$f":"IF(ISERROR(GETPIVOTDATA(\"Duration\",Results!$A$2,\"Rating\",D$1,\"Date\",$A330)),-100000,GETPIVOTDATA(\"Duration\",Results!$A$2,\"Rating\",D$1,\"Date\",$A330))","v":-100000},{"$f":"IF(ISERROR(GETPIVOTDATA(\"Duration\",Results!$A$2,\"Rating\",E$1,\"Date\",$A330)),-100000,GETPIVOTDATA(\"Duration\",Results!$A$2,\"Rating\",E$1,\"Date\",$A330))","v":-100000},{"$f":"IF(ISERROR(GETPIVOTDATA(\"Duration\",Results!$A$2,\"Rating\",F$1,\"Date\",$A330)),-100000,GETPIVOTDATA(\"Duration\",Results!$A$2,\"Rating\",F$1,\"Date\",$A330))","v":-100000},1000,1000,{"$f":"AVERAGE(G$3:G330)","v":1000}]
["2014-11-25",{"$f":"IF(ISERROR(GETPIVOTDATA(\"Duration\",Results!$A$2,\"Rating\",B$1,\"Date\",$A331)),-100000,GETPIVOTDATA(\"Duration\",Results!$A$2,\"Rating\",B$1,\"Date\",$A331))","v":-100000},{"$f":"IF(ISERROR(GETPIVOTDATA(\"Duration\",Results!$A$2,\"Rating\",C$1,\"Date\",$A331)),-100000,GETPIVOTDATA(\"Duration\",Results!$A$2,\"Rating\",C$1,\"Date\",$A331))","v":-100000},{"$f":"IF(ISERROR(GETPIVOTDATA(\"Duration\",Results!$A$2,\"Rating\",D$1,\"Date\",$A331)),-100000,GETPIVOTDATA(\"Duration\",Results!$A$2,\"Rating\",D$1,\"Date\",$A331))","v":-100000},{"$f":"IF(ISERROR(GETPIVOTDATA(\"Duration\",Results!$A$2,\"Rating\",E$1,\"Date\",$A331)),-100000,GETPIVOTDATA(\"Duration\",Results!$A$2,\"Rating\",E$1,\"Date\",$A331))","v":-100000},{"$f":"IF(ISERROR(GETPIVOTDATA(\"Duration\",Results!$A$2,\"Rating\",F$1,\"Date\",$A331)),-100000,GETPIVOTDATA(\"Duration\",Results!$A$2,\"Rating\",F$1,\"Date\",$A331))","v":-100000},1000,1000,{"$f":"AVERAGE(G$3:G331)","v":1000}]
["2014-11-26",{"$f":"IF(ISERROR(GETPIVOTDATA(\"Duration\",Results!$A$2,\"Rating\",B$1,\"Date\",$A332)),-100000,GETPIVOTDATA(\"Duration\",Results!$A$2,\"Rating\",B$1,\"Date\",$A332))","v":-100000},{"$f":"IF(ISERROR(GETPIVOTDATA(\"Duration\",Results!$A$2,\"Rating\",C$1,\"Date\",$A332)),-100000,GETPIVOTDATA(\"Duration\",Results!$A$2,\"Rating\",C$1,\"Date\",$A332))","v":-100000},{"$f":"IF(ISERROR(GETPIVOTDATA(\"Duration\",Results!$A$2,\"Rating\",D$1,\"Date\",$A332)),-100000,GETPIVOTDATA(\"Duration\",Results!$A$2,\"Rating\",D$1,\"Date\",$A332))","v":-100000},{"$f":"IF(ISERROR(GETPIVOTDATA(\"Duration\",Results!$A$2,\"Rating\",E$1,\"Date\",$A332)),-100000,GETPIVOTDATA(\"Duration\",Results!$A$2,\"Rating\",E$1,\"Date\",$A332))","v":-100000},{"$f":"IF(ISERROR(GETPIVOTDATA(\"Duration\",Results!$A$2,\"Rating\",F$1,\"Date\",$A332)),-100000,GETPIVOTDATA(\"Duration\",Results!$A$2,\"Rating\",F$1,\"Date\",$A332))","v":-100000},1000,1000,{"$f":"AVERAGE(G$3:G332)","v":1000}]
["2014-11-27",{"$f":"IF(ISERROR(GETPIVOTDATA(\"Duration\",Results!$A$2,\"Rating\",B$1,\"Date\",$A333)),-100000,GETPIVOTDATA(\"Duration\",Results!$A$2,\"Rating\",B$1,\"Date\",$A333))","v":-100000},{"$f":"IF(ISERROR(GETPIVOTDATA(\"Duration\",Results!$A$2,\"Rating\",C$1,\"Date\",$A333)),-100000,GETPIVOTDATA(\"Duration\",Results!$A$2,\"Rating\",C$1,\"Date\",$A333))","v":-100000},{"$f":"IF(ISERROR(GETPIVOTDATA(\"Duration\",Results!$A$2,\"Rating\",D$1,\"Date\",$A333)),-100000,GETPIVOTDATA(\"Duration\",Results!$A$2,\"Rating\",D$1,\"Date\",$A333))","v":-100000},{"$f":"IF(ISERROR(GETPIVOTDATA(\"Duration\",Results!$A$2,\"Rating\",E$1,\"Date\",$A333)),-100000,GETPIVOTDATA(\"Duration\",Results!$A$2,\"Rating\",E$1,\"Date\",$A333))","v":-100000},{"$f":"IF(ISERROR(GETPIVOTDATA(\"Duration\",Results!$A$2,\"Rating\",F$1,\"Date\",$A333)),-100000,GETPIVOTDATA(\"Duration\",Results!$A$2,\"Rating\",F$1,\"Date\",$A333))","v":-100000},1000,1000,{"$f":"AVERAGE(G$3:G333)","v":1000}]
["2014-11-28",{"$f":"IF(ISERROR(GETPIVOTDATA(\"Duration\",Results!$A$2,\"Rating\",B$1,\"Date\",$A334)),-100000,GETPIVOTDATA(\"Duration\",Results!$A$2,\"Rating\",B$1,\"Date\",$A334))","v":-100000},{"$f":"IF(ISERROR(GETPIVOTDATA(\"Duration\",Results!$A$2,\"Rating\",C$1,\"Date\",$A334)),-100000,GETPIVOTDATA(\"Duration\",Results!$A$2,\"Rating\",C$1,\"Date\",$A334))","v":-100000},{"$f":"IF(ISERROR(GETPIVOTDATA(\"Duration\",Results!$A$2,\"Rating\",D$1,\"Date\",$A334)),-100000,GETPIVOTDATA(\"Duration\",Results!$A$2,\"Rating\",D$1,\"Date\",$A334))","v":-100000},{"$f":"IF(ISERROR(GETPIVOTDATA(\"Duration\",Results!$A$2,\"Rating\",E$1,\"Date\",$A334)),-100000,GETPIVOTDATA(\"Duration\",Results!$A$2,\"Rating\",E$1,\"Date\",$A334))","v":-100000},{"$f":"IF(ISERROR(GETPIVOTDATA(\"Duration\",Results!$A$2,\"Rating\",F$1,\"Date\",$A334)),-100000,GETPIVOTDATA(\"Duration\",Results!$A$2,\"Rating\",F$1,\"Date\",$A334))","v":-100000},1000,1000,{"$f":"AVERAGE(G$3:G334)","v":1000}]
["2014-11-29",{"$f":"IF(ISERROR(GETPIVOTDATA(\"Duration\",Results!$A$2,\"Rating\",B$1,\"Date\",$A335)),-100000,GETPIVOTDATA(\"Duration\",Results!$A$2,\"Rating\",B$1,\"Date\",$A335))","v":-100000},{"$f":"IF(ISERROR(GETPIVOTDATA(\"Duration\",Results!$A$2,\"Rating\",C$1,\"Date\",$A335)),-100000,GETPIVOTDATA(\"Duration\",Results!$A$2,\"Rating\",C$1,\"Date\",$A335))","v":-100000},{"$f":"IF(ISERROR(GETPIVOTDATA(\"Duration\",Results!$A$2,\"Rating\",D$1,\"Date\",$A335)),-100000,GETPIVOTDATA(\"Duration\",Results!$A$2,\"Rating\",D$1,\"Date\",$A335))","v":-100000},{"$f":"IF(ISERROR(GETPIVOTDATA(\"Duration\",Results!$A$2,\"Rating\",E$1,\"Date\",$A335)),-100000,GETPIVOTDATA(\"Duration\",Results!$A$2,\"Rating\",E$1,\"Date\",$A335))","v":-100000},{"$f":"IF(ISERROR(GETPIVOTDATA(\"Duration\",Results!$A$2,\"Rating\",F$1,\"Date\",$A335)),-100000,GETPIVOTDATA(\"Duration\",Results!$A$2,\"Rating\",F$1,\"Date\",$A335))","v":-100000},1000,1000,{"$f":"AVERAGE(G$3:G335)","v":1000}]
["2014-11-30",{"$f":"IF(ISERROR(GETPIVOTDATA(\"Duration\",Results!$A$2,\"Rating\",B$1,\"Date\",$A336)),-100000,GETPIVOTDATA(\"Duration\",Results!$A$2,\"Rating\",B$1,\"Date\",$A336))","v":-100000},{"$f":"IF(ISERROR(GETPIVOTDATA(\"Duration\",Results!$A$2,\"Rating\",C$1,\"Date\",$A336)),-100000,GETPIVOTDATA(\"Duration\",Results!$A$2,\"Rating\",C$1,\"Date\",$A336))","v":-100000},{"$f":"IF(ISERROR(GETPIVOTDATA(\"Duration\",Results!$A$2,\"Rating\",D$1,\"Date\",$A336)),-100000,GETPIVOTDATA(\"Duration\",Results!$A$2,\"Rating\",D$1,\"Date\",$A336))","v":-100000},{"$f":"IF(ISERROR(GETPIVOTDATA(\"Duration\",Results!$A$2,\"Rating\",E$1,\"Date\",$A336)),-100000,GETPIVOTDATA(\"Duration\",Results!$A$2,\"Rating\",E$1,\"Date\",$A336))","v":-100000},{"$f":"IF(ISERROR(GETPIVOTDATA(\"Duration\",Results!$A$2,\"Rating\",F$1,\"Date\",$A336)),-100000,GETPIVOTDATA(\"Duration\",Results!$A$2,\"Rating\",F$1,\"Date\",$A336))","v":-100000},1000,1000,{"$f":"AVERAGE(G$3:G336)","v":1000}]
["2014-12-01",{"$f":"IF(ISERROR(GETPIVOTDATA(\"Duration\",Results!$A$2,\"Rating\",B$1,\"Date\",$A337)),-100000,GETPIVOTDATA(\"Duration\",Results!$A$2,\"Rating\",B$1,\"Date\",$A337))","v":-100000},{"$f":"IF(ISERROR(GETPIVOTDATA(\"Duration\",Results!$A$2,\"Rating\",C$1,\"Date\",$A337)),-100000,GETPIVOTDATA(\"Duration\",Results!$A$2,\"Rating\",C$1,\"Date\",$A337))","v":-100000},{"$f":"IF(ISERROR(GETPIVOTDATA(\"Duration\",Results!$A$2,\"Rating\",D$1,\"Date\",$A337)),-100000,GETPIVOTDATA(\"Duration\",Results!$A$2,\"Rating\",D$1,\"Date\",$A337))","v":-100000},{"$f":"IF(ISERROR(GETPIVOTDATA(\"Duration\",Results!$A$2,\"Rating\",E$1,\"Date\",$A337)),-100000,GETPIVOTDATA(\"Duration\",Results!$A$2,\"Rating\",E$1,\"Date\",$A337))","v":-100000},{"$f":"IF(ISERROR(GETPIVOTDATA(\"Duration\",Results!$A$2,\"Rating\",F$1,\"Date\",$A337)),-100000,GETPIVOTDATA(\"Duration\",Results!$A$2,\"Rating\",F$1,\"Date\",$A337))","v":-100000},1000,1000,{"$f":"AVERAGE(G$3:G337)","v":1000}]
["2014-12-02",{"$f":"IF(ISERROR(GETPIVOTDATA(\"Duration\",Results!$A$2,\"Rating\",B$1,\"Date\",$A338)),-100000,GETPIVOTDATA(\"Duration\",Results!$A$2,\"Rating\",B$1,\"Date\",$A338))","v":-100000},{"$f":"IF(ISERROR(GETPIVOTDATA(\"Duration\",Results!$A$2,\"Rating\",C$1,\"Date\",$A338)),-100000,GETPIVOTDATA(\"Duration\",Results!$A$2,\"Rating\",C$1,\"Date\",$A338))","v":-100000},{"$f":"IF(ISERROR(GETPIVOTDATA(\"Duration\",Results!$A$2,\"Rating\",D$1,\"Date\",$A338)),-100000,GETPIVOTDATA(\"Duration\",Results!$A$2,\"Rating\",D$1,\"Date\",$A338))","v":-100000},{"$f":"IF(ISERROR(GETPIVOTDATA(\"Duration\",Results!$A$2,\"Rating\",E$1,\"Date\",$A338)),-100000,GETPIVOTDATA(\"Duration\",Results!$A$2,\"Rating\",E$1,\"Date\",$A338))","v":-100000},{"$f":"IF(ISERROR(GETPIVOTDATA(\"Duration\",Results!$A$2,\"Rating\",F$1,\"Date\",$A338)),-100000,GETPIVOTDATA(\"Duration\",Results!$A$2,\"Rating\",F$1,\"Date\",$A338))","v":-100000},1000,1000,{"$f":"AVERAGE(G$3:G338)","v":1000}]
["2014-12-03",{"$f":"IF(ISERROR(GETPIVOTDATA(\"Duration\",Results!$A$2,\"Rating\",B$1,\"Date\",$A339)),-100000,GETPIVOTDATA(\"Duration\",Results!$A$2,\"Rating\",B$1,\"Date\",$A339))","v":-100000},{"$f":"IF(ISERROR(GETPIVOTDATA(\"Duration\",Results!$A$2,\"Rating\",C$1,\"Date\",$A339)),-100000,GETPIVOTDATA(\"Duration\",Results!$A$2,\"Rating\",C$1,\"Date\",$A339))","v":-100000},{"$f":"IF(ISERROR(GETPIVOTDATA(\"Duration\",Results!$A$2,\"Rating\",D$1,\"Date\",$A339)),-100000,GETPIVOTDATA(\"Duration\",Results!$A$2,\"Rating\",D$1,\"Date\",$A339))","v":-100000},{"$f":"IF(ISERROR(GETPIVOTDATA(\"Duration\",Results!$A$2,\"Rating\",E$1,\"Date\",$A339)),-100000,GETPIVOTDATA(\"Duration\",Results!$A$2,\"Rating\",E$1,\"Date\",$A339))","v":-100000},{"$f":"IF(ISERROR(GETPIVOTDATA(\"Duration\",Results!$A$2,\"Rating\",F$1,\"Date\",$A339)),-100000,GETPIVOTDATA(\"Duration\",Results!$A$2,\"Rating\",F$1,\"Date\",$A339))","v":-100000},1000,1000,{"$f":"AVERAGE(G$3:G339)","v":1000}]
["2014-12-04",{"$f":"IF(ISERROR(GETPIVOTDATA(\"Duration\",Results!$A$2,\"Rating\",B$1,\"Date\",$A340)),-100000,GETPIVOTDATA(\"Duration\",Results!$A$2,\"Rating\",B$1,\"Date\",$A340))","v":-100000},{"$f":"IF(ISERROR(GETPIVOTDATA(\"Duration\",Results!$A$2,\"Rating\",C$1,\"Date\",$A340)),-100000,GETPIVOTDATA(\"Duration\",Results!$A$2,\"Rating\",C$1,\"Date\",$A340))","v":-100000},{"$f":"IF(ISERROR(GETPIVOTDATA(\"Duration\",Results!$A$2,\"Rating\",D$1,\"Date\",$A340)),-100000,GETPIVOTDATA(\"Duration\",Results!$A$2,\"Rating\",D$1,\"Date\",$A340))","v":-100000},{"$f":"IF(ISERROR(GETPIVOTDATA(\"Duration\",Results!$A$2,\"Rating\",E$1,\"Date\",$A340)),-100000,GETPIVOTDATA(\"Duration\",Results!$A$2,\"Rating\",E$1,\"Date\",$A340))","v":-100000},{"$f":"IF(ISERROR(GETPIVOTDATA(\"Duration\",Results!$A$2,\"Rating\",F$1,\"Date\",$A340)),-100000,GETPIVOTDATA(\"Duration\",Results!$A$2,\"Rating\",F$1,\"Date\",$A340))","v":-100000},1000,1000,{"$f":"AVERAGE(G$3:G340)","v":1000}]
["2014-12-05",{"$f":"IF(ISERROR(GETPIVOTDATA(\"Duration\",Results!$A$2,\"Rating\",B$1,\"Date\",$A341)),-100000,GETPIVOTDATA(\"Duration\",Results!$A$2,\"Rating\",B$1,\"Date\",$A341))","v":-100000},{"$f":"IF(ISERROR(GETPIVOTDATA(\"Duration\",Results!$A$2,\"Rating\",C$1,\"Date\",$A341)),-100000,GETPIVOTDATA(\"Duration\",Results!$A$2,\"Rating\",C$1,\"Date\",$A341))","v":-100000},{"$f":"IF(ISERROR(GETPIVOTDATA(\"Duration\",Results!$A$2,\"Rating\",D$1,\"Date\",$A341)),-100000,GETPIVOTDATA(\"Duration\",Results!$A$2,\"Rating\",D$1,\"Date\",$A341))","v":-100000},{"$f":"IF(ISERROR(GETPIVOTDATA(\"Duration\",Results!$A$2,\"Rating\",E$1,\"Date\",$A341)),-100000,GETPIVOTDATA(\"Duration\",Results!$A$2,\"Rating\",E$1,\"Date\",$A341))","v":-100000},{"$f":"IF(ISERROR(GETPIVOTDATA(\"Duration\",Results!$A$2,\"Rating\",F$1,\"Date\",$A341)),-100000,GETPIVOTDATA(\"Duration\",Results!$A$2,\"Rating\",F$1,\"Date\",$A341))","v":-100000},1000,1000,{"$f":"AVERAGE(G$3:G341)","v":1000}]
["2014-12-06",{"$f":"IF(ISERROR(GETPIVOTDATA(\"Duration\",Results!$A$2,\"Rating\",B$1,\"Date\",$A342)),-100000,GETPIVOTDATA(\"Duration\",Results!$A$2,\"Rating\",B$1,\"Date\",$A342))","v":-100000},{"$f":"IF(ISERROR(GETPIVOTDATA(\"Duration\",Results!$A$2,\"Rating\",C$1,\"Date\",$A342)),-100000,GETPIVOTDATA(\"Duration\",Results!$A$2,\"Rating\",C$1,\"Date\",$A342))","v":-100000},{"$f":"IF(ISERROR(GETPIVOTDATA(\"Duration\",Results!$A$2,\"Rating\",D$1,\"Date\",$A342)),-100000,GETPIVOTDATA(\"Duration\",Results!$A$2,\"Rating\",D$1,\"Date\",$A342))","v":-100000},{"$f":"IF(ISERROR(GETPIVOTDATA(\"Duration\",Results!$A$2,\"Rating\",E$1,\"Date\",$A342)),-100000,GETPIVOTDATA(\"Duration\",Results!$A$2,\"Rating\",E$1,\"Date\",$A342))","v":-100000},{"$f":"IF(ISERROR(GETPIVOTDATA(\"Duration\",Results!$A$2,\"Rating\",F$1,\"Date\",$A342)),-100000,GETPIVOTDATA(\"Duration\",Results!$A$2,\"Rating\",F$1,\"Date\",$A342))","v":-100000},1000,1000,{"$f":"AVERAGE(G$3:G342)","v":1000}]
["2014-12-07",{"$f":"IF(ISERROR(GETPIVOTDATA(\"Duration\",Results!$A$2,\"Rating\",B$1,\"Date\",$A343)),-100000,GETPIVOTDATA(\"Duration\",Results!$A$2,\"Rating\",B$1,\"Date\",$A343))","v":-100000},{"$f":"IF(ISERROR(GETPIVOTDATA(\"Duration\",Results!$A$2,\"Rating\",C$1,\"Date\",$A343)),-100000,GETPIVOTDATA(\"Duration\",Results!$A$2,\"Rating\",C$1,\"Date\",$A343))","v":-100000},{"$f":"IF(ISERROR(GETPIVOTDATA(\"Duration\",Results!$A$2,\"Rating\",D$1,\"Date\",$A343)),-100000,GETPIVOTDATA(\"Duration\",Results!$A$2,\"Rating\",D$1,\"Date\",$A343))","v":-100000},{"$f":"IF(ISERROR(GETPIVOTDATA(\"Duration\",Results!$A$2,\"Rating\",E$1,\"Date\",$A343)),-100000,GETPIVOTDATA(\"Duration\",Results!$A$2,\"Rating\",E$1,\"Date\",$A343))","v":-100000},{"$f":"IF(ISERROR(GETPIVOTDATA(\"Duration\",Results!$A$2,\"Rating\",F$1,\"Date\",$A343)),-100000,GETPIVOTDATA(\"Duration\",Results!$A$2,\"Rating\",F$1,\"Date\",$A343))","v":-100000},1000,1000,{"$f":"AVERAGE(G$3:G343)","v":1000}]
["2014-12-08",{"$f":"IF(ISERROR(GETPIVOTDATA(\"Duration\",Results!$A$2,\"Rating\",B$1,\"Date\",$A344)),-100000,GETPIVOTDATA(\"Duration\",Results!$A$2,\"Rating\",B$1,\"Date\",$A344))","v":-100000},{"$f":"IF(ISERROR(GETPIVOTDATA(\"Duration\",Results!$A$2,\"Rating\",C$1,\"Date\",$A344)),-100000,GETPIVOTDATA(\"Duration\",Results!$A$2,\"Rating\",C$1,\"Date\",$A344))","v":-100000},{"$f":"IF(ISERROR(GETPIVOTDATA(\"Duration\",Results!$A$2,\"Rating\",D$1,\"Date\",$A344)),-100000,GETPIVOTDATA(\"Duration\",Results!$A$2,\"Rating\",D$1,\"Date\",$A344))","v":-100000},{"$f":"IF(ISERROR(GETPIVOTDATA(\"Duration\",Results!$A$2,\"Rating\",E$1,\"Date\",$A344)),-100000,GETPIVOTDATA(\"Duration\",Results!$A$2,\"Rating\",E$1,\"Date\",$A344))","v":-100000},{"$f":"IF(ISERROR(GETPIVOTDATA(\"Duration\",Results!$A$2,\"Rating\",F$1,\"Date\",$A344)),-100000,GETPIVOTDATA(\"Duration\",Results!$A$2,\"Rating\",F$1,\"Date\",$A344))","v":-100000},1000,1000,{"$f":"AVERAGE(G$3:G344)","v":1000}]
["2014-12-09",{"$f":"IF(ISERROR(GETPIVOTDATA(\"Duration\",Results!$A$2,\"Rating\",B$1,\"Date\",$A345)),-100000,GETPIVOTDATA(\"Duration\",Results!$A$2,\"Rating\",B$1,\"Date\",$A345))","v":-100000},{"$f":"IF(ISERROR(GETPIVOTDATA(\"Duration\",Results!$A$2,\"Rating\",C$1,\"Date\",$A345)),-100000,GETPIVOTDATA(\"Duration\",Results!$A$2,\"Rating\",C$1,\"Date\",$A345))","v":-100000},{"$f":"IF(ISERROR(GETPIVOTDATA(\"Duration\",Results!$A$2,\"Rating\",D$1,\"Date\",$A345)),-100000,GETPIVOTDATA(\"Duration\",Results!$A$2,\"Rating\",D$1,\"Date\",$A345))","v":-100000},{"$f":"IF(ISERROR(GETPIVOTDATA(\"Duration\",Results!$A$2,\"Rating\",E$1,\"Date\",$A345)),-100000,GETPIVOTDATA(\"Duration\",Results!$A$2,\"Rating\",E$1,\"Date\",$A345))","v":-100000},{"$f":"IF(ISERROR(GETPIVOTDATA(\"Duration\",Results!$A$2,\"Rating\",F$1,\"Date\",$A345)),-100000,GETPIVOTDATA(\"Duration\",Results!$A$2,\"Rating\",F$1,\"Date\",$A345))","v":-100000},1000,1000,{"$f":"AVERAGE(G$3:G345)","v":1000}]
["2014-12-10",{"$f":"IF(ISERROR(GETPIVOTDATA(\"Duration\",Results!$A$2,\"Rating\",B$1,\"Date\",$A346)),-100000,GETPIVOTDATA(\"Duration\",Results!$A$2,\"Rating\",B$1,\"Date\",$A346))","v":-100000},{"$f":"IF(ISERROR(GETPIVOTDATA(\"Duration\",Results!$A$2,\"Rating\",C$1,\"Date\",$A346)),-100000,GETPIVOTDATA(\"Duration\",Results!$A$2,\"Rating\",C$1,\"Date\",$A346))","v":-100000},{"$f":"IF(ISERROR(GETPIVOTDATA(\"Duration\",Results!$A$2,\"Rating\",D$1,\"Date\",$A346)),-100000,GETPIVOTDATA(\"Duration\",Results!$A$2,\"Rating\",D$1,\"Date\",$A346))","v":-100000},{"$f":"IF(ISERROR(GETPIVOTDATA(\"Duration\",Results!$A$2,\"Rating\",E$1,\"Date\",$A346)),-100000,GETPIVOTDATA(\"Duration\",Results!$A$2,\"Rating\",E$1,\"Date\",$A346))","v":-100000},{"$f":"IF(ISERROR(GETPIVOTDATA(\"Duration\",Results!$A$2,\"Rating\",F$1,\"Date\",$A346)),-100000,GETPIVOTDATA(\"Duration\",Results!$A$2,\"Rating\",F$1,\"Date\",$A346))","v":-100000},1000,1000,{"$f":"AVERAGE(G$3:G346)","v":1000}]
["2014-12-11",{"$f":"IF(ISERROR(GETPIVOTDATA(\"Duration\",Results!$A$2,\"Rating\",B$1,\"Date\",$A347)),-100000,GETPIVOTDATA(\"Duration\",Results!$A$2,\"Rating\",B$1,\"Date\",$A347))","v":-100000},{"$f":"IF(ISERROR(GETPIVOTDATA(\"Duration\",Results!$A$2,\"Rating\",C$1,\"Date\",$A347)),-100000,GETPIVOTDATA(\"Duration\",Results!$A$2,\"Rating\",C$1,\"Date\",$A347))","v":-100000},{"$f":"IF(ISERROR(GETPIVOTDATA(\"Duration\",Results!$A$2,\"Rating\",D$1,\"Date\",$A347)),-100000,GETPIVOTDATA(\"Duration\",Results!$A$2,\"Rating\",D$1,\"Date\",$A347))","v":-100000},{"$f":"IF(ISERROR(GETPIVOTDATA(\"Duration\",Results!$A$2,\"Rating\",E$1,\"Date\",$A347)),-100000,GETPIVOTDATA(\"Duration\",Results!$A$2,\"Rating\",E$1,\"Date\",$A347))","v":-100000},{"$f":"IF(ISERROR(GETPIVOTDATA(\"Duration\",Results!$A$2,\"Rating\",F$1,\"Date\",$A347)),-100000,GETPIVOTDATA(\"Duration\",Results!$A$2,\"Rating\",F$1,\"Date\",$A347))","v":-100000},1000,1000,{"$f":"AVERAGE(G$3:G347)","v":1000}]
["2014-12-12",{"$f":"IF(ISERROR(GETPIVOTDATA(\"Duration\",Results!$A$2,\"Rating\",B$1,\"Date\",$A348)),-100000,GETPIVOTDATA(\"Duration\",Results!$A$2,\"Rating\",B$1,\"Date\",$A348))","v":-100000},{"$f":"IF(ISERROR(GETPIVOTDATA(\"Duration\",Results!$A$2,\"Rating\",C$1,\"Date\",$A348)),-100000,GETPIVOTDATA(\"Duration\",Results!$A$2,\"Rating\",C$1,\"Date\",$A348))","v":-100000},{"$f":"IF(ISERROR(GETPIVOTDATA(\"Duration\",Results!$A$2,\"Rating\",D$1,\"Date\",$A348)),-100000,GETPIVOTDATA(\"Duration\",Results!$A$2,\"Rating\",D$1,\"Date\",$A348))","v":-100000},{"$f":"IF(ISERROR(GETPIVOTDATA(\"Duration\",Results!$A$2,\"Rating\",E$1,\"Date\",$A348)),-100000,GETPIVOTDATA(\"Duration\",Results!$A$2,\"Rating\",E$1,\"Date\",$A348))","v":-100000},{"$f":"IF(ISERROR(GETPIVOTDATA(\"Duration\",Results!$A$2,\"Rating\",F$1,\"Date\",$A348)),-100000,GETPIVOTDATA(\"Duration\",Results!$A$2,\"Rating\",F$1,\"Date\",$A348))","v":-100000},1000,1000,{"$f":"AVERAGE(G$3:G348)","v":1000}]
["2014-12-13",{"$f":"IF(ISERROR(GETPIVOTDATA(\"Duration\",Results!$A$2,\"Rating\",B$1,\"Date\",$A349)),-100000,GETPIVOTDATA(\"Duration\",Results!$A$2,\"Rating\",B$1,\"Date\",$A349))","v":-100000},{"$f":"IF(ISERROR(GETPIVOTDATA(\"Duration\",Results!$A$2,\"Rating\",C$1,\"Date\",$A349)),-100000,GETPIVOTDATA(\"Duration\",Results!$A$2,\"Rating\",C$1,\"Date\",$A349))","v":-100000},{"$f":"IF(ISERROR(GETPIVOTDATA(\"Duration\",Results!$A$2,\"Rating\",D$1,\"Date\",$A349)),-100000,GETPIVOTDATA(\"Duration\",Results!$A$2,\"Rating\",D$1,\"Date\",$A349))","v":-100000},{"$f":"IF(ISERROR(GETPIVOTDATA(\"Duration\",Results!$A$2,\"Rating\",E$1,\"Date\",$A349)),-100000,GETPIVOTDATA(\"Duration\",Results!$A$2,\"Rating\",E$1,\"Date\",$A349))","v":-100000},{"$f":"IF(ISERROR(GETPIVOTDATA(\"Duration\",Results!$A$2,\"Rating\",F$1,\"Date\",$A349)),-100000,GETPIVOTDATA(\"Duration\",Results!$A$2,\"Rating\",F$1,\"Date\",$A349))","v":-100000},1000,1000,{"$f":"AVERAGE(G$3:G349)","v":1000}]
["2014-12-14",{"$f":"IF(ISERROR(GETPIVOTDATA(\"Duration\",Results!$A$2,\"Rating\",B$1,\"Date\",$A350)),-100000,GETPIVOTDATA(\"Duration\",Results!$A$2,\"Rating\",B$1,\"Date\",$A350))","v":-100000},{"$f":"IF(ISERROR(GETPIVOTDATA(\"Duration\",Results!$A$2,\"Rating\",C$1,\"Date\",$A350)),-100000,GETPIVOTDATA(\"Duration\",Results!$A$2,\"Rating\",C$1,\"Date\",$A350))","v":-100000},{"$f":"IF(ISERROR(GETPIVOTDATA(\"Duration\",Results!$A$2,\"Rating\",D$1,\"Date\",$A350)),-100000,GETPIVOTDATA(\"Duration\",Results!$A$2,\"Rating\",D$1,\"Date\",$A350))","v":-100000},{"$f":"IF(ISERROR(GETPIVOTDATA(\"Duration\",Results!$A$2,\"Rating\",E$1,\"Date\",$A350)),-100000,GETPIVOTDATA(\"Duration\",Results!$A$2,\"Rating\",E$1,\"Date\",$A350))","v":-100000},{"$f":"IF(ISERROR(GETPIVOTDATA(\"Duration\",Results!$A$2,\"Rating\",F$1,\"Date\",$A350)),-100000,GETPIVOTDATA(\"Duration\",Results!$A$2,\"Rating\",F$1,\"Date\",$A350))","v":-100000},1000,1000,{"$f":"AVERAGE(G$3:G350)","v":1000}]
["2014-12-15",{"$f":"IF(ISERROR(GETPIVOTDATA(\"Duration\",Results!$A$2,\"Rating\",B$1,\"Date\",$A351)),-100000,GETPIVOTDATA(\"Duration\",Results!$A$2,\"Rating\",B$1,\"Date\",$A351))","v":-100000},{"$f":"IF(ISERROR(GETPIVOTDATA(\"Duration\",Results!$A$2,\"Rating\",C$1,\"Date\",$A351)),-100000,GETPIVOTDATA(\"Duration\",Results!$A$2,\"Rating\",C$1,\"Date\",$A351))","v":-100000},{"$f":"IF(ISERROR(GETPIVOTDATA(\"Duration\",Results!$A$2,\"Rating\",D$1,\"Date\",$A351)),-100000,GETPIVOTDATA(\"Duration\",Results!$A$2,\"Rating\",D$1,\"Date\",$A351))","v":-100000},{"$f":"IF(ISERROR(GETPIVOTDATA(\"Duration\",Results!$A$2,\"Rating\",E$1,\"Date\",$A351)),-100000,GETPIVOTDATA(\"Duration\",Results!$A$2,\"Rating\",E$1,\"Date\",$A351))","v":-100000},{"$f":"IF(ISERROR(GETPIVOTDATA(\"Duration\",Results!$A$2,\"Rating\",F$1,\"Date\",$A351)),-100000,GETPIVOTDATA(\"Duration\",Results!$A$2,\"Rating\",F$1,\"Date\",$A351))","v":-100000},1000,1000,{"$f":"AVERAGE(G$3:G351)","v":1000}]
["2014-12-16",{"$f":"IF(ISERROR(GETPIVOTDATA(\"Duration\",Results!$A$2,\"Rating\",B$1,\"Date\",$A352)),-100000,GETPIVOTDATA(\"Duration\",Results!$A$2,\"Rating\",B$1,\"Date\",$A352))","v":-100000},{"$f":"IF(ISERROR(GETPIVOTDATA(\"Duration\",Results!$A$2,\"Rating\",C$1,\"Date\",$A352)),-100000,GETPIVOTDATA(\"Duration\",Results!$A$2,\"Rating\",C$1,\"Date\",$A352))","v":-100000},{"$f":"IF(ISERROR(GETPIVOTDATA(\"Duration\",Results!$A$2,\"Rating\",D$1,\"Date\",$A352)),-100000,GETPIVOTDATA(\"Duration\",Results!$A$2,\"Rating\",D$1,\"Date\",$A352))","v":-100000},{"$f":"IF(ISERROR(GETPIVOTDATA(\"Duration\",Results!$A$2,\"Rating\",E$1,\"Date\",$A352)),-100000,GETPIVOTDATA(\"Duration\",Results!$A$2,\"Rating\",E$1,\"Date\",$A352))","v":-100000},{"$f":"IF(ISERROR(GETPIVOTDATA(\"Duration\",Results!$A$2,\"Rating\",F$1,\"Date\",$A352)),-100000,GETPIVOTDATA(\"Duration\",Results!$A$2,\"Rating\",F$1,\"Date\",$A352))","v":-100000},1000,1000,{"$f":"AVERAGE(G$3:G352)","v":1000}]
["2014-12-17",{"$f":"IF(ISERROR(GETPIVOTDATA(\"Duration\",Results!$A$2,\"Rating\",B$1,\"Date\",$A353)),-100000,GETPIVOTDATA(\"Duration\",Results!$A$2,\"Rating\",B$1,\"Date\",$A353))","v":-100000},{"$f":"IF(ISERROR(GETPIVOTDATA(\"Duration\",Results!$A$2,\"Rating\",C$1,\"Date\",$A353)),-100000,GETPIVOTDATA(\"Duration\",Results!$A$2,\"Rating\",C$1,\"Date\",$A353))","v":-100000},{"$f":"IF(ISERROR(GETPIVOTDATA(\"Duration\",Results!$A$2,\"Rating\",D$1,\"Date\",$A353)),-100000,GETPIVOTDATA(\"Duration\",Results!$A$2,\"Rating\",D$1,\"Date\",$A353))","v":-100000},{"$f":"IF(ISERROR(GETPIVOTDATA(\"Duration\",Results!$A$2,\"Rating\",E$1,\"Date\",$A353)),-100000,GETPIVOTDATA(\"Duration\",Results!$A$2,\"Rating\",E$1,\"Date\",$A353))","v":-100000},{"$f":"IF(ISERROR(GETPIVOTDATA(\"Duration\",Results!$A$2,\"Rating\",F$1,\"Date\",$A353)),-100000,GETPIVOTDATA(\"Duration\",Results!$A$2,\"Rating\",F$1,\"Date\",$A353))","v":-100000},1000,1000,{"$f":"AVERAGE(G$3:G353)","v":1000}]
["2014-12-18",{"$f":"IF(ISERROR(GETPIVOTDATA(\"Duration\",Results!$A$2,\"Rating\",B$1,\"Date\",$A354)),-100000,GETPIVOTDATA(\"Duration\",Results!$A$2,\"Rating\",B$1,\"Date\",$A354))","v":-100000},{"$f":"IF(ISERROR(GETPIVOTDATA(\"Duration\",Results!$A$2,\"Rating\",C$1,\"Date\",$A354)),-100000,GETPIVOTDATA(\"Duration\",Results!$A$2,\"Rating\",C$1,\"Date\",$A354))","v":-100000},{"$f":"IF(ISERROR(GETPIVOTDATA(\"Duration\",Results!$A$2,\"Rating\",D$1,\"Date\",$A354)),-100000,GETPIVOTDATA(\"Duration\",Results!$A$2,\"Rating\",D$1,\"Date\",$A354))","v":-100000},{"$f":"IF(ISERROR(GETPIVOTDATA(\"Duration\",Results!$A$2,\"Rating\",E$1,\"Date\",$A354)),-100000,GETPIVOTDATA(\"Duration\",Results!$A$2,\"Rating\",E$1,\"Date\",$A354))","v":-100000},{"$f":"IF(ISERROR(GETPIVOTDATA(\"Duration\",Results!$A$2,\"Rating\",F$1,\"Date\",$A354)),-100000,GETPIVOTDATA(\"Duration\",Results!$A$2,\"Rating\",F$1,\"Date\",$A354))","v":-100000},1000,1000,{"$f":"AVERAGE(G$3:G354)","v":1000}]
["2014-12-19",{"$f":"IF(ISERROR(GETPIVOTDATA(\"Duration\",Results!$A$2,\"Rating\",B$1,\"Date\",$A355)),-100000,GETPIVOTDATA(\"Duration\",Results!$A$2,\"Rating\",B$1,\"Date\",$A355))","v":-100000},{"$f":"IF(ISERROR(GETPIVOTDATA(\"Duration\",Results!$A$2,\"Rating\",C$1,\"Date\",$A355)),-100000,GETPIVOTDATA(\"Duration\",Results!$A$2,\"Rating\",C$1,\"Date\",$A355))","v":-100000},{"$f":"IF(ISERROR(GETPIVOTDATA(\"Duration\",Results!$A$2,\"Rating\",D$1,\"Date\",$A355)),-100000,GETPIVOTDATA(\"Duration\",Results!$A$2,\"Rating\",D$1,\"Date\",$A355))","v":-100000},{"$f":"IF(ISERROR(GETPIVOTDATA(\"Duration\",Results!$A$2,\"Rating\",E$1,\"Date\",$A355)),-100000,GETPIVOTDATA(\"Duration\",Results!$A$2,\"Rating\",E$1,\"Date\",$A355))","v":-100000},{"$f":"IF(ISERROR(GETPIVOTDATA(\"Duration\",Results!$A$2,\"Rating\",F$1,\"Date\",$A355)),-100000,GETPIVOTDATA(\"Duration\",Results!$A$2,\"Rating\",F$1,\"Date\",$A355))","v":-100000},1000,1000,{"$f":"AVERAGE(G$3:G355)","v":1000}]
["2014-12-20",{"$f":"IF(ISERROR(GETPIVOTDATA(\"Duration\",Results!$A$2,\"Rating\",B$1,\"Date\",$A356)),-100000,GETPIVOTDATA(\"Duration\",Results!$A$2,\"Rating\",B$1,\"Date\",$A356))","v":-100000},{"$f":"IF(ISERROR(GETPIVOTDATA(\"Duration\",Results!$A$2,\"Rating\",C$1,\"Date\",$A356)),-100000,GETPIVOTDATA(\"Duration\",Results!$A$2,\"Rating\",C$1,\"Date\",$A356))","v":-100000},{"$f":"IF(ISERROR(GETPIVOTDATA(\"Duration\",Results!$A$2,\"Rating\",D$1,\"Date\",$A356)),-100000,GETPIVOTDATA(\"Duration\",Results!$A$2,\"Rating\",D$1,\"Date\",$A356))","v":-100000},{"$f":"IF(ISERROR(GETPIVOTDATA(\"Duration\",Results!$A$2,\"Rating\",E$1,\"Date\",$A356)),-100000,GETPIVOTDATA(\"Duration\",Results!$A$2,\"Rating\",E$1,\"Date\",$A356))","v":-100000},{"$f":"IF(ISERROR(GETPIVOTDATA(\"Duration\",Results!$A$2,\"Rating\",F$1,\"Date\",$A356)),-100000,GETPIVOTDATA(\"Duration\",Results!$A$2,\"Rating\",F$1,\"Date\",$A356))","v":-100000},1000,1000,{"$f":"AVERAGE(G$3:G356)","v":1000}]
["2014-12-21",{"$f":"IF(ISERROR(GETPIVOTDATA(\"Duration\",Results!$A$2,\"Rating\",B$1,\"Date\",$A357)),-100000,GETPIVOTDATA(\"Duration\",Results!$A$2,\"Rating\",B$1,\"Date\",$A357))","v":-100000},{"$f":"IF(ISERROR(GETPIVOTDATA(\"Duration\",Results!$A$2,\"Rating\",C$1,\"Date\",$A357)),-100000,GETPIVOTDATA(\"Duration\",Results!$A$2,\"Rating\",C$1,\"Date\",$A357))","v":-100000},{"$f":"IF(ISERROR(GETPIVOTDATA(\"Duration\",Results!$A$2,\"Rating\",D$1,\"Date\",$A357)),-100000,GETPIVOTDATA(\"Duration\",Results!$A$2,\"Rating\",D$1,\"Date\",$A357))","v":-100000},{"$f":"IF(ISERROR(GETPIVOTDATA(\"Duration\",Results!$A$2,\"Rating\",E$1,\"Date\",$A357)),-100000,GETPIVOTDATA(\"Duration\",Results!$A$2,\"Rating\",E$1,\"Date\",$A357))","v":-100000},{"$f":"IF(ISERROR(GETPIVOTDATA(\"Duration\",Results!$A$2,\"Rating\",F$1,\"Date\",$A357)),-100000,GETPIVOTDATA(\"Duration\",Results!$A$2,\"Rating\",F$1,\"Date\",$A357))","v":-100000},1000,1000,{"$f":"AVERAGE(G$3:G357)","v":1000}]
["2014-12-22",{"$f":"IF(ISERROR(GETPIVOTDATA(\"Duration\",Results!$A$2,\"Rating\",B$1,\"Date\",$A358)),-100000,GETPIVOTDATA(\"Duration\",Results!$A$2,\"Rating\",B$1,\"Date\",$A358))","v":-100000},{"$f":"IF(ISERROR(GETPIVOTDATA(\"Duration\",Results!$A$2,\"Rating\",C$1,\"Date\",$A358)),-100000,GETPIVOTDATA(\"Duration\",Results!$A$2,\"Rating\",C$1,\"Date\",$A358))","v":-100000},{"$f":"IF(ISERROR(GETPIVOTDATA(\"Duration\",Results!$A$2,\"Rating\",D$1,\"Date\",$A358)),-100000,GETPIVOTDATA(\"Duration\",Results!$A$2,\"Rating\",D$1,\"Date\",$A358))","v":-100000},{"$f":"IF(ISERROR(GETPIVOTDATA(\"Duration\",Results!$A$2,\"Rating\",E$1,\"Date\",$A358)),-100000,GETPIVOTDATA(\"Duration\",Results!$A$2,\"Rating\",E$1,\"Date\",$A358))","v":-100000},{"$f":"IF(ISERROR(GETPIVOTDATA(\"Duration\",Results!$A$2,\"Rating\",F$1,\"Date\",$A358)),-100000,GETPIVOTDATA(\"Duration\",Results!$A$2,\"Rating\",F$1,\"Date\",$A358))","v":-100000},1000,1000,{"$f":"AVERAGE(G$3:G358)","v":1000}]
["2014-12-23",{"$f":"IF(ISERROR(GETPIVOTDATA(\"Duration\",Results!$A$2,\"Rating\",B$1,\"Date\",$A359)),-100000,GETPIVOTDATA(\"Duration\",Results!$A$2,\"Rating\",B$1,\"Date\",$A359))","v":-100000},{"$f":"IF(ISERROR(GETPIVOTDATA(\"Duration\",Results!$A$2,\"Rating\",C$1,\"Date\",$A359)),-100000,GETPIVOTDATA(\"Duration\",Results!$A$2,\"Rating\",C$1,\"Date\",$A359))","v":-100000},{"$f":"IF(ISERROR(GETPIVOTDATA(\"Duration\",Results!$A$2,\"Rating\",D$1,\"Date\",$A359)),-100000,GETPIVOTDATA(\"Duration\",Results!$A$2,\"Rating\",D$1,\"Date\",$A359))","v":-100000},{"$f":"IF(ISERROR(GETPIVOTDATA(\"Duration\",Results!$A$2,\"Rating\",E$1,\"Date\",$A359)),-100000,GETPIVOTDATA(\"Duration\",Results!$A$2,\"Rating\",E$1,\"Date\",$A359))","v":-100000},{"$f":"IF(ISERROR(GETPIVOTDATA(\"Duration\",Results!$A$2,\"Rating\",F$1,\"Date\",$A359)),-100000,GETPIVOTDATA(\"Duration\",Results!$A$2,\"Rating\",F$1,\"Date\",$A359))","v":-100000},1000,1000,{"$f":"AVERAGE(G$3:G359)","v":1000}]
["2014-12-24",{"$f":"IF(ISERROR(GETPIVOTDATA(\"Duration\",Results!$A$2,\"Rating\",B$1,\"Date\",$A360)),-100000,GETPIVOTDATA(\"Duration\",Results!$A$2,\"Rating\",B$1,\"Date\",$A360))","v":-100000},{"$f":"IF(ISERROR(GETPIVOTDATA(\"Duration\",Results!$A$2,\"Rating\",C$1,\"Date\",$A360)),-100000,GETPIVOTDATA(\"Duration\",Results!$A$2,\"Rating\",C$1,\"Date\",$A360))","v":-100000},{"$f":"IF(ISERROR(GETPIVOTDATA(\"Duration\",Results!$A$2,\"Rating\",D$1,\"Date\",$A360)),-100000,GETPIVOTDATA(\"Duration\",Results!$A$2,\"Rating\",D$1,\"Date\",$A360))","v":-100000},{"$f":"IF(ISERROR(GETPIVOTDATA(\"Duration\",Results!$A$2,\"Rating\",E$1,\"Date\",$A360)),-100000,GETPIVOTDATA(\"Duration\",Results!$A$2,\"Rating\",E$1,\"Date\",$A360))","v":-100000},{"$f":"IF(ISERROR(GETPIVOTDATA(\"Duration\",Results!$A$2,\"Rating\",F$1,\"Date\",$A360)),-100000,GETPIVOTDATA(\"Duration\",Results!$A$2,\"Rating\",F$1,\"Date\",$A360))","v":-100000},1000,1000,{"$f":"AVERAGE(G$3:G360)","v":1000}]
["2014-12-25",{"$f":"IF(ISERROR(GETPIVOTDATA(\"Duration\",Results!$A$2,\"Rating\",B$1,\"Date\",$A361)),-100000,GETPIVOTDATA(\"Duration\",Results!$A$2,\"Rating\",B$1,\"Date\",$A361))","v":-100000},{"$f":"IF(ISERROR(GETPIVOTDATA(\"Duration\",Results!$A$2,\"Rating\",C$1,\"Date\",$A361)),-100000,GETPIVOTDATA(\"Duration\",Results!$A$2,\"Rating\",C$1,\"Date\",$A361))","v":-100000},{"$f":"IF(ISERROR(GETPIVOTDATA(\"Duration\",Results!$A$2,\"Rating\",D$1,\"Date\",$A361)),-100000,GETPIVOTDATA(\"Duration\",Results!$A$2,\"Rating\",D$1,\"Date\",$A361))","v":-100000},{"$f":"IF(ISERROR(GETPIVOTDATA(\"Duration\",Results!$A$2,\"Rating\",E$1,\"Date\",$A361)),-100000,GETPIVOTDATA(\"Duration\",Results!$A$2,\"Rating\",E$1,\"Date\",$A361))","v":-100000},{"$f":"IF(ISERROR(GETPIVOTDATA(\"Duration\",Results!$A$2,\"Rating\",F$1,\"Date\",$A361)),-100000,GETPIVOTDATA(\"Duration\",Results!$A$2,\"Rating\",F$1,\"Date\",$A361))","v":-100000},1000,1000,{"$f":"AVERAGE(G$3:G361)","v":1000}]
["2014-12-26",{"$f":"IF(ISERROR(GETPIVOTDATA(\"Duration\",Results!$A$2,\"Rating\",B$1,\"Date\",$A362)),-100000,GETPIVOTDATA(\"Duration\",Results!$A$2,\"Rating\",B$1,\"Date\",$A362))","v":-100000},{"$f":"IF(ISERROR(GETPIVOTDATA(\"Duration\",Results!$A$2,\"Rating\",C$1,\"Date\",$A362)),-100000,GETPIVOTDATA(\"Duration\",Results!$A$2,\"Rating\",C$1,\"Date\",$A362))","v":-100000},{"$f":"IF(ISERROR(GETPIVOTDATA(\"Duration\",Results!$A$2,\"Rating\",D$1,\"Date\",$A362)),-100000,GETPIVOTDATA(\"Duration\",Results!$A$2,\"Rating\",D$1,\"Date\",$A362))","v":-100000},{"$f":"IF(ISERROR(GETPIVOTDATA(\"Duration\",Results!$A$2,\"Rating\",E$1,\"Date\",$A362)),-100000,GETPIVOTDATA(\"Duration\",Results!$A$2,\"Rating\",E$1,\"Date\",$A362))","v":-100000},{"$f":"IF(ISERROR(GETPIVOTDATA(\"Duration\",Results!$A$2,\"Rating\",F$1,\"Date\",$A362)),-100000,GETPIVOTDATA(\"Duration\",Results!$A$2,\"Rating\",F$1,\"Date\",$A362))","v":-100000},1000,1000,{"$f":"AVERAGE(G$3:G362)","v":1000}]
["2014-12-27",{"$f":"IF(ISERROR(GETPIVOTDATA(\"Duration\",Results!$A$2,\"Rating\",B$1,\"Date\",$A363)),-100000,GETPIVOTDATA(\"Duration\",Results!$A$2,\"Rating\",B$1,\"Date\",$A363))","v":-100000},{"$f":"IF(ISERROR(GETPIVOTDATA(\"Duration\",Results!$A$2,\"Rating\",C$1,\"Date\",$A363)),-100000,GETPIVOTDATA(\"Duration\",Results!$A$2,\"Rating\",C$1,\"Date\",$A363))","v":-100000},{"$f":"IF(ISERROR(GETPIVOTDATA(\"Duration\",Results!$A$2,\"Rating\",D$1,\"Date\",$A363)),-100000,GETPIVOTDATA(\"Duration\",Results!$A$2,\"Rating\",D$1,\"Date\",$A363))","v":-100000},{"$f":"IF(ISERROR(GETPIVOTDATA(\"Duration\",Results!$A$2,\"Rating\",E$1,\"Date\",$A363)),-100000,GETPIVOTDATA(\"Duration\",Results!$A$2,\"Rating\",E$1,\"Date\",$A363))","v":-100000},{"$f":"IF(ISERROR(GETPIVOTDATA(\"Duration\",Results!$A$2,\"Rating\",F$1,\"Date\",$A363)),-100000,GETPIVOTDATA(\"Duration\",Results!$A$2,\"Rating\",F$1,\"Date\",$A363))","v":-100000},1000,1000,{"$f":"AVERAGE(G$3:G363)","v":1000}]
["2014-12-28",{"$f":"IF(ISERROR(GETPIVOTDATA(\"Duration\",Results!$A$2,\"Rating\",B$1,\"Date\",$A364)),-100000,GETPIVOTDATA(\"Duration\",Results!$A$2,\"Rating\",B$1,\"Date\",$A364))","v":-100000},{"$f":"IF(ISERROR(GETPIVOTDATA(\"Duration\",Results!$A$2,\"Rating\",C$1,\"Date\",$A364)),-100000,GETPIVOTDATA(\"Duration\",Results!$A$2,\"Rating\",C$1,\"Date\",$A364))","v":-100000},{"$f":"IF(ISERROR(GETPIVOTDATA(\"Duration\",Results!$A$2,\"Rating\",D$1,\"Date\",$A364)),-100000,GETPIVOTDATA(\"Duration\",Results!$A$2,\"Rating\",D$1,\"Date\",$A364))","v":-100000},{"$f":"IF(ISERROR(GETPIVOTDATA(\"Duration\",Results!$A$2,\"Rating\",E$1,\"Date\",$A364)),-100000,GETPIVOTDATA(\"Duration\",Results!$A$2,\"Rating\",E$1,\"Date\",$A364))","v":-100000},{"$f":"IF(ISERROR(GETPIVOTDATA(\"Duration\",Results!$A$2,\"Rating\",F$1,\"Date\",$A364)),-100000,GETPIVOTDATA(\"Duration\",Results!$A$2,\"Rating\",F$1,\"Date\",$A364))","v":-100000},1000,1000,{"$f":"AVERAGE(G$3:G364)","v":1000}]
["2014-12-29",{"$f":"IF(ISERROR(GETPIVOTDATA(\"Duration\",Results!$A$2,\"Rating\",B$1,\"Date\",$A365)),-100000,GETPIVOTDATA(\"Duration\",Results!$A$2,\"Rating\",B$1,\"Date\",$A365))","v":-100000},{"$f":"IF(ISERROR(GETPIVOTDATA(\"Duration\",Results!$A$2,\"Rating\",C$1,\"Date\",$A365)),-100000,GETPIVOTDATA(\"Duration\",Results!$A$2,\"Rating\",C$1,\"Date\",$A365))","v":-100000},{"$f":"IF(ISERROR(GETPIVOTDATA(\"Duration\",Results!$A$2,\"Rating\",D$1,\"Date\",$A365)),-100000,GETPIVOTDATA(\"Duration\",Results!$A$2,\"Rating\",D$1,\"Date\",$A365))","v":-100000},{"$f":"IF(ISERROR(GETPIVOTDATA(\"Duration\",Results!$A$2,\"Rating\",E$1,\"Date\",$A365)),-100000,GETPIVOTDATA(\"Duration\",Results!$A$2,\"Rating\",E$1,\"Date\",$A365))","v":-100000},{"$f":"IF(ISERROR(GETPIVOTDATA(\"Duration\",Results!$A$2,\"Rating\",F$1,\"Date\",$A365)),-100000,GETPIVOTDATA(\"Duration\",Results!$A$2,\"Rating\",F$1,\"Date\",$A365))","v":-100000},1000,1000,{"$f":"AVERAGE(G$3:G365)","v":1000}]
["2014-12-30",{"$f":"IF(ISERROR(GETPIVOTDATA(\"Duration\",Results!$A$2,\"Rating\",B$1,\"Date\",$A366)),-100000,GETPIVOTDATA(\"Duration\",Results!$A$2,\"Rating\",B$1,\"Date\",$A366))","v":-100000},{"$f":"IF(ISERROR(GETPIVOTDATA(\"Duration\",Results!$A$2,\"Rating\",C$1,\"Date\",$A366)),-100000,GETPIVOTDATA(\"Duration\",Results!$A$2,\"Rating\",C$1,\"Date\",$A366))","v":-100000},{"$f":"IF(ISERROR(GETPIVOTDATA(\"Duration\",Results!$A$2,\"Rating\",D$1,\"Date\",$A366)),-100000,GETPIVOTDATA(\"Duration\",Results!$A$2,\"Rating\",D$1,\"Date\",$A366))","v":-100000},{"$f":"IF(ISERROR(GETPIVOTDATA(\"Duration\",Results!$A$2,\"Rating\",E$1,\"Date\",$A366)),-100000,GETPIVOTDATA(\"Duration\",Results!$A$2,\"Rating\",E$1,\"Date\",$A366))","v":-100000},{"$f":"IF(ISERROR(GETPIVOTDATA(\"Duration\",Results!$A$2,\"Rating\",F$1,\"Date\",$A366)),-100000,GETPIVOTDATA(\"Duration\",Results!$A$2,\"Rating\",F$1,\"Date\",$A366))","v":-100000},1000,1000,{"$f":"AVERAGE(G$3:G366)","v":1000}]
["2014-12-31",{"$f":"IF(ISERROR(GETPIVOTDATA(\"Duration\",Results!$A$2,\"Rating\",B$1,\"Date\",$A367)),-100000,GETPIVOTDATA(\"Duration\",Results!$A$2,\"Rating\",B$1,\"Date\",$A367))","v":-100000},{"$f":"IF(ISERROR(GETPIVOTDATA(\"Duration\",Results!$A$2,\"Rating\",C$1,\"Date\",$A367)),-100000,GETPIVOTDATA(\"Duration\",Results!$A$2,\"Rating\",C$1,\"Date\",$A367))","v":-100000},{"$f":"IF(ISERROR(GETPIVOTDATA(\"Duration\",Results!$A$2,\"Rating\",D$1,\"Date\",$A367)),-100000,GETPIVOTDATA(\"Duration\",Results!$A$2,\"Rating\",D$1,\"Date\",$A367))","v":-100000},{"$f":"IF(ISERROR(GETPIVOTDATA(\"Duration\",Results!$A$2,\"Rating\",E$1,\"Date\",$A367)),-100000,GETPIVOTDATA(\"Duration\",Results!$A$2,\"Rating\",E$1,\"Date\",$A367))","v":-100000},{"$f":"IF(ISERROR(GETPIVOTDATA(\"Duration\",Results!$A$2,\"Rating\",F$1,\"Date\",$A367)),-100000,GETPIVOTDATA(\"Duration\",Results!$A$2,\"Rating\",F$1,\"Date\",$A367))","v":-100000},1000,1000,{"$f":"AVERAGE(G$3:G367)","v":1000}]
[]
["When you want more rows, select the bottom row of this table and drag it down"]

{"sheet":"Graphs","index":4,"n_rows":8,"n_cols":12,"rows_kept":8,"cut":false,"hidden":false,"merged":[]}
[]
[]
[]
[]
[]
[]
[null,null,null,null,null,null,null,null,null,null,null,"When you have reached the end of this graph, right-click on it and select \"select data\". Then edit each of the legend entries in turn, and then horizontal axis, in each case raising the $60 to e.g. $80, which will give you 20 more days."]
[null,null,null,null,null,null,null,null,null,null,null,"Eventually you will need to add more rows at the bottom of the \"Processing\" sheet"]